{"text_format":"1","workbook":"xlsx","n_sheets":25,"sheets":["Log of Prior SAR Models","AVOID NEW","Single rate sheets for printing","All rate sheets for printing","Input - Capacity Factors","Input - Load and Resource","Input - Transmission","AVISTA NF HLH LLH Levelized","AVISTA NF HLH LLH Non-levelized","IPCo NF HLH LLH Levelized","IPCo NF HLH LLH Non-Levelized","IPCOStorage(Energy)Non-LevelADJ","IPCOStorage(Capacity)","IPCOStorage(Energy)LevelizedADJ","PCp NF HLH LLH Levelized","PCp NF HLH LLH Non-Levelized","IPCOStorage(Energy)Levelized","Input - IPCO IRP","Input - RMP IRP","Input - Avista IRP","EIA forecast summary","AEO2022-EnergyPricesMountain","AvistaCapCarChg","IPCoCapCarChg","RMPCapCarChg"],"not_rendered":{"charts":0,"images":4,"macros":1,"external_links":0,"defined_names":74,"comments":11,"pivot_tables":0},"unopened":[],"bounds":{"document_bytes":16777216,"sheet_cells":100000,"rows_first":2000,"rows_last":500,"rows_between":2000,"halvings":0,"cell_chars":16384,"cell_head_chars":4096},"cells_cut":0,"cells_raw":0,"read":"whole","date_system":"1900"}

{"sheet":"Log of Prior SAR Models","index":0,"n_rows":9,"n_cols":4,"rows_kept":9,"cut":false,"hidden":false,"merged":[]}
["Effective Dates","Order No. ","Modifications","File Names"]
[]
["2021-12-30",35280,"Avista Cost of Capital","Avoided Cost Model Order No. 35280 ver Dec 30, 2021 Avista Cost of Capital"]
["2021-06-01",35052,"Annual Natural Gas Update","Avoided Cost Model Order No. 35052 ver June 1, 2021 Annual Natural Gas Update"]
["2021-04-05",34966,"PAC's Integration Charges","Avoided Cost Model Order No. 34966 ver April 5, 2021 PAC Integration Charges"]
["2021-03-31",34981,"Avista's Capacity Deficiency Updates","Avoided Cost Model Order No. 34981 ver March 31, 2021 Avista Capacity Deficiency"]
["2021-02-09",34918,"PAC's Capacity Deficiency Updates","Avoided Cost Model Order No. 34918 ver February 9, 2021 PAC Capacity Deficiency"]
["2021-02-05",34913,"IPCO's Energy Storage Published Rates","Avoided Cost Model Order No. 34913 ver February 5, 2021 Energy Storage (linked)"]
["2022-06-01",35422,"Annual Natural Gas Update","Avoided Cost Model Order No. 35422 ver June 1, 2022 Annual Natural Gas Update"]

{"sheet":"AVOID NEW","index":1,"n_rows":111,"n_cols":45,"rows_kept":111,"cut":false,"hidden":false,"merged":[[17,1,17,3],[28,39,32,44],[2,36,2,44],[3,36,3,44],[4,36,4,44],[4,20,5,21],[5,33,6,33],[5,17,5,19],[5,38,7,38],[5,37,7,37],[5,34,6,34],[5,39,5,44],[5,23,6,24],[5,25,5,29],[5,30,5,32],[0,1,0,3],[1,1,1,3],[3,6,3,9],[4,6,4,9],[5,6,5,9],[2,1,2,4],[77,1,79,1],[77,3,79,3],[77,4,79,4],[77,5,77,6],[78,5,78,6],[79,5,79,6],[71,1,73,1],[71,5,71,6],[72,5,72,6],[73,5,73,6],[74,1,76,1],[74,5,74,6],[75,5,75,6],[76,5,76,6],[82,6,82,8],[5,13,5,16],[5,11,6,12],[65,5,65,6],[66,5,66,6],[70,5,70,6],[62,5,62,6],[63,5,63,6],[64,5,64,6],[61,5,61,6],[46,6,47,7],[67,5,67,6]]}
[null,"AVOIDED COST CALCULATION MODEL",null,null,null,null,null,null,null,null,null,"Base Calculations",null,null,null,null,null,null,null,null,null,null,null,"Resource-Specific Calculations",null,null,null,null,null,null,null,null,null,null,null,null,"Resource-Specific Calculations"]
[null,"Idaho Public Utilities Commission"]
[null,"XX/XX/2022",null,null,null,null,null,null,null,null,null,null,null,null,null,null,null,null,null,null,null,null,null,null,null,null,null,null,null,null,null,null,null,null,null,null,{"$f":"$E$105","v":"IPCO"}]
[null,null,null,null,null,null,"ENERGY INFORMATION ADMIN (EIA) - ANNUAL ENERGY OUTLOOK",null,null,null,null,null,null,null,null,null,null,null,null,null,null,null,null,"Resource Type",null,null,null,null,null,null,null,null,null,null,null,null,{"$f":"TODAY()+1","v":"2022-06-08"}]
[null,"1.  Choose Utility",null,null,null,null,"Natural Gas Price Forecast",null,null,null,null,null,null,null,null,null,null,null,null,null,"Surplus Energy Transmission Cost Calcs",null,null,null,null,null,null,null,null,null,null,null,null,null,null,null,{"$f":"\"Avoided Cost Rates for \"&'Input - Capacity Factors'!$C$3&\" Projects\"","v":"Avoided Cost Rates for Wind Projects"}]
[null,null,null,null,null,null,"2022 REPORT - RELEASE DATE - March 3, 2022",null,null,null,null,"Year",null,"Energy Rate Calcs",null,null,null,"Capacity Rate Calcs",null,null,null,null,null,"Year",null,"Energy Rate",null,null,null,null,"Peak capacity adjustment",null,null,"Total Rate","Fueled Rate",null,"CONTRACT","CAL YEAR","NON-LEVELIZED RATE ($/MWH)","LEVELIZED RATES ($/MWH)"]
[null,"2.  Choose Contract Type",null,null,null,null,null,"Real Price","Nominal Price",null,null,null,null,"Gas Price","Fuel Cost","VO&M Cost","Total","\"Tilted\" Capital Costs","FO&M Cost","Total","Rate","Losses",null,null,null,"Fuel","VO&M","Trans.","Losses","Total","Capital","FO&M","Total",null,null,null,"LENGTH",null,null,"ON-LINE YEAR"]
[null,null,null,null,null,null,null,null,"by Year","FUEL COST",null,"No.","Cal","$/MMBtu","$/MWh","$/MWh","$/MWh","$/MWh","$/MWh","$/MWh","$/MWh","$/MWh",null,"No.","Cal","$/MWh","$/MWh","$/MWh","$/MWh","$/MWh","$/MWh","$/MWh","$/MWh","$/MWh","$/MWh",null,"(YEARS)",null,null,{"$f":"$D$54","v":2022},{"$f":"AN8+1","v":2023},{"$f":"AO8+1","v":2024},2025,2026,2027]
[null,null,null,null,null,null,"YEAR","(2021 $ per MMBtu)","($ per MMBtu)","$/MWh",null,1,{"$f":"D54","v":2022},{"$f":"IF(ISERROR(VLOOKUP($M9,$G$10:$J$40,3,FALSE)),GROWTH($I$31:$I$40,$G$31:$G$40,M9),VLOOKUP($M9,$G$10:$J$40,3,FALSE))","v":4.3780970000000003},{"$f":"N9*$D$36/1000","v":31.084488700000001},{"$f":"$D$40*(1+$D$47)^(M9-$D$43)","v":2.3354774106212837},{"$f":"P9+O9","v":33.419966110621289},{"$f":"$R$41*(($D$37-$D$52)/$D$37)*((1+$D$37)^$D$32-1)/((1+$D$37)^$D$32-(1+$D$52)^$D$32)*(1+$D$52)^(M9-$M$41)","v":53.942004248127759},{"$f":"$D$39*(1+$D$47)^($M9-$D$43)*(1000/(365*24))/VLOOKUP('Input - Capacity Factors'!$C$3,'Input - Capacity Factors'!$A:$B,2,FALSE)","v":6.650340936012884},{"$f":"S9+R9","v":60.59234518414064},{"$f":"-VLOOKUP($E$105,'Input - Transmission'!$A:$C,2)*(1+'Input - Transmission'!$C$11)^('AVOID NEW'!$M9-'Input - Transmission'!$C$10)*12*(1000/(365*24))*(1/VLOOKUP('Input - Capacity Factors'!$C$3,'Input - Capacity Factors'!$A:$D,2,FALSE))","v":-8.8552936280233485},{"$f":"-VLOOKUP($E$105,'Input - Transmission'!$A:$C,3)*Q9","v":-1.3367986444248516},null,1,{"$f":"M9","v":2022},{"$f":"O9","v":31.084488700000001},{"$f":"P9","v":2.3354774106212837},{"$f":"IF(VLOOKUP($Y9,'Input - Load and Resource'!$B$13:$C$42,2,FALSE)>=0,0,0)","v":0},{"$f":"IF(VLOOKUP($Y9,'Input - Load and Resource'!$B$13:$C$42,2,FALSE)>=0,0,0)","v":0},{"$f":"SUM(Z9:AC9)","v":33.419966110621289},{"$f":"VLOOKUP($Y9,'Input - Load and Resource'!$B$13:$L$42,11,FALSE)*R9","v":0},{"$f":"VLOOKUP($Y9,'Input - Load and Resource'!$B$13:$L$42,11,FALSE)*S9","v":0},{"$f":"AF9+AE9","v":0},{"$f":"AG9+AD9","v":33.419966110621289},{"$f":"AA9+AE9+AF9","v":2.3354774106212837},null,1,{"$f":"D54","v":2022},{"$f":"IF('Input - Capacity Factors'!$C$3=\"Fueled\",'AVOID NEW'!AI9,AH9)","v":33.419966110621289},{"$f":"IF('Input - Capacity Factors'!$C$3=\"Fueled\",-PMT($D$37,$AK9,NPV($D$37,$AI$9:$AI9)),-PMT($D$37,$AK9,NPV($D$37,$AH$9:$AH9)))","v":33.419966110621289},{"$f":"IF('Input - Capacity Factors'!$C$3=\"Fueled\",-PMT($D$37,$AK9,NPV($D$37,$AI$10:$AI10)),-PMT($D$37,$AK9,NPV($D$37,$AH$10:$AH10)))","v":35.542378761947646},{"$f":"IF('Input - Capacity Factors'!$C$3=\"Fueled\",-PMT($D$37,$AK9,NPV($D$37,$AI$11:$AI11)),-PMT($D$37,$AK9,NPV($D$37,$AH$11:$AH11)))","v":33.693158683494346},{"$f":"IF('Input - Capacity Factors'!$C$3=\"Fueled\",-PMT($D$37,$AK9,NPV($D$37,$AI$12:$AI12)),-PMT($D$37,$AK9,NPV($D$37,$AH$12:$AH12)))","v":33.212000779264272},{"$f":"IF('Input - Capacity Factors'!$C$3=\"Fueled\",-PMT($D$37,$AK9,NPV($D$37,$AI$13:$AI13)),-PMT($D$37,$AK9,NPV($D$37,$AH$13:$AH13)))","v":34.469802824546996},{"$f":"IF('Input - Capacity Factors'!$C$3=\"Fueled\",-PMT($D$37,$AK9,NPV($D$37,$AI$14:$AI14)),-PMT($D$37,$AK9,NPV($D$37,$AH$14:$AH14)))","v":36.483216235111144}]
[null,"4.  Choose specific resource",null,null,null,null,2022,4.2748939999999997,4.3780970000000003,{"$f":"I10*D$36/1000","v":31.084488700000001},null,2,{"$f":"M9+1","v":2023},{"$f":"IF(ISERROR(VLOOKUP($M10,$G$10:$J$40,3,FALSE)),GROWTH($I$31:$I$40,$G$31:$G$40,M10),VLOOKUP($M10,$G$10:$J$40,3,FALSE))","v":4.2374879999999999},{"$f":"N10*$D$36/1000","v":30.086164799999999},{"$f":"$D$40*(1+$D$47)^(M10-$D$43)","v":2.3821869588337088},{"$f":"P10+O10","v":32.468351758833705},{"$f":"$R$41*(($D$37-$D$52)/$D$37)*((1+$D$37)^$D$32-1)/((1+$D$37)^$D$32-(1+$D$52)^$D$32)*(1+$D$52)^(M10-$M$41)","v":54.697192307601561},{"$f":"$D$39*(1+$D$47)^($M10-$D$43)*(1000/(365*24))/VLOOKUP('Input - Capacity Factors'!$C$3,'Input - Capacity Factors'!$A:$B,2,FALSE)","v":6.78334775473314},{"$f":"S10+R10","v":61.480540062334704},{"$f":"-VLOOKUP($E$105,'Input - Transmission'!$A:$C,2)*(1+'Input - Transmission'!$C$11)^('AVOID NEW'!$M10-'Input - Transmission'!$C$10)*12*(1000/(365*24))*(1/VLOOKUP('Input - Capacity Factors'!$C$3,'Input - Capacity Factors'!$A:$D,2,FALSE))","v":-9.0323995005838142},{"$f":"-VLOOKUP($E$105,'Input - Transmission'!$A:$C,3)*Q10","v":-1.2987340703533483},null,2,{"$f":"M10","v":2023},{"$f":"O10","v":30.086164799999999},{"$f":"P10","v":2.3821869588337088},{"$f":"IF(VLOOKUP($Y10,'Input - Load and Resource'!$B$13:$C$42,2,FALSE)>=0,0,0)","v":0},{"$f":"IF(VLOOKUP($Y10,'Input - Load and Resource'!$B$13:$C$42,2,FALSE)>=0,0,0)","v":0},{"$f":"SUM(Z10:AC10)","v":32.468351758833705},{"$f":"VLOOKUP($Y10,'Input - Load and Resource'!$B$13:$L$42,11,FALSE)*R10","v":2.7348596153775908},{"$f":"VLOOKUP($Y10,'Input - Load and Resource'!$B$13:$L$42,11,FALSE)*S10","v":0.33916738773634852},{"$f":"AF10+AE10","v":3.0740270031139394},{"$f":"AG10+AD10","v":35.542378761947646},{"$f":"AA10+AE10+AF10","v":5.4562139619476477},null,2,{"$f":"AL9+1","v":2023},{"$f":"IF('Input - Capacity Factors'!$C$3=\"Fueled\",'AVOID NEW'!AI10,AH10)","v":35.542378761947646},{"$f":"IF('Input - Capacity Factors'!$C$3=\"Fueled\",-PMT($D$37,$AK10,NPV($D$37,$AI$9:$AI10)),-PMT($D$37,$AK10,NPV($D$37,$AH$9:$AH10)))","v":34.439473967995994},{"$f":"IF('Input - Capacity Factors'!$C$3=\"Fueled\",-PMT($D$37,$AK10,NPV($D$37,$AI$10:$AI11)),-PMT($D$37,$AK10,NPV($D$37,$AH$10:$AH11)))","v":34.654099850294891},{"$f":"IF('Input - Capacity Factors'!$C$3=\"Fueled\",-PMT($D$37,$AK10,NPV($D$37,$AI$11:$AI12)),-PMT($D$37,$AK10,NPV($D$37,$AH$11:$AH12)))","v":33.462032910806386},{"$f":"IF('Input - Capacity Factors'!$C$3=\"Fueled\",-PMT($D$37,$AK10,NPV($D$37,$AI$12:$AI13)),-PMT($D$37,$AK10,NPV($D$37,$AH$12:$AH13)))","v":33.816190104740791},{"$f":"IF('Input - Capacity Factors'!$C$3=\"Fueled\",-PMT($D$37,$AK10,NPV($D$37,$AI$13:$AI14)),-PMT($D$37,$AK10,NPV($D$37,$AH$13:$AH14)))","v":35.436952540192983},{"$f":"IF('Input - Capacity Factors'!$C$3=\"Fueled\",-PMT($D$37,$AK10,NPV($D$37,$AI$14:$AI15)),-PMT($D$37,$AK10,NPV($D$37,$AH$14:$AH15)))","v":37.677824383533817}]
[null,null,null,null,null,null,2023,4.0653309999999996,4.2374879999999999,30.086164799999999,null,3,{"$f":"M10+1","v":2024},3.9639760000000002,28.144229600000003,2.4298306980103832,30.574060298010387,55.462952999907991,{"$f":"$D$39*(1+$D$47)^($M11-$D$43)*(1000/(365*24))/VLOOKUP('Input - Capacity Factors'!$C$3,'Input - Capacity Factors'!$A:$B,2,FALSE)","v":6.9190147098278034},62.381967709735797,{"$f":"-VLOOKUP($E$105,'Input - Transmission'!$A:$C,2)*(1+'Input - Transmission'!$C$11)^('AVOID NEW'!$M11-'Input - Transmission'!$C$10)*12*(1000/(365*24))*(1/VLOOKUP('Input - Capacity Factors'!$C$3,'Input - Capacity Factors'!$A:$D,2,FALSE))","v":-9.2130474905954909},{"$f":"-VLOOKUP($E$105,'Input - Transmission'!$A:$C,3)*Q11","v":-1.2229624119204154},null,3,2024,28.144229600000003,2.4298306980103832,{"$f":"IF(VLOOKUP($Y11,'Input - Load and Resource'!$B$13:$C$42,2,FALSE)>=0,0,0)","v":0},{"$f":"IF(VLOOKUP($Y11,'Input - Load and Resource'!$B$13:$C$42,2,FALSE)>=0,0,0)","v":0},30.574060298010387,{"$f":"VLOOKUP($Y11,'Input - Load and Resource'!$B$13:$L$42,11,FALSE)*R11","v":2.7731476499928776},{"$f":"VLOOKUP($Y11,'Input - Load and Resource'!$B$13:$L$42,11,FALSE)*S11","v":0.34595073549107552},3.1190983854839529,33.693158683494339,5.5489290834943361,null,3,{"$f":"AL10+1","v":2024},{"$f":"IF('Input - Capacity Factors'!$C$3=\"Fueled\",'AVOID NEW'!AI11,AH11)","v":33.693158683494339},{"$f":"IF('Input - Capacity Factors'!$C$3=\"Fueled\",-PMT($D$37,$AK11,NPV($D$37,$AI$9:$AI11)),-PMT($D$37,$AK11,NPV($D$37,$AH$9:$AH11)))","v":34.20998642313014},{"$f":"IF('Input - Capacity Factors'!$C$3=\"Fueled\",-PMT($D$37,$AK11,NPV($D$37,$AI$10:$AI12)),-PMT($D$37,$AK11,NPV($D$37,$AH$10:$AH12)))","v":34.210662897928117},{"$f":"IF('Input - Capacity Factors'!$C$3=\"Fueled\",-PMT($D$37,$AK11,NPV($D$37,$AI$11:$AI13)),-PMT($D$37,$AK11,NPV($D$37,$AH$11:$AH13)))","v":33.77191621092993},{"$f":"IF('Input - Capacity Factors'!$C$3=\"Fueled\",-PMT($D$37,$AK11,NPV($D$37,$AI$12:$AI14)),-PMT($D$37,$AK11,NPV($D$37,$AH$12:$AH14)))","v":34.636284897735003},{"$f":"IF('Input - Capacity Factors'!$C$3=\"Fueled\",-PMT($D$37,$AK11,NPV($D$37,$AI$13:$AI15)),-PMT($D$37,$AK11,NPV($D$37,$AH$13:$AH15)))","v":36.523390789199958},{"$f":"IF('Input - Capacity Factors'!$C$3=\"Fueled\",-PMT($D$37,$AK11,NPV($D$37,$AI$14:$AI16)),-PMT($D$37,$AK11,NPV($D$37,$AH$14:$AH16)))","v":38.747551883676714}]
[null,null,null,null,null,null,2024,3.7187380000000001,3.9639760000000002,28.144229600000003,null,4,2025,3.8829199999999999,27.568732000000001,2.4784273119705911,30.047159311970592,56.239434341906701,{"$f":"$D$39*(1+$D$47)^($M12-$D$43)*(1000/(365*24))/VLOOKUP('Input - Capacity Factors'!$C$3,'Input - Capacity Factors'!$A:$B,2,FALSE)","v":7.0573950040243609},63.296829345931059,{"$f":"-VLOOKUP($E$105,'Input - Transmission'!$A:$C,2)*(1+'Input - Transmission'!$C$11)^('AVOID NEW'!$M12-'Input - Transmission'!$C$10)*12*(1000/(365*24))*(1/VLOOKUP('Input - Capacity Factors'!$C$3,'Input - Capacity Factors'!$A:$D,2,FALSE))","v":-9.3973084404074001},{"$f":"-VLOOKUP($E$105,'Input - Transmission'!$A:$C,3)*Q12","v":-1.2018863724788238},null,4,2025,27.568732000000001,2.4784273119705911,{"$f":"IF(VLOOKUP($Y12,'Input - Load and Resource'!$B$13:$C$42,2,FALSE)>=0,0,0)","v":0},{"$f":"IF(VLOOKUP($Y12,'Input - Load and Resource'!$B$13:$C$42,2,FALSE)>=0,0,0)","v":0},30.047159311970592,{"$f":"VLOOKUP($Y12,'Input - Load and Resource'!$B$13:$L$42,11,FALSE)*R12","v":2.8119717170927774},{"$f":"VLOOKUP($Y12,'Input - Load and Resource'!$B$13:$L$42,11,FALSE)*S12","v":0.35286975020089711},3.1648414672936744,33.212000779264265,5.6432687792642655,null,4,2025,{"$f":"IF('Input - Capacity Factors'!$C$3=\"Fueled\",'AVOID NEW'!AI12,AH12)","v":33.212000779264265},{"$f":"IF('Input - Capacity Factors'!$C$3=\"Fueled\",-PMT($D$37,$AK12,NPV($D$37,$AI$9:$AI12)),-PMT($D$37,$AK12,NPV($D$37,$AH$9:$AH12)))","v":33.989101272331553},{"$f":"IF('Input - Capacity Factors'!$C$3=\"Fueled\",-PMT($D$37,$AK12,NPV($D$37,$AI$10:$AI13)),-PMT($D$37,$AK12,NPV($D$37,$AH$10:$AH13)))","v":34.268018594496468},{"$f":"IF('Input - Capacity Factors'!$C$3=\"Fueled\",-PMT($D$37,$AK12,NPV($D$37,$AI$11:$AI14)),-PMT($D$37,$AK12,NPV($D$37,$AH$11:$AH14)))","v":34.372010930110029},{"$f":"IF('Input - Capacity Factors'!$C$3=\"Fueled\",-PMT($D$37,$AK12,NPV($D$37,$AI$12:$AI15)),-PMT($D$37,$AK12,NPV($D$37,$AH$12:$AH15)))","v":35.595504189224606},{"$f":"IF('Input - Capacity Factors'!$C$3=\"Fueled\",-PMT($D$37,$AK12,NPV($D$37,$AI$13:$AI16)),-PMT($D$37,$AK12,NPV($D$37,$AH$13:$AH16)))","v":37.548881229324905},{"$f":"IF('Input - Capacity Factors'!$C$3=\"Fueled\",-PMT($D$37,$AK12,NPV($D$37,$AI$14:$AI17)),-PMT($D$37,$AK12,NPV($D$37,$AH$14:$AH17)))","v":39.662245062641404}]
[null,"5.  Enter current year",null,2022,null,null,2025,3.5581969999999998,3.8829199999999999,27.568732000000001,null,5,2026,4.0465549999999997,28.7305405,2.5279958582100028,31.258536358210002,57.026786422693398,{"$f":"$D$39*(1+$D$47)^($M13-$D$43)*(1000/(365*24))/VLOOKUP('Input - Capacity Factors'!$C$3,'Input - Capacity Factors'!$A:$B,2,FALSE)","v":7.1985429041048459},64.225329326798246,{"$f":"-VLOOKUP($E$105,'Input - Transmission'!$A:$C,2)*(1+'Input - Transmission'!$C$11)^('AVOID NEW'!$M13-'Input - Transmission'!$C$10)*12*(1000/(365*24))*(1/VLOOKUP('Input - Capacity Factors'!$C$3,'Input - Capacity Factors'!$A:$D,2,FALSE))","v":-9.5852546092155517},{"$f":"-VLOOKUP($E$105,'Input - Transmission'!$A:$C,3)*Q13","v":-1.2503414543284002},null,5,2026,28.7305405,2.5279958582100028,{"$f":"IF(VLOOKUP($Y13,'Input - Load and Resource'!$B$13:$C$42,2,FALSE)>=0,0,0)","v":0},{"$f":"IF(VLOOKUP($Y13,'Input - Load and Resource'!$B$13:$C$42,2,FALSE)>=0,0,0)","v":0},31.258536358210002,{"$f":"VLOOKUP($Y13,'Input - Load and Resource'!$B$13:$L$42,11,FALSE)*R13","v":2.8513393211320768},{"$f":"VLOOKUP($Y13,'Input - Load and Resource'!$B$13:$L$42,11,FALSE)*S13","v":0.35992714520491492},3.2112664663369919,34.469802824546996,5.7392623245469947,null,5,2026,{"$f":"IF('Input - Capacity Factors'!$C$3=\"Fueled\",'AVOID NEW'!AI13,AH13)","v":34.469802824546996},{"$f":"IF('Input - Capacity Factors'!$C$3=\"Fueled\",-PMT($D$37,$AK13,NPV($D$37,$AI$9:$AI13)),-PMT($D$37,$AK13,NPV($D$37,$AH$9:$AH13)))","v":34.070746214974278},{"$f":"IF('Input - Capacity Factors'!$C$3=\"Fueled\",-PMT($D$37,$AK13,NPV($D$37,$AI$10:$AI14)),-PMT($D$37,$AK13,NPV($D$37,$AH$10:$AH14)))","v":34.644259701846224},{"$f":"IF('Input - Capacity Factors'!$C$3=\"Fueled\",-PMT($D$37,$AK13,NPV($D$37,$AI$11:$AI15)),-PMT($D$37,$AK13,NPV($D$37,$AH$11:$AH15)))","v":35.152984142736543},{"$f":"IF('Input - Capacity Factors'!$C$3=\"Fueled\",-PMT($D$37,$AK13,NPV($D$37,$AI$12:$AI16)),-PMT($D$37,$AK13,NPV($D$37,$AH$12:$AH16)))","v":36.540044226481257},{"$f":"IF('Input - Capacity Factors'!$C$3=\"Fueled\",-PMT($D$37,$AK13,NPV($D$37,$AI$13:$AI17)),-PMT($D$37,$AK13,NPV($D$37,$AH$13:$AH17)))","v":38.454388880014868},{"$f":"IF('Input - Capacity Factors'!$C$3=\"Fueled\",-PMT($D$37,$AK13,NPV($D$37,$AI$14:$AI18)),-PMT($D$37,$AK13,NPV($D$37,$AH$14:$AH18)))","v":40.460873096865207}]
[null,null,null,null,null,null,2026,3.6193749999999998,4.0465549999999997,28.7305405,null,6,2027,4.3163770000000001,30.646276700000001,2.5785557753742028,33.224832475374207,57.825161432611111,{"$f":"$D$39*(1+$D$47)^($M14-$D$43)*(1000/(365*24))/VLOOKUP('Input - Capacity Factors'!$C$3,'Input - Capacity Factors'!$A:$B,2,FALSE)","v":7.3425137621869441},65.167675194798051,{"$f":"-VLOOKUP($E$105,'Input - Transmission'!$A:$C,2)*(1+'Input - Transmission'!$C$11)^('AVOID NEW'!$M14-'Input - Transmission'!$C$10)*12*(1000/(365*24))*(1/VLOOKUP('Input - Capacity Factors'!$C$3,'Input - Capacity Factors'!$A:$D,2,FALSE))","v":-9.7769597013998588},{"$f":"-VLOOKUP($E$105,'Input - Transmission'!$A:$C,3)*Q14","v":-1.3289932990149682},null,6,2027,30.646276700000001,2.5785557753742028,{"$f":"IF(VLOOKUP($Y14,'Input - Load and Resource'!$B$13:$C$42,2,FALSE)>=0,0,0)","v":0},{"$f":"IF(VLOOKUP($Y14,'Input - Load and Resource'!$B$13:$C$42,2,FALSE)>=0,0,0)","v":0},33.224832475374207,{"$f":"VLOOKUP($Y14,'Input - Load and Resource'!$B$13:$L$42,11,FALSE)*R14","v":2.8912580716279259},{"$f":"VLOOKUP($Y14,'Input - Load and Resource'!$B$13:$L$42,11,FALSE)*S14","v":0.3671256881090133},3.2583837597369394,36.483216235111144,5.8369395351111422,null,6,2027,{"$f":"IF('Input - Capacity Factors'!$C$3=\"Fueled\",'AVOID NEW'!AI14,AH14)","v":36.483216235111144},{"$f":"IF('Input - Capacity Factors'!$C$3=\"Fueled\",-PMT($D$37,$AK14,NPV($D$37,$AI$9:$AI14)),-PMT($D$37,$AK14,NPV($D$37,$AH$9:$AH14)))","v":34.398112521361604},{"$f":"IF('Input - Capacity Factors'!$C$3=\"Fueled\",-PMT($D$37,$AK14,NPV($D$37,$AI$10:$AI15)),-PMT($D$37,$AK14,NPV($D$37,$AH$10:$AH15)))","v":35.231272870458135},{"$f":"IF('Input - Capacity Factors'!$C$3=\"Fueled\",-PMT($D$37,$AK14,NPV($D$37,$AI$11:$AI16)),-PMT($D$37,$AK14,NPV($D$37,$AH$11:$AH16)))","v":35.967671019113965},{"$f":"IF('Input - Capacity Factors'!$C$3=\"Fueled\",-PMT($D$37,$AK14,NPV($D$37,$AI$12:$AI17)),-PMT($D$37,$AK14,NPV($D$37,$AH$12:$AH17)))","v":37.400394103553779},{"$f":"IF('Input - Capacity Factors'!$C$3=\"Fueled\",-PMT($D$37,$AK14,NPV($D$37,$AI$13:$AI18)),-PMT($D$37,$AK14,NPV($D$37,$AH$13:$AH18)))","v":39.256353963394233},{"$f":"IF('Input - Capacity Factors'!$C$3=\"Fueled\",-PMT($D$37,$AK14,NPV($D$37,$AI$14:$AI19)),-PMT($D$37,$AK14,NPV($D$37,$AH$14:$AH19)))","v":41.221748251647782}]
[null,"6.  Enter project nameplate capacity ",null,0.1,null,null,2027,3.7652269999999999,4.3163770000000001,30.646276700000001,null,7,2028,4.6526509999999996,33.033822099999995,2.6301268908816868,35.663948990881678,58.634713692667667,{"$f":"$D$39*(1+$D$47)^($M15-$D$43)*(1000/(365*24))/VLOOKUP('Input - Capacity Factors'!$C$3,'Input - Capacity Factors'!$A:$B,2,FALSE)","v":7.4893640374306827},66.12407773009835,{"$f":"-VLOOKUP($E$105,'Input - Transmission'!$A:$C,2)*(1+'Input - Transmission'!$C$11)^('AVOID NEW'!$M15-'Input - Transmission'!$C$10)*12*(1000/(365*24))*(1/VLOOKUP('Input - Capacity Factors'!$C$3,'Input - Capacity Factors'!$A:$D,2,FALSE))","v":-9.9724988954278579},{"$f":"-VLOOKUP($E$105,'Input - Transmission'!$A:$C,3)*Q15","v":-1.4265579596352671},null,7,2028,33.033822099999995,2.6301268908816868,{"$f":"IF(VLOOKUP($Y15,'Input - Load and Resource'!$B$13:$C$42,2,FALSE)>=0,0,0)","v":0},{"$f":"IF(VLOOKUP($Y15,'Input - Load and Resource'!$B$13:$C$42,2,FALSE)>=0,0,0)","v":0},35.663948990881678,{"$f":"VLOOKUP($Y15,'Input - Load and Resource'!$B$13:$L$42,11,FALSE)*R15","v":2.9317356846307168},{"$f":"VLOOKUP($Y15,'Input - Load and Resource'!$B$13:$L$42,11,FALSE)*S15","v":0.37446820187119356},3.3062038865019101,38.97015287738359,5.9363307773835974,null,7,2028,{"$f":"IF('Input - Capacity Factors'!$C$3=\"Fueled\",'AVOID NEW'!AI15,AH15)","v":38.97015287738359},{"$f":"IF('Input - Capacity Factors'!$C$3=\"Fueled\",-PMT($D$37,$AK15,NPV($D$37,$AI$9:$AI15)),-PMT($D$37,$AK15,NPV($D$37,$AH$9:$AH15)))","v":34.907693947113799},{"$f":"IF('Input - Capacity Factors'!$C$3=\"Fueled\",-PMT($D$37,$AK15,NPV($D$37,$AI$10:$AI16)),-PMT($D$37,$AK15,NPV($D$37,$AH$10:$AH16)))","v":35.891695147035314},{"$f":"IF('Input - Capacity Factors'!$C$3=\"Fueled\",-PMT($D$37,$AK15,NPV($D$37,$AI$11:$AI17)),-PMT($D$37,$AK15,NPV($D$37,$AH$11:$AH17)))","v":36.738119069635822},{"$f":"IF('Input - Capacity Factors'!$C$3=\"Fueled\",-PMT($D$37,$AK15,NPV($D$37,$AI$12:$AI18)),-PMT($D$37,$AK15,NPV($D$37,$AH$12:$AH18)))","v":38.176567071962431},{"$f":"IF('Input - Capacity Factors'!$C$3=\"Fueled\",-PMT($D$37,$AK15,NPV($D$37,$AI$13:$AI19)),-PMT($D$37,$AK15,NPV($D$37,$AH$13:$AH19)))","v":40.015554314637519},{"$f":"IF('Input - Capacity Factors'!$C$3=\"Fueled\",-PMT($D$37,$AK15,NPV($D$37,$AI$14:$AI20)),-PMT($D$37,$AK15,NPV($D$37,$AH$14:$AH20)))","v":41.944580862083015}]
[null,"(MW)",null,null,null,null,2028,3.9590450000000001,4.6526509999999996,33.033822099999995,null,8,2029,4.9463679999999997,35.1192128,2.6827294286993206,37.801942228699318,59.455599684365019,{"$f":"$D$39*(1+$D$47)^($M16-$D$43)*(1000/(365*24))/VLOOKUP('Input - Capacity Factors'!$C$3,'Input - Capacity Factors'!$A:$B,2,FALSE)","v":7.6391513181792963},67.094751002544314,{"$f":"-VLOOKUP($E$105,'Input - Transmission'!$A:$C,2)*(1+'Input - Transmission'!$C$11)^('AVOID NEW'!$M16-'Input - Transmission'!$C$10)*12*(1000/(365*24))*(1/VLOOKUP('Input - Capacity Factors'!$C$3,'Input - Capacity Factors'!$A:$D,2,FALSE))","v":-10.171948873336415},{"$f":"-VLOOKUP($E$105,'Input - Transmission'!$A:$C,3)*Q16","v":-1.5120776891479728},null,8,2029,35.1192128,2.6827294286993206,{"$f":"IF(VLOOKUP($Y16,'Input - Load and Resource'!$B$13:$C$42,2,FALSE)>=0,0,0)","v":0},{"$f":"IF(VLOOKUP($Y16,'Input - Load and Resource'!$B$13:$C$42,2,FALSE)>=0,0,0)","v":0},37.801942228699318,{"$f":"VLOOKUP($Y16,'Input - Load and Resource'!$B$13:$L$42,11,FALSE)*R16","v":2.9727799842155473},{"$f":"VLOOKUP($Y16,'Input - Load and Resource'!$B$13:$L$42,11,FALSE)*S16","v":0.3819575659086174},3.354737550124165,41.156679778823481,6.0374669788234856,null,8,2029,{"$f":"IF('Input - Capacity Factors'!$C$3=\"Fueled\",'AVOID NEW'!AI16,AH16)","v":41.156679778823481},{"$f":"IF('Input - Capacity Factors'!$C$3=\"Fueled\",-PMT($D$37,$AK16,NPV($D$37,$AI$9:$AI16)),-PMT($D$37,$AK16,NPV($D$37,$AH$9:$AH16)))","v":35.491379593873297},{"$f":"IF('Input - Capacity Factors'!$C$3=\"Fueled\",-PMT($D$37,$AK16,NPV($D$37,$AI$10:$AI17)),-PMT($D$37,$AK16,NPV($D$37,$AH$10:$AH17)))","v":36.544459717959974},{"$f":"IF('Input - Capacity Factors'!$C$3=\"Fueled\",-PMT($D$37,$AK16,NPV($D$37,$AI$11:$AI18)),-PMT($D$37,$AK16,NPV($D$37,$AH$11:$AH18)))","v":37.450444555036114},{"$f":"IF('Input - Capacity Factors'!$C$3=\"Fueled\",-PMT($D$37,$AK16,NPV($D$37,$AI$12:$AI19)),-PMT($D$37,$AK16,NPV($D$37,$AH$12:$AH19)))","v":38.913666422859656},{"$f":"IF('Input - Capacity Factors'!$C$3=\"Fueled\",-PMT($D$37,$AK16,NPV($D$37,$AI$13:$AI20)),-PMT($D$37,$AK16,NPV($D$37,$AH$13:$AH20)))","v":40.733982992827599},{"$f":"IF('Input - Capacity Factors'!$C$3=\"Fueled\",-PMT($D$37,$AK16,NPV($D$37,$AI$14:$AI21)),-PMT($D$37,$AK16,NPV($D$37,$AH$14:$AH21)))","v":42.592507930174762}]
[null,null,null,null,null,null,2029,4.108975,4.9463679999999997,35.1192128,null,9,2030,5.1746290000000004,36.739865900000005,2.7363840172733069,39.476249917273314,60.287978079946136,{"$f":"$D$39*(1+$D$47)^($M17-$D$43)*(1000/(365*24))/VLOOKUP('Input - Capacity Factors'!$C$3,'Input - Capacity Factors'!$A:$B,2,FALSE)","v":7.7919343445428835},68.079912424489024,{"$f":"-VLOOKUP($E$105,'Input - Transmission'!$A:$C,2)*(1+'Input - Transmission'!$C$11)^('AVOID NEW'!$M17-'Input - Transmission'!$C$10)*12*(1000/(365*24))*(1/VLOOKUP('Input - Capacity Factors'!$C$3,'Input - Capacity Factors'!$A:$D,2,FALSE))","v":-10.375387850803143},{"$f":"-VLOOKUP($E$105,'Input - Transmission'!$A:$C,3)*Q17","v":-1.5790499966909326},null,9,2030,36.739865900000005,2.7363840172733069,{"$f":"IF(VLOOKUP($Y17,'Input - Load and Resource'!$B$13:$C$42,2,FALSE)>=0,0,0)","v":0},{"$f":"IF(VLOOKUP($Y17,'Input - Load and Resource'!$B$13:$C$42,2,FALSE)>=0,0,0)","v":0},39.476249917273314,{"$f":"VLOOKUP($Y17,'Input - Load and Resource'!$B$13:$L$42,11,FALSE)*R17","v":3.0143989039945653},{"$f":"VLOOKUP($Y17,'Input - Load and Resource'!$B$13:$L$42,11,FALSE)*S17","v":0.38959671722678985},3.4039956212213553,42.88024553849467,6.1403796384946618,null,9,2030,{"$f":"IF('Input - Capacity Factors'!$C$3=\"Fueled\",'AVOID NEW'!AI17,AH17)","v":42.88024553849467},{"$f":"IF('Input - Capacity Factors'!$C$3=\"Fueled\",-PMT($D$37,$AK17,NPV($D$37,$AI$9:$AI17)),-PMT($D$37,$AK17,NPV($D$37,$AH$9:$AH17)))","v":36.07864341903943},{"$f":"IF('Input - Capacity Factors'!$C$3=\"Fueled\",-PMT($D$37,$AK17,NPV($D$37,$AI$10:$AI18)),-PMT($D$37,$AK17,NPV($D$37,$AH$10:$AH18)))","v":37.16597985210128},{"$f":"IF('Input - Capacity Factors'!$C$3=\"Fueled\",-PMT($D$37,$AK17,NPV($D$37,$AI$11:$AI19)),-PMT($D$37,$AK17,NPV($D$37,$AH$11:$AH19)))","v":38.135365072546293},{"$f":"IF('Input - Capacity Factors'!$C$3=\"Fueled\",-PMT($D$37,$AK17,NPV($D$37,$AI$12:$AI20)),-PMT($D$37,$AK17,NPV($D$37,$AH$12:$AH20)))","v":39.612565459106783},{"$f":"IF('Input - Capacity Factors'!$C$3=\"Fueled\",-PMT($D$37,$AK17,NPV($D$37,$AI$13:$AI21)),-PMT($D$37,$AK17,NPV($D$37,$AH$13:$AH21)))","v":41.381531399245226},{"$f":"IF('Input - Capacity Factors'!$C$3=\"Fueled\",-PMT($D$37,$AK17,NPV($D$37,$AI$14:$AI22)),-PMT($D$37,$AK17,NPV($D$37,$AH$14:$AH22)))","v":43.156697876165971}]
[null,"20-yr Levelized rate",null,null,null,null,2030,4.2007510000000003,5.1746290000000004,36.739865900000005,null,10,2031,5.368906,38.119232600000004,2.7911116976187729,40.910344297618778,61.132009773065384,{"$f":"$D$39*(1+$D$47)^($M18-$D$43)*(1000/(365*24))/VLOOKUP('Input - Capacity Factors'!$C$3,'Input - Capacity Factors'!$A:$B,2,FALSE)","v":7.9477730314337389},69.079782804499118,{"$f":"-VLOOKUP($E$105,'Input - Transmission'!$A:$C,2)*(1+'Input - Transmission'!$C$11)^('AVOID NEW'!$M18-'Input - Transmission'!$C$10)*12*(1000/(365*24))*(1/VLOOKUP('Input - Capacity Factors'!$C$3,'Input - Capacity Factors'!$A:$D,2,FALSE))","v":-10.582895607819205},{"$f":"-VLOOKUP($E$105,'Input - Transmission'!$A:$C,3)*Q18","v":-1.6364137719047511},null,10,2031,38.119232600000004,2.7911116976187729,{"$f":"IF(VLOOKUP($Y18,'Input - Load and Resource'!$B$13:$C$42,2,FALSE)>=0,0,0)","v":0},{"$f":"IF(VLOOKUP($Y18,'Input - Load and Resource'!$B$13:$C$42,2,FALSE)>=0,0,0)","v":0},40.910344297618778,{"$f":"VLOOKUP($Y18,'Input - Load and Resource'!$B$13:$L$42,11,FALSE)*R18","v":3.0566004886504894},{"$f":"VLOOKUP($Y18,'Input - Load and Resource'!$B$13:$L$42,11,FALSE)*S18","v":0.39738865157132552},3.453989140221815,44.364333437840592,6.2451008378405879,null,10,2031,{"$f":"IF('Input - Capacity Factors'!$C$3=\"Fueled\",'AVOID NEW'!AI18,AH18)","v":44.364333437840592},{"$f":"IF('Input - Capacity Factors'!$C$3=\"Fueled\",-PMT($D$37,$AK18,NPV($D$37,$AI$9:$AI18)),-PMT($D$37,$AK18,NPV($D$37,$AH$9:$AH18)))","v":36.645726804555231},{"$f":"IF('Input - Capacity Factors'!$C$3=\"Fueled\",-PMT($D$37,$AK18,NPV($D$37,$AI$10:$AI19)),-PMT($D$37,$AK18,NPV($D$37,$AH$10:$AH19)))","v":37.775246524288875},{"$f":"IF('Input - Capacity Factors'!$C$3=\"Fueled\",-PMT($D$37,$AK18,NPV($D$37,$AI$11:$AI20)),-PMT($D$37,$AK18,NPV($D$37,$AH$11:$AH20)))","v":38.790467723432059},{"$f":"IF('Input - Capacity Factors'!$C$3=\"Fueled\",-PMT($D$37,$AK18,NPV($D$37,$AI$12:$AI21)),-PMT($D$37,$AK18,NPV($D$37,$AH$12:$AH21)))","v":40.246932464115147},{"$f":"IF('Input - Capacity Factors'!$C$3=\"Fueled\",-PMT($D$37,$AK18,NPV($D$37,$AI$13:$AI22)),-PMT($D$37,$AK18,NPV($D$37,$AH$13:$AH22)))","v":41.950246449073255},{"$f":"IF('Input - Capacity Factors'!$C$3=\"Fueled\",-PMT($D$37,$AK18,NPV($D$37,$AI$14:$AI23)),-PMT($D$37,$AK18,NPV($D$37,$AH$14:$AH23)))","v":43.682697644222763}]
[null,{"$f":"TEXT($D$13,\"0000\")&\" on-line date:\"","v":"2022 on-line date:"},null,{"$f":"AN28","v":41.09813936084393},null,null,2031,4.2602019999999996,5.368906,38.119232600000004,null,11,2032,5.593852,39.716349199999996,2.8469339315711482,42.563283131571147,61.987857909888312,{"$f":"$D$39*(1+$D$47)^($M19-$D$43)*(1000/(365*24))/VLOOKUP('Input - Capacity Factors'!$C$3,'Input - Capacity Factors'!$A:$B,2,FALSE)","v":8.1067284920624143},70.094586401950721,{"$f":"-VLOOKUP($E$105,'Input - Transmission'!$A:$C,2)*(1+'Input - Transmission'!$C$11)^('AVOID NEW'!$M19-'Input - Transmission'!$C$10)*12*(1000/(365*24))*(1/VLOOKUP('Input - Capacity Factors'!$C$3,'Input - Capacity Factors'!$A:$D,2,FALSE))","v":-10.794553519975592},{"$f":"-VLOOKUP($E$105,'Input - Transmission'!$A:$C,3)*Q19","v":-1.702531325262846},null,11,2032,39.716349199999996,2.8469339315711482,{"$f":"IF(VLOOKUP($Y19,'Input - Load and Resource'!$B$13:$C$42,2,FALSE)>=0,0,0)","v":0},{"$f":"IF(VLOOKUP($Y19,'Input - Load and Resource'!$B$13:$C$42,2,FALSE)>=0,0,0)","v":0},42.563283131571147,{"$f":"VLOOKUP($Y19,'Input - Load and Resource'!$B$13:$L$42,11,FALSE)*R19","v":3.0993928954915968},{"$f":"VLOOKUP($Y19,'Input - Load and Resource'!$B$13:$L$42,11,FALSE)*S19","v":0.40533642460275204},3.504729320094349,46.068012451665496,6.3516632516654967,null,11,2032,{"$f":"IF('Input - Capacity Factors'!$C$3=\"Fueled\",'AVOID NEW'!AI19,AH19)","v":46.068012451665496},{"$f":"IF('Input - Capacity Factors'!$C$3=\"Fueled\",-PMT($D$37,$AK19,NPV($D$37,$AI$9:$AI19)),-PMT($D$37,$AK19,NPV($D$37,$AH$9:$AH19)))","v":37.206368133146107},{"$f":"IF('Input - Capacity Factors'!$C$3=\"Fueled\",-PMT($D$37,$AK19,NPV($D$37,$AI$10:$AI20)),-PMT($D$37,$AK19,NPV($D$37,$AH$10:$AH20)))","v":38.366208560486044},{"$f":"IF('Input - Capacity Factors'!$C$3=\"Fueled\",-PMT($D$37,$AK19,NPV($D$37,$AI$11:$AI21)),-PMT($D$37,$AK19,NPV($D$37,$AH$11:$AH21)))","v":39.390891077541461},{"$f":"IF('Input - Capacity Factors'!$C$3=\"Fueled\",-PMT($D$37,$AK19,NPV($D$37,$AI$12:$AI22)),-PMT($D$37,$AK19,NPV($D$37,$AH$12:$AH22)))","v":40.808873525655663},{"$f":"IF('Input - Capacity Factors'!$C$3=\"Fueled\",-PMT($D$37,$AK19,NPV($D$37,$AI$13:$AI23)),-PMT($D$37,$AK19,NPV($D$37,$AH$13:$AH23)))","v":42.479326957380771},{"$f":"IF('Input - Capacity Factors'!$C$3=\"Fueled\",-PMT($D$37,$AK19,NPV($D$37,$AI$14:$AI24)),-PMT($D$37,$AK19,NPV($D$37,$AH$14:$AH24)))","v":44.171483464678047}]
[null,{"$f":"TEXT($D$13+1,\"0000\")&\" on-line date:\"","v":"2023 on-line date:"},null,{"$f":"AO28","v":42.269312783325852},null,null,2032,4.342225,5.593852,39.716349199999996,null,12,2033,5.8094380000000001,41.247009800000001,2.9038726102025714,44.15088241020257,62.855687920626757,{"$f":"$D$39*(1+$D$47)^($M20-$D$43)*(1000/(365*24))/VLOOKUP('Input - Capacity Factors'!$C$3,'Input - Capacity Factors'!$A:$B,2,FALSE)","v":8.2688630619036623},71.124550982530423,{"$f":"-VLOOKUP($E$105,'Input - Transmission'!$A:$C,2)*(1+'Input - Transmission'!$C$11)^('AVOID NEW'!$M20-'Input - Transmission'!$C$10)*12*(1000/(365*24))*(1/VLOOKUP('Input - Capacity Factors'!$C$3,'Input - Capacity Factors'!$A:$D,2,FALSE))","v":-11.010444590375101},{"$f":"-VLOOKUP($E$105,'Input - Transmission'!$A:$C,3)*Q20","v":-1.7660352964081028},null,12,2033,41.247009800000001,2.9038726102025714,{"$f":"IF(VLOOKUP($Y20,'Input - Load and Resource'!$B$13:$C$42,2,FALSE)>=0,0,0)","v":0},{"$f":"IF(VLOOKUP($Y20,'Input - Load and Resource'!$B$13:$C$42,2,FALSE)>=0,0,0)","v":0},44.15088241020257,{"$f":"VLOOKUP($Y20,'Input - Load and Resource'!$B$13:$L$42,11,FALSE)*R20","v":3.142784396099938},{"$f":"VLOOKUP($Y20,'Input - Load and Resource'!$B$13:$L$42,11,FALSE)*S20","v":0.41344315310420771},3.5562275492041455,47.707109959406715,6.4601001594067169,null,12,2033,{"$f":"IF('Input - Capacity Factors'!$C$3=\"Fueled\",'AVOID NEW'!AI20,AH20)","v":47.707109959406715},{"$f":"IF('Input - Capacity Factors'!$C$3=\"Fueled\",-PMT($D$37,$AK20,NPV($D$37,$AI$9:$AI20)),-PMT($D$37,$AK20,NPV($D$37,$AH$9:$AH20)))","v":37.753822522231943},{"$f":"IF('Input - Capacity Factors'!$C$3=\"Fueled\",-PMT($D$37,$AK20,NPV($D$37,$AI$10:$AI21)),-PMT($D$37,$AK20,NPV($D$37,$AH$10:$AH21)))","v":38.91441317860972},{"$f":"IF('Input - Capacity Factors'!$C$3=\"Fueled\",-PMT($D$37,$AK20,NPV($D$37,$AI$11:$AI22)),-PMT($D$37,$AK20,NPV($D$37,$AH$11:$AH22)))","v":39.927888724424136},{"$f":"IF('Input - Capacity Factors'!$C$3=\"Fueled\",-PMT($D$37,$AK20,NPV($D$37,$AI$12:$AI23)),-PMT($D$37,$AK20,NPV($D$37,$AH$12:$AH23)))","v":41.331954740804449},{"$f":"IF('Input - Capacity Factors'!$C$3=\"Fueled\",-PMT($D$37,$AK20,NPV($D$37,$AI$13:$AI24)),-PMT($D$37,$AK20,NPV($D$37,$AH$13:$AH24)))","v":42.970334545708496},{"$f":"IF('Input - Capacity Factors'!$C$3=\"Fueled\",-PMT($D$37,$AK20,NPV($D$37,$AI$14:$AI25)),-PMT($D$37,$AK20,NPV($D$37,$AH$14:$AH25)))","v":44.643035352674055}]
[null,{"$f":"TEXT($D$13+2,\"0000\")&\" on-line date:\"","v":"2024 on-line date:"},null,{"$f":"AP28","v":43.349180278074648},null,null,2033,4.4119190000000001,5.8094380000000001,41.247009800000001,null,13,2034,5.9592809999999998,42.310895100000003,2.9619500624066233,45.272845162406625,63.735667551515526,{"$f":"$D$39*(1+$D$47)^($M21-$D$43)*(1000/(365*24))/VLOOKUP('Input - Capacity Factors'!$C$3,'Input - Capacity Factors'!$A:$B,2,FALSE)","v":8.4342403231417364},72.16990787465727,{"$f":"-VLOOKUP($E$105,'Input - Transmission'!$A:$C,2)*(1+'Input - Transmission'!$C$11)^('AVOID NEW'!$M21-'Input - Transmission'!$C$10)*12*(1000/(365*24))*(1/VLOOKUP('Input - Capacity Factors'!$C$3,'Input - Capacity Factors'!$A:$D,2,FALSE))","v":-11.230653482182603},{"$f":"-VLOOKUP($E$105,'Input - Transmission'!$A:$C,3)*Q21","v":-1.8109138064962651},null,13,2034,42.310895100000003,2.9619500624066233,{"$f":"IF(VLOOKUP($Y21,'Input - Load and Resource'!$B$13:$C$42,2,FALSE)>=0,0,0)","v":0},{"$f":"IF(VLOOKUP($Y21,'Input - Load and Resource'!$B$13:$C$42,2,FALSE)>=0,0,0)","v":0},45.272845162406625,{"$f":"VLOOKUP($Y21,'Input - Load and Resource'!$B$13:$L$42,11,FALSE)*R21","v":3.1867833776453369},{"$f":"VLOOKUP($Y21,'Input - Load and Resource'!$B$13:$L$42,11,FALSE)*S21","v":0.42171201616629189},3.6084953938116286,48.881340556218255,6.5704454562182519,null,13,2034,{"$f":"IF('Input - Capacity Factors'!$C$3=\"Fueled\",'AVOID NEW'!AI21,AH21)","v":48.881340556218255},{"$f":"IF('Input - Capacity Factors'!$C$3=\"Fueled\",-PMT($D$37,$AK21,NPV($D$37,$AI$9:$AI21)),-PMT($D$37,$AK21,NPV($D$37,$AH$9:$AH21)))","v":38.265430990083907},{"$f":"IF('Input - Capacity Factors'!$C$3=\"Fueled\",-PMT($D$37,$AK21,NPV($D$37,$AI$10:$AI22)),-PMT($D$37,$AK21,NPV($D$37,$AH$10:$AH22)))","v":39.409889766925467},{"$f":"IF('Input - Capacity Factors'!$C$3=\"Fueled\",-PMT($D$37,$AK21,NPV($D$37,$AI$11:$AI23)),-PMT($D$37,$AK21,NPV($D$37,$AH$11:$AH23)))","v":40.429690596363365},{"$f":"IF('Input - Capacity Factors'!$C$3=\"Fueled\",-PMT($D$37,$AK21,NPV($D$37,$AI$12:$AI24)),-PMT($D$37,$AK21,NPV($D$37,$AH$12:$AH24)))","v":41.817719054877912},{"$f":"IF('Input - Capacity Factors'!$C$3=\"Fueled\",-PMT($D$37,$AK21,NPV($D$37,$AI$13:$AI25)),-PMT($D$37,$AK21,NPV($D$37,$AH$13:$AH25)))","v":43.441413673769972},{"$f":"IF('Input - Capacity Factors'!$C$3=\"Fueled\",-PMT($D$37,$AK21,NPV($D$37,$AI$14:$AI26)),-PMT($D$37,$AK21,NPV($D$37,$AH$14:$AH26)))","v":45.097020875282681}]
[null,{"$f":"TEXT($D$13+3,\"0000\")&\" on-line date:\"","v":"2025 on-line date:"},null,{"$f":"AQ28","v":44.743775332318798},null,null,2034,4.4268710000000002,5.9592809999999998,42.310895100000003,null,14,2035,6.0575109999999999,43.0083281,3.0211890636547549,46.029517163654752,64.627966897236746,{"$f":"$D$39*(1+$D$47)^($M22-$D$43)*(1000/(365*24))/VLOOKUP('Input - Capacity Factors'!$C$3,'Input - Capacity Factors'!$A:$B,2,FALSE)","v":8.6029251296045697},73.230892026841317,{"$f":"-VLOOKUP($E$105,'Input - Transmission'!$A:$C,2)*(1+'Input - Transmission'!$C$11)^('AVOID NEW'!$M22-'Input - Transmission'!$C$10)*12*(1000/(365*24))*(1/VLOOKUP('Input - Capacity Factors'!$C$3,'Input - Capacity Factors'!$A:$D,2,FALSE))","v":-11.455266551826256},{"$f":"-VLOOKUP($E$105,'Input - Transmission'!$A:$C,3)*Q22","v":-1.8411806865461902},null,14,2035,43.0083281,3.0211890636547549,{"$f":"IF(VLOOKUP($Y22,'Input - Load and Resource'!$B$13:$C$42,2,FALSE)>=0,0,0)","v":0},{"$f":"IF(VLOOKUP($Y22,'Input - Load and Resource'!$B$13:$C$42,2,FALSE)>=0,0,0)","v":0},46.029517163654752,{"$f":"VLOOKUP($Y22,'Input - Load and Resource'!$B$13:$L$42,11,FALSE)*R22","v":3.231398344932372},{"$f":"VLOOKUP($Y22,'Input - Load and Resource'!$B$13:$L$42,11,FALSE)*S22","v":0.43014625648961768},3.6615446014219897,49.691061765076739,6.6827336650767446,null,14,2035,{"$f":"IF('Input - Capacity Factors'!$C$3=\"Fueled\",'AVOID NEW'!AI22,AH22)","v":49.691061765076739},{"$f":"IF('Input - Capacity Factors'!$C$3=\"Fueled\",-PMT($D$37,$AK22,NPV($D$37,$AI$9:$AI22)),-PMT($D$37,$AK22,NPV($D$37,$AH$9:$AH22)))","v":38.731227218796441},{"$f":"IF('Input - Capacity Factors'!$C$3=\"Fueled\",-PMT($D$37,$AK22,NPV($D$37,$AI$10:$AI23)),-PMT($D$37,$AK22,NPV($D$37,$AH$10:$AH23)))","v":39.875954740388856},{"$f":"IF('Input - Capacity Factors'!$C$3=\"Fueled\",-PMT($D$37,$AK22,NPV($D$37,$AI$11:$AI24)),-PMT($D$37,$AK22,NPV($D$37,$AH$11:$AH24)))","v":40.897200670930218},{"$f":"IF('Input - Capacity Factors'!$C$3=\"Fueled\",-PMT($D$37,$AK22,NPV($D$37,$AI$12:$AI25)),-PMT($D$37,$AK22,NPV($D$37,$AH$12:$AH25)))","v":42.282414023825801},{"$f":"IF('Input - Capacity Factors'!$C$3=\"Fueled\",-PMT($D$37,$AK22,NPV($D$37,$AI$13:$AI26)),-PMT($D$37,$AK22,NPV($D$37,$AH$13:$AH26)))","v":43.892949622347061},{"$f":"IF('Input - Capacity Factors'!$C$3=\"Fueled\",-PMT($D$37,$AK22,NPV($D$37,$AI$14:$AI27)),-PMT($D$37,$AK22,NPV($D$37,$AH$14:$AH27)))","v":45.547235923900672}]
[null,{"$f":"TEXT($D$13+4,\"0000\")&\" on-line date:\"","v":"2026 on-line date:"},null,{"$f":"AR28","v":46.336023956863954},null,null,2035,4.4023539999999999,6.0575109999999999,43.0083281,null,15,2036,6.2035369999999999,44.045112699999997,3.0816128449278506,47.126725544927851,65.532758433798065,{"$f":"$D$39*(1+$D$47)^($M23-$D$43)*(1000/(365*24))/VLOOKUP('Input - Capacity Factors'!$C$3,'Input - Capacity Factors'!$A:$B,2,FALSE)","v":8.7749836321966637},74.307742065994731,{"$f":"-VLOOKUP($E$105,'Input - Transmission'!$A:$C,2)*(1+'Input - Transmission'!$C$11)^('AVOID NEW'!$M23-'Input - Transmission'!$C$10)*12*(1000/(365*24))*(1/VLOOKUP('Input - Capacity Factors'!$C$3,'Input - Capacity Factors'!$A:$D,2,FALSE))","v":-11.684371882862779},{"$f":"-VLOOKUP($E$105,'Input - Transmission'!$A:$C,3)*Q23","v":-1.885069021797114},null,15,2036,44.045112699999997,3.0816128449278506,{"$f":"IF(VLOOKUP($Y23,'Input - Load and Resource'!$B$13:$C$42,2,FALSE)>=0,0,0)","v":0},{"$f":"IF(VLOOKUP($Y23,'Input - Load and Resource'!$B$13:$C$42,2,FALSE)>=0,0,0)","v":0},47.126725544927851,{"$f":"VLOOKUP($Y23,'Input - Load and Resource'!$B$13:$L$42,11,FALSE)*R23","v":3.2766379217614254},{"$f":"VLOOKUP($Y23,'Input - Load and Resource'!$B$13:$L$42,11,FALSE)*S23","v":0.43874918161941012},3.7153871033808357,50.842112648308685,6.7969999483086854,null,15,2036,{"$f":"IF('Input - Capacity Factors'!$C$3=\"Fueled\",'AVOID NEW'!AI23,AH23)","v":50.842112648308685},{"$f":"IF('Input - Capacity Factors'!$C$3=\"Fueled\",-PMT($D$37,$AK23,NPV($D$37,$AI$9:$AI23)),-PMT($D$37,$AK23,NPV($D$37,$AH$9:$AH23)))","v":39.171050990670153},{"$f":"IF('Input - Capacity Factors'!$C$3=\"Fueled\",-PMT($D$37,$AK23,NPV($D$37,$AI$10:$AI24)),-PMT($D$37,$AK23,NPV($D$37,$AH$10:$AH24)))","v":40.312528940668287},{"$f":"IF('Input - Capacity Factors'!$C$3=\"Fueled\",-PMT($D$37,$AK23,NPV($D$37,$AI$11:$AI25)),-PMT($D$37,$AK23,NPV($D$37,$AH$11:$AH25)))","v":41.344587357159419},{"$f":"IF('Input - Capacity Factors'!$C$3=\"Fueled\",-PMT($D$37,$AK23,NPV($D$37,$AI$12:$AI26)),-PMT($D$37,$AK23,NPV($D$37,$AH$12:$AH26)))","v":42.726739252129356},{"$f":"IF('Input - Capacity Factors'!$C$3=\"Fueled\",-PMT($D$37,$AK23,NPV($D$37,$AI$13:$AI27)),-PMT($D$37,$AK23,NPV($D$37,$AH$13:$AH27)))","v":44.337735012918813},{"$f":"IF('Input - Capacity Factors'!$C$3=\"Fueled\",-PMT($D$37,$AK23,NPV($D$37,$AI$14:$AI28)),-PMT($D$37,$AK23,NPV($D$37,$AH$14:$AH28)))","v":45.985281812166988}]
[null,{"$f":"TEXT($D$13+5,\"0000\")&\" on-line date:\"","v":"2027 on-line date:"},null,{"$f":"AS28","v":47.964233398399564},null,null,2036,4.4110240000000003,6.2035369999999999,44.045112699999997,null,16,2037,6.3357859999999997,44.984080599999999,3.1432451018264072,48.127325701826408,66.450217051871249,{"$f":"$D$39*(1+$D$47)^($M24-$D$43)*(1000/(365*24))/VLOOKUP('Input - Capacity Factors'!$C$3,'Input - Capacity Factors'!$A:$B,2,FALSE)","v":8.9504833048405956},75.400700356711837,{"$f":"-VLOOKUP($E$105,'Input - Transmission'!$A:$C,2)*(1+'Input - Transmission'!$C$11)^('AVOID NEW'!$M24-'Input - Transmission'!$C$10)*12*(1000/(365*24))*(1/VLOOKUP('Input - Capacity Factors'!$C$3,'Input - Capacity Factors'!$A:$D,2,FALSE))","v":-11.918059320520035},{"$f":"-VLOOKUP($E$105,'Input - Transmission'!$A:$C,3)*Q24","v":-1.9250930280730563},null,16,2037,44.984080599999999,3.1432451018264072,{"$f":"IF(VLOOKUP($Y24,'Input - Load and Resource'!$B$13:$C$42,2,FALSE)>=0,0,0)","v":0},{"$f":"IF(VLOOKUP($Y24,'Input - Load and Resource'!$B$13:$C$42,2,FALSE)>=0,0,0)","v":0},48.127325701826408,{"$f":"VLOOKUP($Y24,'Input - Load and Resource'!$B$13:$L$42,11,FALSE)*R24","v":3.3225108526660856},{"$f":"VLOOKUP($Y24,'Input - Load and Resource'!$B$13:$L$42,11,FALSE)*S24","v":0.44752416525179828},3.7700350179178841,51.897360719744292,6.9132801197442912,null,16,2037,{"$f":"IF('Input - Capacity Factors'!$C$3=\"Fueled\",'AVOID NEW'!AI24,AH24)","v":51.897360719744292},{"$f":"IF('Input - Capacity Factors'!$C$3=\"Fueled\",-PMT($D$37,$AK24,NPV($D$37,$AI$9:$AI24)),-PMT($D$37,$AK24,NPV($D$37,$AH$9:$AH24)))","v":39.584400873632426},{"$f":"IF('Input - Capacity Factors'!$C$3=\"Fueled\",-PMT($D$37,$AK24,NPV($D$37,$AI$10:$AI25)),-PMT($D$37,$AK24,NPV($D$37,$AH$10:$AH25)))","v":40.7316439523415},{"$f":"IF('Input - Capacity Factors'!$C$3=\"Fueled\",-PMT($D$37,$AK24,NPV($D$37,$AI$11:$AI26)),-PMT($D$37,$AK24,NPV($D$37,$AH$11:$AH26)))","v":41.772434776415473},{"$f":"IF('Input - Capacity Factors'!$C$3=\"Fueled\",-PMT($D$37,$AK24,NPV($D$37,$AI$12:$AI27)),-PMT($D$37,$AK24,NPV($D$37,$AH$12:$AH27)))","v":43.162416113163438},{"$f":"IF('Input - Capacity Factors'!$C$3=\"Fueled\",-PMT($D$37,$AK24,NPV($D$37,$AI$13:$AI28)),-PMT($D$37,$AK24,NPV($D$37,$AH$13:$AH28)))","v":44.768790404980095},{"$f":"IF('Input - Capacity Factors'!$C$3=\"Fueled\",-PMT($D$37,$AK24,NPV($D$37,$AI$14:$AI29)),-PMT($D$37,$AK24,NPV($D$37,$AH$14:$AH29)))","v":46.400667616847791}]
[null,null,null,null,null,null,2037,4.4074730000000004,6.3357859999999997,44.984080599999999,null,17,2038,6.5048909999999998,46.184726099999999,3.2061100038629355,49.390836103862938,67.380520090597443,{"$f":"$D$39*(1+$D$47)^($M25-$D$43)*(1000/(365*24))/VLOOKUP('Input - Capacity Factors'!$C$3,'Input - Capacity Factors'!$A:$B,2,FALSE)","v":9.1294929709374077},76.510013061534849,{"$f":"-VLOOKUP($E$105,'Input - Transmission'!$A:$C,2)*(1+'Input - Transmission'!$C$11)^('AVOID NEW'!$M25-'Input - Transmission'!$C$10)*12*(1000/(365*24))*(1/VLOOKUP('Input - Capacity Factors'!$C$3,'Input - Capacity Factors'!$A:$D,2,FALSE))","v":-12.156420506930436},{"$f":"-VLOOKUP($E$105,'Input - Transmission'!$A:$C,3)*Q25","v":-1.9756334441545176},null,17,2038,46.184726099999999,3.2061100038629355,{"$f":"IF(VLOOKUP($Y25,'Input - Load and Resource'!$B$13:$C$42,2,FALSE)>=0,0,0)","v":0},{"$f":"IF(VLOOKUP($Y25,'Input - Load and Resource'!$B$13:$C$42,2,FALSE)>=0,0,0)","v":0},49.390836103862938,{"$f":"VLOOKUP($Y25,'Input - Load and Resource'!$B$13:$L$42,11,FALSE)*R25","v":3.3690260046034108},{"$f":"VLOOKUP($Y25,'Input - Load and Resource'!$B$13:$L$42,11,FALSE)*S25","v":0.45647464855683428},3.8255006531602449,53.216336757023186,7.0316106570231804,null,17,2038,{"$f":"IF('Input - Capacity Factors'!$C$3=\"Fueled\",'AVOID NEW'!AI25,AH25)","v":53.216336757023186},{"$f":"IF('Input - Capacity Factors'!$C$3=\"Fueled\",-PMT($D$37,$AK25,NPV($D$37,$AI$9:$AI25)),-PMT($D$37,$AK25,NPV($D$37,$AH$9:$AH25)))","v":39.981755334729435},{"$f":"IF('Input - Capacity Factors'!$C$3=\"Fueled\",-PMT($D$37,$AK25,NPV($D$37,$AI$10:$AI26)),-PMT($D$37,$AK25,NPV($D$37,$AH$10:$AH26)))","v":41.133477728051339},{"$f":"IF('Input - Capacity Factors'!$C$3=\"Fueled\",-PMT($D$37,$AK25,NPV($D$37,$AI$11:$AI27)),-PMT($D$37,$AK25,NPV($D$37,$AH$11:$AH27)))","v":42.191245265997566},{"$f":"IF('Input - Capacity Factors'!$C$3=\"Fueled\",-PMT($D$37,$AK25,NPV($D$37,$AI$12:$AI28)),-PMT($D$37,$AK25,NPV($D$37,$AH$12:$AH28)))","v":43.583521416922132},{"$f":"IF('Input - Capacity Factors'!$C$3=\"Fueled\",-PMT($D$37,$AK25,NPV($D$37,$AI$13:$AI29)),-PMT($D$37,$AK25,NPV($D$37,$AH$13:$AH29)))","v":45.177033329384429},{"$f":"IF('Input - Capacity Factors'!$C$3=\"Fueled\",-PMT($D$37,$AK25,NPV($D$37,$AI$14:$AI30)),-PMT($D$37,$AK25,NPV($D$37,$AH$14:$AH30)))","v":46.804846909469774}]
[null,null,null,null,null,null,2038,4.426501,6.5048909999999998,46.184726099999999,null,18,2039,6.6711580000000001,47.3652218,3.2702322039401936,50.635454003940197,68.323847371865824,{"$f":"$D$39*(1+$D$47)^($M26-$D$43)*(1000/(365*24))/VLOOKUP('Input - Capacity Factors'!$C$3,'Input - Capacity Factors'!$A:$B,2,FALSE)","v":9.3120828303561538},77.635930202221971,{"$f":"-VLOOKUP($E$105,'Input - Transmission'!$A:$C,2)*(1+'Input - Transmission'!$C$11)^('AVOID NEW'!$M26-'Input - Transmission'!$C$10)*12*(1000/(365*24))*(1/VLOOKUP('Input - Capacity Factors'!$C$3,'Input - Capacity Factors'!$A:$D,2,FALSE))","v":-12.399548917069044},{"$f":"-VLOOKUP($E$105,'Input - Transmission'!$A:$C,3)*Q26","v":-2.0254181601576078},null,18,2039,47.3652218,3.2702322039401936,{"$f":"IF(VLOOKUP($Y26,'Input - Load and Resource'!$B$13:$C$42,2,FALSE)>=0,0,0)","v":0},{"$f":"IF(VLOOKUP($Y26,'Input - Load and Resource'!$B$13:$C$42,2,FALSE)>=0,0,0)","v":0},50.635454003940197,{"$f":"VLOOKUP($Y26,'Input - Load and Resource'!$B$13:$L$42,11,FALSE)*R26","v":3.4161923686678595},{"$f":"VLOOKUP($Y26,'Input - Load and Resource'!$B$13:$L$42,11,FALSE)*S26","v":0.46560414152797086},3.8817965101958305,54.51725051413603,7.1520287141360237,null,18,2039,{"$f":"IF('Input - Capacity Factors'!$C$3=\"Fueled\",'AVOID NEW'!AI26,AH26)","v":54.51725051413603},{"$f":"IF('Input - Capacity Factors'!$C$3=\"Fueled\",-PMT($D$37,$AK26,NPV($D$37,$AI$9:$AI26)),-PMT($D$37,$AK26,NPV($D$37,$AH$9:$AH26)))","v":40.363133557953255},{"$f":"IF('Input - Capacity Factors'!$C$3=\"Fueled\",-PMT($D$37,$AK26,NPV($D$37,$AI$10:$AI27)),-PMT($D$37,$AK26,NPV($D$37,$AH$10:$AH27)))","v":41.527226618825061},{"$f":"IF('Input - Capacity Factors'!$C$3=\"Fueled\",-PMT($D$37,$AK26,NPV($D$37,$AI$11:$AI28)),-PMT($D$37,$AK26,NPV($D$37,$AH$11:$AH28)))","v":42.595776321078255},{"$f":"IF('Input - Capacity Factors'!$C$3=\"Fueled\",-PMT($D$37,$AK26,NPV($D$37,$AI$12:$AI29)),-PMT($D$37,$AK26,NPV($D$37,$AH$12:$AH29)))","v":43.982092098053307},{"$f":"IF('Input - Capacity Factors'!$C$3=\"Fueled\",-PMT($D$37,$AK26,NPV($D$37,$AI$13:$AI30)),-PMT($D$37,$AK26,NPV($D$37,$AH$13:$AH30)))","v":45.572952829314225},{"$f":"IF('Input - Capacity Factors'!$C$3=\"Fueled\",-PMT($D$37,$AK26,NPV($D$37,$AI$14:$AI31)),-PMT($D$37,$AK26,NPV($D$37,$AH$14:$AH31)))","v":47.20155847013941}]
[null,"INPUT","DATA",{"$f":"$E$105","v":"IPCO"},null,null,2039,4.4413970000000003,6.6711580000000001,47.3652218,null,19,2040,6.8825190000000003,48.865884900000005,3.3356368480189982,52.201521748019005,69.280381235071957,{"$f":"$D$39*(1+$D$47)^($M27-$D$43)*(1000/(365*24))/VLOOKUP('Input - Capacity Factors'!$C$3,'Input - Capacity Factors'!$A:$B,2,FALSE)","v":9.4983244869632788},78.778705722035241,{"$f":"-VLOOKUP($E$105,'Input - Transmission'!$A:$C,2)*(1+'Input - Transmission'!$C$11)^('AVOID NEW'!$M27-'Input - Transmission'!$C$10)*12*(1000/(365*24))*(1/VLOOKUP('Input - Capacity Factors'!$C$3,'Input - Capacity Factors'!$A:$D,2,FALSE))","v":-12.647539895410429},{"$f":"-VLOOKUP($E$105,'Input - Transmission'!$A:$C,3)*Q27","v":-2.0880608699207603},null,19,2040,48.865884900000005,3.3356368480189982,{"$f":"IF(VLOOKUP($Y27,'Input - Load and Resource'!$B$13:$C$42,2,FALSE)>=0,0,0)","v":0},{"$f":"IF(VLOOKUP($Y27,'Input - Load and Resource'!$B$13:$C$42,2,FALSE)>=0,0,0)","v":0},52.201521748019005,{"$f":"VLOOKUP($Y27,'Input - Load and Resource'!$B$13:$L$42,11,FALSE)*R27","v":3.4640190618292102},{"$f":"VLOOKUP($Y27,'Input - Load and Resource'!$B$13:$L$42,11,FALSE)*S27","v":0.47491622435853037},3.9389352861877405,56.140457034206747,7.2745721342067391,null,19,2040,{"$f":"IF('Input - Capacity Factors'!$C$3=\"Fueled\",'AVOID NEW'!AI27,AH27)","v":56.140457034206747},{"$f":"IF('Input - Capacity Factors'!$C$3=\"Fueled\",-PMT($D$37,$AK27,NPV($D$37,$AI$9:$AI27)),-PMT($D$37,$AK27,NPV($D$37,$AH$9:$AH27)))","v":40.736731423491676},{"$f":"IF('Input - Capacity Factors'!$C$3=\"Fueled\",-PMT($D$37,$AK27,NPV($D$37,$AI$10:$AI28)),-PMT($D$37,$AK27,NPV($D$37,$AH$10:$AH28)))","v":41.908037611359106},{"$f":"IF('Input - Capacity Factors'!$C$3=\"Fueled\",-PMT($D$37,$AK27,NPV($D$37,$AI$11:$AI29)),-PMT($D$37,$AK27,NPV($D$37,$AH$11:$AH29)))","v":42.978873758013059},{"$f":"IF('Input - Capacity Factors'!$C$3=\"Fueled\",-PMT($D$37,$AK27,NPV($D$37,$AI$12:$AI30)),-PMT($D$37,$AK27,NPV($D$37,$AH$12:$AH30)))","v":44.367703140418286},{"$f":"IF('Input - Capacity Factors'!$C$3=\"Fueled\",-PMT($D$37,$AK27,NPV($D$37,$AI$13:$AI31)),-PMT($D$37,$AK27,NPV($D$37,$AH$13:$AH31)))","v":45.960153724872434},{"$f":"IF('Input - Capacity Factors'!$C$3=\"Fueled\",-PMT($D$37,$AK27,NPV($D$37,$AI$14:$AI32)),-PMT($D$37,$AK27,NPV($D$37,$AH$14:$AH32)))","v":47.58767997218127}]
[null,"DATA","SOURCE","DATA",null,null,2040,4.4804729999999999,6.8825190000000003,48.865884900000005,null,20,2041,7.071815,50.209886500000003,3.4023495849793783,53.612236084979379,70.250306572362959,{"$f":"$D$39*(1+$D$47)^($M28-$D$43)*(1000/(365*24))/VLOOKUP('Input - Capacity Factors'!$C$3,'Input - Capacity Factors'!$A:$B,2,FALSE)","v":9.6882909767025449},79.938597549065506,{"$f":"-VLOOKUP($E$105,'Input - Transmission'!$A:$C,2)*(1+'Input - Transmission'!$C$11)^('AVOID NEW'!$M28-'Input - Transmission'!$C$10)*12*(1000/(365*24))*(1/VLOOKUP('Input - Capacity Factors'!$C$3,'Input - Capacity Factors'!$A:$D,2,FALSE))","v":-12.900490693318634},{"$f":"-VLOOKUP($E$105,'Input - Transmission'!$A:$C,3)*Q28","v":-2.1444894433991752},null,20,2041,50.209886500000003,3.4023495849793783,{"$f":"IF(VLOOKUP($Y28,'Input - Load and Resource'!$B$13:$C$42,2,FALSE)>=0,0,0)","v":0},{"$f":"IF(VLOOKUP($Y28,'Input - Load and Resource'!$B$13:$C$42,2,FALSE)>=0,0,0)","v":0},53.612236084979379,{"$f":"VLOOKUP($Y28,'Input - Load and Resource'!$B$13:$L$42,11,FALSE)*R28","v":3.5125153286948185},{"$f":"VLOOKUP($Y28,'Input - Load and Resource'!$B$13:$L$42,11,FALSE)*S28","v":0.48441454884570101},3.9969298775405195,57.609165962519896,7.3992794625198979,null,20,2041,{"$f":"IF('Input - Capacity Factors'!$C$3=\"Fueled\",'AVOID NEW'!AI28,AH28)","v":57.609165962519896},{"$f":"IF('Input - Capacity Factors'!$C$3=\"Fueled\",-PMT($D$37,$AK28,NPV($D$37,$AI$9:$AI28)),-PMT($D$37,$AK28,NPV($D$37,$AH$9:$AH28)))","v":41.09813936084393},{"$f":"IF('Input - Capacity Factors'!$C$3=\"Fueled\",-PMT($D$37,$AK28,NPV($D$37,$AI$10:$AI29)),-PMT($D$37,$AK28,NPV($D$37,$AH$10:$AH29)))","v":42.269312783325852},{"$f":"IF('Input - Capacity Factors'!$C$3=\"Fueled\",-PMT($D$37,$AK28,NPV($D$37,$AI$11:$AI30)),-PMT($D$37,$AK28,NPV($D$37,$AH$11:$AH30)))","v":43.349180278074648},{"$f":"IF('Input - Capacity Factors'!$C$3=\"Fueled\",-PMT($D$37,$AK28,NPV($D$37,$AI$12:$AI31)),-PMT($D$37,$AK28,NPV($D$37,$AH$12:$AH31)))","v":44.743775332318798},{"$f":"IF('Input - Capacity Factors'!$C$3=\"Fueled\",-PMT($D$37,$AK28,NPV($D$37,$AI$13:$AI32)),-PMT($D$37,$AK28,NPV($D$37,$AH$13:$AH32)))","v":46.336023956863954},{"$f":"IF('Input - Capacity Factors'!$C$3=\"Fueled\",-PMT($D$37,$AK28,NPV($D$37,$AI$14:$AI33)),-PMT($D$37,$AK28,NPV($D$37,$AH$14:$AH33)))","v":47.964233398399564}]
[null,null,"N/A",null,null,null,2041,4.5016040000000004,7.071815,50.209886500000003,null,21,2042,7.2180400000000002,51.248084000000006,3.4703965766789655,{"$f":"P29+O29","v":54.718480576678971},71.233810864376039,{"$f":"$D$39*(1+$D$47)^($M29-$D$43)*(1000/(365*24))/VLOOKUP('Input - Capacity Factors'!$C$3,'Input - Capacity Factors'!$A:$B,2,FALSE)","v":9.8820567962365935},81.115867660612636,{"$f":"-VLOOKUP($E$105,'Input - Transmission'!$A:$C,2)*(1+'Input - Transmission'!$C$11)^('AVOID NEW'!$M29-'Input - Transmission'!$C$10)*12*(1000/(365*24))*(1/VLOOKUP('Input - Capacity Factors'!$C$3,'Input - Capacity Factors'!$A:$D,2,FALSE))","v":-13.158500507185009},{"$f":"-VLOOKUP($E$105,'Input - Transmission'!$A:$C,3)*Q29","v":-2.188739223067159},null,21,2042,51.248084000000006,3.4703965766789655,{"$f":"IF(VLOOKUP($Y29,'Input - Load and Resource'!$B$13:$C$42,2,FALSE)>=0,0,0)","v":0},{"$f":"IF(VLOOKUP($Y29,'Input - Load and Resource'!$B$13:$C$42,2,FALSE)>=0,0,0)","v":0},54.718480576678971,{"$f":"VLOOKUP($Y29,'Input - Load and Resource'!$B$13:$L$42,11,FALSE)*R29","v":3.561690543296546},{"$f":"VLOOKUP($Y29,'Input - Load and Resource'!$B$13:$L$42,11,FALSE)*S29","v":0.49410283982261488},4.0557933831191608,58.77427395979813,7.5261899597981259,null,21,2042,{"$f":"IF('Input - Capacity Factors'!$C$3=\"Fueled\",'AVOID NEW'!AI29,AH29)","v":58.77427395979813},"Eligibility for these rates is limited to wind and solar projects 100 kW or smaller, and to non-wind and non-solar projects smaller than 10 aMW."]
[null,null,"N/A",null,null,null,2042,4.4922589999999998,7.2180400000000002,51.248084000000006,null,22,2043,7.410056,52.611397599999997,3.5398045082125447,56.151202108212544,72.231084216477328,{"$f":"$D$39*(1+$D$47)^($M30-$D$43)*(1000/(365*24))/VLOOKUP('Input - Capacity Factors'!$C$3,'Input - Capacity Factors'!$A:$B,2,FALSE)","v":10.079697932161327},82.310782148638651,{"$f":"-VLOOKUP($E$105,'Input - Transmission'!$A:$C,2)*(1+'Input - Transmission'!$C$11)^('AVOID NEW'!$M30-'Input - Transmission'!$C$10)*12*(1000/(365*24))*(1/VLOOKUP('Input - Capacity Factors'!$C$3,'Input - Capacity Factors'!$A:$D,2,FALSE))","v":-13.421670517328705},{"$f":"-VLOOKUP($E$105,'Input - Transmission'!$A:$C,3)*Q30","v":-2.246048084328502},null,22,2043,52.611397599999997,3.5398045082125447,{"$f":"IF(VLOOKUP($Y30,'Input - Load and Resource'!$B$13:$C$42,2,FALSE)>=0,0,0)","v":0},{"$f":"IF(VLOOKUP($Y30,'Input - Load and Resource'!$B$13:$C$42,2,FALSE)>=0,0,0)","v":0},56.151202108212544,{"$f":"VLOOKUP($Y30,'Input - Load and Resource'!$B$13:$L$42,11,FALSE)*R30","v":3.6115542109026988},{"$f":"VLOOKUP($Y30,'Input - Load and Resource'!$B$13:$L$42,11,FALSE)*S30","v":0.50398489661906731},4.1155391075217658,60.266741215734314,7.6553436157343109,null,22,2043,{"$f":"IF('Input - Capacity Factors'!$C$3=\"Fueled\",'AVOID NEW'!AI30,AH30)","v":60.266741215734314}]
[null,null,"N/A",null,null,null,2043,4.5084340000000003,7.410056,52.611397599999997,null,23,2044,7.6250650000000002,54.137961500000003,3.6106005983767955,57.748562098376802,73.242319395508005,{"$f":"$D$39*(1+$D$47)^($M31-$D$43)*(1000/(365*24))/VLOOKUP('Input - Capacity Factors'!$C$3,'Input - Capacity Factors'!$A:$B,2,FALSE)","v":10.281291890804551},83.523611286312558,{"$f":"-VLOOKUP($E$105,'Input - Transmission'!$A:$C,2)*(1+'Input - Transmission'!$C$11)^('AVOID NEW'!$M31-'Input - Transmission'!$C$10)*12*(1000/(365*24))*(1/VLOOKUP('Input - Capacity Factors'!$C$3,'Input - Capacity Factors'!$A:$D,2,FALSE))","v":-13.690103927675283},{"$f":"-VLOOKUP($E$105,'Input - Transmission'!$A:$C,3)*Q31","v":-2.309942483935072},null,23,2044,54.137961500000003,3.6106005983767955,{"$f":"IF(VLOOKUP($Y31,'Input - Load and Resource'!$B$13:$C$42,2,FALSE)>=0,0,0)","v":0},{"$f":"IF(VLOOKUP($Y31,'Input - Load and Resource'!$B$13:$C$42,2,FALSE)>=0,0,0)","v":0},57.748562098376802,{"$f":"VLOOKUP($Y31,'Input - Load and Resource'!$B$13:$L$42,11,FALSE)*R31","v":3.6621159698553365},{"$f":"VLOOKUP($Y31,'Input - Load and Resource'!$B$13:$L$42,11,FALSE)*S31","v":0.51406459455144848},4.1761805644067849,61.924742662783586,7.7867811627835808,null,23,2044,{"$f":"IF('Input - Capacity Factors'!$C$3=\"Fueled\",'AVOID NEW'!AI31,AH31)","v":61.924742662783586}]
[null," \"SAR\" PLANT LIFE (YEARS):","N/A",30,null,null,2044,4.5356880000000004,7.6250650000000002,54.137961500000003,null,24,2045,7.829186,55.587220600000002,3.6828126103443322,59.270033210344337,74.267711867045122,{"$f":"$D$39*(1+$D$47)^($M32-$D$43)*(1000/(365*24))/VLOOKUP('Input - Capacity Factors'!$C$3,'Input - Capacity Factors'!$A:$B,2,FALSE)","v":10.486917728620645},84.754629595665762,{"$f":"-VLOOKUP($E$105,'Input - Transmission'!$A:$C,2)*(1+'Input - Transmission'!$C$11)^('AVOID NEW'!$M32-'Input - Transmission'!$C$10)*12*(1000/(365*24))*(1/VLOOKUP('Input - Capacity Factors'!$C$3,'Input - Capacity Factors'!$A:$D,2,FALSE))","v":-13.96390600622879},{"$f":"-VLOOKUP($E$105,'Input - Transmission'!$A:$C,3)*Q32","v":-2.3708013284137737},null,24,2045,55.587220600000002,3.6828126103443322,{"$f":"IF(VLOOKUP($Y32,'Input - Load and Resource'!$B$13:$C$42,2,FALSE)>=0,0,0)","v":0},{"$f":"IF(VLOOKUP($Y32,'Input - Load and Resource'!$B$13:$C$42,2,FALSE)>=0,0,0)","v":0},59.270033210344337,{"$f":"VLOOKUP($Y32,'Input - Load and Resource'!$B$13:$L$42,11,FALSE)*R32","v":3.7133855934333115},{"$f":"VLOOKUP($Y32,'Input - Load and Resource'!$B$13:$L$42,11,FALSE)*S32","v":0.52434588644247759},4.237731479875789,63.507764690220128,7.9205440902201216,null,24,2045,{"$f":"IF('Input - Capacity Factors'!$C$3=\"Fueled\",'AVOID NEW'!AI32,AH32)","v":63.507764690220128}]
[null," \"SAR\" PLANT COST ($/kW):","N/A",1313,null,null,2045,4.5536640000000004,7.829186,55.587220600000002,null,25,2046,8.0437340000000006,57.1105114,3.7564688625512188,60.866980262551216,75.307459833183756,{"$f":"$D$39*(1+$D$47)^($M33-$D$43)*(1000/(365*24))/VLOOKUP('Input - Capacity Factors'!$C$3,'Input - Capacity Factors'!$A:$B,2,FALSE)","v":10.696656083193059},86.004115916376819,{"$f":"-VLOOKUP($E$105,'Input - Transmission'!$A:$C,2)*(1+'Input - Transmission'!$C$11)^('AVOID NEW'!$M33-'Input - Transmission'!$C$10)*12*(1000/(365*24))*(1/VLOOKUP('Input - Capacity Factors'!$C$3,'Input - Capacity Factors'!$A:$D,2,FALSE))","v":-14.243184126353361},{"$f":"-VLOOKUP($E$105,'Input - Transmission'!$A:$C,3)*Q33","v":-2.4346792105020487},null,25,2046,57.1105114,3.7564688625512188,{"$f":"IF(VLOOKUP($Y33,'Input - Load and Resource'!$B$13:$C$42,2,FALSE)>=0,0,0)","v":0},{"$f":"IF(VLOOKUP($Y33,'Input - Load and Resource'!$B$13:$C$42,2,FALSE)>=0,0,0)","v":0},60.866980262551216,{"$f":"VLOOKUP($Y33,'Input - Load and Resource'!$B$13:$L$42,11,FALSE)*R33","v":3.7653729917413781},{"$f":"VLOOKUP($Y33,'Input - Load and Resource'!$B$13:$L$42,11,FALSE)*S33","v":0.53483280417132717},4.3002057959127056,65.167186058463926,8.0566746584639244,null,25,2046,{"$f":"IF('Input - Capacity Factors'!$C$3=\"Fueled\",'AVOID NEW'!AI33,AH33)","v":65.167186058463926}]
[null,"BASE YEAR OF \"SAR\" COST:","N/A",2008,null,null,2046,4.5739210000000003,8.0437340000000006,57.1105114,null,26,2047,8.2619249999999997,58.659667499999998,3.8315982398022421,62.491265739802238,76.36176427084834,{"$f":"$D$39*(1+$D$47)^($M34-$D$43)*(1000/(365*24))/VLOOKUP('Input - Capacity Factors'!$C$3,'Input - Capacity Factors'!$A:$B,2,FALSE)","v":10.910589204856915},87.272353475705259,{"$f":"-VLOOKUP($E$105,'Input - Transmission'!$A:$C,2)*(1+'Input - Transmission'!$C$11)^('AVOID NEW'!$M34-'Input - Transmission'!$C$10)*12*(1000/(365*24))*(1/VLOOKUP('Input - Capacity Factors'!$C$3,'Input - Capacity Factors'!$A:$D,2,FALSE))","v":-14.528047808880432},{"$f":"-VLOOKUP($E$105,'Input - Transmission'!$A:$C,3)*Q34","v":-2.4996506295920895},null,26,2047,58.659667499999998,3.8315982398022421,{"$f":"IF(VLOOKUP($Y34,'Input - Load and Resource'!$B$13:$C$42,2,FALSE)>=0,0,0)","v":0},{"$f":"IF(VLOOKUP($Y34,'Input - Load and Resource'!$B$13:$C$42,2,FALSE)>=0,0,0)","v":0},62.491265739802238,{"$f":"VLOOKUP($Y34,'Input - Load and Resource'!$B$13:$L$42,11,FALSE)*R34","v":3.8180882136257579},{"$f":"VLOOKUP($Y34,'Input - Load and Resource'!$B$13:$L$42,11,FALSE)*S34","v":0.54552946025475346},4.363617673880511,66.854883413682742,8.1952159136827536,null,26,2047,{"$f":"IF('Input - Capacity Factors'!$C$3=\"Fueled\",'AVOID NEW'!AI34,AH34)","v":66.854883413682742}]
[null," \"SAR\" CAPACITY FACTOR (%):","N/A",0.9,null,null,2047,4.593343,8.2619249999999997,58.659667499999998,null,27,2048,8.5195559999999997,60.4888476,3.9082302045982877,64.397077804598283,77.430828970640221,{"$f":"$D$39*(1+$D$47)^($M35-$D$43)*(1000/(365*24))/VLOOKUP('Input - Capacity Factors'!$C$3,'Input - Capacity Factors'!$A:$B,2,FALSE)","v":11.128800988954058},88.559629959594275,{"$f":"-VLOOKUP($E$105,'Input - Transmission'!$A:$C,2)*(1+'Input - Transmission'!$C$11)^('AVOID NEW'!$M35-'Input - Transmission'!$C$10)*12*(1000/(365*24))*(1/VLOOKUP('Input - Capacity Factors'!$C$3,'Input - Capacity Factors'!$A:$D,2,FALSE))","v":-14.818608765058038},{"$f":"-VLOOKUP($E$105,'Input - Transmission'!$A:$C,3)*Q35","v":-2.5758831121839312},null,27,2048,60.4888476,3.9082302045982877,{"$f":"IF(VLOOKUP($Y35,'Input - Load and Resource'!$B$13:$C$42,2,FALSE)>=0,0,0)","v":0},{"$f":"IF(VLOOKUP($Y35,'Input - Load and Resource'!$B$13:$C$42,2,FALSE)>=0,0,0)","v":0},64.397077804598283,{"$f":"VLOOKUP($Y35,'Input - Load and Resource'!$B$13:$L$42,11,FALSE)*R35","v":3.8715414486165187},{"$f":"VLOOKUP($Y35,'Input - Load and Resource'!$B$13:$L$42,11,FALSE)*S35","v":0.55644004945984882},4.4279814980763677,68.825059302674646,8.3362117026746549]
[null,"HEAT RATE (BTU/kWh):",null,7100,null,null,2048,4.630776,8.5195559999999997,60.4888476,null,28,2049,8.7060510000000004,61.812962100000007,3.9863948086902532,65.799356908690257,78.514860576229182,{"$f":"$D$39*(1+$D$47)^($M36-$D$43)*(1000/(365*24))/VLOOKUP('Input - Capacity Factors'!$C$3,'Input - Capacity Factors'!$A:$B,2,FALSE)","v":11.351377008733138},89.86623758496232,{"$f":"-VLOOKUP($E$105,'Input - Transmission'!$A:$C,2)*(1+'Input - Transmission'!$C$11)^('AVOID NEW'!$M36-'Input - Transmission'!$C$10)*12*(1000/(365*24))*(1/VLOOKUP('Input - Capacity Factors'!$C$3,'Input - Capacity Factors'!$A:$D,2,FALSE))","v":-15.114980940359199},{"$f":"-VLOOKUP($E$105,'Input - Transmission'!$A:$C,3)*Q36","v":-2.6319742763476102},null,28,2049,61.812962100000007,3.9863948086902532,{"$f":"IF(VLOOKUP($Y36,'Input - Load and Resource'!$B$13:$C$42,2,FALSE)>=0,0,0)","v":0},{"$f":"IF(VLOOKUP($Y36,'Input - Load and Resource'!$B$13:$C$42,2,FALSE)>=0,0,0)","v":0},65.799356908690257,{"$f":"VLOOKUP($Y36,'Input - Load and Resource'!$B$13:$L$42,11,FALSE)*R36","v":3.9257430288971498},{"$f":"VLOOKUP($Y36,'Input - Load and Resource'!$B$13:$L$42,11,FALSE)*S36","v":0.5675688504490457},4.4933118793461952,70.292668788036451,8.4797066880364493]
[null,"UTILITY WEIGHTED COST OF CAPITAL (%):","N/A",{"$f":"HLOOKUP($D$27,$B$62:$G$65,3)","v":8.1801171000000006E-2},null,null,2049,4.6260490000000001,8.7060510000000004,61.812962100000007,null,29,2050,8.8637429999999995,62.932575299999996,4.0661227048640578,66.998698004864053,79.614068624296408,{"$f":"$D$39*(1+$D$47)^($M37-$D$43)*(1000/(365*24))/VLOOKUP('Input - Capacity Factors'!$C$3,'Input - Capacity Factors'!$A:$B,2,FALSE)","v":11.5784045489078},91.192473173204206,{"$f":"-VLOOKUP($E$105,'Input - Transmission'!$A:$C,2)*(1+'Input - Transmission'!$C$11)^('AVOID NEW'!$M37-'Input - Transmission'!$C$10)*12*(1000/(365*24))*(1/VLOOKUP('Input - Capacity Factors'!$C$3,'Input - Capacity Factors'!$A:$D,2,FALSE))","v":-15.417280559166384},{"$f":"-VLOOKUP($E$105,'Input - Transmission'!$A:$C,3)*Q37","v":-2.6799479201945622},null,29,2050,62.932575299999996,4.0661227048640578,{"$f":"IF(VLOOKUP($Y37,'Input - Load and Resource'!$B$13:$C$42,2,FALSE)>=0,0,0)","v":0},{"$f":"IF(VLOOKUP($Y37,'Input - Load and Resource'!$B$13:$C$42,2,FALSE)>=0,0,0)","v":0},66.998698004864053,{"$f":"VLOOKUP($Y37,'Input - Load and Resource'!$B$13:$L$42,11,FALSE)*R37","v":3.9807034313017109},{"$f":"VLOOKUP($Y37,'Input - Load and Resource'!$B$13:$L$42,11,FALSE)*S37","v":0.57892022745802663},4.5596236587597376,71.558321663623786,8.6257463636237954]
[null,"RATEPAYER DISCOUNT RATE (%):","ASSUMED",{"$f":"D37","v":8.1801171000000006E-2},null,null,2050,4.6044179999999999,8.8637429999999995,62.932575299999996,null,30,2051,0,0,4.1474451589613395,4.1474451589613395,80.728665585036566,{"$f":"$D$39*(1+$D$47)^($M38-$D$43)*(1000/(365*24))/VLOOKUP('Input - Capacity Factors'!$C$3,'Input - Capacity Factors'!$A:$B,2,FALSE)","v":11.809972639885954},92.538638224922522,{"$f":"-VLOOKUP($E$105,'Input - Transmission'!$A:$C,2)*(1+'Input - Transmission'!$C$11)^('AVOID NEW'!$M38-'Input - Transmission'!$C$10)*12*(1000/(365*24))*(1/VLOOKUP('Input - Capacity Factors'!$C$3,'Input - Capacity Factors'!$A:$D,2,FALSE))","v":-15.725626170349706},{"$f":"-VLOOKUP($E$105,'Input - Transmission'!$A:$C,3)*Q38","v":-0.16589780635845358},null,30,2051,0,4.1474451589613395,{"$f":"IF(VLOOKUP($Y38,'Input - Load and Resource'!$B$13:$C$42,2,FALSE)>=0,0,0)","v":0},{"$f":"IF(VLOOKUP($Y38,'Input - Load and Resource'!$B$13:$C$42,2,FALSE)>=0,0,0)","v":0},4.1474451589613395,{"$f":"VLOOKUP($Y38,'Input - Load and Resource'!$B$13:$L$42,11,FALSE)*R38","v":4.0364332793399349},{"$f":"VLOOKUP($Y38,'Input - Load and Resource'!$B$13:$L$42,11,FALSE)*S38","v":0.590498632007187},4.6269319113471221,8.7743770703084607,8.7743770703084607]
[null," \"SAR\" FIXED O&M ($/kW):","N/A",14.57,null,null,2051,null,null,0]
[null," \"SAR\" VARIABLE O&M ($/MWh):","N/A",1.77,null,null,2052,null,null,0,null,null,"Calculation of Level Carrying Cost",null,null,null,null,"capital cost"]
[null,"CURRENT YEAR GAS PRICE ($/MMBTU):",null,{"$f":"VLOOKUP(D54,$G$10:$J$40,3)","v":4.3780970000000003},null,null,null,null,null,null,null,null,{"$f":"D34-1","v":2007},null,null,null,null,{"$f":"$D$33*(1+$D$45)^($M41-D$34)*$D$50*(1000/(365*24))/VLOOKUP('Input - Capacity Factors'!$C$3,'Input - Capacity Factors'!A:B,2,FALSE)","v":49.975482736405574}]
[null," CURRENT YEAR FUEL COST ($/MWh):",null,{"$f":"D41*D36/1000","v":31.084488700000001},null,null,null,null,null,null,null,null,"Calculated for year prior to SAR cost base year"]
[null,"BASE YEAR, O&M EXPENSES:",null,2008]
[null,"BASE YEAR FUEL COST:",null,2019,null,null,"General inflation rate:",0.02,"per year",null,null,null,null,"Gas prices were extrapolated using exponential growth."]
[null,"ESCALATION RATE; \"SAR\" (%):","N/A",1.4E-2,null,null,"Note:  The Annual Energy Outlook includes both a real and nominal forecast so no need to use general inflation rate."]
[null,null,"N/A"]
[null,"ESCALATION RATE; O&M (%):","N/A",0.02]
[null,null,"N/A"]
[null,"ADJUSTABLE PORTION ($/MWh):","CALC",{"$f":"IF(D53=\"FUELED\",D42,0)","v":0}]
[null,"CAPITAL CARRYING CHARGE (%):","N/A",{"$f":"HLOOKUP($D$27,$B$62:$G$65,4)","v":0.11157021572834948}]
[null,"LEVEL CARRYING COST ($/MWh):","CALC",{"$f":"R41","v":49.975482736405574}]
[null," \"TILTING\" RATE (%):","N/A",1.4E-2]
[null,"TYPE OF RATES:","N/A",{"$f":"IF('Input - Capacity Factors'!C3=\"Fueled\", \"Fueled\", \"Non-fueled\")","v":"Non-fueled"}]
[null,"CURRENT YEAR:","N/A",{"$f":"D13","v":2022}]
[]
[]
[]
[]
[]
[]
[]
[null,"UTILITY-SPECIFIC VARIABLES",null,"IPCO","AVISTA","PCP"]
[null,"FIRST DEFICIT YEAR:",null,2002,2002,2002]
[null,"UTILITY WEIGHTED COST OF CAPITAL (%):",null,8.1801171000000006E-2,7.0499999999999993E-2,7.9799999999999996E-2]
[null,"CAPITAL CARRYING CHARGE (%):",null,0.11157021572834948,9.9999592158002151E-2,0.10917050703697846]
[null,"HLH LLH PRICE DIFFERENTIAL:",null,7.28,5,"Monthly"]
[null,"WIND INTEGRATION ADJUSTMENT:",null,"NA",0.08,"NA"]
[null,"SOLAR INTEGRATION ADJUSTMENT:",null,"NA","NA","NA"]
[null,"Rate Effective Date",null,null,"XXXX, 2022"]
[]
[null,"SEASONALIZATION FACTORS","FACTOR","SEASON","FACTOR","Tiber, United Materials Contracts",null,"New Contracts"]
[null,"Idaho Power",0.73499999999999999,"Mar-May",0.73499999999999999,"Mar-May",null,"Mar-May"]
[null,null,1.2,"Jun-Sep",1.2,"Jun, Jul, Nov, Dec",null,"Jul, Aug, Nov, Dec"]
[null,null,1,"Oct-Feb",1,"Jan, Feb, Aug, Sep, Oct",null,"Jan, Feb, Jun, Sep, Oct"]
[null,"Avista",1.08,"Jul-Feb",1.08,null,null,"July - Feb"]
[null,null,0.84,"Mar-Jun",0.84,null,null,"Mar - June"]
[]
[null,"PacifiCorp",null,"Monthly","See PacifiCorp spreadsheets"]
[]
[]
[]
[]
[null,"Light Load Hours (LLH) are defined as:",null,null,null,null," Integration Charges"]
[null,"Monday through Saturday Hour ending 2300 through 0600 (Pacific Prevailing Time (PPT))",null,null,null,null,"Tier","Avista","Integration Charge"]
[null,"All Sunday Hours (PPT)",null,null,null,null,1,"0 - 199 MW",7.0000000000000007E-2]
[null,"All NERC Holidays (PPT)",null,null,null,null,2,"200 - 299 MW",0.08]
[null,null,"NERC Holidays being:","NERC Holidays being:",null,null,3,"300 and above",0.09]
[null,null,null,"New Years Day"]
[null,null,null,"Memorial Day",null,null,null,"Idaho Power","Integration Charge"]
[null,null,null,"Independence Day",null,null,1,"0 - 300 MW","Sch 87"]
[null,null,null,"Labor Day",null,null,2,"301 - 500 MW","Sch 87"]
[null,null,null,"Thanksgiving Day",null,null,3,"501 and above","Sch 87"]
[null,null,null,"Christmas Day"]
[null,"Heavy Load Hours (HLH) are defined as:",null,null,null,null,null,"PacifiCorp","Integration Charge"]
[null,"Monday through Saturday Hour ending 0700 through 2200 (PST)",null,null,null,null,"Wind","All new capacity","NA"]
[null,"Less all NERC Holidays",null,null,null,null,"Solar","All new capacity","NA"]
[]
[]
[]
[]
[null,null,null,"Drop down box  (don't change)"]
[null,null,null,"AVISTA",1]
[null,null,null,"IPCO",2]
[null,null,null,"PCP",3]
[null,null,null,{"$f":"VLOOKUP(E105,D102:E104,2,FALSE)","v":2},"IPCO"]
[null,null,null,null,"Wind"]
[]
[]
[]
[null,null,null,"New contract","New contract"]
[null,null,null,"Replacement contract"]

{"sheet":"Single rate sheets for printing","index":2,"n_rows":64,"n_cols":17,"rows_kept":64,"cut":false,"hidden":false,"merged":[[17,11,22,13],[63,1,63,9],[4,1,4,9],[7,1,7,9],[6,1,6,9],[41,8,41,9],[42,8,42,9],[60,1,61,9],[56,1,58,9]]}
[]
[]
[null,{"$f":"O3","v":"IDAHO POWER COMPANY"},null,null,null,null,null,null,null,null,null,null,"Company",{"$f":"'AVOID NEW'!E105","v":"IPCO"},{"$f":"VLOOKUP(N3,P:Q,2,FALSE)","v":"IDAHO POWER COMPANY"},"AVISTA","AVISTA"]
[null,{"$f":"\"AVOIDED COST RATES FOR \"&UPPER(N4)&\" PROJECTS\"","v":"AVOIDED COST RATES FOR WIND PROJECTS"},null,null,null,null,null,null,null,null,null,null,"Type of project",{"$f":"'Input - Load and Resource'!D2","v":"Wind"},null,"IPCO","IDAHO POWER COMPANY"]
[null,{"$f":"'AVOID NEW'!$E$69","v":"XXXX, 2022"},null,null,null,null,null,null,null,null,null,null,null,null,"Eligibility for these rates is limited to projects 100 kW or smaller.","PCP","PACIFICORP"]
[null,"$/MWh",null,null,null,null,null,null,null,null,null,null,null,null,"Eligibility for these rates is limited to projects smaller than 10 aMW."]
[null,{"$f":"IF('AVOID NEW'!$E$110=\"New contract\", \"New Contracts and Replacement Contracts without Full Capacity Payments\",\"Replacement Contracts with Full Capacity Payments\")","v":"New Contracts and Replacement Contracts without Full Capacity Payments"},null,null,null,null,null,null,null,null,null,null,null,null,"Note:  These rates will be further adjusted with the applicable integration charge."]
[null,{"$f":"IF(N4=\"Wind\",O5,IF(N4=\"Solar\",O5,O6))","v":"Eligibility for these rates is limited to projects 100 kW or smaller."},null,null,null,null,null,null,null,null,null,null,null,null,"Note:  \"Other projects\" refers to projects other than wind, solar, non-seasonal hydro, and seasonal hydro projects.  These \"Other projects\" may include (but are not limited to):  cogeneration, biomass, biogas, landfill gas, or geothermal projects."]
[null,null,null,null,null,null,null,null,null,null,null,null,null,null,{"$f":"\" \"","v":" "}]
[null,"LEVELIZED",null,null,null,null,null,null,"NON-LEVELIZED",null,null,null,null,null,"Note:  A \"seasonal hydro project\" is defined as a generation facility which produces at least 55% of its annual generation during the months of June, July, and August.  Order 32802"]
[null,"CONTRACT","ON-LINE YEAR",null,null,null,null,null,null,null,null,null,"Rates calculated using extrapolated gas prices"]
[null,"LENGTH",null,null,null,null,null,null,"CONTRACT","NON-LEVELIZED",null,"Levelized",2017,20,{"$f":"H34","v":47.964233398399564}]
[null,"(YEARS)",{"$f":"'AVOID NEW'!$AN$8","v":2022},{"$f":"'AVOID NEW'!$AO$8","v":2023},{"$f":"'AVOID NEW'!$AP$8","v":2024},{"$f":"'AVOID NEW'!$AQ$8","v":2025},{"$f":"'AVOID NEW'!$AR$8","v":2026},{"$f":"'AVOID NEW'!$AS$8","v":2027},"YEAR","RATES",null,"Non-levelized",2036,{"$f":"J39","v":65.167186058463926}]
[null,null,null,null,null,null,null,null,null,null,null,null,2037,{"$f":"J40","v":66.854883413682742}]
[null,1,{"$f":"'AVOID NEW'!$AN$9","v":33.419966110621289},{"$f":"'AVOID NEW'!$AO$9","v":35.542378761947646},{"$f":"'AVOID NEW'!$AP$9","v":33.693158683494346},{"$f":"'AVOID NEW'!$AQ$9","v":33.212000779264272},{"$f":"'AVOID NEW'!$AR$9","v":34.469802824546996},{"$f":"'AVOID NEW'!$AS$9","v":36.483216235111144},{"$f":"'AVOID NEW'!$AL$9","v":2022},{"$f":"'AVOID NEW'!$AM$9","v":33.419966110621289}]
[null,2,{"$f":"'AVOID NEW'!$AN$10","v":34.439473967995994},{"$f":"'AVOID NEW'!$AO$10","v":34.654099850294891},{"$f":"'AVOID NEW'!$AP$10","v":33.462032910806386},{"$f":"'AVOID NEW'!$AQ$10","v":33.816190104740791},{"$f":"'AVOID NEW'!$AR$10","v":35.436952540192983},{"$f":"'AVOID NEW'!$AS$10","v":37.677824383533817},{"$f":"'AVOID NEW'!$AL$10","v":2023},{"$f":"'AVOID NEW'!$AM$10","v":35.542378761947646}]
[null,3,{"$f":"'AVOID NEW'!$AN$11","v":34.20998642313014},{"$f":"'AVOID NEW'!$AO$11","v":34.210662897928117},{"$f":"'AVOID NEW'!$AP$11","v":33.77191621092993},{"$f":"'AVOID NEW'!$AQ$11","v":34.636284897735003},{"$f":"'AVOID NEW'!$AR$11","v":36.523390789199958},{"$f":"'AVOID NEW'!$AS$11","v":38.747551883676714},{"$f":"'AVOID NEW'!$AL$11","v":2024},{"$f":"'AVOID NEW'!$AM$11","v":33.693158683494339}]
[null,4,{"$f":"'AVOID NEW'!$AN$12","v":33.989101272331553},{"$f":"'AVOID NEW'!$AO$12","v":34.268018594496468},{"$f":"'AVOID NEW'!$AP$12","v":34.372010930110029},{"$f":"'AVOID NEW'!$AQ$12","v":35.595504189224606},{"$f":"'AVOID NEW'!$AR$12","v":37.548881229324905},{"$f":"'AVOID NEW'!$AS$12","v":39.662245062641404},{"$f":"'AVOID NEW'!$AL$12","v":2025},{"$f":"'AVOID NEW'!$AM$12","v":33.212000779264265},null,"The company, contract type, and resource type are all tied to those selected in AVOID NEW."]
[null,5,{"$f":"'AVOID NEW'!$AN$13","v":34.070746214974278},{"$f":"'AVOID NEW'!$AO$13","v":34.644259701846224},{"$f":"'AVOID NEW'!$AP$13","v":35.152984142736543},{"$f":"'AVOID NEW'!$AQ$13","v":36.540044226481257},{"$f":"'AVOID NEW'!$AR$13","v":38.454388880014868},{"$f":"'AVOID NEW'!$AS$13","v":40.460873096865207},{"$f":"'AVOID NEW'!$AL$13","v":2026},{"$f":"'AVOID NEW'!$AM$13","v":34.469802824546996}]
[null,6,{"$f":"'AVOID NEW'!$AN$14","v":34.398112521361604},{"$f":"'AVOID NEW'!$AO$14","v":35.231272870458135},{"$f":"'AVOID NEW'!$AP$14","v":35.967671019113965},{"$f":"'AVOID NEW'!$AQ$14","v":37.400394103553779},{"$f":"'AVOID NEW'!$AR$14","v":39.256353963394233},{"$f":"'AVOID NEW'!$AS$14","v":41.221748251647782},{"$f":"'AVOID NEW'!$AL$14","v":2027},{"$f":"'AVOID NEW'!$AM$14","v":36.483216235111144}]
[null,7,{"$f":"'AVOID NEW'!$AN$15","v":34.907693947113799},{"$f":"'AVOID NEW'!$AO$15","v":35.891695147035314},{"$f":"'AVOID NEW'!$AP$15","v":36.738119069635822},{"$f":"'AVOID NEW'!$AQ$15","v":38.176567071962431},{"$f":"'AVOID NEW'!$AR$15","v":40.015554314637519},{"$f":"'AVOID NEW'!$AS$15","v":41.944580862083015},{"$f":"'AVOID NEW'!$AL$15","v":2028},{"$f":"'AVOID NEW'!$AM$15","v":38.97015287738359}]
[null,8,{"$f":"'AVOID NEW'!$AN$16","v":35.491379593873297},{"$f":"'AVOID NEW'!$AO$16","v":36.544459717959974},{"$f":"'AVOID NEW'!$AP$16","v":37.450444555036114},{"$f":"'AVOID NEW'!$AQ$16","v":38.913666422859656},{"$f":"'AVOID NEW'!$AR$16","v":40.733982992827599},{"$f":"'AVOID NEW'!$AS$16","v":42.592507930174762},{"$f":"'AVOID NEW'!$AL$16","v":2029},{"$f":"'AVOID NEW'!$AM$16","v":41.156679778823481}]
[null,9,{"$f":"'AVOID NEW'!$AN$17","v":36.07864341903943},{"$f":"'AVOID NEW'!$AO$17","v":37.16597985210128},{"$f":"'AVOID NEW'!$AP$17","v":38.135365072546293},{"$f":"'AVOID NEW'!$AQ$17","v":39.612565459106783},{"$f":"'AVOID NEW'!$AR$17","v":41.381531399245226},{"$f":"'AVOID NEW'!$AS$17","v":43.156697876165971},{"$f":"'AVOID NEW'!$AL$17","v":2030},{"$f":"'AVOID NEW'!$AM$17","v":42.88024553849467}]
[null,10,{"$f":"'AVOID NEW'!$AN$18","v":36.645726804555231},{"$f":"'AVOID NEW'!$AO$18","v":37.775246524288875},{"$f":"'AVOID NEW'!$AP$18","v":38.790467723432059},{"$f":"'AVOID NEW'!$AQ$18","v":40.246932464115147},{"$f":"'AVOID NEW'!$AR$18","v":41.950246449073255},{"$f":"'AVOID NEW'!$AS$18","v":43.682697644222763},{"$f":"'AVOID NEW'!$AL$18","v":2031},{"$f":"'AVOID NEW'!$AM$18","v":44.364333437840592}]
[null,11,{"$f":"'AVOID NEW'!$AN$19","v":37.206368133146107},{"$f":"'AVOID NEW'!$AO$19","v":38.366208560486044},{"$f":"'AVOID NEW'!$AP$19","v":39.390891077541461},{"$f":"'AVOID NEW'!$AQ$19","v":40.808873525655663},{"$f":"'AVOID NEW'!$AR$19","v":42.479326957380771},{"$f":"'AVOID NEW'!$AS$19","v":44.171483464678047},{"$f":"'AVOID NEW'!$AL$19","v":2032},{"$f":"'AVOID NEW'!$AM$19","v":46.068012451665496}]
[null,12,{"$f":"'AVOID NEW'!$AN$20","v":37.753822522231943},{"$f":"'AVOID NEW'!$AO$20","v":38.91441317860972},{"$f":"'AVOID NEW'!$AP$20","v":39.927888724424136},{"$f":"'AVOID NEW'!$AQ$20","v":41.331954740804449},{"$f":"'AVOID NEW'!$AR$20","v":42.970334545708496},{"$f":"'AVOID NEW'!$AS$20","v":44.643035352674055},{"$f":"'AVOID NEW'!$AL$20","v":2033},{"$f":"'AVOID NEW'!$AM$20","v":47.707109959406715}]
[null,13,{"$f":"'AVOID NEW'!$AN$21","v":38.265430990083907},{"$f":"'AVOID NEW'!$AO$21","v":39.409889766925467},{"$f":"'AVOID NEW'!$AP$21","v":40.429690596363365},{"$f":"'AVOID NEW'!$AQ$21","v":41.817719054877912},{"$f":"'AVOID NEW'!$AR$21","v":43.441413673769972},{"$f":"'AVOID NEW'!$AS$21","v":45.097020875282681},{"$f":"'AVOID NEW'!$AL$21","v":2034},{"$f":"'AVOID NEW'!$AM$21","v":48.881340556218255}]
[null,14,{"$f":"'AVOID NEW'!$AN$22","v":38.731227218796441},{"$f":"'AVOID NEW'!$AO$22","v":39.875954740388856},{"$f":"'AVOID NEW'!$AP$22","v":40.897200670930218},{"$f":"'AVOID NEW'!$AQ$22","v":42.282414023825801},{"$f":"'AVOID NEW'!$AR$22","v":43.892949622347061},{"$f":"'AVOID NEW'!$AS$22","v":45.547235923900672},{"$f":"'AVOID NEW'!$AL$22","v":2035},{"$f":"'AVOID NEW'!$AM$22","v":49.691061765076739}]
[null,15,{"$f":"'AVOID NEW'!$AN$23","v":39.171050990670153},{"$f":"'AVOID NEW'!$AO$23","v":40.312528940668287},{"$f":"'AVOID NEW'!$AP$23","v":41.344587357159419},{"$f":"'AVOID NEW'!$AQ$23","v":42.726739252129356},{"$f":"'AVOID NEW'!$AR$23","v":44.337735012918813},{"$f":"'AVOID NEW'!$AS$23","v":45.985281812166988},{"$f":"'AVOID NEW'!$AL$23","v":2036},{"$f":"'AVOID NEW'!$AM$23","v":50.842112648308685}]
[null,16,{"$f":"'AVOID NEW'!$AN$24","v":39.584400873632426},{"$f":"'AVOID NEW'!$AO$24","v":40.7316439523415},{"$f":"'AVOID NEW'!$AP$24","v":41.772434776415473},{"$f":"'AVOID NEW'!$AQ$24","v":43.162416113163438},{"$f":"'AVOID NEW'!$AR$24","v":44.768790404980095},{"$f":"'AVOID NEW'!$AS$24","v":46.400667616847791},{"$f":"'AVOID NEW'!$AL$24","v":2037},{"$f":"'AVOID NEW'!$AM$24","v":51.897360719744292}]
[null,17,{"$f":"'AVOID NEW'!$AN$25","v":39.981755334729435},{"$f":"'AVOID NEW'!$AO$25","v":41.133477728051339},{"$f":"'AVOID NEW'!$AP$25","v":42.191245265997566},{"$f":"'AVOID NEW'!$AQ$25","v":43.583521416922132},{"$f":"'AVOID NEW'!$AR$25","v":45.177033329384429},{"$f":"'AVOID NEW'!$AS$25","v":46.804846909469774},{"$f":"'AVOID NEW'!$AL$25","v":2038},{"$f":"'AVOID NEW'!$AM$25","v":53.216336757023186}]
[null,18,{"$f":"'AVOID NEW'!$AN$26","v":40.363133557953255},{"$f":"'AVOID NEW'!$AO$26","v":41.527226618825061},{"$f":"'AVOID NEW'!$AP$26","v":42.595776321078255},{"$f":"'AVOID NEW'!$AQ$26","v":43.982092098053307},{"$f":"'AVOID NEW'!$AR$26","v":45.572952829314225},{"$f":"'AVOID NEW'!$AS$26","v":47.20155847013941},{"$f":"'AVOID NEW'!$AL$26","v":2039},{"$f":"'AVOID NEW'!$AM$26","v":54.51725051413603}]
[null,19,{"$f":"'AVOID NEW'!$AN$27","v":40.736731423491676},{"$f":"'AVOID NEW'!$AO$27","v":41.908037611359106},{"$f":"'AVOID NEW'!$AP$27","v":42.978873758013059},{"$f":"'AVOID NEW'!$AQ$27","v":44.367703140418286},{"$f":"'AVOID NEW'!$AR$27","v":45.960153724872434},{"$f":"'AVOID NEW'!$AS$27","v":47.58767997218127},{"$f":"'AVOID NEW'!$AL$27","v":2040},{"$f":"'AVOID NEW'!$AM$27","v":56.140457034206747}]
[null,20,{"$f":"'AVOID NEW'!$AN$28","v":41.09813936084393},{"$f":"'AVOID NEW'!$AO$28","v":42.269312783325852},{"$f":"'AVOID NEW'!$AP$28","v":43.349180278074648},{"$f":"'AVOID NEW'!$AQ$28","v":44.743775332318798},{"$f":"'AVOID NEW'!$AR$28","v":46.336023956863954},{"$f":"'AVOID NEW'!$AS$28","v":47.964233398399564},{"$f":"'AVOID NEW'!$AL$28","v":2041},{"$f":"'AVOID NEW'!$AM$28","v":57.609165962519896}]
[null,null,null,null,null,null,null,null,{"$f":"'AVOID NEW'!$AL$29","v":2042},{"$f":"'AVOID NEW'!$AM$29","v":58.77427395979813}]
[null,null,null,null,null,null,null,null,{"$f":"'AVOID NEW'!$AL$30","v":2043},{"$f":"'AVOID NEW'!$AM$30","v":60.266741215734314}]
[null,null,null,null,null,null,null,null,{"$f":"'AVOID NEW'!$AL$31","v":2044},{"$f":"'AVOID NEW'!$AM$31","v":61.924742662783586}]
[null,null,null,null,null,null,null,null,{"$f":"'AVOID NEW'!$AL$32","v":2045},{"$f":"'AVOID NEW'!$AM$32","v":63.507764690220128}]
[null,null,null,null,null,null,null,null,{"$f":"'AVOID NEW'!$AL$33","v":2046},{"$f":"'AVOID NEW'!$AM$33","v":65.167186058463926}]
[null,null,null,null,null,null,null,null,{"$f":"'AVOID NEW'!$AL$34","v":2047},{"$f":"'AVOID NEW'!$AM$34","v":66.854883413682742}]
[]
[null,null,null,null,null,null,null,null,{"$f":"IF(N4=\"Fueled\", \"ADJUSTABLE COMPONENT\",\"\")","v":""}]
[null,null,null,null,null,null,null,null,{"$f":"IF(N4=\"Fueled\",'AVOID NEW'!D42,\"\")","v":""}]
[]
[null,{"$f":"IF(N4=\"Fueled\", \"The total avoided cost rate in each year is the sum of  the adjustable component and the fixed component from either of the tables above.\", \"\")","v":""}]
[]
[null,{"$f":"IF($N$4=\"Fueled\", \"Example 1.  A 20-year levelized contract with a \"&C14&\" on-line date would receive the following rates:\", \"\")","v":""}]
[null,null,{"$f":"IF($N$4=\"Fueled\", \"Year\",\"\")","v":""},null,{"$f":"IF($N$4=\"Fueled\", \"Rate\", \"\")","v":""}]
[null,null,{"$f":"IF($N$4=\"Fueled\", \"1\", \"\")","v":""},null,{"$f":"IF($N$4=\"Fueled\", TEXT($C$34,\"$0.00\")&\" + \"&TEXT($I$43,\"$0.00\"),\"\")","v":""}]
[null,null,{"$f":"IF($N$4=\"Fueled\", \"2-20\", \"\")","v":""},null,{"$f":"IF($N$4=\"Fueled\", TEXT($C$34,\"$0.00\")&\" + Adjustable component in each year\",\"\")","v":""}]
[]
[null,{"$f":"IF($N$4=\"Fueled\", \"Example 2.  A 3-year non-levelized contract with a \"&$I$15&\" on-line date would receive the following rates:\",\"\")","v":""}]
[null,null,{"$f":"IF($N$4=\"Fueled\", \"Year\",\"\")","v":""},null,{"$f":"IF($N$4=\"Fueled\", \"Rate\", \"\")","v":""}]
[null,null,{"$f":"IF($N$4=\"Fueled\", \"1\", \"\")","v":""},null,{"$f":"IF($N$4=\"Fueled\",TEXT($J$15,\"$0.00\")&\" + \"&TEXT($I$43,\"$0.00\"),\"\")","v":""}]
[null,null,{"$f":"IF($N$4=\"Fueled\", \"2\", \"\")","v":""},null,{"$f":"IF($N$4=\"Fueled\", TEXT($J$16,\"$0.00\")&\" + Adjustable component in year \"&$I$16,\"\")","v":""}]
[null,null,{"$f":"IF($N$4=\"Fueled\", \"3\", \"\")","v":""},null,{"$f":"IF($N$4=\"Fueled\", TEXT($J$17,\"$0.00\")&\" + Adjustable component in year \"&$I$17,\"\")","v":""}]
[null,{"$f":"IF($N$4=\"Seasonal Hydro\",$O$10,$O$9)","v":" "}]
[]
[]
[]
[null,{"$f":"IF($N$4=\"Other\",$O$8,IF($N$4=\"Wind\",$O$7,IF($N$4=\"Solar\",$O$7,$O$9)))","v":"Note:  These rates will be further adjusted with the applicable integration charge."}]
[]
[]
[null,"Note:  The rates shown in this table have been computed using the U.S. Energy Information Administration (EIA)'s Annual Energy Outlook 2022, released March 3, 2022.  See Annual Energy Outlook 2022, Table 3.8 Energy Prices by Sector-Mountain at https://www.eia.gov/outlooks/aeo/tables_ref.php"]

{"sheet":"All rate sheets for printing","index":3,"n_rows":315,"n_cols":17,"rows_kept":315,"cut":false,"hidden":false,"merged":[[258,1,258,9],[259,1,259,9],[296,1,300,9],[193,1,193,9],[195,1,195,9],[196,1,196,9],[233,1,237,9],[244,1,248,9],[307,1,311,9],[313,1,313,9],[188,1,188,9],[67,1,67,9],[69,1,69,9],[70,1,70,9],[107,1,111,9],[118,1,122,9],[130,1,130,9],[132,1,132,9],[133,1,133,9],[170,1,174,9],[181,1,185,9],[125,1,125,9],[251,1,251,9],[256,1,256,9],[13,11,17,13],[0,11,1,13],[62,1,62,9],[4,1,4,9],[6,1,6,9],[7,1,7,9],[44,1,48,9],[55,1,59,9]]}
[null,null,null,null,null,null,null,null,null,null,null,"The company and contract type are tied to those selected in AVOID NEW."]
[]
[null,{"$f":"$N$3","v":"IDAHO POWER COMPANY"},null,null,null,null,null,null,null,null,null,"Company",{"$f":"'AVOID NEW'!E105","v":"IPCO"},{"$f":"VLOOKUP(M3,P:Q,2,FALSE)","v":"IDAHO POWER COMPANY"},null,"AVISTA","AVISTA"]
[null,{"$f":"\"AVOIDED COST RATES FOR WIND PROJECTS\"","v":"AVOIDED COST RATES FOR WIND PROJECTS"},null,null,null,null,null,null,null,null,null,null,null,null,null,"IPCO","IDAHO POWER COMPANY"]
[null,{"$f":"'AVOID NEW'!$E$69","v":"XXXX, 2022"},null,null,null,null,null,null,null,null,null,"Type of contract",{"$f":"'AVOID NEW'!E110","v":"New contract"},null,null,"PCP","PACIFICORP"]
[null,"$/MWh"]
[null,{"$f":"IF('AVOID NEW'!$E$110=\"New contract\", \"New Contracts and Replacement Contracts without Full Capacity Payments\",\"Replacement Contracts with Full Capacity Payments\")","v":"New Contracts and Replacement Contracts without Full Capacity Payments"}]
[null,"Eligibility for these rates is limited to projects 100 kW or smaller."]
[]
[null,"LEVELIZED",null,null,null,null,null,null,"NON-LEVELIZED"]
[null,"CONTRACT","ON-LINE YEAR"]
[null,"LENGTH",null,null,null,null,null,null,"CONTRACT","NON-LEVELIZED"]
[null,"(YEARS)",{"$f":"'AVOID NEW'!$AN$8","v":2022},{"$f":"'AVOID NEW'!$AO$8","v":2023},{"$f":"'AVOID NEW'!$AP$8","v":2024},{"$f":"'AVOID NEW'!$AQ$8","v":2025},{"$f":"'AVOID NEW'!$AR$8","v":2026},{"$f":"'AVOID NEW'!$AS$8","v":2027},"YEAR","RATES"]
[null,null,null,null,null,null,null,null,null,null,null,"Note:  You must select the box below to retrieve the rates for the selected utility and contract type."]
[null,1,28.775720076375709,29.074526035903229,30.483136310621294,32.843295658833711,35.760049398010395,38.622021011970595,2020,28.775720076375702]
[null,2,28.919827122205234,29.753865449801498,31.62138533314959,34.249976989519354,37.14031060561117,40.982425322665065,2021,29.074526035903219]
[null,3,29.404438578865477,30.711560373456489,32.904333092915337,35.605270387653547,39.116814619204391,42.075770672250208,2022,30.483136310621287]
[null,4,30.174963429066256,31.842746159584188,34.185462411428787,37.377853450875833,40.325111414620309,43.062470701868563,2023,32.843295658833703]
[null,5,31.139399670478923,33.013395706340404,35.79672079585162,38.609342229357971,41.387841192143902,43.813146656708071,2024,35.760049398010388]
[null,6,32.176250850683836,34.468763855914887,37.004025523951448,39.699882282180425,42.22227242967881,44.506776038895651,2025,38.622021011970588]
[null,7,33.472687750694384,35.61665081329317,38.087286141052459,40.581291784767416,42.976416227296482,45.124998085330731,2026,43.516319350195573]
[null,8,34.534934675945046,36.662151400954158,38.984529859539045,41.374125477377326,43.644173836395808,45.828040639307524,2027,44.50945054591881]
[null,9,35.517721933006754,37.546452237802249,39.793693413170153,42.076818113967981,44.367036874059785,46.523045921100298,2028,46.479418889142565]
[null,10,36.364305513952409,38.348930494384,40.514185404527829,42.813830975926741,45.072375572901173,47.202973075671295,2029,47.409662939747086]
[null,11,37.138869068331644,39.068203343681091,41.255221343483285,43.526610125994452,45.756578403560916,47.861527100226347,2030,48.818846719871196]
[null,12,37.838467735462338,39.799884048918422,41.968188918103309,44.213712294598544,46.415654645932186,48.514486931965259,2031,49.91442862455186]
[null,13,38.546656801468316,40.502436985924611,42.652820059217952,44.872748522876506,47.06456214100028,49.13175169475894,2032,52.429621632590724]
[null,14,39.227008673249948,41.176009391003127,43.307696772631303,45.517820111380999,47.677410481486987,49.722882135618562,2033,54.274914117584039]
[null,15,39.879561910464417,41.819621948446184,43.945947275220711,46.12650708722785,48.263071088911559,50.294907577503004,2034,56.073967759209999]
[null,16,40.503377833086994,42.445290425356461,44.547953757784384,46.707080491231693,48.828212892586528,50.874909237275396,2035,57.79214705471032]
[null,17,41.109253438664851,43.035611290570387,45.12138401782849,47.265878444006688,49.39761249141069,51.422511042017319,2036,59.78540233059708]
[null,18,41.681512525102043,43.597597457567673,45.672213382847637,47.825638368364729,49.935226205283513,51.947479699073682,2037,61.232284454584658]
[null,19,42.226456107205081,44.136795509895585,46.221319220488454,48.354086911856271,50.450013860497464,52.478468593467859,2038,62.797403347751242]
[null,20,42.749133875755312,44.672342577950388,46.739692618808533,48.859489326111387,50.968189641879171,53.022742812234696,2039,64.490856096934223]
[null,null,null,null,null,null,null,null,2040,66.94938646736405]
[null,null,null,null,null,null,null,null,2041,68.302366815541347]
[null,null,null,null,null,null,null,null,2042,69.882612102361819]
[null,null,null,null,null,null,null,null,2043,72.522643606493816]
[null,null,null,null,null,null,null,null,2044,75.662808238013639]
[null,null,null,null,null,null,null,null,2045,78.530283252303335]
[]
[]
[]
[]
[]
[]
[]
[]
[]
[]
[]
[]
[]
[]
[]
[null,"Note:  These rates will be further adjusted with the applicable integration charge."]
[]
[]
[]
[]
[]
[]
[null,"Note:  The rates shown in this table have been computed using the U.S. Energy Information Administration (EIA)'s Annual Energy Outlook 2022, released March 3, 2022.  See Annual Energy Outlook 2022, Table 3.8 Energy Prices by Sector-Mountain at https://www.eia.gov/outlooks/aeo/tables_ref.php"]
[null,null,null,null,null,null,null,null,null,{"$f":"$B$3&\" Page 1\"","v":"IDAHO POWER COMPANY Page 1"}]
[]
[null,{"$f":"$N$3","v":"IDAHO POWER COMPANY"}]
[null,{"$f":"\"AVOIDED COST RATES FOR SOLAR PROJECTS\"","v":"AVOIDED COST RATES FOR SOLAR PROJECTS"}]
[null,{"$f":"'AVOID NEW'!$E$69","v":"XXXX, 2022"}]
[null,"$/MWh"]
[null,{"$f":"IF('AVOID NEW'!$E$110=\"New contract\", \"New Contracts and Replacement Contracts without Full Capacity Payments\",\"Replacement Contracts with Full Capacity Payments\")","v":"New Contracts and Replacement Contracts without Full Capacity Payments"}]
[null,"Eligibility for these rates is limited to projects 100 kW or smaller."]
[]
[null,"LEVELIZED",null,null,null,null,null,null,"NON-LEVELIZED"]
[null,"CONTRACT","ON-LINE YEAR"]
[null,"LENGTH",null,null,null,null,null,null,"CONTRACT","NON-LEVELIZED"]
[null,"(YEARS)",{"$f":"'AVOID NEW'!$AN$8","v":2022},{"$f":"'AVOID NEW'!$AO$8","v":2023},{"$f":"'AVOID NEW'!$AP$8","v":2024},{"$f":"'AVOID NEW'!$AQ$8","v":2025},{"$f":"'AVOID NEW'!$AR$8","v":2026},{"$f":"'AVOID NEW'!$AS$8","v":2027},"YEAR","RATES"]
[]
[null,1,28.775720076375709,29.074526035903229,30.483136310621294,32.843295658833711,35.760049398010395,38.622021011970595,2020,28.775720076375702]
[null,2,28.919827122205234,29.753865449801498,31.62138533314959,34.249976989519354,37.14031060561117,41.641116407523299,2021,29.074526035903219]
[null,3,29.404438578865477,30.711560373456489,32.904333092915337,35.605270387653547,39.540198794733435,42.959893201673111,2022,30.483136310621287]
[null,4,30.174963429066256,31.842746159584188,34.185462411428787,37.683879466625548,40.964163393300836,44.063600638685152,2023,32.843295658833703]
[null,5,31.139399670478923,33.013395706340404,36.032567322443796,39.101843460387023,42.159386767075482,49.579356275960201,2024,35.760049398010388]
[null,6,32.176250850683836,34.65801934447078,37.39923406248532,40.319010478964543,46.849378176689882,53.494848607295125,2025,38.622021011970588]
[null,7,33.628830395360005,35.942712196622033,38.598089366737412,44.398821907664917,50.391902203344948,53.253512962659528,2026,44.882115314649113]
[null,8,34.809437890703435,37.092184317234995,42.198416399778147,47.617044275792743,50.487374470148012,53.317729408333108,2027,45.895361435018977]
[null,9,35.885351168671569,40.293959713555459,45.130678977038407,47.926976376840059,50.769868967327064,53.520983076011007,2028,47.885746187457308]
[null,10,38.741495335325624,42.966580444823322,45.575841031910429,48.353669325558187,51.127108861917158,53.812035383637237,2029,76.005545678770034]
[null,11,41.172844385073539,43.490061665957469,46.094819710836241,48.816020302056465,51.530249968814047,54.156462536972377,2030,77.836204549117127]
[null,12,41.732006847283927,44.061252042973976,46.625625655778485,49.297551354949192,51.958477491677513,54.551288411060014,2031,51.383860605087442]
[null,13,42.323592371000473,44.630416193988736,47.158728162812984,49.785463123191306,52.415099870762987,54.953425691050278,2032,53.920722875537791]
[null,14,42.906018097468575,45.191843178490508,47.686091721362345,50.28641940422137,52.865904031852708,55.363157252113552,2033,55.788009936910029]
[null,15,43.475541171661888,45.74025668239014,48.215990576177184,50.772544794790882,53.313656700686735,55.780707081123595,2034,57.609388462163764]
[null,16,44.028386131962733,46.28444890194551,48.725165507264229,51.24801771283834,53.760447106809956,57.339676589246295,2035,59.350228020505803]
[null,17,44.573180098046386,46.804550559199079,49.218498944554923,51.716045763002512,55.230526166046857,57.737604259302657,2036,61.366484090374072]
[null,18,45.092558740122051,47.305656242074754,49.699799212106626,53.104666947577002,55.650647251098761,58.13208346771814,2037,62.836712772668101]
[null,19,45.591490010433297,47.791797669042786,51.011995738180588,53.540786127831367,56.062492671910974,58.548680808963603,2038,64.425529304230821]
[null,20,46.073956921408843,49.030247442775597,51.457844984598367,53.964957964133717,56.490041774190111,58.992191134916503,2039,66.143036171586346]
[null,null,null,null,null,null,null,null,2040,100.5457940864876]
[null,null,null,null,null,null,null,null,2041,70.003746592437125]
[null,null,null,null,null,null,null,null,2042,71.60914869471145]
[null,null,null,null,null,null,null,null,2043,74.27471595968521]
[null,null,null,null,null,null,null,null,2044,77.440801137669538]
[null,null,null,null,null,null,null,null,2045,80.334587416744654]
[]
[]
[]
[]
[]
[]
[]
[]
[]
[]
[]
[]
[]
[]
[]
[null,"Note:  These rates will be further adjusted with the applicable integration charge."]
[]
[]
[]
[]
[]
[]
[null,"Note:  The rates shown in this table have been computed using the U.S. Energy Information Administration (EIA)'s Annual Energy Outlook 2022, released March 3, 2022.  See Annual Energy Outlook 2022, Table 3.8 Energy Prices by Sector-Mountain at https://www.eia.gov/outlooks/aeo/tables_ref.php"]
[null,null,null,null,null,null,null,null,null,{"$f":"$B$3&\" Page 2\"","v":"IDAHO POWER COMPANY Page 2"}]
[]
[null,{"$f":"$N$3","v":"IDAHO POWER COMPANY"}]
[null,{"$f":"\"AVOIDED COST RATES FOR NON-SEASONAL HYDRO PROJECTS\"","v":"AVOIDED COST RATES FOR NON-SEASONAL HYDRO PROJECTS"}]
[null,{"$f":"'AVOID NEW'!$E$69","v":"XXXX, 2022"}]
[null,"$/MWh"]
[null,{"$f":"IF('AVOID NEW'!$E$110=\"New contract\", \"New Contracts and Replacement Contracts without Full Capacity Payments\",\"Replacement Contracts with Full Capacity Payments\")","v":"New Contracts and Replacement Contracts without Full Capacity Payments"}]
[null,"Eligibility for these rates is limited to projects smaller than 10 aMW."]
[]
[null,"LEVELIZED",null,null,null,null,null,null,"NON-LEVELIZED"]
[null,"CONTRACT","ON-LINE YEAR"]
[null,"LENGTH",null,null,null,null,null,null,"CONTRACT","NON-LEVELIZED"]
[null,"(YEARS)",{"$f":"'AVOID NEW'!$AN$8","v":2022},{"$f":"'AVOID NEW'!$AO$8","v":2023},{"$f":"'AVOID NEW'!$AP$8","v":2024},{"$f":"'AVOID NEW'!$AQ$8","v":2025},{"$f":"'AVOID NEW'!$AR$8","v":2026},{"$f":"'AVOID NEW'!$AS$8","v":2027},"YEAR","RATES"]
[]
[null,1,28.775720076375709,29.074526035903229,30.483136310621294,32.843295658833711,35.760049398010395,38.622021011970595,2020,28.775720076375702]
[null,2,28.919827122205234,29.753865449801498,31.62138533314959,34.249976989519354,37.14031060561117,44.685359694772778,2021,29.074526035903219]
[null,3,29.404438578865477,30.711560373456489,32.904333092915337,35.605270387653547,41.496934605966331,47.046002968713601,2022,30.483136310621287]
[null,4,30.174963429066256,31.842746159584188,34.185462411428787,39.098226291086206,43.91764149710783,48.69047833579922,2023,32.843295658833703]
[null,5,31.139399670478923,33.013395706340404,37.122568723561677,41.37801449258648,45.725204631147555,52.927909614938883,2024,35.760049398010388]
[null,6,32.176250850683836,35.532693017540751,39.225751785515335,43.180407726222896,49.536431097421335,55.98907342858228,2025,38.622021011970588]
[null,7,34.350467910734913,37.44965558821783,40.958845913535782,46.615738059481501,52.44972817689073,56.238984207954971,2026,51.194353770760898]
[null,8,36.078097188007433,39.079648317853788,44.064784640968114,49.349478332793325,53.000770708719998,56.679127404428449,2027,52.300564143625877]
[null,9,37.584406854403476,41.889492297227903,46.611713065598487,50.07564431161191,53.643481961321136,57.181188422859378,2028,54.385306506376452]
[null,10,40.121977045038058,44.247996124854033,47.434904779371351,50.839967768846634,54.293980279538495,57.716847093348377,2029,73.229599705628999]
[null,11,42.292288101944756,45.114138274188356,48.26684804947746,51.582596648703216,54.941490366540791,58.26626295491306,2030,75.019343871920213]
[null,12,43.162040406451936,45.973768607758629,49.061654227124556,52.301220161221018,55.577243065513251,58.836181523611621,2031,58.175069026848305]
[null,13,44.018694002901569,46.789516973913933,49.820939820977131,52.992847332366594,56.212886222708015,59.390245712434393,2032,60.812079163502418]
[null,14,44.830289445944615,47.564505754047374,50.544632459550719,53.671148608447936,56.820163937122203,59.933545934715006,2033,62.781017580171252]
[null,15,45.600142404438586,48.299937624326027,51.246847097453582,54.313387709415295,57.406212266471158,60.469832251434994,2034,64.705574027041052]
[null,16,46.329772814246574,49.009465414629851,51.90870631278851,54.927598523593502,57.976398416098931,61.751921191341815,2035,66.551141514193958]
[null,17,47.031858843167818,49.676938332386854,52.538444746075385,55.519938262870248,59.21152663740277,62.258283760501797,2036,68.673699330494529]
[null,18,47.692188700561012,50.310344764017557,53.142479549786309,56.707637338435127,59.742049527128152,62.751123750734131,2037,70.251827762821307]
[null,19,48.318220985471577,50.916002739003524,54.281662758623106,57.253701205690447,60.254235051419109,63.257490006504099,2038,71.950166615650659]
[null,20,48.915933085487715,52.004545073209073,54.835349314254003,57.778034142475356,60.773474903876959,63.783364772015318,2039,73.77884333099864]
[null,null,null,null,null,null,null,null,2040,97.28442204585366]
[null,null,null,null,null,null,null,null,2041,77.866937827227616]
[null,null,null,null,null,null,null,null,2042,79.588606064469701]
[null,null,null,null,null,null,null,null,2043,82.372190819454389]
[null,null,null,null,null,null,null,null,2044,85.658071834046495]
[null,null,null,null,null,null,null,null,2045,88.673459715213298]
[]
[]
[]
[]
[]
[]
[]
[]
[]
[]
[]
[]
[]
[]
[]
[null,"Note:  These rates will be further adjusted with the applicable integration charge."]
[]
[]
[]
[]
[]
[]
[null,"Note:  The rates shown in this table have been computed using the U.S. Energy Information Administration (EIA)'s Annual Energy Outlook 2022, released March 3, 2022.  See Annual Energy Outlook 2022, Table 3.8 Energy Prices by Sector-Mountain at https://www.eia.gov/outlooks/aeo/tables_ref.php"]
[null,null,null,null,null,null,null,null,null,{"$f":"$B$3&\" Page 3\"","v":"IDAHO POWER COMPANY Page 3"}]
[]
[null,{"$f":"$N$3","v":"IDAHO POWER COMPANY"}]
[null,{"$f":"\"AVOIDED COST RATES FOR SEASONAL HYDRO PROJECTS\"","v":"AVOIDED COST RATES FOR SEASONAL HYDRO PROJECTS"}]
[null,{"$f":"'AVOID NEW'!$E$69","v":"XXXX, 2022"}]
[null,"$/MWh"]
[null,{"$f":"IF('AVOID NEW'!$E$110=\"New contract\", \"New Contracts and Replacement Contracts without Full Capacity Payments\",\"Replacement Contracts with Full Capacity Payments\")","v":"New Contracts and Replacement Contracts without Full Capacity Payments"}]
[null,"Eligibility for these rates is limited to projects smaller than 10 aMW."]
[]
[null,"LEVELIZED",null,null,null,null,null,null,"NON-LEVELIZED"]
[null,"CONTRACT","ON-LINE YEAR"]
[null,"LENGTH",null,null,null,null,null,null,"CONTRACT","NON-LEVELIZED"]
[null,"(YEARS)",{"$f":"'AVOID NEW'!$AN$8","v":2022},{"$f":"'AVOID NEW'!$AO$8","v":2023},{"$f":"'AVOID NEW'!$AP$8","v":2024},{"$f":"'AVOID NEW'!$AQ$8","v":2025},{"$f":"'AVOID NEW'!$AR$8","v":2026},{"$f":"'AVOID NEW'!$AS$8","v":2027},"YEAR","RATES"]
[]
[null,1,28.775720076375709,29.074526035903229,30.483136310621294,32.843295658833711,35.760049398010395,38.622021011970595,2020,28.775720076375702]
[null,2,28.919827122205234,29.753865449801498,31.62138533314959,34.249976989519354,37.14031060561117,39.551038926723152,2021,29.074526035903219]
[null,3,29.404438578865477,30.711560373456489,32.904333092915337,35.605270387653547,38.196768237766271,40.154504406388895,2022,30.483136310621287]
[null,4,30.174963429066256,31.842746159584188,34.185462411428787,36.712835378188942,38.93640230710303,40.88693833917096,2023,32.843295658833703]
[null,5,31.139399670478923,33.013395706340404,35.284208151526322,37.539099169621736,39.711213308157973,49.83155811311633,2024,35.760049398010388]
[null,6,32.176250850683836,34.057497121168431,36.145206969060531,38.354469085322613,47.051758014948888,56.057484890415743,2025,38.622021011970588]
[null,7,33.133377772863327,34.908094345674677,36.977271439083253,44.565792617016008,52.506170115022236,54.990132209369605,2026,40.548339658210004]
[null,8,33.938418074643145,35.727656794420788,42.33898501302339,49.396995439253814,51.94939233060839,54.431828146262674,2027,41.497759575374204]
[null,9,34.718835324735117,40.414129890975225,46.652334787489345,49.17683537186258,51.722296681517903,54.148375977962765,2028,43.423361490881682]
[null,10,38.845468600226972,44.283142723965327,46.65724012084457,49.17772585233709,51.669939785466376,54.04792764614033,2029,92.685562501021579]
[null,11,42.322992142918878,44.434771048246716,46.814714835911673,49.290236964268693,51.736325261346202,54.070216346414789,2030,94.762068357777153]
[null,12,42.563843297293595,44.695134818405805,47.043183385409733,49.479004977606422,51.882535909720914,54.195036460504916,2031,46.721239897618773]
[null,13,42.885415336015939,45.000505950042978,47.319554132921759,49.71815458224895,52.099346651223208,54.367371577960299,2032,49.189343931571145]
[null,14,43.235855926513466,45.335177296679241,47.626103832863855,50.005008328277746,52.343590692447272,54.578982673045026,2033,50.986840510202569]
[null,15,43.603889739781103,45.686540514247,47.964000965422464,50.304839198458446,52.611467398859816,54.82384311277216,2034,52.73738046240662]
[null,16,43.980090396364353,46.057887253279176,48.304655508148848,50.616685470920537,52.900139106135526,57.098606643805304,2035,54.406317263654749]
[null,17,44.368762140414702,46.425140382371353,48.648871877310434,50.939822578419864,55.013017924102456,57.334475239499071,2036,56.349590044927858]
[null,18,44.749176808133761,46.790120142071686,48.997285065004206,52.907812975533552,55.285798783358352,57.584622858104666,2037,57.745738301826407]
[null,19,45.123645093276998,47.154271658836528,50.83335232166327,53.209689040423541,55.565676515778684,57.87187414827573,2038,59.259360403862928]
[null,20,45.494022607106842,48.867741998912976,51.156657959631133,53.513022306249717,55.87437527525924,58.198828731456572,2039,60.900541703940192]
[null,null,null,null,null,null,null,null,2040,120.14262378985566]
[null,null,null,null,null,null,null,null,2041,64.605137684979383]
[null,null,null,null,null,null,null,null,2042,66.13071527667897]
[null,null,null,null,null,null,null,null,2043,68.715255608212544]
[null,null,null,null,null,null,null,null,2044,71.799092898376784]
[null,null,null,null,null,null,null,null,2045,74.609391510344324]
[]
[]
[]
[]
[null,"Note:  A \"seasonal hydro project\" is defined as a generation facility which produces at least 55% of its annual generation during the months of June, July, and August.  Order 32802."]
[]
[]
[]
[]
[]
[]
[]
[]
[]
[]
[null,"Note:  These rates will be further adjusted with the applicable integration charge."]
[]
[]
[]
[]
[]
[]
[null,"Note:  The rates shown in this table have been computed using the U.S. Energy Information Administration (EIA)'s Annual Energy Outlook 2022, released March 3, 2022.  See Annual Energy Outlook 2022, Table 3.8 Energy Prices by Sector-Mountain at https://www.eia.gov/outlooks/aeo/tables_ref.php"]
[null,null,null,null,null,null,null,null,null,{"$f":"$B$3&\" Page 4\"","v":"IDAHO POWER COMPANY Page 4"}]
[]
[null,{"$f":"$N$3","v":"IDAHO POWER COMPANY"}]
[null,{"$f":"\"AVOIDED COST RATES FOR OTHER PROJECTS\"","v":"AVOIDED COST RATES FOR OTHER PROJECTS"}]
[null,{"$f":"'AVOID NEW'!$E$69","v":"XXXX, 2022"}]
[null,"$/MWh"]
[null,{"$f":"IF('AVOID NEW'!$E$110=\"New contract\", \"New Contracts and Replacement Contracts without Full Capacity Payments\",\"Replacement Contracts with Full Capacity Payments\")","v":"New Contracts and Replacement Contracts without Full Capacity Payments"}]
[null,"Eligibility for these rates is limited to projects smaller than 10 aMW."]
[]
[null,"LEVELIZED",null,null,null,null,null,null,"NON-LEVELIZED"]
[null,"CONTRACT","ON-LINE YEAR"]
[null,"LENGTH",null,null,null,null,null,null,"CONTRACT","NON-LEVELIZED"]
[null,"(YEARS)",{"$f":"'AVOID NEW'!$AN$8","v":2022},{"$f":"'AVOID NEW'!$AO$8","v":2023},{"$f":"'AVOID NEW'!$AP$8","v":2024},{"$f":"'AVOID NEW'!$AQ$8","v":2025},{"$f":"'AVOID NEW'!$AR$8","v":2026},{"$f":"'AVOID NEW'!$AS$8","v":2027},"YEAR","RATES"]
[]
[null,1,28.775720076375709,29.074526035903229,30.483136310621294,32.843295658833711,35.760049398010395,38.622021011970595,2020,28.775720076375702]
[null,2,28.919827122205234,29.753865449801498,31.62138533314959,34.249976989519354,37.14031060561117,49.422780160753874,2021,29.074526035903219]
[null,3,29.404438578865477,30.711560373456489,32.904333092915337,35.605270387653547,44.541986989748828,53.404765462401429,2022,30.483136310621287]
[null,4,30.174963429066256,31.842746159584188,34.185462411428787,41.299218445773413,48.513814107032275,55.890778386622131,2023,32.843295658833703]
[null,5,31.139399670478923,33.013395706340404,38.818817826658005,44.920168720922725,51.274294152990258,57.583887339360921,2024,35.760049398010388]
[null,6,32.176250850683836,36.893851298553315,42.068160103799798,47.63328504297354,53.272629173658274,58.940529315658836,2025,38.622021011970588]
[null,7,35.473472878398219,39.794745579652485,44.632631260076302,49.698237029892887,54.884786369065445,60.061237283570925,2026,61.017395106972707]
[null,8,38.052371893507548,42.172519597678182,46.659866181225041,51.399495096666108,56.218633388945776,61.165672564997323,2027,62.268275504805679]
[null,9,40.228460045599128,44.107991874849759,48.36424424977055,52.826550934846267,57.478967817660738,62.193985795953402,2028,64.499856221799007]
[null,10,42.041460308026345,45.764315672450856,49.815035600492472,54.158494840447013,58.631137137922899,63.158933559886584,2029,65.695634995892775]
[null,11,43.616943650318873,47.193418662712787,51.16591065458077,55.371533423760411,59.695692766725251,64.066813719219397,2030,67.374335957651624]
[null,12,44.992890453451139,48.526454111888093,52.397892625262536,56.487395212868755,60.684749825093625,64.941796699724108,2031,68.743478555971421]
[null,13,46.281190152453789,49.746491704081301,53.531230383752309,57.519732590526637,61.624414906619641,65.759588832100079,2032,71.536337784241951]
[null,14,47.465655893093931,50.87125543931063,54.579161871567209,58.494105320208369,62.496760688761682,66.533897827082527,2033,73.663465006974008]
[null,15,48.56117214805704,51.912657886680307,55.56556476131265,59.396497537486283,63.3164988414565,67.274794132062766,2034,75.748585886899377]
[null,16,49.577937912632287,52.892386583950419,56.478885771975875,60.24148534023135,64.094679952266361,68.011640728986606,2035,77.75712991255223]
[null,17,50.5352709155542,53.800437417765096,57.332962690914691,61.04023096554652,64.859433468788382,68.705808118675165,2036,80.045113426340976]
[null,18,51.424126241951988,54.649582178830066,58.138573195019795,61.819227058211453,65.577326243114783,69.3684238093917,2037,81.791154353119012]
[null,19,52.256044483850005,55.449918050744877,58.920389840919569,62.549168490636291,66.259382310209617,70.029218419718248,2038,83.659930729264119]
[null,20,53.040271583563033,56.224227041691151,59.652444051785032,63.240699040935645,66.933470905743761,70.696322217414675,2039,85.661608832275306]
[null,null,null,null,null,null,null,null,2040,88.433002710896659]
[null,null,null,null,null,null,null,null,2041,90.103556115778119]
[null,null,null,null,null,null,null,null,2042,92.006156530682489]
[null,null,null,null,null,null,null,null,2043,94.97339890424918]
[null,null,null,null,null,null,null,null,2044,98.445704982324543]
[null,null,null,null,null,null,null,null,2045,101.6503280408693]
[]
[]
[]
[]
[]
[]
[]
[]
[]
[]
[]
[]
[]
[]
[]
[null,"Note:  \"Other projects\" refers to projects other than wind, solar, non-seasonal hydro, and seasonal hydro projects.  These \"Other projects\" may include (but are not limited to):  cogeneration, biomass, biogas, landfill gas, or geothermal projects."]
[]
[]
[]
[]
[]
[null,"Note:  The rates shown in this table have been computed using the U.S. Energy Information Administration (EIA)'s Annual Energy Outlook 2022, released March 3, 2022.  See Annual Energy Outlook 2022, Table 3.8 Energy Prices by Sector-Mountain at https://www.eia.gov/outlooks/aeo/tables_ref.php"]
[null,null,null,null,null,null,null,null,null,{"$f":"$B$3&\" Page 5\"","v":"IDAHO POWER COMPANY Page 5"}]

{"sheet":"Input - Capacity Factors","index":4,"n_rows":11,"n_cols":10,"rows_kept":11,"cut":false,"hidden":false,"merged":[[3,0,4,0],[3,1,4,1],[3,2,3,3]]}
[]
["Resource On-Peak Capacity Contributions"]
["Current Resource",{"$f":"VLOOKUP(C3,A6:E11,5,FALSE)","v":1},{"$f":"H10","v":"Wind"},null,null,null,"Old resources - no longer broken apart but grouped into other"]
["Resource","Annual Capacity Factor","On-Peak Capacity Factors",null,null,null,"Biomass",0.85,1,1]
[null,null,"Summer","Winter",null,null,"Geothermal",0.85,1,1]
["Wind",0.33,0.05,0.05,1,null,"Other Base Load",0.92,1,1]
["Solar",0.22600000000000001,0.35,0.05,2]
["Non-seasonal hydro",0.46,0.65,0.25,3]
["Seasonal hydro",0.33,0.78,0,4]
["Other",0.89,0.93,0.93,5,null,"Do not change-used for printing sheets",{"$f":"'AVOID NEW'!E106","v":"Wind"}]
["Fueled",0.89,0.93,0.93,6]

{"sheet":"Input - Load and Resource","index":5,"n_rows":78,"n_cols":15,"rows_kept":78,"cut":false,"hidden":false,"merged":[[5,7,7,15],[8,1,8,11],[9,2,9,5],[9,9,9,11],[46,8,46,10],[45,1,45,10],[9,1,11,1],[9,6,9,8],[46,1,47,1],[46,2,46,4],[46,5,46,7]]}
[null,"Utility",null,{"$f":"'AVOID NEW'!D27","v":"IPCO"},{"$f":"'AVOID NEW'!D105","v":2},null,"Notes:","1.  Capacity contributions are set equal to zero when the utility does not need capacity; i.e., when the planning deficit, column (d), is not negative."]
[null,"Project type",null,{"$f":"'Input - Capacity Factors'!C3","v":"Wind"},null,null,null,"Capacity contributions cannot exceed the absolute value of the planning deficit (column (d))."]
[null,"Project Nameplate",null,{"$f":"'AVOID NEW'!D15","v":0.1},"Contract type",{"$f":"'AVOID NEW'!$E$110","v":"New contract"},null,"2.  A capacity payment will be made if the capacity contribution is strictly positive."]
[null,null,null,"Summer","Winter",null,null,"3.  The capacity factor is calculated as the capacity contribution divided by the project nameplate."]
[null,"Peak Capacity Factors",null,{"$f":"VLOOKUP(D2,'Input - Capacity Factors'!A:D,3,FALSE)","v":0.05},{"$f":"VLOOKUP(D2,'Input - Capacity Factors'!A:D,4,FALSE)","v":0.05},null,null,"4.  The capacity factor cannot decrease over time."]
[null,"Peak Capacity (MW)",null,{"$f":"$D$3*D5","v":5.000000000000001E-3},{"$f":"$D$3*E5","v":5.000000000000001E-3},null,null,"5.  Replacement contracts receive capacity payments throughout the life of the contract.  In the years preceding a utility's need for capacity, the capacity factor is based on the capacity factor in the first year the resource makes a strictly positive capacity contribution."]
[null,"Current Year",null,{"$f":"'AVOID NEW'!D54","v":2022},"Max capacity in new contract",null,{"$f":"MAX(J13:J42)","v":5.0000000001091394E-3}]
[null,"Most deficient season",null,{"$f":"IF(O9>O10,\"Summer\", IF(O9<O10,\"Winter\",\"Both\"))","v":"Summer"},"First deficiency",{"$f":"MIN($N$13:$N$42)","v":2023},{"$f":"IF(VLOOKUP(F8,B13:E42,3,FALSE)<VLOOKUP(F8,B13:E42,4,FALSE),D4,IF(VLOOKUP(F8,B13:E42,3,FALSE)>VLOOKUP(F8,B13:E42,4,FALSE),E4,\"Either\"))","v":"Summer"}]
[null,"Calculation of basis for capacity payments",null,null,null,null,null,null,null,null,null,null,null,"Summer",{"$f":"COUNTIF($O$13:$O$42,N9)","v":29}]
[null,null,{"$f":"D1","v":"IPCO"},null,null,null,"With QF output",null,null,"Capacity Calculations",null,null,null,"Winter",{"$f":"COUNTIF($O$13:$O$42,N10)","v":0}]
[null,null,"(a)","(b)","(c)","(d)","(e)","(f)","(g)","(h)","(i)","(j)"]
[null,null,"Energy (aMW)","Summer Capacity (MW)","Winter Capacity (MW)","Planning Deficit (MW)","Summer Capacity (MW)","Winter Capacity (MW)","New Planning Deficit (MW)","Capacity Contribution (1)","Based on capacity contribution, is capacity payment made? (2)","Capacity adjustment applied to rates (3) (4) (5)",null,"Capacity contribution greater than 0?","Season more deficient"]
[{"$f":"B13-$D$7","v":0},{"$f":"D7","v":2022},{"$f":"OFFSET($B$49,$A13,$E$1*3-2)","v":0},{"$f":"OFFSET($B$49,$A13,$E$1*3-1)","v":0},{"$f":"OFFSET($B$49,$A13,$E$1*3)","v":0},{"$f":"MIN(D13:E13)","v":0},{"$f":"D13+$D$6","v":5.000000000000001E-3},{"$f":"E13+$E$6","v":5.000000000000001E-3},{"$f":"MIN(G13:H13)","v":5.000000000000001E-3},{"$f":"IF(F13>=0,0,MIN(-1*F13,I13-F13))","v":0},{"$f":"IF(J13>0,\"Yes\",\"No\")","v":"No"},{"$f":"IF($F$3=\"New contract\",J13/$D$3,MAX($D$6:$E$6)/$D$3)","v":0},null,{"$f":"IF(J13>0,B13,\"\")","v":""},{"$f":"IF(F13<0,IF(D13<E13,\"Summer\",IF(D13>E13,\"Winter\",\"Both\")),\"\")","v":""}]
[{"$f":"B14-$D$7","v":1},{"$f":"B13+1","v":2023},{"$f":"OFFSET($B$49,$A14,$E$1*3-2)","v":0},-101,0,{"$f":"MIN(D14:E14)","v":-101},{"$f":"D14+$D$6","v":-100.995},{"$f":"E14+$E$6","v":5.000000000000001E-3},{"$f":"MIN(G14:H14)","v":-100.995},{"$f":"IF(F14>=0,0,MIN(-1*F14,I14-F14))","v":4.9999999999954525E-3},{"$f":"IF(J14>0,\"Yes\",\"No\")","v":"Yes"},{"$f":"IF($F$3=\"New contract\",J14/$D$3,MAX($D$6:$E$6)/$D$3)","v":4.9999999999954525E-2},null,{"$f":"IF(J14>0,B14,\"\")","v":2023},{"$f":"IF(F14<0,IF(D14<E14,\"Summer\",IF(D14>E14,\"Winter\",\"Both\")),\"\")","v":"Summer"}]
[2,{"$f":"B14+1","v":2024},0,-186,0,-186,-185.995,5.000000000000001E-3,-185.995,4.9999999999954525E-3,"Yes",4.9999999999954525E-2,null,2024,"Summer"]
[3,2025,0,-311,0,-311,-310.995,5.000000000000001E-3,-310.995,4.9999999999954525E-3,"Yes",4.9999999999954525E-2,null,2025,"Summer"]
[4,2026,0,-560,0,-560,-559.995,5.000000000000001E-3,-559.995,4.9999999999954525E-3,"Yes",4.9999999999954525E-2,null,2026,"Summer"]
[5,2027,0,-665,0,-665,-664.995,5.000000000000001E-3,-664.995,4.9999999999954525E-3,"Yes",4.9999999999954525E-2,null,2027,"Summer"]
[6,2028,0,-773,0,-773,-772.995,5.000000000000001E-3,-772.995,4.9999999999954525E-3,"Yes",4.9999999999954525E-2,null,2028,"Summer"]
[7,2029,0,-823,0,-823,-822.995,5.000000000000001E-3,-822.995,4.9999999999954525E-3,"Yes",4.9999999999954525E-2,null,2029,"Summer"]
[8,2030,0,-873,0,-873,-872.995,5.000000000000001E-3,-872.995,4.9999999999954525E-3,"Yes",4.9999999999954525E-2,null,2030,"Summer"]
[9,2031,0,-935,0,-935,-934.995,5.000000000000001E-3,-934.995,4.9999999999954525E-3,"Yes",4.9999999999954525E-2,null,2031,"Summer"]
[10,2032,0,-983,0,-983,-982.995,5.000000000000001E-3,-982.995,4.9999999999954525E-3,"Yes",4.9999999999954525E-2,null,2032,"Summer"]
[11,2033,0,-1051,0,-1051,-1050.9949999999999,5.000000000000001E-3,-1050.9949999999999,5.0000000001091394E-3,"Yes",5.0000000001091394E-2,null,2033,"Summer"]
[12,2034,0,-1102,0,-1102,-1101.9949999999999,5.000000000000001E-3,-1101.9949999999999,5.0000000001091394E-3,"Yes",5.0000000001091394E-2,null,2034,"Summer"]
[13,2035,0,-1155,0,-1155,-1154.9949999999999,5.000000000000001E-3,-1154.9949999999999,5.0000000001091394E-3,"Yes",5.0000000001091394E-2,null,2035,"Summer"]
[14,2036,0,-1210,0,-1210,-1209.9949999999999,5.000000000000001E-3,-1209.9949999999999,5.0000000001091394E-3,"Yes",5.0000000001091394E-2,null,2036,"Summer"]
[15,2037,0,-1282,0,-1282,-1281.9949999999999,5.000000000000001E-3,-1281.9949999999999,5.0000000001091394E-3,"Yes",5.0000000001091394E-2,null,2037,"Summer"]
[16,2038,0,-1349,0,-1349,-1348.9949999999999,5.000000000000001E-3,-1348.9949999999999,5.0000000001091394E-3,"Yes",5.0000000001091394E-2,null,2038,"Summer"]
[17,2039,0,-1406,0,-1406,-1405.9949999999999,5.000000000000001E-3,-1405.9949999999999,5.0000000001091394E-3,"Yes",5.0000000001091394E-2,null,2039,"Summer"]
[18,2040,0,-1466,0,-1466,-1465.9949999999999,5.000000000000001E-3,-1465.9949999999999,5.0000000001091394E-3,"Yes",5.0000000001091394E-2,null,2040,"Summer"]
[19,2041,0,-1466,0,-1466,-1465.9949999999999,5.000000000000001E-3,-1465.9949999999999,5.0000000001091394E-3,"Yes",5.0000000001091394E-2,null,2041,"Summer"]
[20,2042,0,-1466,0,-1466,-1465.9949999999999,5.000000000000001E-3,-1465.9949999999999,5.0000000001091394E-3,"Yes",5.0000000001091394E-2,null,2042,"Summer"]
[21,2043,0,-1466,0,-1466,-1465.9949999999999,5.000000000000001E-3,-1465.9949999999999,5.0000000001091394E-3,"Yes",5.0000000001091394E-2,null,2043,"Summer"]
[22,2044,0,-1466,0,-1466,-1465.9949999999999,5.000000000000001E-3,-1465.9949999999999,5.0000000001091394E-3,"Yes",5.0000000001091394E-2,null,2044,"Summer"]
[23,2045,0,-1466,0,-1466,-1465.9949999999999,5.000000000000001E-3,-1465.9949999999999,5.0000000001091394E-3,"Yes",5.0000000001091394E-2,null,2045,"Summer"]
[24,2046,0,-1466,0,-1466,-1465.9949999999999,5.000000000000001E-3,-1465.9949999999999,5.0000000001091394E-3,"Yes",5.0000000001091394E-2,null,2046,"Summer"]
[25,2047,0,-1466,0,-1466,-1465.9949999999999,5.000000000000001E-3,-1465.9949999999999,5.0000000001091394E-3,"Yes",5.0000000001091394E-2,null,2047,"Summer"]
[26,2048,0,-1466,0,-1466,-1465.9949999999999,5.000000000000001E-3,-1465.9949999999999,5.0000000001091394E-3,"Yes",5.0000000001091394E-2,null,2048,"Summer"]
[27,2049,0,-1466,0,-1466,-1465.9949999999999,5.000000000000001E-3,-1465.9949999999999,5.0000000001091394E-3,"Yes",5.0000000001091394E-2,null,2049,"Summer"]
[28,2050,0,-1466,0,-1466,-1465.9949999999999,5.000000000000001E-3,-1465.9949999999999,5.0000000001091394E-3,"Yes",5.0000000001091394E-2,null,2050,"Summer"]
[29,2051,0,-1466,0,-1466,-1465.9949999999999,5.000000000000001E-3,-1465.9949999999999,5.0000000001091394E-3,"Yes",5.0000000001091394E-2,null,2051,"Summer"]
[]
[]
[]
[null,"Input data from IRP"]
[null,null,{"$f":"\"Avista \"& 'Input - Avista IRP'!G3","v":"Avista AVU-E-20-11"},null,null,"IPC-E-21-09",null,null,{"$f":"\"PacifiCorp \"&'Input - RMP IRP'!I10","v":"PacifiCorp PAC-E-20-13"}]
[null,null,"Energy (aMW)","Summer Capacity (MW)","Winter Capacity (MW)","Energy (aMW)","Summer Capacity (MW)","Winter Capacity (MW)","Energy (aMW)","Summer Capacity (MW)","Winter Capacity (MW)"]
[null,{"$f":"B13","v":2022},{"$f":"MIN(VLOOKUP($B49,'Input - Avista IRP'!$A:$D,2,FALSE),0)","v":0},{"$f":"MIN(VLOOKUP($B49,'Input - Avista IRP'!$A:$H,7,FALSE),0)","v":0},{"$f":"MIN(VLOOKUP($B49,'Input - Avista IRP'!$A:$H,8,FALSE),0)","v":0},{"$f":"MIN(VLOOKUP($B49,'Input - IPCO IRP'!$A:$B,2,FALSE),0)","v":0},{"$f":"MIN(VLOOKUP($B49,'Input - IPCO IRP'!$A:$M,12,FALSE),0)","v":0},{"$f":"MIN(VLOOKUP($B49,'Input - IPCO IRP'!$A:$M,13,FALSE),0)","v":0},{"$f":"MIN(VLOOKUP($B49,'Input - RMP IRP'!$A:$K,9,FALSE),0)","v":0},{"$f":"MIN(VLOOKUP($B49,'Input - RMP IRP'!$A:$K,10,FALSE),0)","v":0},{"$f":"MIN(VLOOKUP($B49,'Input - RMP IRP'!$A:$K,11,FALSE),0)","v":0}]
[null,{"$f":"B49+1","v":2023},{"$f":"MIN(VLOOKUP($B50,'Input - Avista IRP'!$A:$D,2,FALSE),0)","v":0},{"$f":"MIN(VLOOKUP($B50,'Input - Avista IRP'!$A:$H,7,FALSE),0)","v":0},{"$f":"MIN(VLOOKUP($B50,'Input - Avista IRP'!$A:$H,8,FALSE),0)","v":0},{"$f":"MIN(VLOOKUP($B50,'Input - IPCO IRP'!$A:$B,2,FALSE),0)","v":0},{"$f":"MIN(VLOOKUP($B50,'Input - IPCO IRP'!$A:$M,12,FALSE),0)","v":-101},{"$f":"MIN(VLOOKUP($B50,'Input - IPCO IRP'!$A:$M,13,FALSE),0)","v":0},{"$f":"MIN(VLOOKUP($B50,'Input - RMP IRP'!$A:$K,9,FALSE),0)","v":0},{"$f":"MIN(VLOOKUP($B50,'Input - RMP IRP'!$A:$K,10,FALSE),0)","v":0},{"$f":"MIN(VLOOKUP($B50,'Input - RMP IRP'!$A:$K,11,FALSE),0)","v":0}]
[null,{"$f":"B50+1","v":2024},{"$f":"MIN(VLOOKUP($B51,'Input - Avista IRP'!$A:$D,2,FALSE),0)","v":0},{"$f":"MIN(VLOOKUP($B51,'Input - Avista IRP'!$A:$H,7,FALSE),0)","v":0},{"$f":"MIN(VLOOKUP($B51,'Input - Avista IRP'!$A:$H,8,FALSE),0)","v":0},{"$f":"MIN(VLOOKUP($B51,'Input - IPCO IRP'!$A:$B,2,FALSE),0)","v":0},{"$f":"MIN(VLOOKUP($B51,'Input - IPCO IRP'!$A:$M,12,FALSE),0)","v":-186},{"$f":"MIN(VLOOKUP($B51,'Input - IPCO IRP'!$A:$M,13,FALSE),0)","v":0},{"$f":"MIN(VLOOKUP($B51,'Input - RMP IRP'!$A:$K,9,FALSE),0)","v":0},{"$f":"MIN(VLOOKUP($B51,'Input - RMP IRP'!$A:$K,10,FALSE),0)","v":0},{"$f":"MIN(VLOOKUP($B51,'Input - RMP IRP'!$A:$K,11,FALSE),0)","v":0}]
[null,2025,{"$f":"MIN(VLOOKUP($B52,'Input - Avista IRP'!$A:$D,2,FALSE),0)","v":0},{"$f":"MIN(VLOOKUP($B52,'Input - Avista IRP'!$A:$H,7,FALSE),0)","v":0},{"$f":"MIN(VLOOKUP($B52,'Input - Avista IRP'!$A:$H,8,FALSE),0)","v":0},{"$f":"MIN(VLOOKUP($B52,'Input - IPCO IRP'!$A:$B,2,FALSE),0)","v":0},{"$f":"MIN(VLOOKUP($B52,'Input - IPCO IRP'!$A:$M,12,FALSE),0)","v":-311},{"$f":"MIN(VLOOKUP($B52,'Input - IPCO IRP'!$A:$M,13,FALSE),0)","v":0},{"$f":"MIN(VLOOKUP($B52,'Input - RMP IRP'!$A:$K,9,FALSE),0)","v":0},{"$f":"MIN(VLOOKUP($B52,'Input - RMP IRP'!$A:$K,10,FALSE),0)","v":0},{"$f":"MIN(VLOOKUP($B52,'Input - RMP IRP'!$A:$K,11,FALSE),0)","v":0}]
[null,2026,{"$f":"MIN(VLOOKUP($B53,'Input - Avista IRP'!$A:$D,2,FALSE),0)","v":0},{"$f":"MIN(VLOOKUP($B53,'Input - Avista IRP'!$A:$H,7,FALSE),0)","v":0},{"$f":"MIN(VLOOKUP($B53,'Input - Avista IRP'!$A:$H,8,FALSE),0)","v":-16.80058849732103},{"$f":"MIN(VLOOKUP($B53,'Input - IPCO IRP'!$A:$B,2,FALSE),0)","v":0},{"$f":"MIN(VLOOKUP($B53,'Input - IPCO IRP'!$A:$M,12,FALSE),0)","v":-560},{"$f":"MIN(VLOOKUP($B53,'Input - IPCO IRP'!$A:$M,13,FALSE),0)","v":0},{"$f":"MIN(VLOOKUP($B53,'Input - RMP IRP'!$A:$K,9,FALSE),0)","v":0},{"$f":"MIN(VLOOKUP($B53,'Input - RMP IRP'!$A:$K,10,FALSE),0)","v":0},{"$f":"MIN(VLOOKUP($B53,'Input - RMP IRP'!$A:$K,11,FALSE),0)","v":0}]
[null,2027,{"$f":"MIN(VLOOKUP($B54,'Input - Avista IRP'!$A:$D,2,FALSE),0)","v":0},{"$f":"MIN(VLOOKUP($B54,'Input - Avista IRP'!$A:$H,7,FALSE),0)","v":-90.124824403308395},{"$f":"MIN(VLOOKUP($B54,'Input - Avista IRP'!$A:$H,8,FALSE),0)","v":-22.530863620518232},{"$f":"MIN(VLOOKUP($B54,'Input - IPCO IRP'!$A:$B,2,FALSE),0)","v":0},{"$f":"MIN(VLOOKUP($B54,'Input - IPCO IRP'!$A:$M,12,FALSE),0)","v":-665},{"$f":"MIN(VLOOKUP($B54,'Input - IPCO IRP'!$A:$M,13,FALSE),0)","v":0},{"$f":"MIN(VLOOKUP($B54,'Input - RMP IRP'!$A:$K,9,FALSE),0)","v":0},{"$f":"MIN(VLOOKUP($B54,'Input - RMP IRP'!$A:$K,10,FALSE),0)","v":0},{"$f":"MIN(VLOOKUP($B54,'Input - RMP IRP'!$A:$K,11,FALSE),0)","v":0}]
[null,2028,{"$f":"MIN(VLOOKUP($B55,'Input - Avista IRP'!$A:$D,2,FALSE),0)","v":0},{"$f":"MIN(VLOOKUP($B55,'Input - Avista IRP'!$A:$H,7,FALSE),0)","v":-97.228106069086309},{"$f":"MIN(VLOOKUP($B55,'Input - Avista IRP'!$A:$H,8,FALSE),0)","v":-42.851549509018724},{"$f":"MIN(VLOOKUP($B55,'Input - IPCO IRP'!$A:$B,2,FALSE),0)","v":0},{"$f":"MIN(VLOOKUP($B55,'Input - IPCO IRP'!$A:$M,12,FALSE),0)","v":-773},{"$f":"MIN(VLOOKUP($B55,'Input - IPCO IRP'!$A:$M,13,FALSE),0)","v":0},{"$f":"MIN(VLOOKUP($B55,'Input - RMP IRP'!$A:$K,9,FALSE),0)","v":0},{"$f":"MIN(VLOOKUP($B55,'Input - RMP IRP'!$A:$K,10,FALSE),0)","v":0},{"$f":"MIN(VLOOKUP($B55,'Input - RMP IRP'!$A:$K,11,FALSE),0)","v":0}]
[null,2029,{"$f":"MIN(VLOOKUP($B56,'Input - Avista IRP'!$A:$D,2,FALSE),0)","v":0},{"$f":"MIN(VLOOKUP($B56,'Input - Avista IRP'!$A:$H,7,FALSE),0)","v":-124.9489576673255},{"$f":"MIN(VLOOKUP($B56,'Input - Avista IRP'!$A:$H,8,FALSE),0)","v":-47.968616758120049},{"$f":"MIN(VLOOKUP($B56,'Input - IPCO IRP'!$A:$B,2,FALSE),0)","v":0},{"$f":"MIN(VLOOKUP($B56,'Input - IPCO IRP'!$A:$M,12,FALSE),0)","v":-823},{"$f":"MIN(VLOOKUP($B56,'Input - IPCO IRP'!$A:$M,13,FALSE),0)","v":0},{"$f":"MIN(VLOOKUP($B56,'Input - RMP IRP'!$A:$K,9,FALSE),0)","v":0},{"$f":"MIN(VLOOKUP($B56,'Input - RMP IRP'!$A:$K,10,FALSE),0)","v":-71.837947493014099},{"$f":"MIN(VLOOKUP($B56,'Input - RMP IRP'!$A:$K,11,FALSE),0)","v":0}]
[null,2030,{"$f":"MIN(VLOOKUP($B57,'Input - Avista IRP'!$A:$D,2,FALSE),0)","v":0},{"$f":"MIN(VLOOKUP($B57,'Input - Avista IRP'!$A:$H,7,FALSE),0)","v":-131.4803866924554},{"$f":"MIN(VLOOKUP($B57,'Input - Avista IRP'!$A:$H,8,FALSE),0)","v":-53.284662838004181},{"$f":"MIN(VLOOKUP($B57,'Input - IPCO IRP'!$A:$B,2,FALSE),0)","v":0},{"$f":"MIN(VLOOKUP($B57,'Input - IPCO IRP'!$A:$M,12,FALSE),0)","v":-873},{"$f":"MIN(VLOOKUP($B57,'Input - IPCO IRP'!$A:$M,13,FALSE),0)","v":0},{"$f":"MIN(VLOOKUP($B57,'Input - RMP IRP'!$A:$K,9,FALSE),0)","v":0},{"$f":"MIN(VLOOKUP($B57,'Input - RMP IRP'!$A:$K,10,FALSE),0)","v":-314.39539503169794},{"$f":"MIN(VLOOKUP($B57,'Input - RMP IRP'!$A:$K,11,FALSE),0)","v":0}]
[null,2031,{"$f":"MIN(VLOOKUP($B58,'Input - Avista IRP'!$A:$D,2,FALSE),0)","v":0},{"$f":"MIN(VLOOKUP($B58,'Input - Avista IRP'!$A:$H,7,FALSE),0)","v":-202.38643616156227},{"$f":"MIN(VLOOKUP($B58,'Input - Avista IRP'!$A:$H,8,FALSE),0)","v":-133.69754492678365},{"$f":"MIN(VLOOKUP($B58,'Input - IPCO IRP'!$A:$B,2,FALSE),0)","v":0},{"$f":"MIN(VLOOKUP($B58,'Input - IPCO IRP'!$A:$M,12,FALSE),0)","v":-935},{"$f":"MIN(VLOOKUP($B58,'Input - IPCO IRP'!$A:$M,13,FALSE),0)","v":0},{"$f":"MIN(VLOOKUP($B58,'Input - RMP IRP'!$A:$K,9,FALSE),0)","v":0},{"$f":"MIN(VLOOKUP($B58,'Input - RMP IRP'!$A:$K,10,FALSE),0)","v":-398.85263876826934},{"$f":"MIN(VLOOKUP($B58,'Input - RMP IRP'!$A:$K,11,FALSE),0)","v":0}]
[null,2032,{"$f":"MIN(VLOOKUP($B59,'Input - Avista IRP'!$A:$D,2,FALSE),0)","v":0},{"$f":"MIN(VLOOKUP($B59,'Input - Avista IRP'!$A:$H,7,FALSE),0)","v":-209.39721548421878},{"$f":"MIN(VLOOKUP($B59,'Input - Avista IRP'!$A:$H,8,FALSE),0)","v":-139.51487904297784},{"$f":"MIN(VLOOKUP($B59,'Input - IPCO IRP'!$A:$B,2,FALSE),0)","v":0},{"$f":"MIN(VLOOKUP($B59,'Input - IPCO IRP'!$A:$M,12,FALSE),0)","v":-983},{"$f":"MIN(VLOOKUP($B59,'Input - IPCO IRP'!$A:$M,13,FALSE),0)","v":0},{"$f":"MIN(VLOOKUP($B59,'Input - RMP IRP'!$A:$K,9,FALSE),0)","v":0},{"$f":"MIN(VLOOKUP($B59,'Input - RMP IRP'!$A:$K,10,FALSE),0)","v":-478.99926843798744},{"$f":"MIN(VLOOKUP($B59,'Input - RMP IRP'!$A:$K,11,FALSE),0)","v":0}]
[null,2033,{"$f":"MIN(VLOOKUP($B60,'Input - Avista IRP'!$A:$D,2,FALSE),0)","v":0},{"$f":"MIN(VLOOKUP($B60,'Input - Avista IRP'!$A:$H,7,FALSE),0)","v":-216.70680924801673},{"$f":"MIN(VLOOKUP($B60,'Input - Avista IRP'!$A:$H,8,FALSE),0)","v":-145.64665927199579},{"$f":"MIN(VLOOKUP($B60,'Input - IPCO IRP'!$A:$B,2,FALSE),0)","v":0},{"$f":"MIN(VLOOKUP($B60,'Input - IPCO IRP'!$A:$M,12,FALSE),0)","v":-1051},{"$f":"MIN(VLOOKUP($B60,'Input - IPCO IRP'!$A:$M,13,FALSE),0)","v":0},{"$f":"MIN(VLOOKUP($B60,'Input - RMP IRP'!$A:$K,9,FALSE),0)","v":0},{"$f":"MIN(VLOOKUP($B60,'Input - RMP IRP'!$A:$K,10,FALSE),0)","v":-758.96201569443178},{"$f":"MIN(VLOOKUP($B60,'Input - RMP IRP'!$A:$K,11,FALSE),0)","v":0}]
[null,2034,{"$f":"MIN(VLOOKUP($B61,'Input - Avista IRP'!$A:$D,2,FALSE),0)","v":0},{"$f":"MIN(VLOOKUP($B61,'Input - Avista IRP'!$A:$H,7,FALSE),0)","v":-224.36377091427073},{"$f":"MIN(VLOOKUP($B61,'Input - Avista IRP'!$A:$H,8,FALSE),0)","v":-152.14527512861855},{"$f":"MIN(VLOOKUP($B61,'Input - IPCO IRP'!$A:$B,2,FALSE),0)","v":0},{"$f":"MIN(VLOOKUP($B61,'Input - IPCO IRP'!$A:$M,12,FALSE),0)","v":-1102},{"$f":"MIN(VLOOKUP($B61,'Input - IPCO IRP'!$A:$M,13,FALSE),0)","v":0},{"$f":"MIN(VLOOKUP($B61,'Input - RMP IRP'!$A:$K,9,FALSE),0)","v":0},{"$f":"MIN(VLOOKUP($B61,'Input - RMP IRP'!$A:$K,10,FALSE),0)","v":-754.39551922083479},{"$f":"MIN(VLOOKUP($B61,'Input - RMP IRP'!$A:$K,11,FALSE),0)","v":0}]
[null,2035,{"$f":"MIN(VLOOKUP($B62,'Input - Avista IRP'!$A:$D,2,FALSE),0)","v":0},{"$f":"MIN(VLOOKUP($B62,'Input - Avista IRP'!$A:$H,7,FALSE),0)","v":-268.4828033097366},{"$f":"MIN(VLOOKUP($B62,'Input - Avista IRP'!$A:$H,8,FALSE),0)","v":-194.90732302946029},{"$f":"MIN(VLOOKUP($B62,'Input - IPCO IRP'!$A:$B,2,FALSE),0)","v":0},{"$f":"MIN(VLOOKUP($B62,'Input - IPCO IRP'!$A:$M,12,FALSE),0)","v":-1155},{"$f":"MIN(VLOOKUP($B62,'Input - IPCO IRP'!$A:$M,13,FALSE),0)","v":0},{"$f":"MIN(VLOOKUP($B62,'Input - RMP IRP'!$A:$K,9,FALSE),0)","v":0},{"$f":"MIN(VLOOKUP($B62,'Input - RMP IRP'!$A:$K,10,FALSE),0)","v":-760.46032178531709},{"$f":"MIN(VLOOKUP($B62,'Input - RMP IRP'!$A:$K,11,FALSE),0)","v":0}]
[null,2036,{"$f":"MIN(VLOOKUP($B63,'Input - Avista IRP'!$A:$D,2,FALSE),0)","v":0},{"$f":"MIN(VLOOKUP($B63,'Input - Avista IRP'!$A:$H,7,FALSE),0)","v":-277.01489163678605},{"$f":"MIN(VLOOKUP($B63,'Input - Avista IRP'!$A:$H,8,FALSE),0)","v":-202.33427758327889},{"$f":"MIN(VLOOKUP($B63,'Input - IPCO IRP'!$A:$B,2,FALSE),0)","v":0},{"$f":"MIN(VLOOKUP($B63,'Input - IPCO IRP'!$A:$M,12,FALSE),0)","v":-1210},{"$f":"MIN(VLOOKUP($B63,'Input - IPCO IRP'!$A:$M,13,FALSE),0)","v":0},{"$f":"MIN(VLOOKUP($B63,'Input - RMP IRP'!$A:$K,9,FALSE),0)","v":0},{"$f":"MIN(VLOOKUP($B63,'Input - RMP IRP'!$A:$K,10,FALSE),0)","v":-739.38396930705017},{"$f":"MIN(VLOOKUP($B63,'Input - RMP IRP'!$A:$K,11,FALSE),0)","v":0}]
[null,2037,{"$f":"MIN(VLOOKUP($B64,'Input - Avista IRP'!$A:$D,2,FALSE),0)","v":0},{"$f":"MIN(VLOOKUP($B64,'Input - Avista IRP'!$A:$H,7,FALSE),0)","v":-322.15374580954216},{"$f":"MIN(VLOOKUP($B64,'Input - Avista IRP'!$A:$H,8,FALSE),0)","v":-246.18082479558421},{"$f":"MIN(VLOOKUP($B64,'Input - IPCO IRP'!$A:$B,2,FALSE),0)","v":0},{"$f":"MIN(VLOOKUP($B64,'Input - IPCO IRP'!$A:$M,12,FALSE),0)","v":-1282},{"$f":"MIN(VLOOKUP($B64,'Input - IPCO IRP'!$A:$M,13,FALSE),0)","v":0},{"$f":"MIN(VLOOKUP($B64,'Input - RMP IRP'!$A:$K,9,FALSE),0)","v":0},{"$f":"MIN(VLOOKUP($B64,'Input - RMP IRP'!$A:$K,10,FALSE),0)","v":-2232.9063547484884},{"$f":"MIN(VLOOKUP($B64,'Input - RMP IRP'!$A:$K,11,FALSE),0)","v":0}]
[null,2038,{"$f":"MIN(VLOOKUP($B65,'Input - Avista IRP'!$A:$D,2,FALSE),0)","v":0},{"$f":"MIN(VLOOKUP($B65,'Input - Avista IRP'!$A:$H,7,FALSE),0)","v":-341.14041060595127},{"$f":"MIN(VLOOKUP($B65,'Input - Avista IRP'!$A:$H,8,FALSE),0)","v":-254.87523685436116},{"$f":"MIN(VLOOKUP($B65,'Input - IPCO IRP'!$A:$B,2,FALSE),0)","v":0},{"$f":"MIN(VLOOKUP($B65,'Input - IPCO IRP'!$A:$M,12,FALSE),0)","v":-1349},{"$f":"MIN(VLOOKUP($B65,'Input - IPCO IRP'!$A:$M,13,FALSE),0)","v":0},{"$f":"MIN(VLOOKUP($B65,'Input - RMP IRP'!$A:$K,9,FALSE),0)","v":0},{"$f":"MIN(VLOOKUP($B65,'Input - RMP IRP'!$A:$K,10,FALSE),0)","v":-2929.6769374601181},{"$f":"MIN(VLOOKUP($B65,'Input - RMP IRP'!$A:$K,11,FALSE),0)","v":0}]
[null,2039,{"$f":"MIN(VLOOKUP($B66,'Input - Avista IRP'!$A:$D,2,FALSE),0)","v":0},{"$f":"MIN(VLOOKUP($B66,'Input - Avista IRP'!$A:$H,7,FALSE),0)","v":-351.56304405776928},{"$f":"MIN(VLOOKUP($B66,'Input - Avista IRP'!$A:$H,8,FALSE),0)","v":-264.36837921628211},{"$f":"MIN(VLOOKUP($B66,'Input - IPCO IRP'!$A:$B,2,FALSE),0)","v":0},{"$f":"MIN(VLOOKUP($B66,'Input - IPCO IRP'!$A:$M,12,FALSE),0)","v":-1406},{"$f":"MIN(VLOOKUP($B66,'Input - IPCO IRP'!$A:$M,13,FALSE),0)","v":0},{"$f":"MIN(VLOOKUP($B66,'Input - RMP IRP'!$A:$K,9,FALSE),0)","v":0},{"$f":"MIN(VLOOKUP($B66,'Input - RMP IRP'!$A:$K,10,FALSE),0)","v":-2929.6769374601181},{"$f":"MIN(VLOOKUP($B66,'Input - RMP IRP'!$A:$K,11,FALSE),0)","v":0}]
[null,2040,{"$f":"MIN(VLOOKUP($B67,'Input - Avista IRP'!$A:$D,2,FALSE),0)","v":0},{"$f":"MIN(VLOOKUP($B67,'Input - Avista IRP'!$A:$H,7,FALSE),0)","v":-362.85896744132418},{"$f":"MIN(VLOOKUP($B67,'Input - Avista IRP'!$A:$H,8,FALSE),0)","v":-274.79574660645011},{"$f":"MIN(VLOOKUP($B67,'Input - IPCO IRP'!$A:$B,2,FALSE),0)","v":0},{"$f":"MIN(VLOOKUP($B67,'Input - IPCO IRP'!$A:$M,12,FALSE),0)","v":-1466},{"$f":"MIN(VLOOKUP($B67,'Input - IPCO IRP'!$A:$M,13,FALSE),0)","v":0},{"$f":"MIN(VLOOKUP($B67,'Input - RMP IRP'!$A:$K,9,FALSE),0)","v":0},{"$f":"MIN(VLOOKUP($B67,'Input - RMP IRP'!$A:$K,10,FALSE),0)","v":-2929.6769374601181},{"$f":"MIN(VLOOKUP($B67,'Input - RMP IRP'!$A:$K,11,FALSE),0)","v":0}]
[null,2041,{"$f":"MIN(VLOOKUP($B68,'Input - Avista IRP'!$A:$D,2,FALSE),0)","v":0},{"$f":"MIN(VLOOKUP($B68,'Input - Avista IRP'!$A:$H,7,FALSE),0)","v":-377.67011139274376},{"$f":"MIN(VLOOKUP($B68,'Input - Avista IRP'!$A:$H,8,FALSE),0)","v":-286.31608769383422},{"$f":"MIN(VLOOKUP($B68,'Input - IPCO IRP'!$A:$B,2,FALSE),0)","v":0},{"$f":"MIN(VLOOKUP($B68,'Input - IPCO IRP'!$A:$M,12,FALSE),0)","v":-1466},{"$f":"MIN(VLOOKUP($B68,'Input - IPCO IRP'!$A:$M,13,FALSE),0)","v":0},{"$f":"MIN(VLOOKUP($B68,'Input - RMP IRP'!$A:$K,9,FALSE),0)","v":0},{"$f":"MIN(VLOOKUP($B68,'Input - RMP IRP'!$A:$K,10,FALSE),0)","v":-2929.6769374601181},{"$f":"MIN(VLOOKUP($B68,'Input - RMP IRP'!$A:$K,11,FALSE),0)","v":0}]
[null,2042,{"$f":"MIN(VLOOKUP($B69,'Input - Avista IRP'!$A:$D,2,FALSE),0)","v":0},{"$f":"MIN(VLOOKUP($B69,'Input - Avista IRP'!$A:$H,7,FALSE),0)","v":-391.17902499615519},{"$f":"MIN(VLOOKUP($B69,'Input - Avista IRP'!$A:$H,8,FALSE),0)","v":-299.1153966218763},{"$f":"MIN(VLOOKUP($B69,'Input - IPCO IRP'!$A:$B,2,FALSE),0)","v":0},{"$f":"MIN(VLOOKUP($B69,'Input - IPCO IRP'!$A:$M,12,FALSE),0)","v":-1466},{"$f":"MIN(VLOOKUP($B69,'Input - IPCO IRP'!$A:$M,13,FALSE),0)","v":0},{"$f":"MIN(VLOOKUP($B69,'Input - RMP IRP'!$A:$K,9,FALSE),0)","v":0},{"$f":"MIN(VLOOKUP($B69,'Input - RMP IRP'!$A:$K,10,FALSE),0)","v":-2929.6769374601181},{"$f":"MIN(VLOOKUP($B69,'Input - RMP IRP'!$A:$K,11,FALSE),0)","v":0}]
[null,2043,{"$f":"MIN(VLOOKUP($B70,'Input - Avista IRP'!$A:$D,2,FALSE),0)","v":0},{"$f":"MIN(VLOOKUP($B70,'Input - Avista IRP'!$A:$H,7,FALSE),0)","v":-407.88243791268911},{"$f":"MIN(VLOOKUP($B70,'Input - Avista IRP'!$A:$H,8,FALSE),0)","v":-313.41158968527338},{"$f":"MIN(VLOOKUP($B70,'Input - IPCO IRP'!$A:$B,2,FALSE),0)","v":0},{"$f":"MIN(VLOOKUP($B70,'Input - IPCO IRP'!$A:$M,12,FALSE),0)","v":-1466},{"$f":"MIN(VLOOKUP($B70,'Input - IPCO IRP'!$A:$M,13,FALSE),0)","v":0},{"$f":"MIN(VLOOKUP($B70,'Input - RMP IRP'!$A:$K,9,FALSE),0)","v":0},{"$f":"MIN(VLOOKUP($B70,'Input - RMP IRP'!$A:$K,10,FALSE),0)","v":-2929.6769374601181},{"$f":"MIN(VLOOKUP($B70,'Input - RMP IRP'!$A:$K,11,FALSE),0)","v":0}]
[null,2044,{"$f":"MIN(VLOOKUP($B71,'Input - Avista IRP'!$A:$D,2,FALSE),0)","v":0},{"$f":"MIN(VLOOKUP($B71,'Input - Avista IRP'!$A:$H,7,FALSE),0)","v":-424.41684803853889},{"$f":"MIN(VLOOKUP($B71,'Input - Avista IRP'!$A:$H,8,FALSE),0)","v":-329.45998475826678},{"$f":"MIN(VLOOKUP($B71,'Input - IPCO IRP'!$A:$B,2,FALSE),0)","v":0},{"$f":"MIN(VLOOKUP($B71,'Input - IPCO IRP'!$A:$M,12,FALSE),0)","v":-1466},{"$f":"MIN(VLOOKUP($B71,'Input - IPCO IRP'!$A:$M,13,FALSE),0)","v":0},{"$f":"MIN(VLOOKUP($B71,'Input - RMP IRP'!$A:$K,9,FALSE),0)","v":0},{"$f":"MIN(VLOOKUP($B71,'Input - RMP IRP'!$A:$K,10,FALSE),0)","v":-2929.6769374601181},{"$f":"MIN(VLOOKUP($B71,'Input - RMP IRP'!$A:$K,11,FALSE),0)","v":0}]
[null,2045,{"$f":"MIN(VLOOKUP($B72,'Input - Avista IRP'!$A:$D,2,FALSE),0)","v":0},{"$f":"MIN(VLOOKUP($B72,'Input - Avista IRP'!$A:$H,7,FALSE),0)","v":-442.85933923312132},{"$f":"MIN(VLOOKUP($B72,'Input - Avista IRP'!$A:$H,8,FALSE),0)","v":-347.55972126672231},{"$f":"MIN(VLOOKUP($B72,'Input - IPCO IRP'!$A:$B,2,FALSE),0)","v":0},{"$f":"MIN(VLOOKUP($B72,'Input - IPCO IRP'!$A:$M,12,FALSE),0)","v":-1466},{"$f":"MIN(VLOOKUP($B72,'Input - IPCO IRP'!$A:$M,13,FALSE),0)","v":0},{"$f":"MIN(VLOOKUP($B72,'Input - RMP IRP'!$A:$K,9,FALSE),0)","v":0},{"$f":"MIN(VLOOKUP($B72,'Input - RMP IRP'!$A:$K,10,FALSE),0)","v":-2929.6769374601181},{"$f":"MIN(VLOOKUP($B72,'Input - RMP IRP'!$A:$K,11,FALSE),0)","v":0}]
[null,2046,{"$f":"MIN(VLOOKUP($B73,'Input - Avista IRP'!$A:$D,2,FALSE),0)","v":0},{"$f":"MIN(VLOOKUP($B73,'Input - Avista IRP'!$A:$H,7,FALSE),0)","v":-442.85933923312132},{"$f":"MIN(VLOOKUP($B73,'Input - Avista IRP'!$A:$H,8,FALSE),0)","v":-347.55972126672231},{"$f":"MIN(VLOOKUP($B73,'Input - IPCO IRP'!$A:$B,2,FALSE),0)","v":0},{"$f":"MIN(VLOOKUP($B73,'Input - IPCO IRP'!$A:$M,12,FALSE),0)","v":-1466},{"$f":"MIN(VLOOKUP($B73,'Input - IPCO IRP'!$A:$M,13,FALSE),0)","v":0},{"$f":"MIN(VLOOKUP($B73,'Input - RMP IRP'!$A:$K,9,FALSE),0)","v":0},{"$f":"MIN(VLOOKUP($B73,'Input - RMP IRP'!$A:$K,10,FALSE),0)","v":-2929.6769374601181},{"$f":"MIN(VLOOKUP($B73,'Input - RMP IRP'!$A:$K,11,FALSE),0)","v":0}]
[null,2047,{"$f":"MIN(VLOOKUP($B74,'Input - Avista IRP'!$A:$D,2,FALSE),0)","v":0},{"$f":"MIN(VLOOKUP($B74,'Input - Avista IRP'!$A:$H,7,FALSE),0)","v":-442.85933923312132},{"$f":"MIN(VLOOKUP($B74,'Input - Avista IRP'!$A:$H,8,FALSE),0)","v":-347.55972126672231},{"$f":"MIN(VLOOKUP($B74,'Input - IPCO IRP'!$A:$B,2,FALSE),0)","v":0},{"$f":"MIN(VLOOKUP($B74,'Input - IPCO IRP'!$A:$M,12,FALSE),0)","v":-1466},{"$f":"MIN(VLOOKUP($B74,'Input - IPCO IRP'!$A:$M,13,FALSE),0)","v":0},{"$f":"MIN(VLOOKUP($B74,'Input - RMP IRP'!$A:$K,9,FALSE),0)","v":0},{"$f":"MIN(VLOOKUP($B74,'Input - RMP IRP'!$A:$K,10,FALSE),0)","v":-2929.6769374601181},{"$f":"MIN(VLOOKUP($B74,'Input - RMP IRP'!$A:$K,11,FALSE),0)","v":0}]
[null,2048,{"$f":"MIN(VLOOKUP($B75,'Input - Avista IRP'!$A:$D,2,FALSE),0)","v":0},{"$f":"MIN(VLOOKUP($B75,'Input - Avista IRP'!$A:$H,7,FALSE),0)","v":-442.85933923312132},{"$f":"MIN(VLOOKUP($B75,'Input - Avista IRP'!$A:$H,8,FALSE),0)","v":-347.55972126672231},{"$f":"MIN(VLOOKUP($B75,'Input - IPCO IRP'!$A:$B,2,FALSE),0)","v":0},{"$f":"MIN(VLOOKUP($B75,'Input - IPCO IRP'!$A:$M,12,FALSE),0)","v":-1466},{"$f":"MIN(VLOOKUP($B75,'Input - IPCO IRP'!$A:$M,13,FALSE),0)","v":0},{"$f":"MIN(VLOOKUP($B75,'Input - RMP IRP'!$A:$K,9,FALSE),0)","v":0},{"$f":"MIN(VLOOKUP($B75,'Input - RMP IRP'!$A:$K,10,FALSE),0)","v":-2929.6769374601181},{"$f":"MIN(VLOOKUP($B75,'Input - RMP IRP'!$A:$K,11,FALSE),0)","v":0}]
[null,2049,{"$f":"MIN(VLOOKUP($B76,'Input - Avista IRP'!$A:$D,2,FALSE),0)","v":0},{"$f":"MIN(VLOOKUP($B76,'Input - Avista IRP'!$A:$H,7,FALSE),0)","v":-442.85933923312132},{"$f":"MIN(VLOOKUP($B76,'Input - Avista IRP'!$A:$H,8,FALSE),0)","v":-347.55972126672231},{"$f":"MIN(VLOOKUP($B76,'Input - IPCO IRP'!$A:$B,2,FALSE),0)","v":0},{"$f":"MIN(VLOOKUP($B76,'Input - IPCO IRP'!$A:$M,12,FALSE),0)","v":-1466},{"$f":"MIN(VLOOKUP($B76,'Input - IPCO IRP'!$A:$M,13,FALSE),0)","v":0},{"$f":"MIN(VLOOKUP($B76,'Input - RMP IRP'!$A:$K,9,FALSE),0)","v":0},{"$f":"MIN(VLOOKUP($B76,'Input - RMP IRP'!$A:$K,10,FALSE),0)","v":-2929.6769374601181},{"$f":"MIN(VLOOKUP($B76,'Input - RMP IRP'!$A:$K,11,FALSE),0)","v":0}]
[null,2050,{"$f":"MIN(VLOOKUP($B77,'Input - Avista IRP'!$A:$D,2,FALSE),0)","v":0},{"$f":"MIN(VLOOKUP($B77,'Input - Avista IRP'!$A:$H,7,FALSE),0)","v":-442.85933923312132},{"$f":"MIN(VLOOKUP($B77,'Input - Avista IRP'!$A:$H,8,FALSE),0)","v":-347.55972126672231},{"$f":"MIN(VLOOKUP($B77,'Input - IPCO IRP'!$A:$B,2,FALSE),0)","v":0},{"$f":"MIN(VLOOKUP($B77,'Input - IPCO IRP'!$A:$M,12,FALSE),0)","v":-1466},{"$f":"MIN(VLOOKUP($B77,'Input - IPCO IRP'!$A:$M,13,FALSE),0)","v":0},{"$f":"MIN(VLOOKUP($B77,'Input - RMP IRP'!$A:$K,9,FALSE),0)","v":0},{"$f":"MIN(VLOOKUP($B77,'Input - RMP IRP'!$A:$K,10,FALSE),0)","v":-2929.6769374601181},{"$f":"MIN(VLOOKUP($B77,'Input - RMP IRP'!$A:$K,11,FALSE),0)","v":0}]
[null,2051,0,{"$f":"MIN(VLOOKUP($B78,'Input - Avista IRP'!$A:$H,7,FALSE),0)","v":{"$error":"#N/A"}},{"$f":"MIN(VLOOKUP($B78,'Input - Avista IRP'!$A:$H,8,FALSE),0)","v":{"$error":"#N/A"}},{"$f":"MIN(VLOOKUP($B78,'Input - IPCO IRP'!$A:$B,2,FALSE),0)","v":0},{"$f":"MIN(VLOOKUP($B78,'Input - IPCO IRP'!$A:$M,12,FALSE),0)","v":-1466},{"$f":"MIN(VLOOKUP($B78,'Input - IPCO IRP'!$A:$M,13,FALSE),0)","v":0},{"$f":"MIN(VLOOKUP($B78,'Input - RMP IRP'!$A:$K,9,FALSE),0)","v":{"$error":"#N/A"}},{"$f":"MIN(VLOOKUP($B78,'Input - RMP IRP'!$A:$K,10,FALSE),0)","v":{"$error":"#N/A"}},{"$f":"MIN(VLOOKUP($B78,'Input - RMP IRP'!$A:$K,11,FALSE),0)","v":{"$error":"#N/A"}}]

{"sheet":"Input - Transmission","index":6,"n_rows":14,"n_cols":3,"rows_kept":14,"cut":false,"hidden":false,"merged":[[1,0,1,2]]}
[]
["Utility Transmission Costs"]
[]
[]
["Utility","Rate ($/kW-mo)","Losses"]
["AVISTA",2,0.03]
["IPCO",1.75,0.04]
["PCP",2.5,0.05]
[]
["Rates Year",null,2012]
["Inflation Rate",null,{"$f":"'AVOID NEW'!D47","v":0.02}]
[]
[]
["Note:  The current SAR model does not take utility transmission costs into account."]

{"sheet":"AVISTA NF HLH LLH Levelized","index":7,"n_rows":200,"n_cols":27,"rows_kept":200,"cut":false,"hidden":false,"merged":[[174,1,174,18],[177,17,177,18],[177,21,177,22],[177,23,177,24],[177,25,177,26],[176,1,177,1],[176,2,176,4],[176,6,176,11],[176,13,176,18],[176,21,176,26],[177,2,178,2],[177,3,177,4],[177,6,177,7],[177,8,177,9],[177,10,177,11],[178,22,179,22],[178,24,179,24],[178,11,179,11],[178,14,179,14],[178,16,179,16],[177,15,177,16],[139,1,139,18],[140,1,140,18],[141,1,141,18],[114,7,115,7],[114,9,115,9],[114,11,115,11],[114,14,115,14],[114,16,115,16],[178,26,179,26],[178,7,179,7],[178,9,179,9],[142,1,142,18],[143,1,143,18],[144,1,145,1],[144,2,144,4],[144,6,144,11],[144,13,144,18],[146,26,147,26],[171,1,171,18],[172,1,172,18],[175,1,175,18],[178,18,179,18],[177,13,177,14],[173,1,173,18],[144,21,144,26],[145,2,146,2],[145,3,145,4],[145,6,145,7],[145,8,145,9],[145,10,145,11],[145,23,145,24],[145,25,145,26],[146,7,147,7],[146,9,147,9],[146,11,147,11],[146,14,147,14],[146,16,147,16],[146,18,147,18],[146,22,147,22],[146,24,147,24],[145,13,145,14],[145,15,145,16],[145,17,145,18],[145,21,145,22],[114,18,115,18],[113,13,113,14],[113,15,113,16],[113,17,113,18],[113,21,113,22],[113,23,113,24],[113,25,113,26],[112,1,113,1],[112,2,112,4],[112,6,112,11],[112,13,112,18],[112,21,112,26],[113,2,114,2],[113,3,113,4],[113,6,113,7],[113,8,113,9],[113,10,113,11],[114,26,115,26],[114,22,115,22],[114,24,115,24],[111,1,111,18],[81,23,81,24],[81,25,81,26],[82,7,83,7],[82,9,83,9],[82,11,83,11],[82,14,83,14],[82,16,83,16],[82,18,83,18],[82,22,83,22],[82,24,83,24],[81,13,81,14],[81,15,81,16],[81,17,81,18],[81,21,81,22],[82,26,83,26],[107,1,107,18],[108,1,108,18],[109,1,109,18],[110,1,110,18],[78,1,78,18],[79,1,79,18],[80,1,81,1],[80,2,80,4],[80,6,80,11],[80,13,80,18],[50,22,51,22],[50,24,51,24],[50,26,51,26],[75,1,75,18],[76,1,76,18],[77,1,77,18],[50,7,51,7],[50,9,51,9],[50,11,51,11],[50,14,51,14],[50,16,51,16],[50,18,51,18],[80,21,80,26],[81,2,82,2],[81,3,81,4],[81,6,81,7],[81,8,81,9],[81,10,81,11],[49,13,49,14],[49,15,49,16],[49,17,49,18],[49,21,49,22],[49,23,49,24],[49,25,49,26],[48,1,49,1],[48,2,48,4],[48,6,48,11],[48,13,48,18],[48,21,48,26],[49,2,50,2],[49,3,49,4],[49,6,49,7],[49,8,49,9],[49,10,49,11],[43,1,43,18],[44,1,44,18],[45,1,45,18],[46,1,46,18],[47,1,47,18],[17,23,17,24],[17,25,17,26],[18,7,19,7],[18,9,19,9],[18,11,19,11],[18,14,19,14],[18,16,19,16],[18,18,19,18],[18,22,19,22],[18,24,19,24],[16,21,16,26],[17,2,18,2],[17,3,17,4],[17,6,17,7],[17,8,17,9],[17,10,17,11],[17,13,17,14],[17,15,17,16],[17,17,17,18],[17,21,17,22],[18,26,19,26],[18,6,19,6],[14,1,14,18],[15,1,15,18],[16,1,17,1],[16,2,16,4],[16,6,16,11],[16,13,16,18],[0,1,0,18],[1,1,1,18],[2,1,2,18],[11,1,11,18],[12,1,12,18],[13,1,13,18]]}
[null,{"$f":"IF('AVOID NEW'!E105=\"AVISTA\",\"AVISTA\",\"THESE RATES ARE NOT VALID\")","v":"THESE RATES ARE NOT VALID"}]
[null,"AVOIDED COST RATES FOR NON-FUELED PROJECTS"]
[null,"Eligibility for these rates is limited to wind and solar projects 100 kW or smaller, and to non-wind and non-solar projects smaller than 10 aMW"]
[]
[null,"Seasonalization Factors"]
[]
[null,"Season 1",null,{"$f":"'AVOID NEW'!E75","v":1.08},"(Applied to July - February)"]
[null,"Season 2",null,{"$f":"'AVOID NEW'!E76","v":0.84},"(Applied to March - June)"]
[]
[]
[]
[null,{"$f":"$B$1","v":"THESE RATES ARE NOT VALID"}]
[null,"LEVELIZED RATES"]
[null,{"$f":"\"PROJECT ON-LINE IN \"& 'AVOID NEW'!$D$54","v":"PROJECT ON-LINE IN 2022"}]
[null,{"$f":"\"Rate Effective Date: \"&'AVOID NEW'!$E$69","v":"Rate Effective Date: XXXX, 2022"}]
[null,{"$f":"\"Resource:  \"&'Input - Capacity Factors'!$C$3","v":"Resource:  Wind"}]
[null,null,"Levelized Price",null,null,null,{"$f":"\"Season 1 Pricing (\"&$D$7*100&\"%)\"","v":"Season 1 Pricing (108%)"},null,null,null,null,null,null,{"$f":"\"Season 2 Pricing (\"&100*$D$8&\"%)\"","v":"Season 2 Pricing (84%)"},null,null,null,null,null,null,null,"Non-Seasonalized Pricing"]
[null,null,"Heavy and Light Load Hour Differential",{"$f":"'AVOID NEW'!$E$66","v":5},null,null,"Flat",null,"Heavy Load Hour",null,"Light Load Hour",null,null,"Flat",null,"Heavy Load Hour",null,"Light Load Hour",null,null,null,"Flat",null,"Heavy Load Hour",null,"Light Load Hour"]
[null,null,null,{"$f":"ROUND(D18/3,2)","v":1.67},{"$f":"-ROUND((D18*2)/3,2)","v":-3.33},null,"Price","Price less wind integration adjustment",null,"Price less wind integration adjustment",null,"Price less wind integration adjustment",null,null,"Price less wind integration adjustment",null,"Price less wind integration adjustment",null,"Price less wind integration adjustment",null,null,null,"Price less wind integration adjustment",null,"Price less wind integration adjustment",null,"Price less wind integration adjustment"]
[null,"Contract Length","Flat","Heavy Load Hour","Light Load Hour",null,null,null,"Price",null,"Price",null,null,"Price",null,"Price",null,"Price",null,null,null,"Price",null,"Price",null,"Price"]
[null,1,{"$f":"'AVOID NEW'!AN9","v":33.419966110621289},{"$f":"C21+D$19","v":35.08996611062129},{"$f":"C21+E$19","v":30.08996611062129},null,{"$f":"ROUND((+$C21*$D$7),2)","v":36.090000000000003},{"$f":"IF(OR('Input - Capacity Factors'!$C$3=\"Wind\"),IF(G21*'AVOID NEW'!$E$67<6.5,G21*(1-'AVOID NEW'!$E$67),G21-6.5),\"NA\")","v":33.202800000000003},{"$f":"ROUND((+$D21*$D$7),2)","v":37.9},{"$f":"IF(OR('Input - Capacity Factors'!$C$3=\"Wind\"),IF(I21*'AVOID NEW'!$E$67<6.5,I21*(1-'AVOID NEW'!$E$67),I21-6.5),\"NA\")","v":34.868000000000002},{"$f":"ROUND((+$E21*$D$7),2)","v":32.5},{"$f":"IF(OR('Input - Capacity Factors'!$C$3=\"Wind\"),IF(K21*'AVOID NEW'!$E$67<6.5,K21*(1-'AVOID NEW'!$E$67),K21-6.5),\"NA\")","v":29.900000000000002},null,{"$f":"ROUND((+$C21*$D$8),2)","v":28.07},{"$f":"IF(OR('Input - Capacity Factors'!$C$3=\"Wind\"),IF(N21*'AVOID NEW'!$E$67<6.5,N21*(1-'AVOID NEW'!$E$67),N21-6.5),\"NA\")","v":25.824400000000001},{"$f":"ROUND((+$D21*$D$8),2)","v":29.48},{"$f":"IF(OR('Input - Capacity Factors'!$C$3=\"Wind\"),IF(P21*'AVOID NEW'!$E$67<6.5,P21*(1-'AVOID NEW'!$E$67),P21-6.5),\"NA\")","v":27.121600000000001},{"$f":"ROUND((+$E21*$D$8),2)","v":25.28},{"$f":"IF(OR('Input - Capacity Factors'!$C$3=\"Wind\"),IF(R21*'AVOID NEW'!$E$67<6.5,R21*(1-'AVOID NEW'!$E$67),R21-6.5),\"NA\")","v":23.257600000000004},null,null,{"$f":"ROUND((+$C21),2)","v":33.42},{"$f":"IF(OR('Input - Capacity Factors'!$C$3=\"Wind\"),IF(V21*'AVOID NEW'!$E$67<6.5,V21*(1-'AVOID NEW'!$E$67),V21-6.5),\"NA\")","v":30.746400000000001},{"$f":"ROUND((+$D21),2)","v":35.090000000000003},{"$f":"IF(OR('Input - Capacity Factors'!$C$3=\"Wind\"),IF(X21*'AVOID NEW'!$E$67<6.5,X21*(1-'AVOID NEW'!$E$67),X21-6.5),\"NA\")","v":32.282800000000002},{"$f":"ROUND((+$E21),2)","v":30.09},{"$f":"IF(OR('Input - Capacity Factors'!$C$3=\"Wind\"),IF(Z21*'AVOID NEW'!$E$67<6.5,Z21*(1-'AVOID NEW'!$E$67),Z21-6.5),\"NA\")","v":27.6828}]
[null,2,{"$f":"'AVOID NEW'!AN10","v":34.439473967995994},36.109473967995996,31.109473967995996,null,37.19,{"$f":"IF(OR('Input - Capacity Factors'!$C$3=\"Wind\"),IF(G22*'AVOID NEW'!$E$67<6.5,G22*(1-'AVOID NEW'!$E$67),G22-6.5),\"NA\")","v":34.214799999999997},39,{"$f":"IF(OR('Input - Capacity Factors'!$C$3=\"Wind\"),IF(I22*'AVOID NEW'!$E$67<6.5,I22*(1-'AVOID NEW'!$E$67),I22-6.5),\"NA\")","v":35.880000000000003},33.6,{"$f":"IF(OR('Input - Capacity Factors'!$C$3=\"Wind\"),IF(K22*'AVOID NEW'!$E$67<6.5,K22*(1-'AVOID NEW'!$E$67),K22-6.5),\"NA\")","v":30.912000000000003},null,28.93,{"$f":"IF(OR('Input - Capacity Factors'!$C$3=\"Wind\"),IF(N22*'AVOID NEW'!$E$67<6.5,N22*(1-'AVOID NEW'!$E$67),N22-6.5),\"NA\")","v":26.615600000000001},30.33,{"$f":"IF(OR('Input - Capacity Factors'!$C$3=\"Wind\"),IF(P22*'AVOID NEW'!$E$67<6.5,P22*(1-'AVOID NEW'!$E$67),P22-6.5),\"NA\")","v":27.903600000000001},26.13,{"$f":"IF(OR('Input - Capacity Factors'!$C$3=\"Wind\"),IF(R22*'AVOID NEW'!$E$67<6.5,R22*(1-'AVOID NEW'!$E$67),R22-6.5),\"NA\")","v":24.0396},null,null,{"$f":"ROUND((+$C22),2)","v":34.44},{"$f":"IF(OR('Input - Capacity Factors'!$C$3=\"Wind\"),IF(V22*'AVOID NEW'!$E$67<6.5,V22*(1-'AVOID NEW'!$E$67),V22-6.5),\"NA\")","v":31.684799999999999},{"$f":"ROUND((+$D22),2)","v":36.11},{"$f":"IF(OR('Input - Capacity Factors'!$C$3=\"Wind\"),IF(X22*'AVOID NEW'!$E$67<6.5,X22*(1-'AVOID NEW'!$E$67),X22-6.5),\"NA\")","v":33.221200000000003},{"$f":"ROUND((+$E22),2)","v":31.11},{"$f":"IF(OR('Input - Capacity Factors'!$C$3=\"Wind\"),IF(Z22*'AVOID NEW'!$E$67<6.5,Z22*(1-'AVOID NEW'!$E$67),Z22-6.5),\"NA\")","v":28.621200000000002}]
[null,3,{"$f":"'AVOID NEW'!AN11","v":34.20998642313014},35.879986423130141,30.879986423130141,null,36.950000000000003,{"$f":"IF(OR('Input - Capacity Factors'!$C$3=\"Wind\"),IF(G23*'AVOID NEW'!$E$67<6.5,G23*(1-'AVOID NEW'!$E$67),G23-6.5),\"NA\")","v":33.994000000000007},38.75,{"$f":"IF(OR('Input - Capacity Factors'!$C$3=\"Wind\"),IF(I23*'AVOID NEW'!$E$67<6.5,I23*(1-'AVOID NEW'!$E$67),I23-6.5),\"NA\")","v":35.65},33.35,{"$f":"IF(OR('Input - Capacity Factors'!$C$3=\"Wind\"),IF(K23*'AVOID NEW'!$E$67<6.5,K23*(1-'AVOID NEW'!$E$67),K23-6.5),\"NA\")","v":30.682000000000002},null,28.74,{"$f":"IF(OR('Input - Capacity Factors'!$C$3=\"Wind\"),IF(N23*'AVOID NEW'!$E$67<6.5,N23*(1-'AVOID NEW'!$E$67),N23-6.5),\"NA\")","v":26.440799999999999},30.14,{"$f":"IF(OR('Input - Capacity Factors'!$C$3=\"Wind\"),IF(P23*'AVOID NEW'!$E$67<6.5,P23*(1-'AVOID NEW'!$E$67),P23-6.5),\"NA\")","v":27.728800000000003},25.94,{"$f":"IF(OR('Input - Capacity Factors'!$C$3=\"Wind\"),IF(R23*'AVOID NEW'!$E$67<6.5,R23*(1-'AVOID NEW'!$E$67),R23-6.5),\"NA\")","v":23.864800000000002},null,null,34.21,{"$f":"IF(OR('Input - Capacity Factors'!$C$3=\"Wind\"),IF(V23*'AVOID NEW'!$E$67<6.5,V23*(1-'AVOID NEW'!$E$67),V23-6.5),\"NA\")","v":31.473200000000002},35.880000000000003,{"$f":"IF(OR('Input - Capacity Factors'!$C$3=\"Wind\"),IF(X23*'AVOID NEW'!$E$67<6.5,X23*(1-'AVOID NEW'!$E$67),X23-6.5),\"NA\")","v":33.009600000000006},30.88,{"$f":"IF(OR('Input - Capacity Factors'!$C$3=\"Wind\"),IF(Z23*'AVOID NEW'!$E$67<6.5,Z23*(1-'AVOID NEW'!$E$67),Z23-6.5),\"NA\")","v":28.409600000000001}]
[null,4,{"$f":"'AVOID NEW'!AN12","v":33.989101272331553},35.659101272331554,30.659101272331554,null,36.71,{"$f":"IF(OR('Input - Capacity Factors'!$C$3=\"Wind\"),IF(G24*'AVOID NEW'!$E$67<6.5,G24*(1-'AVOID NEW'!$E$67),G24-6.5),\"NA\")","v":33.773200000000003},38.51,{"$f":"IF(OR('Input - Capacity Factors'!$C$3=\"Wind\"),IF(I24*'AVOID NEW'!$E$67<6.5,I24*(1-'AVOID NEW'!$E$67),I24-6.5),\"NA\")","v":35.429200000000002},33.11,{"$f":"IF(OR('Input - Capacity Factors'!$C$3=\"Wind\"),IF(K24*'AVOID NEW'!$E$67<6.5,K24*(1-'AVOID NEW'!$E$67),K24-6.5),\"NA\")","v":30.461200000000002},null,28.55,{"$f":"IF(OR('Input - Capacity Factors'!$C$3=\"Wind\"),IF(N24*'AVOID NEW'!$E$67<6.5,N24*(1-'AVOID NEW'!$E$67),N24-6.5),\"NA\")","v":26.266000000000002},29.95,{"$f":"IF(OR('Input - Capacity Factors'!$C$3=\"Wind\"),IF(P24*'AVOID NEW'!$E$67<6.5,P24*(1-'AVOID NEW'!$E$67),P24-6.5),\"NA\")","v":27.554000000000002},25.75,{"$f":"IF(OR('Input - Capacity Factors'!$C$3=\"Wind\"),IF(R24*'AVOID NEW'!$E$67<6.5,R24*(1-'AVOID NEW'!$E$67),R24-6.5),\"NA\")","v":23.69},null,null,33.99,{"$f":"IF(OR('Input - Capacity Factors'!$C$3=\"Wind\"),IF(V24*'AVOID NEW'!$E$67<6.5,V24*(1-'AVOID NEW'!$E$67),V24-6.5),\"NA\")","v":31.270800000000005},35.659999999999997,{"$f":"IF(OR('Input - Capacity Factors'!$C$3=\"Wind\"),IF(X24*'AVOID NEW'!$E$67<6.5,X24*(1-'AVOID NEW'!$E$67),X24-6.5),\"NA\")","v":32.807200000000002},30.66,{"$f":"IF(OR('Input - Capacity Factors'!$C$3=\"Wind\"),IF(Z24*'AVOID NEW'!$E$67<6.5,Z24*(1-'AVOID NEW'!$E$67),Z24-6.5),\"NA\")","v":28.2072}]
[null,5,{"$f":"'AVOID NEW'!AN13","v":34.070746214974278},35.74074621497428,30.74074621497428,null,36.799999999999997,{"$f":"IF(OR('Input - Capacity Factors'!$C$3=\"Wind\"),IF(G25*'AVOID NEW'!$E$67<6.5,G25*(1-'AVOID NEW'!$E$67),G25-6.5),\"NA\")","v":33.856000000000002},38.6,{"$f":"IF(OR('Input - Capacity Factors'!$C$3=\"Wind\"),IF(I25*'AVOID NEW'!$E$67<6.5,I25*(1-'AVOID NEW'!$E$67),I25-6.5),\"NA\")","v":35.512},33.200000000000003,{"$f":"IF(OR('Input - Capacity Factors'!$C$3=\"Wind\"),IF(K25*'AVOID NEW'!$E$67<6.5,K25*(1-'AVOID NEW'!$E$67),K25-6.5),\"NA\")","v":30.544000000000004},null,28.62,{"$f":"IF(OR('Input - Capacity Factors'!$C$3=\"Wind\"),IF(N25*'AVOID NEW'!$E$67<6.5,N25*(1-'AVOID NEW'!$E$67),N25-6.5),\"NA\")","v":26.330400000000001},30.02,{"$f":"IF(OR('Input - Capacity Factors'!$C$3=\"Wind\"),IF(P25*'AVOID NEW'!$E$67<6.5,P25*(1-'AVOID NEW'!$E$67),P25-6.5),\"NA\")","v":27.618400000000001},25.82,{"$f":"IF(OR('Input - Capacity Factors'!$C$3=\"Wind\"),IF(R25*'AVOID NEW'!$E$67<6.5,R25*(1-'AVOID NEW'!$E$67),R25-6.5),\"NA\")","v":23.7544},null,null,34.07,{"$f":"IF(OR('Input - Capacity Factors'!$C$3=\"Wind\"),IF(V25*'AVOID NEW'!$E$67<6.5,V25*(1-'AVOID NEW'!$E$67),V25-6.5),\"NA\")","v":31.3444},35.74,{"$f":"IF(OR('Input - Capacity Factors'!$C$3=\"Wind\"),IF(X25*'AVOID NEW'!$E$67<6.5,X25*(1-'AVOID NEW'!$E$67),X25-6.5),\"NA\")","v":32.880800000000001},30.74,{"$f":"IF(OR('Input - Capacity Factors'!$C$3=\"Wind\"),IF(Z25*'AVOID NEW'!$E$67<6.5,Z25*(1-'AVOID NEW'!$E$67),Z25-6.5),\"NA\")","v":28.280799999999999}]
[null,6,{"$f":"'AVOID NEW'!AN14","v":34.398112521361604},36.068112521361606,31.068112521361606,null,37.15,{"$f":"IF(OR('Input - Capacity Factors'!$C$3=\"Wind\"),IF(G26*'AVOID NEW'!$E$67<6.5,G26*(1-'AVOID NEW'!$E$67),G26-6.5),\"NA\")","v":34.177999999999997},38.950000000000003,{"$f":"IF(OR('Input - Capacity Factors'!$C$3=\"Wind\"),IF(I26*'AVOID NEW'!$E$67<6.5,I26*(1-'AVOID NEW'!$E$67),I26-6.5),\"NA\")","v":35.834000000000003},33.549999999999997,{"$f":"IF(OR('Input - Capacity Factors'!$C$3=\"Wind\"),IF(K26*'AVOID NEW'!$E$67<6.5,K26*(1-'AVOID NEW'!$E$67),K26-6.5),\"NA\")","v":30.866},null,28.89,{"$f":"IF(OR('Input - Capacity Factors'!$C$3=\"Wind\"),IF(N26*'AVOID NEW'!$E$67<6.5,N26*(1-'AVOID NEW'!$E$67),N26-6.5),\"NA\")","v":26.578800000000001},30.3,{"$f":"IF(OR('Input - Capacity Factors'!$C$3=\"Wind\"),IF(P26*'AVOID NEW'!$E$67<6.5,P26*(1-'AVOID NEW'!$E$67),P26-6.5),\"NA\")","v":27.876000000000001},26.1,{"$f":"IF(OR('Input - Capacity Factors'!$C$3=\"Wind\"),IF(R26*'AVOID NEW'!$E$67<6.5,R26*(1-'AVOID NEW'!$E$67),R26-6.5),\"NA\")","v":24.012000000000004},null,null,34.4,{"$f":"IF(OR('Input - Capacity Factors'!$C$3=\"Wind\"),IF(V26*'AVOID NEW'!$E$67<6.5,V26*(1-'AVOID NEW'!$E$67),V26-6.5),\"NA\")","v":31.648},36.07,{"$f":"IF(OR('Input - Capacity Factors'!$C$3=\"Wind\"),IF(X26*'AVOID NEW'!$E$67<6.5,X26*(1-'AVOID NEW'!$E$67),X26-6.5),\"NA\")","v":33.184400000000004},31.07,{"$f":"IF(OR('Input - Capacity Factors'!$C$3=\"Wind\"),IF(Z26*'AVOID NEW'!$E$67<6.5,Z26*(1-'AVOID NEW'!$E$67),Z26-6.5),\"NA\")","v":28.584400000000002}]
[null,7,{"$f":"'AVOID NEW'!AN15","v":34.907693947113799},36.577693947113801,31.577693947113801,null,37.700000000000003,{"$f":"IF(OR('Input - Capacity Factors'!$C$3=\"Wind\"),IF(G27*'AVOID NEW'!$E$67<6.5,G27*(1-'AVOID NEW'!$E$67),G27-6.5),\"NA\")","v":34.684000000000005},39.5,{"$f":"IF(OR('Input - Capacity Factors'!$C$3=\"Wind\"),IF(I27*'AVOID NEW'!$E$67<6.5,I27*(1-'AVOID NEW'!$E$67),I27-6.5),\"NA\")","v":36.340000000000003},34.1,{"$f":"IF(OR('Input - Capacity Factors'!$C$3=\"Wind\"),IF(K27*'AVOID NEW'!$E$67<6.5,K27*(1-'AVOID NEW'!$E$67),K27-6.5),\"NA\")","v":31.372000000000003},null,29.32,{"$f":"IF(OR('Input - Capacity Factors'!$C$3=\"Wind\"),IF(N27*'AVOID NEW'!$E$67<6.5,N27*(1-'AVOID NEW'!$E$67),N27-6.5),\"NA\")","v":26.974400000000003},30.73,{"$f":"IF(OR('Input - Capacity Factors'!$C$3=\"Wind\"),IF(P27*'AVOID NEW'!$E$67<6.5,P27*(1-'AVOID NEW'!$E$67),P27-6.5),\"NA\")","v":28.271600000000003},26.53,{"$f":"IF(OR('Input - Capacity Factors'!$C$3=\"Wind\"),IF(R27*'AVOID NEW'!$E$67<6.5,R27*(1-'AVOID NEW'!$E$67),R27-6.5),\"NA\")","v":24.407600000000002},null,null,34.909999999999997,{"$f":"IF(OR('Input - Capacity Factors'!$C$3=\"Wind\"),IF(V27*'AVOID NEW'!$E$67<6.5,V27*(1-'AVOID NEW'!$E$67),V27-6.5),\"NA\")","v":32.117199999999997},36.58,{"$f":"IF(OR('Input - Capacity Factors'!$C$3=\"Wind\"),IF(X27*'AVOID NEW'!$E$67<6.5,X27*(1-'AVOID NEW'!$E$67),X27-6.5),\"NA\")","v":33.653599999999997},31.58,{"$f":"IF(OR('Input - Capacity Factors'!$C$3=\"Wind\"),IF(Z27*'AVOID NEW'!$E$67<6.5,Z27*(1-'AVOID NEW'!$E$67),Z27-6.5),\"NA\")","v":29.053599999999999}]
[null,8,{"$f":"'AVOID NEW'!AN16","v":35.491379593873297},37.161379593873299,32.161379593873299,null,38.33,{"$f":"IF(OR('Input - Capacity Factors'!$C$3=\"Wind\"),IF(G28*'AVOID NEW'!$E$67<6.5,G28*(1-'AVOID NEW'!$E$67),G28-6.5),\"NA\")","v":35.263599999999997},40.130000000000003,{"$f":"IF(OR('Input - Capacity Factors'!$C$3=\"Wind\"),IF(I28*'AVOID NEW'!$E$67<6.5,I28*(1-'AVOID NEW'!$E$67),I28-6.5),\"NA\")","v":36.919600000000003},34.729999999999997,{"$f":"IF(OR('Input - Capacity Factors'!$C$3=\"Wind\"),IF(K28*'AVOID NEW'!$E$67<6.5,K28*(1-'AVOID NEW'!$E$67),K28-6.5),\"NA\")","v":31.951599999999999},null,29.81,{"$f":"IF(OR('Input - Capacity Factors'!$C$3=\"Wind\"),IF(N28*'AVOID NEW'!$E$67<6.5,N28*(1-'AVOID NEW'!$E$67),N28-6.5),\"NA\")","v":27.4252},31.22,{"$f":"IF(OR('Input - Capacity Factors'!$C$3=\"Wind\"),IF(P28*'AVOID NEW'!$E$67<6.5,P28*(1-'AVOID NEW'!$E$67),P28-6.5),\"NA\")","v":28.7224},27.02,{"$f":"IF(OR('Input - Capacity Factors'!$C$3=\"Wind\"),IF(R28*'AVOID NEW'!$E$67<6.5,R28*(1-'AVOID NEW'!$E$67),R28-6.5),\"NA\")","v":24.8584},null,null,35.49,{"$f":"IF(OR('Input - Capacity Factors'!$C$3=\"Wind\"),IF(V28*'AVOID NEW'!$E$67<6.5,V28*(1-'AVOID NEW'!$E$67),V28-6.5),\"NA\")","v":32.650800000000004},37.159999999999997,{"$f":"IF(OR('Input - Capacity Factors'!$C$3=\"Wind\"),IF(X28*'AVOID NEW'!$E$67<6.5,X28*(1-'AVOID NEW'!$E$67),X28-6.5),\"NA\")","v":34.187199999999997},32.159999999999997,{"$f":"IF(OR('Input - Capacity Factors'!$C$3=\"Wind\"),IF(Z28*'AVOID NEW'!$E$67<6.5,Z28*(1-'AVOID NEW'!$E$67),Z28-6.5),\"NA\")","v":29.587199999999999}]
[null,9,{"$f":"'AVOID NEW'!AN17","v":36.07864341903943},37.748643419039432,32.748643419039432,null,38.96,{"$f":"IF(OR('Input - Capacity Factors'!$C$3=\"Wind\"),IF(G29*'AVOID NEW'!$E$67<6.5,G29*(1-'AVOID NEW'!$E$67),G29-6.5),\"NA\")","v":35.843200000000003},40.770000000000003,{"$f":"IF(OR('Input - Capacity Factors'!$C$3=\"Wind\"),IF(I29*'AVOID NEW'!$E$67<6.5,I29*(1-'AVOID NEW'!$E$67),I29-6.5),\"NA\")","v":37.508400000000002},35.369999999999997,{"$f":"IF(OR('Input - Capacity Factors'!$C$3=\"Wind\"),IF(K29*'AVOID NEW'!$E$67<6.5,K29*(1-'AVOID NEW'!$E$67),K29-6.5),\"NA\")","v":32.540399999999998},null,30.31,{"$f":"IF(OR('Input - Capacity Factors'!$C$3=\"Wind\"),IF(N29*'AVOID NEW'!$E$67<6.5,N29*(1-'AVOID NEW'!$E$67),N29-6.5),\"NA\")","v":27.885200000000001},31.71,{"$f":"IF(OR('Input - Capacity Factors'!$C$3=\"Wind\"),IF(P29*'AVOID NEW'!$E$67<6.5,P29*(1-'AVOID NEW'!$E$67),P29-6.5),\"NA\")","v":29.173200000000001},27.51,{"$f":"IF(OR('Input - Capacity Factors'!$C$3=\"Wind\"),IF(R29*'AVOID NEW'!$E$67<6.5,R29*(1-'AVOID NEW'!$E$67),R29-6.5),\"NA\")","v":25.309200000000004},null,null,36.08,{"$f":"IF(OR('Input - Capacity Factors'!$C$3=\"Wind\"),IF(V29*'AVOID NEW'!$E$67<6.5,V29*(1-'AVOID NEW'!$E$67),V29-6.5),\"NA\")","v":33.193599999999996},37.75,{"$f":"IF(OR('Input - Capacity Factors'!$C$3=\"Wind\"),IF(X29*'AVOID NEW'!$E$67<6.5,X29*(1-'AVOID NEW'!$E$67),X29-6.5),\"NA\")","v":34.730000000000004},32.75,{"$f":"IF(OR('Input - Capacity Factors'!$C$3=\"Wind\"),IF(Z29*'AVOID NEW'!$E$67<6.5,Z29*(1-'AVOID NEW'!$E$67),Z29-6.5),\"NA\")","v":30.130000000000003}]
[null,10,{"$f":"'AVOID NEW'!AN18","v":36.645726804555231},38.315726804555233,33.315726804555233,null,39.58,{"$f":"IF(OR('Input - Capacity Factors'!$C$3=\"Wind\"),IF(G30*'AVOID NEW'!$E$67<6.5,G30*(1-'AVOID NEW'!$E$67),G30-6.5),\"NA\")","v":36.413600000000002},41.38,{"$f":"IF(OR('Input - Capacity Factors'!$C$3=\"Wind\"),IF(I30*'AVOID NEW'!$E$67<6.5,I30*(1-'AVOID NEW'!$E$67),I30-6.5),\"NA\")","v":38.069600000000001},35.979999999999997,{"$f":"IF(OR('Input - Capacity Factors'!$C$3=\"Wind\"),IF(K30*'AVOID NEW'!$E$67<6.5,K30*(1-'AVOID NEW'!$E$67),K30-6.5),\"NA\")","v":33.101599999999998},null,30.78,{"$f":"IF(OR('Input - Capacity Factors'!$C$3=\"Wind\"),IF(N30*'AVOID NEW'!$E$67<6.5,N30*(1-'AVOID NEW'!$E$67),N30-6.5),\"NA\")","v":28.317600000000002},32.19,{"$f":"IF(OR('Input - Capacity Factors'!$C$3=\"Wind\"),IF(P30*'AVOID NEW'!$E$67<6.5,P30*(1-'AVOID NEW'!$E$67),P30-6.5),\"NA\")","v":29.614799999999999},27.99,{"$f":"IF(OR('Input - Capacity Factors'!$C$3=\"Wind\"),IF(R30*'AVOID NEW'!$E$67<6.5,R30*(1-'AVOID NEW'!$E$67),R30-6.5),\"NA\")","v":25.750799999999998},null,null,36.65,{"$f":"IF(OR('Input - Capacity Factors'!$C$3=\"Wind\"),IF(V30*'AVOID NEW'!$E$67<6.5,V30*(1-'AVOID NEW'!$E$67),V30-6.5),\"NA\")","v":33.718000000000004},38.32,{"$f":"IF(OR('Input - Capacity Factors'!$C$3=\"Wind\"),IF(X30*'AVOID NEW'!$E$67<6.5,X30*(1-'AVOID NEW'!$E$67),X30-6.5),\"NA\")","v":35.254400000000004},33.32,{"$f":"IF(OR('Input - Capacity Factors'!$C$3=\"Wind\"),IF(Z30*'AVOID NEW'!$E$67<6.5,Z30*(1-'AVOID NEW'!$E$67),Z30-6.5),\"NA\")","v":30.654400000000003}]
[null,11,{"$f":"'AVOID NEW'!AN19","v":37.206368133146107},38.876368133146109,33.876368133146109,null,40.18,{"$f":"IF(OR('Input - Capacity Factors'!$C$3=\"Wind\"),IF(G31*'AVOID NEW'!$E$67<6.5,G31*(1-'AVOID NEW'!$E$67),G31-6.5),\"NA\")","v":36.965600000000002},41.99,{"$f":"IF(OR('Input - Capacity Factors'!$C$3=\"Wind\"),IF(I31*'AVOID NEW'!$E$67<6.5,I31*(1-'AVOID NEW'!$E$67),I31-6.5),\"NA\")","v":38.630800000000001},36.590000000000003,{"$f":"IF(OR('Input - Capacity Factors'!$C$3=\"Wind\"),IF(K31*'AVOID NEW'!$E$67<6.5,K31*(1-'AVOID NEW'!$E$67),K31-6.5),\"NA\")","v":33.662800000000004},null,31.25,{"$f":"IF(OR('Input - Capacity Factors'!$C$3=\"Wind\"),IF(N31*'AVOID NEW'!$E$67<6.5,N31*(1-'AVOID NEW'!$E$67),N31-6.5),\"NA\")","v":28.75},32.659999999999997,{"$f":"IF(OR('Input - Capacity Factors'!$C$3=\"Wind\"),IF(P31*'AVOID NEW'!$E$67<6.5,P31*(1-'AVOID NEW'!$E$67),P31-6.5),\"NA\")","v":30.047199999999997},28.46,{"$f":"IF(OR('Input - Capacity Factors'!$C$3=\"Wind\"),IF(R31*'AVOID NEW'!$E$67<6.5,R31*(1-'AVOID NEW'!$E$67),R31-6.5),\"NA\")","v":26.183200000000003},null,null,37.21,{"$f":"IF(OR('Input - Capacity Factors'!$C$3=\"Wind\"),IF(V31*'AVOID NEW'!$E$67<6.5,V31*(1-'AVOID NEW'!$E$67),V31-6.5),\"NA\")","v":34.233200000000004},38.880000000000003,{"$f":"IF(OR('Input - Capacity Factors'!$C$3=\"Wind\"),IF(X31*'AVOID NEW'!$E$67<6.5,X31*(1-'AVOID NEW'!$E$67),X31-6.5),\"NA\")","v":35.769600000000004},33.880000000000003,{"$f":"IF(OR('Input - Capacity Factors'!$C$3=\"Wind\"),IF(Z31*'AVOID NEW'!$E$67<6.5,Z31*(1-'AVOID NEW'!$E$67),Z31-6.5),\"NA\")","v":31.169600000000003}]
[null,12,{"$f":"'AVOID NEW'!AN20","v":37.753822522231943},39.423822522231944,34.423822522231944,null,40.770000000000003,{"$f":"IF(OR('Input - Capacity Factors'!$C$3=\"Wind\"),IF(G32*'AVOID NEW'!$E$67<6.5,G32*(1-'AVOID NEW'!$E$67),G32-6.5),\"NA\")","v":37.508400000000002},42.58,{"$f":"IF(OR('Input - Capacity Factors'!$C$3=\"Wind\"),IF(I32*'AVOID NEW'!$E$67<6.5,I32*(1-'AVOID NEW'!$E$67),I32-6.5),\"NA\")","v":39.1736},37.18,{"$f":"IF(OR('Input - Capacity Factors'!$C$3=\"Wind\"),IF(K32*'AVOID NEW'!$E$67<6.5,K32*(1-'AVOID NEW'!$E$67),K32-6.5),\"NA\")","v":34.205600000000004},null,31.71,{"$f":"IF(OR('Input - Capacity Factors'!$C$3=\"Wind\"),IF(N32*'AVOID NEW'!$E$67<6.5,N32*(1-'AVOID NEW'!$E$67),N32-6.5),\"NA\")","v":29.173200000000001},33.119999999999997,{"$f":"IF(OR('Input - Capacity Factors'!$C$3=\"Wind\"),IF(P32*'AVOID NEW'!$E$67<6.5,P32*(1-'AVOID NEW'!$E$67),P32-6.5),\"NA\")","v":30.470399999999998},28.92,{"$f":"IF(OR('Input - Capacity Factors'!$C$3=\"Wind\"),IF(R32*'AVOID NEW'!$E$67<6.5,R32*(1-'AVOID NEW'!$E$67),R32-6.5),\"NA\")","v":26.606400000000004},null,null,37.75,{"$f":"IF(OR('Input - Capacity Factors'!$C$3=\"Wind\"),IF(V32*'AVOID NEW'!$E$67<6.5,V32*(1-'AVOID NEW'!$E$67),V32-6.5),\"NA\")","v":34.730000000000004},39.42,{"$f":"IF(OR('Input - Capacity Factors'!$C$3=\"Wind\"),IF(X32*'AVOID NEW'!$E$67<6.5,X32*(1-'AVOID NEW'!$E$67),X32-6.5),\"NA\")","v":36.266400000000004},34.42,{"$f":"IF(OR('Input - Capacity Factors'!$C$3=\"Wind\"),IF(Z32*'AVOID NEW'!$E$67<6.5,Z32*(1-'AVOID NEW'!$E$67),Z32-6.5),\"NA\")","v":31.666400000000003}]
[null,13,{"$f":"'AVOID NEW'!AN21","v":38.265430990083907},39.935430990083908,34.935430990083908,null,41.33,{"$f":"IF(OR('Input - Capacity Factors'!$C$3=\"Wind\"),IF(G33*'AVOID NEW'!$E$67<6.5,G33*(1-'AVOID NEW'!$E$67),G33-6.5),\"NA\")","v":38.023600000000002},43.13,{"$f":"IF(OR('Input - Capacity Factors'!$C$3=\"Wind\"),IF(I33*'AVOID NEW'!$E$67<6.5,I33*(1-'AVOID NEW'!$E$67),I33-6.5),\"NA\")","v":39.679600000000001},37.729999999999997,{"$f":"IF(OR('Input - Capacity Factors'!$C$3=\"Wind\"),IF(K33*'AVOID NEW'!$E$67<6.5,K33*(1-'AVOID NEW'!$E$67),K33-6.5),\"NA\")","v":34.711599999999997},null,32.14,{"$f":"IF(OR('Input - Capacity Factors'!$C$3=\"Wind\"),IF(N33*'AVOID NEW'!$E$67<6.5,N33*(1-'AVOID NEW'!$E$67),N33-6.5),\"NA\")","v":29.568800000000003},33.549999999999997,{"$f":"IF(OR('Input - Capacity Factors'!$C$3=\"Wind\"),IF(P33*'AVOID NEW'!$E$67<6.5,P33*(1-'AVOID NEW'!$E$67),P33-6.5),\"NA\")","v":30.866},29.35,{"$f":"IF(OR('Input - Capacity Factors'!$C$3=\"Wind\"),IF(R33*'AVOID NEW'!$E$67<6.5,R33*(1-'AVOID NEW'!$E$67),R33-6.5),\"NA\")","v":27.002000000000002},null,null,38.270000000000003,{"$f":"IF(OR('Input - Capacity Factors'!$C$3=\"Wind\"),IF(V33*'AVOID NEW'!$E$67<6.5,V33*(1-'AVOID NEW'!$E$67),V33-6.5),\"NA\")","v":35.208400000000005},39.94,{"$f":"IF(OR('Input - Capacity Factors'!$C$3=\"Wind\"),IF(X33*'AVOID NEW'!$E$67<6.5,X33*(1-'AVOID NEW'!$E$67),X33-6.5),\"NA\")","v":36.744799999999998},34.94,{"$f":"IF(OR('Input - Capacity Factors'!$C$3=\"Wind\"),IF(Z33*'AVOID NEW'!$E$67<6.5,Z33*(1-'AVOID NEW'!$E$67),Z33-6.5),\"NA\")","v":32.144799999999996}]
[null,14,{"$f":"'AVOID NEW'!AN22","v":38.731227218796441},40.401227218796443,35.401227218796443,null,41.83,{"$f":"IF(OR('Input - Capacity Factors'!$C$3=\"Wind\"),IF(G34*'AVOID NEW'!$E$67<6.5,G34*(1-'AVOID NEW'!$E$67),G34-6.5),\"NA\")","v":38.483600000000003},43.63,{"$f":"IF(OR('Input - Capacity Factors'!$C$3=\"Wind\"),IF(I34*'AVOID NEW'!$E$67<6.5,I34*(1-'AVOID NEW'!$E$67),I34-6.5),\"NA\")","v":40.139600000000002},38.229999999999997,{"$f":"IF(OR('Input - Capacity Factors'!$C$3=\"Wind\"),IF(K34*'AVOID NEW'!$E$67<6.5,K34*(1-'AVOID NEW'!$E$67),K34-6.5),\"NA\")","v":35.171599999999998},null,32.53,{"$f":"IF(OR('Input - Capacity Factors'!$C$3=\"Wind\"),IF(N34*'AVOID NEW'!$E$67<6.5,N34*(1-'AVOID NEW'!$E$67),N34-6.5),\"NA\")","v":29.927600000000002},33.94,{"$f":"IF(OR('Input - Capacity Factors'!$C$3=\"Wind\"),IF(P34*'AVOID NEW'!$E$67<6.5,P34*(1-'AVOID NEW'!$E$67),P34-6.5),\"NA\")","v":31.224799999999998},29.74,{"$f":"IF(OR('Input - Capacity Factors'!$C$3=\"Wind\"),IF(R34*'AVOID NEW'!$E$67<6.5,R34*(1-'AVOID NEW'!$E$67),R34-6.5),\"NA\")","v":27.360800000000001},null,null,38.729999999999997,{"$f":"IF(OR('Input - Capacity Factors'!$C$3=\"Wind\"),IF(V34*'AVOID NEW'!$E$67<6.5,V34*(1-'AVOID NEW'!$E$67),V34-6.5),\"NA\")","v":35.631599999999999},40.4,{"$f":"IF(OR('Input - Capacity Factors'!$C$3=\"Wind\"),IF(X34*'AVOID NEW'!$E$67<6.5,X34*(1-'AVOID NEW'!$E$67),X34-6.5),\"NA\")","v":37.167999999999999},35.4,{"$f":"IF(OR('Input - Capacity Factors'!$C$3=\"Wind\"),IF(Z34*'AVOID NEW'!$E$67<6.5,Z34*(1-'AVOID NEW'!$E$67),Z34-6.5),\"NA\")","v":32.567999999999998}]
[null,15,{"$f":"'AVOID NEW'!AN23","v":39.171050990670153},40.841050990670155,35.841050990670155,null,42.3,{"$f":"IF(OR('Input - Capacity Factors'!$C$3=\"Wind\"),IF(G35*'AVOID NEW'!$E$67<6.5,G35*(1-'AVOID NEW'!$E$67),G35-6.5),\"NA\")","v":38.915999999999997},44.11,{"$f":"IF(OR('Input - Capacity Factors'!$C$3=\"Wind\"),IF(I35*'AVOID NEW'!$E$67<6.5,I35*(1-'AVOID NEW'!$E$67),I35-6.5),\"NA\")","v":40.581200000000003},38.71,{"$f":"IF(OR('Input - Capacity Factors'!$C$3=\"Wind\"),IF(K35*'AVOID NEW'!$E$67<6.5,K35*(1-'AVOID NEW'!$E$67),K35-6.5),\"NA\")","v":35.613199999999999},null,32.9,{"$f":"IF(OR('Input - Capacity Factors'!$C$3=\"Wind\"),IF(N35*'AVOID NEW'!$E$67<6.5,N35*(1-'AVOID NEW'!$E$67),N35-6.5),\"NA\")","v":30.268000000000001},34.31,{"$f":"IF(OR('Input - Capacity Factors'!$C$3=\"Wind\"),IF(P35*'AVOID NEW'!$E$67<6.5,P35*(1-'AVOID NEW'!$E$67),P35-6.5),\"NA\")","v":31.565200000000004},30.11,{"$f":"IF(OR('Input - Capacity Factors'!$C$3=\"Wind\"),IF(R35*'AVOID NEW'!$E$67<6.5,R35*(1-'AVOID NEW'!$E$67),R35-6.5),\"NA\")","v":27.7012},null,null,39.17,{"$f":"IF(OR('Input - Capacity Factors'!$C$3=\"Wind\"),IF(V35*'AVOID NEW'!$E$67<6.5,V35*(1-'AVOID NEW'!$E$67),V35-6.5),\"NA\")","v":36.0364},40.840000000000003,{"$f":"IF(OR('Input - Capacity Factors'!$C$3=\"Wind\"),IF(X35*'AVOID NEW'!$E$67<6.5,X35*(1-'AVOID NEW'!$E$67),X35-6.5),\"NA\")","v":37.572800000000008},35.840000000000003,{"$f":"IF(OR('Input - Capacity Factors'!$C$3=\"Wind\"),IF(Z35*'AVOID NEW'!$E$67<6.5,Z35*(1-'AVOID NEW'!$E$67),Z35-6.5),\"NA\")","v":32.972800000000007}]
[null,16,{"$f":"'AVOID NEW'!AN24","v":39.584400873632426},41.254400873632427,36.254400873632427,null,42.75,{"$f":"IF(OR('Input - Capacity Factors'!$C$3=\"Wind\"),IF(G36*'AVOID NEW'!$E$67<6.5,G36*(1-'AVOID NEW'!$E$67),G36-6.5),\"NA\")","v":39.33},44.55,{"$f":"IF(OR('Input - Capacity Factors'!$C$3=\"Wind\"),IF(I36*'AVOID NEW'!$E$67<6.5,I36*(1-'AVOID NEW'!$E$67),I36-6.5),\"NA\")","v":40.985999999999997},39.15,{"$f":"IF(OR('Input - Capacity Factors'!$C$3=\"Wind\"),IF(K36*'AVOID NEW'!$E$67<6.5,K36*(1-'AVOID NEW'!$E$67),K36-6.5),\"NA\")","v":36.018000000000001},null,33.25,{"$f":"IF(OR('Input - Capacity Factors'!$C$3=\"Wind\"),IF(N36*'AVOID NEW'!$E$67<6.5,N36*(1-'AVOID NEW'!$E$67),N36-6.5),\"NA\")","v":30.59},34.65,{"$f":"IF(OR('Input - Capacity Factors'!$C$3=\"Wind\"),IF(P36*'AVOID NEW'!$E$67<6.5,P36*(1-'AVOID NEW'!$E$67),P36-6.5),\"NA\")","v":31.878},30.45,{"$f":"IF(OR('Input - Capacity Factors'!$C$3=\"Wind\"),IF(R36*'AVOID NEW'!$E$67<6.5,R36*(1-'AVOID NEW'!$E$67),R36-6.5),\"NA\")","v":28.013999999999999},null,null,39.58,{"$f":"IF(OR('Input - Capacity Factors'!$C$3=\"Wind\"),IF(V36*'AVOID NEW'!$E$67<6.5,V36*(1-'AVOID NEW'!$E$67),V36-6.5),\"NA\")","v":36.413600000000002},41.25,{"$f":"IF(OR('Input - Capacity Factors'!$C$3=\"Wind\"),IF(X36*'AVOID NEW'!$E$67<6.5,X36*(1-'AVOID NEW'!$E$67),X36-6.5),\"NA\")","v":37.950000000000003},36.25,{"$f":"IF(OR('Input - Capacity Factors'!$C$3=\"Wind\"),IF(Z36*'AVOID NEW'!$E$67<6.5,Z36*(1-'AVOID NEW'!$E$67),Z36-6.5),\"NA\")","v":33.35}]
[null,17,{"$f":"'AVOID NEW'!AN25","v":39.981755334729435},41.651755334729437,36.651755334729437,null,43.18,{"$f":"IF(OR('Input - Capacity Factors'!$C$3=\"Wind\"),IF(G37*'AVOID NEW'!$E$67<6.5,G37*(1-'AVOID NEW'!$E$67),G37-6.5),\"NA\")","v":39.7256},44.98,{"$f":"IF(OR('Input - Capacity Factors'!$C$3=\"Wind\"),IF(I37*'AVOID NEW'!$E$67<6.5,I37*(1-'AVOID NEW'!$E$67),I37-6.5),\"NA\")","v":41.381599999999999},39.58,{"$f":"IF(OR('Input - Capacity Factors'!$C$3=\"Wind\"),IF(K37*'AVOID NEW'!$E$67<6.5,K37*(1-'AVOID NEW'!$E$67),K37-6.5),\"NA\")","v":36.413600000000002},null,33.58,{"$f":"IF(OR('Input - Capacity Factors'!$C$3=\"Wind\"),IF(N37*'AVOID NEW'!$E$67<6.5,N37*(1-'AVOID NEW'!$E$67),N37-6.5),\"NA\")","v":30.893599999999999},34.99,{"$f":"IF(OR('Input - Capacity Factors'!$C$3=\"Wind\"),IF(P37*'AVOID NEW'!$E$67<6.5,P37*(1-'AVOID NEW'!$E$67),P37-6.5),\"NA\")","v":32.190800000000003},30.79,{"$f":"IF(OR('Input - Capacity Factors'!$C$3=\"Wind\"),IF(R37*'AVOID NEW'!$E$67<6.5,R37*(1-'AVOID NEW'!$E$67),R37-6.5),\"NA\")","v":28.326800000000002},null,null,39.979999999999997,{"$f":"IF(OR('Input - Capacity Factors'!$C$3=\"Wind\"),IF(V37*'AVOID NEW'!$E$67<6.5,V37*(1-'AVOID NEW'!$E$67),V37-6.5),\"NA\")","v":36.781599999999997},41.65,{"$f":"IF(OR('Input - Capacity Factors'!$C$3=\"Wind\"),IF(X37*'AVOID NEW'!$E$67<6.5,X37*(1-'AVOID NEW'!$E$67),X37-6.5),\"NA\")","v":38.317999999999998},36.65,{"$f":"IF(OR('Input - Capacity Factors'!$C$3=\"Wind\"),IF(Z37*'AVOID NEW'!$E$67<6.5,Z37*(1-'AVOID NEW'!$E$67),Z37-6.5),\"NA\")","v":33.718000000000004}]
[null,18,{"$f":"'AVOID NEW'!AN26","v":40.363133557953255},42.033133557953256,37.033133557953256,null,43.59,{"$f":"IF(OR('Input - Capacity Factors'!$C$3=\"Wind\"),IF(G38*'AVOID NEW'!$E$67<6.5,G38*(1-'AVOID NEW'!$E$67),G38-6.5),\"NA\")","v":40.102800000000002},45.4,{"$f":"IF(OR('Input - Capacity Factors'!$C$3=\"Wind\"),IF(I38*'AVOID NEW'!$E$67<6.5,I38*(1-'AVOID NEW'!$E$67),I38-6.5),\"NA\")","v":41.768000000000001},40,{"$f":"IF(OR('Input - Capacity Factors'!$C$3=\"Wind\"),IF(K38*'AVOID NEW'!$E$67<6.5,K38*(1-'AVOID NEW'!$E$67),K38-6.5),\"NA\")","v":36.800000000000004},null,33.909999999999997,{"$f":"IF(OR('Input - Capacity Factors'!$C$3=\"Wind\"),IF(N38*'AVOID NEW'!$E$67<6.5,N38*(1-'AVOID NEW'!$E$67),N38-6.5),\"NA\")","v":31.197199999999999},35.31,{"$f":"IF(OR('Input - Capacity Factors'!$C$3=\"Wind\"),IF(P38*'AVOID NEW'!$E$67<6.5,P38*(1-'AVOID NEW'!$E$67),P38-6.5),\"NA\")","v":32.485200000000006},31.11,{"$f":"IF(OR('Input - Capacity Factors'!$C$3=\"Wind\"),IF(R38*'AVOID NEW'!$E$67<6.5,R38*(1-'AVOID NEW'!$E$67),R38-6.5),\"NA\")","v":28.621200000000002},null,null,40.36,{"$f":"IF(OR('Input - Capacity Factors'!$C$3=\"Wind\"),IF(V38*'AVOID NEW'!$E$67<6.5,V38*(1-'AVOID NEW'!$E$67),V38-6.5),\"NA\")","v":37.1312},42.03,{"$f":"IF(OR('Input - Capacity Factors'!$C$3=\"Wind\"),IF(X38*'AVOID NEW'!$E$67<6.5,X38*(1-'AVOID NEW'!$E$67),X38-6.5),\"NA\")","v":38.6676},37.03,{"$f":"IF(OR('Input - Capacity Factors'!$C$3=\"Wind\"),IF(Z38*'AVOID NEW'!$E$67<6.5,Z38*(1-'AVOID NEW'!$E$67),Z38-6.5),\"NA\")","v":34.067600000000006}]
[null,19,{"$f":"'AVOID NEW'!AN27","v":40.736731423491676},42.406731423491678,37.406731423491678,null,44,{"$f":"IF(OR('Input - Capacity Factors'!$C$3=\"Wind\"),IF(G39*'AVOID NEW'!$E$67<6.5,G39*(1-'AVOID NEW'!$E$67),G39-6.5),\"NA\")","v":40.480000000000004},45.8,{"$f":"IF(OR('Input - Capacity Factors'!$C$3=\"Wind\"),IF(I39*'AVOID NEW'!$E$67<6.5,I39*(1-'AVOID NEW'!$E$67),I39-6.5),\"NA\")","v":42.135999999999996},40.4,{"$f":"IF(OR('Input - Capacity Factors'!$C$3=\"Wind\"),IF(K39*'AVOID NEW'!$E$67<6.5,K39*(1-'AVOID NEW'!$E$67),K39-6.5),\"NA\")","v":37.167999999999999},null,34.22,{"$f":"IF(OR('Input - Capacity Factors'!$C$3=\"Wind\"),IF(N39*'AVOID NEW'!$E$67<6.5,N39*(1-'AVOID NEW'!$E$67),N39-6.5),\"NA\")","v":31.482400000000002},35.619999999999997,{"$f":"IF(OR('Input - Capacity Factors'!$C$3=\"Wind\"),IF(P39*'AVOID NEW'!$E$67<6.5,P39*(1-'AVOID NEW'!$E$67),P39-6.5),\"NA\")","v":32.770400000000002},31.42,{"$f":"IF(OR('Input - Capacity Factors'!$C$3=\"Wind\"),IF(R39*'AVOID NEW'!$E$67<6.5,R39*(1-'AVOID NEW'!$E$67),R39-6.5),\"NA\")","v":28.906400000000001},null,null,40.74,{"$f":"IF(OR('Input - Capacity Factors'!$C$3=\"Wind\"),IF(V39*'AVOID NEW'!$E$67<6.5,V39*(1-'AVOID NEW'!$E$67),V39-6.5),\"NA\")","v":37.480800000000002},42.41,{"$f":"IF(OR('Input - Capacity Factors'!$C$3=\"Wind\"),IF(X39*'AVOID NEW'!$E$67<6.5,X39*(1-'AVOID NEW'!$E$67),X39-6.5),\"NA\")","v":39.017199999999995},37.409999999999997,{"$f":"IF(OR('Input - Capacity Factors'!$C$3=\"Wind\"),IF(Z39*'AVOID NEW'!$E$67<6.5,Z39*(1-'AVOID NEW'!$E$67),Z39-6.5),\"NA\")","v":34.417200000000001}]
[null,20,{"$f":"'AVOID NEW'!AN28","v":41.09813936084393},42.768139360843932,37.768139360843932,null,44.39,{"$f":"IF(OR('Input - Capacity Factors'!$C$3=\"Wind\"),IF(G40*'AVOID NEW'!$E$67<6.5,G40*(1-'AVOID NEW'!$E$67),G40-6.5),\"NA\")","v":40.838799999999999},46.19,{"$f":"IF(OR('Input - Capacity Factors'!$C$3=\"Wind\"),IF(I40*'AVOID NEW'!$E$67<6.5,I40*(1-'AVOID NEW'!$E$67),I40-6.5),\"NA\")","v":42.494799999999998},40.79,{"$f":"IF(OR('Input - Capacity Factors'!$C$3=\"Wind\"),IF(K40*'AVOID NEW'!$E$67<6.5,K40*(1-'AVOID NEW'!$E$67),K40-6.5),\"NA\")","v":37.526800000000001},null,34.520000000000003,{"$f":"IF(OR('Input - Capacity Factors'!$C$3=\"Wind\"),IF(N40*'AVOID NEW'!$E$67<6.5,N40*(1-'AVOID NEW'!$E$67),N40-6.5),\"NA\")","v":31.758400000000005},35.93,{"$f":"IF(OR('Input - Capacity Factors'!$C$3=\"Wind\"),IF(P40*'AVOID NEW'!$E$67<6.5,P40*(1-'AVOID NEW'!$E$67),P40-6.5),\"NA\")","v":33.055599999999998},31.73,{"$f":"IF(OR('Input - Capacity Factors'!$C$3=\"Wind\"),IF(R40*'AVOID NEW'!$E$67<6.5,R40*(1-'AVOID NEW'!$E$67),R40-6.5),\"NA\")","v":29.191600000000001},null,null,41.1,{"$f":"IF(OR('Input - Capacity Factors'!$C$3=\"Wind\"),IF(V40*'AVOID NEW'!$E$67<6.5,V40*(1-'AVOID NEW'!$E$67),V40-6.5),\"NA\")","v":37.812000000000005},42.77,{"$f":"IF(OR('Input - Capacity Factors'!$C$3=\"Wind\"),IF(X40*'AVOID NEW'!$E$67<6.5,X40*(1-'AVOID NEW'!$E$67),X40-6.5),\"NA\")","v":39.348400000000005},37.770000000000003,{"$f":"IF(OR('Input - Capacity Factors'!$C$3=\"Wind\"),IF(Z40*'AVOID NEW'!$E$67<6.5,Z40*(1-'AVOID NEW'!$E$67),Z40-6.5),\"NA\")","v":34.748400000000004}]
[]
[]
[]
[null,{"$f":"$B$1","v":"THESE RATES ARE NOT VALID"}]
[null,"LEVELIZED RATES"]
[null,{"$f":"\"PROJECT ON-LINE IN \"& 'AVOID NEW'!$D$54+1","v":"PROJECT ON-LINE IN 2023"}]
[null,{"$f":"\"Rate Effective Date: \"&'AVOID NEW'!$E$69","v":"Rate Effective Date: XXXX, 2022"}]
[null,{"$f":"\"Resource:  \"&'Input - Capacity Factors'!$C$3","v":"Resource:  Wind"}]
[null,null,"Levelized Price",null,null,null,{"$f":"\"Season 1 Pricing (\"&$D$7*100&\"%)\"","v":"Season 1 Pricing (108%)"},null,null,null,null,null,null,{"$f":"\"Season 2 Pricing (\"&100*$D$8&\"%)\"","v":"Season 2 Pricing (84%)"},null,null,null,null,null,null,null,"Non-Seasonalized Pricing"]
[null,null,"Heavy and Light Load Hour Differential",{"$f":"'AVOID NEW'!$E$66","v":5},null,null,"Flat",null,"Heavy Load Hour",null,"Light Load Hour",null,null,"Flat",null,"Heavy Load Hour",null,"Light Load Hour",null,null,null,"Flat",null,"Heavy Load Hour",null,"Light Load Hour"]
[null,null,null,{"$f":"ROUND(D50/3,2)","v":1.67},{"$f":"-ROUND((D50*2)/3,2)","v":-3.33},null,null,"Price less wind integration adjustment",null,"Price less wind integration adjustment",null,"Price less wind integration adjustment",null,null,"Price less wind integration adjustment",null,"Price less wind integration adjustment",null,"Price less wind integration adjustment",null,null,null,"Price less wind integration adjustment",null,"Price less wind integration adjustment",null,"Price less wind integration adjustment"]
[null,"Contract Length","Flat","Heavy Load Hour","Light Load Hour",null,"Price",null,"Price",null,"Price",null,null,"Price",null,"Price",null,"Price",null,null,null,"Price",null,"Price",null,"Price"]
[null,1,{"$f":"'AVOID NEW'!AO9","v":35.542378761947646},{"$f":"C53+D$51","v":37.212378761947647},{"$f":"C53+E$51","v":32.212378761947647},null,{"$f":"ROUND((+$C53*$D$7),2)","v":38.39},{"$f":"IF(OR('Input - Capacity Factors'!$C$3=\"Wind\"),IF(G53*'AVOID NEW'!$E$67<6.5,G53*(1-'AVOID NEW'!$E$67),G53-6.5),\"NA\")","v":35.318800000000003},{"$f":"ROUND((+$D53*$D$7),2)","v":40.19},{"$f":"IF(OR('Input - Capacity Factors'!$C$3=\"Wind\"),IF(I53*'AVOID NEW'!$E$67<6.5,I53*(1-'AVOID NEW'!$E$67),I53-6.5),\"NA\")","v":36.974800000000002},{"$f":"ROUND((+$E53*$D$7),2)","v":34.79},{"$f":"IF(OR('Input - Capacity Factors'!$C$3=\"Wind\"),IF(K53*'AVOID NEW'!$E$67<6.5,K53*(1-'AVOID NEW'!$E$67),K53-6.5),\"NA\")","v":32.006799999999998},null,{"$f":"ROUND((+$C53*$D$8),2)","v":29.86},{"$f":"IF(OR('Input - Capacity Factors'!$C$3=\"Wind\"),IF(N53*'AVOID NEW'!$E$67<6.5,N53*(1-'AVOID NEW'!$E$67),N53-6.5),\"NA\")","v":27.4712},{"$f":"ROUND((+$D53*$D$8),2)","v":31.26},{"$f":"IF(OR('Input - Capacity Factors'!$C$3=\"Wind\"),IF(P53*'AVOID NEW'!$E$67<6.5,P53*(1-'AVOID NEW'!$E$67),P53-6.5),\"NA\")","v":28.759200000000003},{"$f":"ROUND((+$E53*$D$8),2)","v":27.06},{"$f":"IF(OR('Input - Capacity Factors'!$C$3=\"Wind\"),IF(R53*'AVOID NEW'!$E$67<6.5,R53*(1-'AVOID NEW'!$E$67),R53-6.5),\"NA\")","v":24.895199999999999},null,null,{"$f":"ROUND((+$C53),2)","v":35.54},{"$f":"IF(OR('Input - Capacity Factors'!$C$3=\"Wind\"),IF(V53*'AVOID NEW'!$E$67<6.5,V53*(1-'AVOID NEW'!$E$67),V53-6.5),\"NA\")","v":32.696800000000003},{"$f":"ROUND((+$D53),2)","v":37.21},{"$f":"IF(OR('Input - Capacity Factors'!$C$3=\"Wind\"),IF(X53*'AVOID NEW'!$E$67<6.5,X53*(1-'AVOID NEW'!$E$67),X53-6.5),\"NA\")","v":34.233200000000004},{"$f":"ROUND((+$E53),2)","v":32.21},{"$f":"IF(OR('Input - Capacity Factors'!$C$3=\"Wind\"),IF(Z53*'AVOID NEW'!$E$67<6.5,Z53*(1-'AVOID NEW'!$E$67),Z53-6.5),\"NA\")","v":29.633200000000002}]
[null,2,{"$f":"'AVOID NEW'!AO10","v":34.654099850294891},36.324099850294893,31.324099850294893,null,37.43,{"$f":"IF(OR('Input - Capacity Factors'!$C$3=\"Wind\"),IF(G54*'AVOID NEW'!$E$67<6.5,G54*(1-'AVOID NEW'!$E$67),G54-6.5),\"NA\")","v":34.435600000000001},39.229999999999997,{"$f":"IF(OR('Input - Capacity Factors'!$C$3=\"Wind\"),IF(I54*'AVOID NEW'!$E$67<6.5,I54*(1-'AVOID NEW'!$E$67),I54-6.5),\"NA\")","v":36.0916},33.83,{"$f":"IF(OR('Input - Capacity Factors'!$C$3=\"Wind\"),IF(K54*'AVOID NEW'!$E$67<6.5,K54*(1-'AVOID NEW'!$E$67),K54-6.5),\"NA\")","v":31.1236},null,29.11,{"$f":"IF(OR('Input - Capacity Factors'!$C$3=\"Wind\"),IF(N54*'AVOID NEW'!$E$67<6.5,N54*(1-'AVOID NEW'!$E$67),N54-6.5),\"NA\")","v":26.781200000000002},30.51,{"$f":"IF(OR('Input - Capacity Factors'!$C$3=\"Wind\"),IF(P54*'AVOID NEW'!$E$67<6.5,P54*(1-'AVOID NEW'!$E$67),P54-6.5),\"NA\")","v":28.069200000000002},26.31,{"$f":"IF(OR('Input - Capacity Factors'!$C$3=\"Wind\"),IF(R54*'AVOID NEW'!$E$67<6.5,R54*(1-'AVOID NEW'!$E$67),R54-6.5),\"NA\")","v":24.205200000000001},null,null,{"$f":"ROUND((+$C54),2)","v":34.65},{"$f":"IF(OR('Input - Capacity Factors'!$C$3=\"Wind\"),IF(V54*'AVOID NEW'!$E$67<6.5,V54*(1-'AVOID NEW'!$E$67),V54-6.5),\"NA\")","v":31.878},{"$f":"ROUND((+$D54),2)","v":36.32},{"$f":"IF(OR('Input - Capacity Factors'!$C$3=\"Wind\"),IF(X54*'AVOID NEW'!$E$67<6.5,X54*(1-'AVOID NEW'!$E$67),X54-6.5),\"NA\")","v":33.414400000000001},{"$f":"ROUND((+$E54),2)","v":31.32},{"$f":"IF(OR('Input - Capacity Factors'!$C$3=\"Wind\"),IF(Z54*'AVOID NEW'!$E$67<6.5,Z54*(1-'AVOID NEW'!$E$67),Z54-6.5),\"NA\")","v":28.814400000000003}]
[null,3,{"$f":"'AVOID NEW'!AO11","v":34.210662897928117},35.880662897928119,30.880662897928119,null,36.950000000000003,{"$f":"IF(OR('Input - Capacity Factors'!$C$3=\"Wind\"),IF(G55*'AVOID NEW'!$E$67<6.5,G55*(1-'AVOID NEW'!$E$67),G55-6.5),\"NA\")","v":33.994000000000007},38.75,{"$f":"IF(OR('Input - Capacity Factors'!$C$3=\"Wind\"),IF(I55*'AVOID NEW'!$E$67<6.5,I55*(1-'AVOID NEW'!$E$67),I55-6.5),\"NA\")","v":35.65},33.35,{"$f":"IF(OR('Input - Capacity Factors'!$C$3=\"Wind\"),IF(K55*'AVOID NEW'!$E$67<6.5,K55*(1-'AVOID NEW'!$E$67),K55-6.5),\"NA\")","v":30.682000000000002},null,28.74,{"$f":"IF(OR('Input - Capacity Factors'!$C$3=\"Wind\"),IF(N55*'AVOID NEW'!$E$67<6.5,N55*(1-'AVOID NEW'!$E$67),N55-6.5),\"NA\")","v":26.440799999999999},30.14,{"$f":"IF(OR('Input - Capacity Factors'!$C$3=\"Wind\"),IF(P55*'AVOID NEW'!$E$67<6.5,P55*(1-'AVOID NEW'!$E$67),P55-6.5),\"NA\")","v":27.728800000000003},25.94,{"$f":"IF(OR('Input - Capacity Factors'!$C$3=\"Wind\"),IF(R55*'AVOID NEW'!$E$67<6.5,R55*(1-'AVOID NEW'!$E$67),R55-6.5),\"NA\")","v":23.864800000000002},null,null,34.21,{"$f":"IF(OR('Input - Capacity Factors'!$C$3=\"Wind\"),IF(V55*'AVOID NEW'!$E$67<6.5,V55*(1-'AVOID NEW'!$E$67),V55-6.5),\"NA\")","v":31.473200000000002},35.880000000000003,{"$f":"IF(OR('Input - Capacity Factors'!$C$3=\"Wind\"),IF(X55*'AVOID NEW'!$E$67<6.5,X55*(1-'AVOID NEW'!$E$67),X55-6.5),\"NA\")","v":33.009600000000006},30.88,{"$f":"IF(OR('Input - Capacity Factors'!$C$3=\"Wind\"),IF(Z55*'AVOID NEW'!$E$67<6.5,Z55*(1-'AVOID NEW'!$E$67),Z55-6.5),\"NA\")","v":28.409600000000001}]
[null,4,{"$f":"'AVOID NEW'!AO12","v":34.268018594496468},35.938018594496469,30.938018594496469,null,37.01,{"$f":"IF(OR('Input - Capacity Factors'!$C$3=\"Wind\"),IF(G56*'AVOID NEW'!$E$67<6.5,G56*(1-'AVOID NEW'!$E$67),G56-6.5),\"NA\")","v":34.049199999999999},38.81,{"$f":"IF(OR('Input - Capacity Factors'!$C$3=\"Wind\"),IF(I56*'AVOID NEW'!$E$67<6.5,I56*(1-'AVOID NEW'!$E$67),I56-6.5),\"NA\")","v":35.705200000000005},33.409999999999997,{"$f":"IF(OR('Input - Capacity Factors'!$C$3=\"Wind\"),IF(K56*'AVOID NEW'!$E$67<6.5,K56*(1-'AVOID NEW'!$E$67),K56-6.5),\"NA\")","v":30.737199999999998},null,28.79,{"$f":"IF(OR('Input - Capacity Factors'!$C$3=\"Wind\"),IF(N56*'AVOID NEW'!$E$67<6.5,N56*(1-'AVOID NEW'!$E$67),N56-6.5),\"NA\")","v":26.486799999999999},30.19,{"$f":"IF(OR('Input - Capacity Factors'!$C$3=\"Wind\"),IF(P56*'AVOID NEW'!$E$67<6.5,P56*(1-'AVOID NEW'!$E$67),P56-6.5),\"NA\")","v":27.774800000000003},25.99,{"$f":"IF(OR('Input - Capacity Factors'!$C$3=\"Wind\"),IF(R56*'AVOID NEW'!$E$67<6.5,R56*(1-'AVOID NEW'!$E$67),R56-6.5),\"NA\")","v":23.910799999999998},null,null,34.270000000000003,{"$f":"IF(OR('Input - Capacity Factors'!$C$3=\"Wind\"),IF(V56*'AVOID NEW'!$E$67<6.5,V56*(1-'AVOID NEW'!$E$67),V56-6.5),\"NA\")","v":31.528400000000005},35.94,{"$f":"IF(OR('Input - Capacity Factors'!$C$3=\"Wind\"),IF(X56*'AVOID NEW'!$E$67<6.5,X56*(1-'AVOID NEW'!$E$67),X56-6.5),\"NA\")","v":33.064799999999998},30.94,{"$f":"IF(OR('Input - Capacity Factors'!$C$3=\"Wind\"),IF(Z56*'AVOID NEW'!$E$67<6.5,Z56*(1-'AVOID NEW'!$E$67),Z56-6.5),\"NA\")","v":28.464800000000004}]
[null,5,{"$f":"'AVOID NEW'!AO13","v":34.644259701846224},36.314259701846225,31.314259701846225,null,37.42,{"$f":"IF(OR('Input - Capacity Factors'!$C$3=\"Wind\"),IF(G57*'AVOID NEW'!$E$67<6.5,G57*(1-'AVOID NEW'!$E$67),G57-6.5),\"NA\")","v":34.426400000000001},39.22,{"$f":"IF(OR('Input - Capacity Factors'!$C$3=\"Wind\"),IF(I57*'AVOID NEW'!$E$67<6.5,I57*(1-'AVOID NEW'!$E$67),I57-6.5),\"NA\")","v":36.0824},33.82,{"$f":"IF(OR('Input - Capacity Factors'!$C$3=\"Wind\"),IF(K57*'AVOID NEW'!$E$67<6.5,K57*(1-'AVOID NEW'!$E$67),K57-6.5),\"NA\")","v":31.114400000000003},null,29.1,{"$f":"IF(OR('Input - Capacity Factors'!$C$3=\"Wind\"),IF(N57*'AVOID NEW'!$E$67<6.5,N57*(1-'AVOID NEW'!$E$67),N57-6.5),\"NA\")","v":26.772000000000002},30.5,{"$f":"IF(OR('Input - Capacity Factors'!$C$3=\"Wind\"),IF(P57*'AVOID NEW'!$E$67<6.5,P57*(1-'AVOID NEW'!$E$67),P57-6.5),\"NA\")","v":28.060000000000002},26.3,{"$f":"IF(OR('Input - Capacity Factors'!$C$3=\"Wind\"),IF(R57*'AVOID NEW'!$E$67<6.5,R57*(1-'AVOID NEW'!$E$67),R57-6.5),\"NA\")","v":24.196000000000002},null,null,34.64,{"$f":"IF(OR('Input - Capacity Factors'!$C$3=\"Wind\"),IF(V57*'AVOID NEW'!$E$67<6.5,V57*(1-'AVOID NEW'!$E$67),V57-6.5),\"NA\")","v":31.8688},36.31,{"$f":"IF(OR('Input - Capacity Factors'!$C$3=\"Wind\"),IF(X57*'AVOID NEW'!$E$67<6.5,X57*(1-'AVOID NEW'!$E$67),X57-6.5),\"NA\")","v":33.405200000000001},31.31,{"$f":"IF(OR('Input - Capacity Factors'!$C$3=\"Wind\"),IF(Z57*'AVOID NEW'!$E$67<6.5,Z57*(1-'AVOID NEW'!$E$67),Z57-6.5),\"NA\")","v":28.805199999999999}]
[null,6,{"$f":"'AVOID NEW'!AO14","v":35.231272870458135},36.901272870458136,31.901272870458136,null,38.049999999999997,{"$f":"IF(OR('Input - Capacity Factors'!$C$3=\"Wind\"),IF(G58*'AVOID NEW'!$E$67<6.5,G58*(1-'AVOID NEW'!$E$67),G58-6.5),\"NA\")","v":35.006},39.85,{"$f":"IF(OR('Input - Capacity Factors'!$C$3=\"Wind\"),IF(I58*'AVOID NEW'!$E$67<6.5,I58*(1-'AVOID NEW'!$E$67),I58-6.5),\"NA\")","v":36.662000000000006},34.450000000000003,{"$f":"IF(OR('Input - Capacity Factors'!$C$3=\"Wind\"),IF(K58*'AVOID NEW'!$E$67<6.5,K58*(1-'AVOID NEW'!$E$67),K58-6.5),\"NA\")","v":31.694000000000003},null,29.59,{"$f":"IF(OR('Input - Capacity Factors'!$C$3=\"Wind\"),IF(N58*'AVOID NEW'!$E$67<6.5,N58*(1-'AVOID NEW'!$E$67),N58-6.5),\"NA\")","v":27.222799999999999},31,{"$f":"IF(OR('Input - Capacity Factors'!$C$3=\"Wind\"),IF(P58*'AVOID NEW'!$E$67<6.5,P58*(1-'AVOID NEW'!$E$67),P58-6.5),\"NA\")","v":28.52},26.8,{"$f":"IF(OR('Input - Capacity Factors'!$C$3=\"Wind\"),IF(R58*'AVOID NEW'!$E$67<6.5,R58*(1-'AVOID NEW'!$E$67),R58-6.5),\"NA\")","v":24.656000000000002},null,null,35.229999999999997,{"$f":"IF(OR('Input - Capacity Factors'!$C$3=\"Wind\"),IF(V58*'AVOID NEW'!$E$67<6.5,V58*(1-'AVOID NEW'!$E$67),V58-6.5),\"NA\")","v":32.4116},36.9,{"$f":"IF(OR('Input - Capacity Factors'!$C$3=\"Wind\"),IF(X58*'AVOID NEW'!$E$67<6.5,X58*(1-'AVOID NEW'!$E$67),X58-6.5),\"NA\")","v":33.948},31.9,{"$f":"IF(OR('Input - Capacity Factors'!$C$3=\"Wind\"),IF(Z58*'AVOID NEW'!$E$67<6.5,Z58*(1-'AVOID NEW'!$E$67),Z58-6.5),\"NA\")","v":29.347999999999999}]
[null,7,{"$f":"'AVOID NEW'!AO15","v":35.891695147035314},37.561695147035316,32.561695147035316,null,38.76,{"$f":"IF(OR('Input - Capacity Factors'!$C$3=\"Wind\"),IF(G59*'AVOID NEW'!$E$67<6.5,G59*(1-'AVOID NEW'!$E$67),G59-6.5),\"NA\")","v":35.659199999999998},40.57,{"$f":"IF(OR('Input - Capacity Factors'!$C$3=\"Wind\"),IF(I59*'AVOID NEW'!$E$67<6.5,I59*(1-'AVOID NEW'!$E$67),I59-6.5),\"NA\")","v":37.324400000000004},35.17,{"$f":"IF(OR('Input - Capacity Factors'!$C$3=\"Wind\"),IF(K59*'AVOID NEW'!$E$67<6.5,K59*(1-'AVOID NEW'!$E$67),K59-6.5),\"NA\")","v":32.356400000000001},null,30.15,{"$f":"IF(OR('Input - Capacity Factors'!$C$3=\"Wind\"),IF(N59*'AVOID NEW'!$E$67<6.5,N59*(1-'AVOID NEW'!$E$67),N59-6.5),\"NA\")","v":27.738},31.55,{"$f":"IF(OR('Input - Capacity Factors'!$C$3=\"Wind\"),IF(P59*'AVOID NEW'!$E$67<6.5,P59*(1-'AVOID NEW'!$E$67),P59-6.5),\"NA\")","v":29.026000000000003},27.35,{"$f":"IF(OR('Input - Capacity Factors'!$C$3=\"Wind\"),IF(R59*'AVOID NEW'!$E$67<6.5,R59*(1-'AVOID NEW'!$E$67),R59-6.5),\"NA\")","v":25.162000000000003},null,null,35.89,{"$f":"IF(OR('Input - Capacity Factors'!$C$3=\"Wind\"),IF(V59*'AVOID NEW'!$E$67<6.5,V59*(1-'AVOID NEW'!$E$67),V59-6.5),\"NA\")","v":33.018799999999999},37.56,{"$f":"IF(OR('Input - Capacity Factors'!$C$3=\"Wind\"),IF(X59*'AVOID NEW'!$E$67<6.5,X59*(1-'AVOID NEW'!$E$67),X59-6.5),\"NA\")","v":34.555200000000006},32.56,{"$f":"IF(OR('Input - Capacity Factors'!$C$3=\"Wind\"),IF(Z59*'AVOID NEW'!$E$67<6.5,Z59*(1-'AVOID NEW'!$E$67),Z59-6.5),\"NA\")","v":29.955200000000005}]
[null,8,{"$f":"'AVOID NEW'!AO16","v":36.544459717959974},38.214459717959976,33.214459717959976,null,39.47,{"$f":"IF(OR('Input - Capacity Factors'!$C$3=\"Wind\"),IF(G60*'AVOID NEW'!$E$67<6.5,G60*(1-'AVOID NEW'!$E$67),G60-6.5),\"NA\")","v":36.312400000000004},41.27,{"$f":"IF(OR('Input - Capacity Factors'!$C$3=\"Wind\"),IF(I60*'AVOID NEW'!$E$67<6.5,I60*(1-'AVOID NEW'!$E$67),I60-6.5),\"NA\")","v":37.968400000000003},35.869999999999997,{"$f":"IF(OR('Input - Capacity Factors'!$C$3=\"Wind\"),IF(K60*'AVOID NEW'!$E$67<6.5,K60*(1-'AVOID NEW'!$E$67),K60-6.5),\"NA\")","v":33.000399999999999},null,30.7,{"$f":"IF(OR('Input - Capacity Factors'!$C$3=\"Wind\"),IF(N60*'AVOID NEW'!$E$67<6.5,N60*(1-'AVOID NEW'!$E$67),N60-6.5),\"NA\")","v":28.244},32.1,{"$f":"IF(OR('Input - Capacity Factors'!$C$3=\"Wind\"),IF(P60*'AVOID NEW'!$E$67<6.5,P60*(1-'AVOID NEW'!$E$67),P60-6.5),\"NA\")","v":29.532000000000004},27.9,{"$f":"IF(OR('Input - Capacity Factors'!$C$3=\"Wind\"),IF(R60*'AVOID NEW'!$E$67<6.5,R60*(1-'AVOID NEW'!$E$67),R60-6.5),\"NA\")","v":25.667999999999999},null,null,36.54,{"$f":"IF(OR('Input - Capacity Factors'!$C$3=\"Wind\"),IF(V60*'AVOID NEW'!$E$67<6.5,V60*(1-'AVOID NEW'!$E$67),V60-6.5),\"NA\")","v":33.616799999999998},38.21,{"$f":"IF(OR('Input - Capacity Factors'!$C$3=\"Wind\"),IF(X60*'AVOID NEW'!$E$67<6.5,X60*(1-'AVOID NEW'!$E$67),X60-6.5),\"NA\")","v":35.153200000000005},33.21,{"$f":"IF(OR('Input - Capacity Factors'!$C$3=\"Wind\"),IF(Z60*'AVOID NEW'!$E$67<6.5,Z60*(1-'AVOID NEW'!$E$67),Z60-6.5),\"NA\")","v":30.5532}]
[null,9,{"$f":"'AVOID NEW'!AO17","v":37.16597985210128},38.835979852101282,33.835979852101282,null,40.14,{"$f":"IF(OR('Input - Capacity Factors'!$C$3=\"Wind\"),IF(G61*'AVOID NEW'!$E$67<6.5,G61*(1-'AVOID NEW'!$E$67),G61-6.5),\"NA\")","v":36.928800000000003},41.94,{"$f":"IF(OR('Input - Capacity Factors'!$C$3=\"Wind\"),IF(I61*'AVOID NEW'!$E$67<6.5,I61*(1-'AVOID NEW'!$E$67),I61-6.5),\"NA\")","v":38.584800000000001},36.54,{"$f":"IF(OR('Input - Capacity Factors'!$C$3=\"Wind\"),IF(K61*'AVOID NEW'!$E$67<6.5,K61*(1-'AVOID NEW'!$E$67),K61-6.5),\"NA\")","v":33.616799999999998},null,31.22,{"$f":"IF(OR('Input - Capacity Factors'!$C$3=\"Wind\"),IF(N61*'AVOID NEW'!$E$67<6.5,N61*(1-'AVOID NEW'!$E$67),N61-6.5),\"NA\")","v":28.7224},32.619999999999997,{"$f":"IF(OR('Input - Capacity Factors'!$C$3=\"Wind\"),IF(P61*'AVOID NEW'!$E$67<6.5,P61*(1-'AVOID NEW'!$E$67),P61-6.5),\"NA\")","v":30.010400000000001},28.42,{"$f":"IF(OR('Input - Capacity Factors'!$C$3=\"Wind\"),IF(R61*'AVOID NEW'!$E$67<6.5,R61*(1-'AVOID NEW'!$E$67),R61-6.5),\"NA\")","v":26.146400000000003},null,null,37.17,{"$f":"IF(OR('Input - Capacity Factors'!$C$3=\"Wind\"),IF(V61*'AVOID NEW'!$E$67<6.5,V61*(1-'AVOID NEW'!$E$67),V61-6.5),\"NA\")","v":34.196400000000004},38.840000000000003,{"$f":"IF(OR('Input - Capacity Factors'!$C$3=\"Wind\"),IF(X61*'AVOID NEW'!$E$67<6.5,X61*(1-'AVOID NEW'!$E$67),X61-6.5),\"NA\")","v":35.732800000000005},33.840000000000003,{"$f":"IF(OR('Input - Capacity Factors'!$C$3=\"Wind\"),IF(Z61*'AVOID NEW'!$E$67<6.5,Z61*(1-'AVOID NEW'!$E$67),Z61-6.5),\"NA\")","v":31.132800000000003}]
[null,10,{"$f":"'AVOID NEW'!AO18","v":37.775246524288875},39.445246524288876,34.445246524288876,null,40.799999999999997,{"$f":"IF(OR('Input - Capacity Factors'!$C$3=\"Wind\"),IF(G62*'AVOID NEW'!$E$67<6.5,G62*(1-'AVOID NEW'!$E$67),G62-6.5),\"NA\")","v":37.536000000000001},42.6,{"$f":"IF(OR('Input - Capacity Factors'!$C$3=\"Wind\"),IF(I62*'AVOID NEW'!$E$67<6.5,I62*(1-'AVOID NEW'!$E$67),I62-6.5),\"NA\")","v":39.192},37.200000000000003,{"$f":"IF(OR('Input - Capacity Factors'!$C$3=\"Wind\"),IF(K62*'AVOID NEW'!$E$67<6.5,K62*(1-'AVOID NEW'!$E$67),K62-6.5),\"NA\")","v":34.224000000000004},null,31.73,{"$f":"IF(OR('Input - Capacity Factors'!$C$3=\"Wind\"),IF(N62*'AVOID NEW'!$E$67<6.5,N62*(1-'AVOID NEW'!$E$67),N62-6.5),\"NA\")","v":29.191600000000001},33.130000000000003,{"$f":"IF(OR('Input - Capacity Factors'!$C$3=\"Wind\"),IF(P62*'AVOID NEW'!$E$67<6.5,P62*(1-'AVOID NEW'!$E$67),P62-6.5),\"NA\")","v":30.479600000000005},28.93,{"$f":"IF(OR('Input - Capacity Factors'!$C$3=\"Wind\"),IF(R62*'AVOID NEW'!$E$67<6.5,R62*(1-'AVOID NEW'!$E$67),R62-6.5),\"NA\")","v":26.615600000000001},null,null,37.78,{"$f":"IF(OR('Input - Capacity Factors'!$C$3=\"Wind\"),IF(V62*'AVOID NEW'!$E$67<6.5,V62*(1-'AVOID NEW'!$E$67),V62-6.5),\"NA\")","v":34.757600000000004},39.450000000000003,{"$f":"IF(OR('Input - Capacity Factors'!$C$3=\"Wind\"),IF(X62*'AVOID NEW'!$E$67<6.5,X62*(1-'AVOID NEW'!$E$67),X62-6.5),\"NA\")","v":36.294000000000004},34.450000000000003,{"$f":"IF(OR('Input - Capacity Factors'!$C$3=\"Wind\"),IF(Z62*'AVOID NEW'!$E$67<6.5,Z62*(1-'AVOID NEW'!$E$67),Z62-6.5),\"NA\")","v":31.694000000000003}]
[null,11,{"$f":"'AVOID NEW'!AO19","v":38.366208560486044},40.036208560486045,35.036208560486045,null,41.44,{"$f":"IF(OR('Input - Capacity Factors'!$C$3=\"Wind\"),IF(G63*'AVOID NEW'!$E$67<6.5,G63*(1-'AVOID NEW'!$E$67),G63-6.5),\"NA\")","v":38.1248},43.24,{"$f":"IF(OR('Input - Capacity Factors'!$C$3=\"Wind\"),IF(I63*'AVOID NEW'!$E$67<6.5,I63*(1-'AVOID NEW'!$E$67),I63-6.5),\"NA\")","v":39.780800000000006},37.840000000000003,{"$f":"IF(OR('Input - Capacity Factors'!$C$3=\"Wind\"),IF(K63*'AVOID NEW'!$E$67<6.5,K63*(1-'AVOID NEW'!$E$67),K63-6.5),\"NA\")","v":34.812800000000003},null,32.229999999999997,{"$f":"IF(OR('Input - Capacity Factors'!$C$3=\"Wind\"),IF(N63*'AVOID NEW'!$E$67<6.5,N63*(1-'AVOID NEW'!$E$67),N63-6.5),\"NA\")","v":29.651599999999998},33.630000000000003,{"$f":"IF(OR('Input - Capacity Factors'!$C$3=\"Wind\"),IF(P63*'AVOID NEW'!$E$67<6.5,P63*(1-'AVOID NEW'!$E$67),P63-6.5),\"NA\")","v":30.939600000000002},29.43,{"$f":"IF(OR('Input - Capacity Factors'!$C$3=\"Wind\"),IF(R63*'AVOID NEW'!$E$67<6.5,R63*(1-'AVOID NEW'!$E$67),R63-6.5),\"NA\")","v":27.075600000000001},null,null,38.369999999999997,{"$f":"IF(OR('Input - Capacity Factors'!$C$3=\"Wind\"),IF(V63*'AVOID NEW'!$E$67<6.5,V63*(1-'AVOID NEW'!$E$67),V63-6.5),\"NA\")","v":35.300399999999996},40.04,{"$f":"IF(OR('Input - Capacity Factors'!$C$3=\"Wind\"),IF(X63*'AVOID NEW'!$E$67<6.5,X63*(1-'AVOID NEW'!$E$67),X63-6.5),\"NA\")","v":36.836800000000004},35.04,{"$f":"IF(OR('Input - Capacity Factors'!$C$3=\"Wind\"),IF(Z63*'AVOID NEW'!$E$67<6.5,Z63*(1-'AVOID NEW'!$E$67),Z63-6.5),\"NA\")","v":32.236800000000002}]
[null,12,{"$f":"'AVOID NEW'!AO20","v":38.91441317860972},40.584413178609722,35.584413178609722,null,42.03,{"$f":"IF(OR('Input - Capacity Factors'!$C$3=\"Wind\"),IF(G64*'AVOID NEW'!$E$67<6.5,G64*(1-'AVOID NEW'!$E$67),G64-6.5),\"NA\")","v":38.6676},43.83,{"$f":"IF(OR('Input - Capacity Factors'!$C$3=\"Wind\"),IF(I64*'AVOID NEW'!$E$67<6.5,I64*(1-'AVOID NEW'!$E$67),I64-6.5),\"NA\")","v":40.323599999999999},38.43,{"$f":"IF(OR('Input - Capacity Factors'!$C$3=\"Wind\"),IF(K64*'AVOID NEW'!$E$67<6.5,K64*(1-'AVOID NEW'!$E$67),K64-6.5),\"NA\")","v":35.355600000000003},null,32.69,{"$f":"IF(OR('Input - Capacity Factors'!$C$3=\"Wind\"),IF(N64*'AVOID NEW'!$E$67<6.5,N64*(1-'AVOID NEW'!$E$67),N64-6.5),\"NA\")","v":30.0748},34.090000000000003,{"$f":"IF(OR('Input - Capacity Factors'!$C$3=\"Wind\"),IF(P64*'AVOID NEW'!$E$67<6.5,P64*(1-'AVOID NEW'!$E$67),P64-6.5),\"NA\")","v":31.362800000000004},29.89,{"$f":"IF(OR('Input - Capacity Factors'!$C$3=\"Wind\"),IF(R64*'AVOID NEW'!$E$67<6.5,R64*(1-'AVOID NEW'!$E$67),R64-6.5),\"NA\")","v":27.498800000000003},null,null,38.909999999999997,{"$f":"IF(OR('Input - Capacity Factors'!$C$3=\"Wind\"),IF(V64*'AVOID NEW'!$E$67<6.5,V64*(1-'AVOID NEW'!$E$67),V64-6.5),\"NA\")","v":35.797199999999997},40.58,{"$f":"IF(OR('Input - Capacity Factors'!$C$3=\"Wind\"),IF(X64*'AVOID NEW'!$E$67<6.5,X64*(1-'AVOID NEW'!$E$67),X64-6.5),\"NA\")","v":37.333599999999997},35.58,{"$f":"IF(OR('Input - Capacity Factors'!$C$3=\"Wind\"),IF(Z64*'AVOID NEW'!$E$67<6.5,Z64*(1-'AVOID NEW'!$E$67),Z64-6.5),\"NA\")","v":32.733600000000003}]
[null,13,{"$f":"'AVOID NEW'!AO21","v":39.409889766925467},41.079889766925469,36.079889766925469,null,42.56,{"$f":"IF(OR('Input - Capacity Factors'!$C$3=\"Wind\"),IF(G65*'AVOID NEW'!$E$67<6.5,G65*(1-'AVOID NEW'!$E$67),G65-6.5),\"NA\")","v":39.155200000000001},44.37,{"$f":"IF(OR('Input - Capacity Factors'!$C$3=\"Wind\"),IF(I65*'AVOID NEW'!$E$67<6.5,I65*(1-'AVOID NEW'!$E$67),I65-6.5),\"NA\")","v":40.820399999999999},38.97,{"$f":"IF(OR('Input - Capacity Factors'!$C$3=\"Wind\"),IF(K65*'AVOID NEW'!$E$67<6.5,K65*(1-'AVOID NEW'!$E$67),K65-6.5),\"NA\")","v":35.852400000000003},null,33.1,{"$f":"IF(OR('Input - Capacity Factors'!$C$3=\"Wind\"),IF(N65*'AVOID NEW'!$E$67<6.5,N65*(1-'AVOID NEW'!$E$67),N65-6.5),\"NA\")","v":30.452000000000002},34.51,{"$f":"IF(OR('Input - Capacity Factors'!$C$3=\"Wind\"),IF(P65*'AVOID NEW'!$E$67<6.5,P65*(1-'AVOID NEW'!$E$67),P65-6.5),\"NA\")","v":31.749199999999998},30.31,{"$f":"IF(OR('Input - Capacity Factors'!$C$3=\"Wind\"),IF(R65*'AVOID NEW'!$E$67<6.5,R65*(1-'AVOID NEW'!$E$67),R65-6.5),\"NA\")","v":27.885200000000001},null,null,39.409999999999997,{"$f":"IF(OR('Input - Capacity Factors'!$C$3=\"Wind\"),IF(V65*'AVOID NEW'!$E$67<6.5,V65*(1-'AVOID NEW'!$E$67),V65-6.5),\"NA\")","v":36.257199999999997},41.08,{"$f":"IF(OR('Input - Capacity Factors'!$C$3=\"Wind\"),IF(X65*'AVOID NEW'!$E$67<6.5,X65*(1-'AVOID NEW'!$E$67),X65-6.5),\"NA\")","v":37.793599999999998},36.08,{"$f":"IF(OR('Input - Capacity Factors'!$C$3=\"Wind\"),IF(Z65*'AVOID NEW'!$E$67<6.5,Z65*(1-'AVOID NEW'!$E$67),Z65-6.5),\"NA\")","v":33.193599999999996}]
[null,14,{"$f":"'AVOID NEW'!AO22","v":39.875954740388856},41.545954740388858,36.545954740388858,null,43.07,{"$f":"IF(OR('Input - Capacity Factors'!$C$3=\"Wind\"),IF(G66*'AVOID NEW'!$E$67<6.5,G66*(1-'AVOID NEW'!$E$67),G66-6.5),\"NA\")","v":39.624400000000001},44.87,{"$f":"IF(OR('Input - Capacity Factors'!$C$3=\"Wind\"),IF(I66*'AVOID NEW'!$E$67<6.5,I66*(1-'AVOID NEW'!$E$67),I66-6.5),\"NA\")","v":41.2804},39.47,{"$f":"IF(OR('Input - Capacity Factors'!$C$3=\"Wind\"),IF(K66*'AVOID NEW'!$E$67<6.5,K66*(1-'AVOID NEW'!$E$67),K66-6.5),\"NA\")","v":36.312400000000004},null,33.5,{"$f":"IF(OR('Input - Capacity Factors'!$C$3=\"Wind\"),IF(N66*'AVOID NEW'!$E$67<6.5,N66*(1-'AVOID NEW'!$E$67),N66-6.5),\"NA\")","v":30.82},34.9,{"$f":"IF(OR('Input - Capacity Factors'!$C$3=\"Wind\"),IF(P66*'AVOID NEW'!$E$67<6.5,P66*(1-'AVOID NEW'!$E$67),P66-6.5),\"NA\")","v":32.107999999999997},30.7,{"$f":"IF(OR('Input - Capacity Factors'!$C$3=\"Wind\"),IF(R66*'AVOID NEW'!$E$67<6.5,R66*(1-'AVOID NEW'!$E$67),R66-6.5),\"NA\")","v":28.244},null,null,39.880000000000003,{"$f":"IF(OR('Input - Capacity Factors'!$C$3=\"Wind\"),IF(V66*'AVOID NEW'!$E$67<6.5,V66*(1-'AVOID NEW'!$E$67),V66-6.5),\"NA\")","v":36.689600000000006},41.55,{"$f":"IF(OR('Input - Capacity Factors'!$C$3=\"Wind\"),IF(X66*'AVOID NEW'!$E$67<6.5,X66*(1-'AVOID NEW'!$E$67),X66-6.5),\"NA\")","v":38.225999999999999},36.549999999999997,{"$f":"IF(OR('Input - Capacity Factors'!$C$3=\"Wind\"),IF(Z66*'AVOID NEW'!$E$67<6.5,Z66*(1-'AVOID NEW'!$E$67),Z66-6.5),\"NA\")","v":33.625999999999998}]
[null,15,{"$f":"'AVOID NEW'!AO23","v":40.312528940668287},41.982528940668288,36.982528940668288,null,43.54,{"$f":"IF(OR('Input - Capacity Factors'!$C$3=\"Wind\"),IF(G67*'AVOID NEW'!$E$67<6.5,G67*(1-'AVOID NEW'!$E$67),G67-6.5),\"NA\")","v":40.056800000000003},45.34,{"$f":"IF(OR('Input - Capacity Factors'!$C$3=\"Wind\"),IF(I67*'AVOID NEW'!$E$67<6.5,I67*(1-'AVOID NEW'!$E$67),I67-6.5),\"NA\")","v":41.712800000000001},39.94,{"$f":"IF(OR('Input - Capacity Factors'!$C$3=\"Wind\"),IF(K67*'AVOID NEW'!$E$67<6.5,K67*(1-'AVOID NEW'!$E$67),K67-6.5),\"NA\")","v":36.744799999999998},null,33.86,{"$f":"IF(OR('Input - Capacity Factors'!$C$3=\"Wind\"),IF(N67*'AVOID NEW'!$E$67<6.5,N67*(1-'AVOID NEW'!$E$67),N67-6.5),\"NA\")","v":31.151199999999999},35.270000000000003,{"$f":"IF(OR('Input - Capacity Factors'!$C$3=\"Wind\"),IF(P67*'AVOID NEW'!$E$67<6.5,P67*(1-'AVOID NEW'!$E$67),P67-6.5),\"NA\")","v":32.448400000000007},31.07,{"$f":"IF(OR('Input - Capacity Factors'!$C$3=\"Wind\"),IF(R67*'AVOID NEW'!$E$67<6.5,R67*(1-'AVOID NEW'!$E$67),R67-6.5),\"NA\")","v":28.584400000000002},null,null,40.31,{"$f":"IF(OR('Input - Capacity Factors'!$C$3=\"Wind\"),IF(V67*'AVOID NEW'!$E$67<6.5,V67*(1-'AVOID NEW'!$E$67),V67-6.5),\"NA\")","v":37.0852},41.98,{"$f":"IF(OR('Input - Capacity Factors'!$C$3=\"Wind\"),IF(X67*'AVOID NEW'!$E$67<6.5,X67*(1-'AVOID NEW'!$E$67),X67-6.5),\"NA\")","v":38.621600000000001},36.979999999999997,{"$f":"IF(OR('Input - Capacity Factors'!$C$3=\"Wind\"),IF(Z67*'AVOID NEW'!$E$67<6.5,Z67*(1-'AVOID NEW'!$E$67),Z67-6.5),\"NA\")","v":34.021599999999999}]
[null,16,{"$f":"'AVOID NEW'!AO24","v":40.7316439523415},42.401643952341502,37.401643952341502,null,43.99,{"$f":"IF(OR('Input - Capacity Factors'!$C$3=\"Wind\"),IF(G68*'AVOID NEW'!$E$67<6.5,G68*(1-'AVOID NEW'!$E$67),G68-6.5),\"NA\")","v":40.470800000000004},45.79,{"$f":"IF(OR('Input - Capacity Factors'!$C$3=\"Wind\"),IF(I68*'AVOID NEW'!$E$67<6.5,I68*(1-'AVOID NEW'!$E$67),I68-6.5),\"NA\")","v":42.126800000000003},40.39,{"$f":"IF(OR('Input - Capacity Factors'!$C$3=\"Wind\"),IF(K68*'AVOID NEW'!$E$67<6.5,K68*(1-'AVOID NEW'!$E$67),K68-6.5),\"NA\")","v":37.158799999999999},null,34.21,{"$f":"IF(OR('Input - Capacity Factors'!$C$3=\"Wind\"),IF(N68*'AVOID NEW'!$E$67<6.5,N68*(1-'AVOID NEW'!$E$67),N68-6.5),\"NA\")","v":31.473200000000002},35.619999999999997,{"$f":"IF(OR('Input - Capacity Factors'!$C$3=\"Wind\"),IF(P68*'AVOID NEW'!$E$67<6.5,P68*(1-'AVOID NEW'!$E$67),P68-6.5),\"NA\")","v":32.770400000000002},31.42,{"$f":"IF(OR('Input - Capacity Factors'!$C$3=\"Wind\"),IF(R68*'AVOID NEW'!$E$67<6.5,R68*(1-'AVOID NEW'!$E$67),R68-6.5),\"NA\")","v":28.906400000000001},null,null,40.729999999999997,{"$f":"IF(OR('Input - Capacity Factors'!$C$3=\"Wind\"),IF(V68*'AVOID NEW'!$E$67<6.5,V68*(1-'AVOID NEW'!$E$67),V68-6.5),\"NA\")","v":37.471600000000002},42.4,{"$f":"IF(OR('Input - Capacity Factors'!$C$3=\"Wind\"),IF(X68*'AVOID NEW'!$E$67<6.5,X68*(1-'AVOID NEW'!$E$67),X68-6.5),\"NA\")","v":39.008000000000003},37.4,{"$f":"IF(OR('Input - Capacity Factors'!$C$3=\"Wind\"),IF(Z68*'AVOID NEW'!$E$67<6.5,Z68*(1-'AVOID NEW'!$E$67),Z68-6.5),\"NA\")","v":34.408000000000001}]
[null,17,{"$f":"'AVOID NEW'!AO25","v":41.133477728051339},42.803477728051341,37.803477728051341,null,44.42,{"$f":"IF(OR('Input - Capacity Factors'!$C$3=\"Wind\"),IF(G69*'AVOID NEW'!$E$67<6.5,G69*(1-'AVOID NEW'!$E$67),G69-6.5),\"NA\")","v":40.866400000000006},46.23,{"$f":"IF(OR('Input - Capacity Factors'!$C$3=\"Wind\"),IF(I69*'AVOID NEW'!$E$67<6.5,I69*(1-'AVOID NEW'!$E$67),I69-6.5),\"NA\")","v":42.531599999999997},40.83,{"$f":"IF(OR('Input - Capacity Factors'!$C$3=\"Wind\"),IF(K69*'AVOID NEW'!$E$67<6.5,K69*(1-'AVOID NEW'!$E$67),K69-6.5),\"NA\")","v":37.563600000000001},null,34.549999999999997,{"$f":"IF(OR('Input - Capacity Factors'!$C$3=\"Wind\"),IF(N69*'AVOID NEW'!$E$67<6.5,N69*(1-'AVOID NEW'!$E$67),N69-6.5),\"NA\")","v":31.785999999999998},35.950000000000003,{"$f":"IF(OR('Input - Capacity Factors'!$C$3=\"Wind\"),IF(P69*'AVOID NEW'!$E$67<6.5,P69*(1-'AVOID NEW'!$E$67),P69-6.5),\"NA\")","v":33.074000000000005},31.75,{"$f":"IF(OR('Input - Capacity Factors'!$C$3=\"Wind\"),IF(R69*'AVOID NEW'!$E$67<6.5,R69*(1-'AVOID NEW'!$E$67),R69-6.5),\"NA\")","v":29.21},null,null,41.13,{"$f":"IF(OR('Input - Capacity Factors'!$C$3=\"Wind\"),IF(V69*'AVOID NEW'!$E$67<6.5,V69*(1-'AVOID NEW'!$E$67),V69-6.5),\"NA\")","v":37.839600000000004},42.8,{"$f":"IF(OR('Input - Capacity Factors'!$C$3=\"Wind\"),IF(X69*'AVOID NEW'!$E$67<6.5,X69*(1-'AVOID NEW'!$E$67),X69-6.5),\"NA\")","v":39.375999999999998},37.799999999999997,{"$f":"IF(OR('Input - Capacity Factors'!$C$3=\"Wind\"),IF(Z69*'AVOID NEW'!$E$67<6.5,Z69*(1-'AVOID NEW'!$E$67),Z69-6.5),\"NA\")","v":34.775999999999996}]
[null,18,{"$f":"'AVOID NEW'!AO26","v":41.527226618825061},43.197226618825063,38.197226618825063,null,44.85,{"$f":"IF(OR('Input - Capacity Factors'!$C$3=\"Wind\"),IF(G70*'AVOID NEW'!$E$67<6.5,G70*(1-'AVOID NEW'!$E$67),G70-6.5),\"NA\")","v":41.262},46.65,{"$f":"IF(OR('Input - Capacity Factors'!$C$3=\"Wind\"),IF(I70*'AVOID NEW'!$E$67<6.5,I70*(1-'AVOID NEW'!$E$67),I70-6.5),\"NA\")","v":42.917999999999999},41.25,{"$f":"IF(OR('Input - Capacity Factors'!$C$3=\"Wind\"),IF(K70*'AVOID NEW'!$E$67<6.5,K70*(1-'AVOID NEW'!$E$67),K70-6.5),\"NA\")","v":37.950000000000003},null,34.880000000000003,{"$f":"IF(OR('Input - Capacity Factors'!$C$3=\"Wind\"),IF(N70*'AVOID NEW'!$E$67<6.5,N70*(1-'AVOID NEW'!$E$67),N70-6.5),\"NA\")","v":32.089600000000004},36.29,{"$f":"IF(OR('Input - Capacity Factors'!$C$3=\"Wind\"),IF(P70*'AVOID NEW'!$E$67<6.5,P70*(1-'AVOID NEW'!$E$67),P70-6.5),\"NA\")","v":33.386800000000001},32.090000000000003,{"$f":"IF(OR('Input - Capacity Factors'!$C$3=\"Wind\"),IF(R70*'AVOID NEW'!$E$67<6.5,R70*(1-'AVOID NEW'!$E$67),R70-6.5),\"NA\")","v":29.522800000000004},null,null,41.53,{"$f":"IF(OR('Input - Capacity Factors'!$C$3=\"Wind\"),IF(V70*'AVOID NEW'!$E$67<6.5,V70*(1-'AVOID NEW'!$E$67),V70-6.5),\"NA\")","v":38.207599999999999},43.2,{"$f":"IF(OR('Input - Capacity Factors'!$C$3=\"Wind\"),IF(X70*'AVOID NEW'!$E$67<6.5,X70*(1-'AVOID NEW'!$E$67),X70-6.5),\"NA\")","v":39.744000000000007},38.200000000000003,{"$f":"IF(OR('Input - Capacity Factors'!$C$3=\"Wind\"),IF(Z70*'AVOID NEW'!$E$67<6.5,Z70*(1-'AVOID NEW'!$E$67),Z70-6.5),\"NA\")","v":35.144000000000005}]
[null,19,{"$f":"'AVOID NEW'!AO27","v":41.908037611359106},43.578037611359107,38.578037611359107,null,45.26,{"$f":"IF(OR('Input - Capacity Factors'!$C$3=\"Wind\"),IF(G71*'AVOID NEW'!$E$67<6.5,G71*(1-'AVOID NEW'!$E$67),G71-6.5),\"NA\")","v":41.639200000000002},47.06,{"$f":"IF(OR('Input - Capacity Factors'!$C$3=\"Wind\"),IF(I71*'AVOID NEW'!$E$67<6.5,I71*(1-'AVOID NEW'!$E$67),I71-6.5),\"NA\")","v":43.295200000000001},41.66,{"$f":"IF(OR('Input - Capacity Factors'!$C$3=\"Wind\"),IF(K71*'AVOID NEW'!$E$67<6.5,K71*(1-'AVOID NEW'!$E$67),K71-6.5),\"NA\")","v":38.327199999999998},null,35.200000000000003,{"$f":"IF(OR('Input - Capacity Factors'!$C$3=\"Wind\"),IF(N71*'AVOID NEW'!$E$67<6.5,N71*(1-'AVOID NEW'!$E$67),N71-6.5),\"NA\")","v":32.384000000000007},36.61,{"$f":"IF(OR('Input - Capacity Factors'!$C$3=\"Wind\"),IF(P71*'AVOID NEW'!$E$67<6.5,P71*(1-'AVOID NEW'!$E$67),P71-6.5),\"NA\")","v":33.681200000000004},32.409999999999997,{"$f":"IF(OR('Input - Capacity Factors'!$C$3=\"Wind\"),IF(R71*'AVOID NEW'!$E$67<6.5,R71*(1-'AVOID NEW'!$E$67),R71-6.5),\"NA\")","v":29.8172},null,null,41.91,{"$f":"IF(OR('Input - Capacity Factors'!$C$3=\"Wind\"),IF(V71*'AVOID NEW'!$E$67<6.5,V71*(1-'AVOID NEW'!$E$67),V71-6.5),\"NA\")","v":38.557200000000002},43.58,{"$f":"IF(OR('Input - Capacity Factors'!$C$3=\"Wind\"),IF(X71*'AVOID NEW'!$E$67<6.5,X71*(1-'AVOID NEW'!$E$67),X71-6.5),\"NA\")","v":40.093600000000002},38.58,{"$f":"IF(OR('Input - Capacity Factors'!$C$3=\"Wind\"),IF(Z71*'AVOID NEW'!$E$67<6.5,Z71*(1-'AVOID NEW'!$E$67),Z71-6.5),\"NA\")","v":35.493600000000001}]
[null,20,{"$f":"'AVOID NEW'!AO28","v":42.269312783325852},43.939312783325853,38.939312783325853,null,45.65,{"$f":"IF(OR('Input - Capacity Factors'!$C$3=\"Wind\"),IF(G72*'AVOID NEW'!$E$67<6.5,G72*(1-'AVOID NEW'!$E$67),G72-6.5),\"NA\")","v":41.997999999999998},47.45,{"$f":"IF(OR('Input - Capacity Factors'!$C$3=\"Wind\"),IF(I72*'AVOID NEW'!$E$67<6.5,I72*(1-'AVOID NEW'!$E$67),I72-6.5),\"NA\")","v":43.654000000000003},42.05,{"$f":"IF(OR('Input - Capacity Factors'!$C$3=\"Wind\"),IF(K72*'AVOID NEW'!$E$67<6.5,K72*(1-'AVOID NEW'!$E$67),K72-6.5),\"NA\")","v":38.686},null,35.51,{"$f":"IF(OR('Input - Capacity Factors'!$C$3=\"Wind\"),IF(N72*'AVOID NEW'!$E$67<6.5,N72*(1-'AVOID NEW'!$E$67),N72-6.5),\"NA\")","v":32.669199999999996},36.909999999999997,{"$f":"IF(OR('Input - Capacity Factors'!$C$3=\"Wind\"),IF(P72*'AVOID NEW'!$E$67<6.5,P72*(1-'AVOID NEW'!$E$67),P72-6.5),\"NA\")","v":33.9572},32.71,{"$f":"IF(OR('Input - Capacity Factors'!$C$3=\"Wind\"),IF(R72*'AVOID NEW'!$E$67<6.5,R72*(1-'AVOID NEW'!$E$67),R72-6.5),\"NA\")","v":30.093200000000003},null,null,42.27,{"$f":"IF(OR('Input - Capacity Factors'!$C$3=\"Wind\"),IF(V72*'AVOID NEW'!$E$67<6.5,V72*(1-'AVOID NEW'!$E$67),V72-6.5),\"NA\")","v":38.888400000000004},43.94,{"$f":"IF(OR('Input - Capacity Factors'!$C$3=\"Wind\"),IF(X72*'AVOID NEW'!$E$67<6.5,X72*(1-'AVOID NEW'!$E$67),X72-6.5),\"NA\")","v":40.424799999999998},38.94,{"$f":"IF(OR('Input - Capacity Factors'!$C$3=\"Wind\"),IF(Z72*'AVOID NEW'!$E$67<6.5,Z72*(1-'AVOID NEW'!$E$67),Z72-6.5),\"NA\")","v":35.824799999999996}]
[]
[]
[]
[null,{"$f":"$B$1","v":"THESE RATES ARE NOT VALID"}]
[null,"LEVELIZED RATES"]
[null,{"$f":"\"PROJECT ON-LINE IN \"& 'AVOID NEW'!$D$54+2","v":"PROJECT ON-LINE IN 2024"}]
[null,{"$f":"\"Rate Effective Date: \"&'AVOID NEW'!$E$69","v":"Rate Effective Date: XXXX, 2022"}]
[null,{"$f":"\"Resource:  \"&'Input - Capacity Factors'!$C$3","v":"Resource:  Wind"}]
[null,null,"Levelized Price",null,null,null,{"$f":"\"Season 1 Pricing (\"&$D$7*100&\"%)\"","v":"Season 1 Pricing (108%)"},null,null,null,null,null,null,{"$f":"\"Season 2 Pricing (\"&100*$D$8&\"%)\"","v":"Season 2 Pricing (84%)"},null,null,null,null,null,null,null,"Non-Seasonalized Pricing"]
[null,null,"Heavy and Light Load Hour Differential",{"$f":"'AVOID NEW'!$E$66","v":5},null,null,"Flat",null,"Heavy Load Hour",null,"Light Load Hour",null,null,"Flat",null,"Heavy Load Hour",null,"Light Load Hour",null,null,null,"Flat",null,"Heavy Load Hour",null,"Light Load Hour"]
[null,null,null,{"$f":"ROUND(D82/3,2)","v":1.67},{"$f":"-ROUND((D82*2)/3,2)","v":-3.33},null,null,"Price less wind integration adjustment",null,"Price less wind integration adjustment",null,"Price less wind integration adjustment",null,null,"Price less wind integration adjustment",null,"Price less wind integration adjustment",null,"Price less wind integration adjustment",null,null,null,"Price less wind integration adjustment",null,"Price less wind integration adjustment",null,"Price less wind integration adjustment"]
[null,"Contract Length","Flat","Heavy Load Hour","Light Load Hour",null,"Price",null,"Price",null,"Price",null,null,"Price",null,"Price",null,"Price",null,null,null,"Price",null,"Price",null,"Price"]
[null,1,{"$f":"'AVOID NEW'!AP9","v":33.693158683494346},{"$f":"C85+D$83","v":35.363158683494348},{"$f":"C85+E$83","v":30.363158683494348},null,{"$f":"ROUND((+$C85*$D$7),2)","v":36.39},{"$f":"IF(OR('Input - Capacity Factors'!$C$3=\"Wind\"),IF(G85*'AVOID NEW'!$E$67<6.5,G85*(1-'AVOID NEW'!$E$67),G85-6.5),\"NA\")","v":33.4788},{"$f":"ROUND((+$D85*$D$7),2)","v":38.19},{"$f":"IF(OR('Input - Capacity Factors'!$C$3=\"Wind\"),IF(I85*'AVOID NEW'!$E$67<6.5,I85*(1-'AVOID NEW'!$E$67),I85-6.5),\"NA\")","v":35.134799999999998},{"$f":"ROUND((+$E85*$D$7),2)","v":32.79},{"$f":"IF(OR('Input - Capacity Factors'!$C$3=\"Wind\"),IF(K85*'AVOID NEW'!$E$67<6.5,K85*(1-'AVOID NEW'!$E$67),K85-6.5),\"NA\")","v":30.166800000000002},null,{"$f":"ROUND((+$C85*$D$8),2)","v":28.3},{"$f":"IF(OR('Input - Capacity Factors'!$C$3=\"Wind\"),IF(N85*'AVOID NEW'!$E$67<6.5,N85*(1-'AVOID NEW'!$E$67),N85-6.5),\"NA\")","v":26.036000000000001},{"$f":"ROUND((+$D85*$D$8),2)","v":29.71},{"$f":"IF(OR('Input - Capacity Factors'!$C$3=\"Wind\"),IF(P85*'AVOID NEW'!$E$67<6.5,P85*(1-'AVOID NEW'!$E$67),P85-6.5),\"NA\")","v":27.333200000000001},{"$f":"ROUND((+$E85*$D$8),2)","v":25.51},{"$f":"IF(OR('Input - Capacity Factors'!$C$3=\"Wind\"),IF(R85*'AVOID NEW'!$E$67<6.5,R85*(1-'AVOID NEW'!$E$67),R85-6.5),\"NA\")","v":23.469200000000001},null,null,{"$f":"ROUND((+$C85),2)","v":33.69},{"$f":"IF(OR('Input - Capacity Factors'!$C$3=\"Wind\"),IF(V85*'AVOID NEW'!$E$67<6.5,V85*(1-'AVOID NEW'!$E$67),V85-6.5),\"NA\")","v":30.994799999999998},{"$f":"ROUND((+$D85),2)","v":35.36},{"$f":"IF(OR('Input - Capacity Factors'!$C$3=\"Wind\"),IF(X85*'AVOID NEW'!$E$67<6.5,X85*(1-'AVOID NEW'!$E$67),X85-6.5),\"NA\")","v":32.531199999999998},{"$f":"ROUND((+$E85),2)","v":30.36},{"$f":"IF(OR('Input - Capacity Factors'!$C$3=\"Wind\"),IF(Z85*'AVOID NEW'!$E$67<6.5,Z85*(1-'AVOID NEW'!$E$67),Z85-6.5),\"NA\")","v":27.9312}]
[null,2,{"$f":"'AVOID NEW'!AP10","v":33.462032910806386},35.132032910806387,30.132032910806387,null,36.14,{"$f":"IF(OR('Input - Capacity Factors'!$C$3=\"Wind\"),IF(G86*'AVOID NEW'!$E$67<6.5,G86*(1-'AVOID NEW'!$E$67),G86-6.5),\"NA\")","v":33.248800000000003},37.94,{"$f":"IF(OR('Input - Capacity Factors'!$C$3=\"Wind\"),IF(I86*'AVOID NEW'!$E$67<6.5,I86*(1-'AVOID NEW'!$E$67),I86-6.5),\"NA\")","v":34.904800000000002},32.54,{"$f":"IF(OR('Input - Capacity Factors'!$C$3=\"Wind\"),IF(K86*'AVOID NEW'!$E$67<6.5,K86*(1-'AVOID NEW'!$E$67),K86-6.5),\"NA\")","v":29.936800000000002},null,28.11,{"$f":"IF(OR('Input - Capacity Factors'!$C$3=\"Wind\"),IF(N86*'AVOID NEW'!$E$67<6.5,N86*(1-'AVOID NEW'!$E$67),N86-6.5),\"NA\")","v":25.8612},29.51,{"$f":"IF(OR('Input - Capacity Factors'!$C$3=\"Wind\"),IF(P86*'AVOID NEW'!$E$67<6.5,P86*(1-'AVOID NEW'!$E$67),P86-6.5),\"NA\")","v":27.149200000000004},25.31,{"$f":"IF(OR('Input - Capacity Factors'!$C$3=\"Wind\"),IF(R86*'AVOID NEW'!$E$67<6.5,R86*(1-'AVOID NEW'!$E$67),R86-6.5),\"NA\")","v":23.2852},null,null,{"$f":"ROUND((+$C86),2)","v":33.46},{"$f":"IF(OR('Input - Capacity Factors'!$C$3=\"Wind\"),IF(V86*'AVOID NEW'!$E$67<6.5,V86*(1-'AVOID NEW'!$E$67),V86-6.5),\"NA\")","v":30.783200000000001},{"$f":"ROUND((+$D86),2)","v":35.130000000000003},{"$f":"IF(OR('Input - Capacity Factors'!$C$3=\"Wind\"),IF(X86*'AVOID NEW'!$E$67<6.5,X86*(1-'AVOID NEW'!$E$67),X86-6.5),\"NA\")","v":32.319600000000001},{"$f":"ROUND((+$E86),2)","v":30.13},{"$f":"IF(OR('Input - Capacity Factors'!$C$3=\"Wind\"),IF(Z86*'AVOID NEW'!$E$67<6.5,Z86*(1-'AVOID NEW'!$E$67),Z86-6.5),\"NA\")","v":27.7196}]
[null,3,{"$f":"'AVOID NEW'!AP11","v":33.77191621092993},35.441916210929932,30.441916210929932,null,36.47,{"$f":"IF(OR('Input - Capacity Factors'!$C$3=\"Wind\"),IF(G87*'AVOID NEW'!$E$67<6.5,G87*(1-'AVOID NEW'!$E$67),G87-6.5),\"NA\")","v":33.552399999999999},38.28,{"$f":"IF(OR('Input - Capacity Factors'!$C$3=\"Wind\"),IF(I87*'AVOID NEW'!$E$67<6.5,I87*(1-'AVOID NEW'!$E$67),I87-6.5),\"NA\")","v":35.217600000000004},32.880000000000003,{"$f":"IF(OR('Input - Capacity Factors'!$C$3=\"Wind\"),IF(K87*'AVOID NEW'!$E$67<6.5,K87*(1-'AVOID NEW'!$E$67),K87-6.5),\"NA\")","v":30.249600000000004},null,28.37,{"$f":"IF(OR('Input - Capacity Factors'!$C$3=\"Wind\"),IF(N87*'AVOID NEW'!$E$67<6.5,N87*(1-'AVOID NEW'!$E$67),N87-6.5),\"NA\")","v":26.1004},29.77,{"$f":"IF(OR('Input - Capacity Factors'!$C$3=\"Wind\"),IF(P87*'AVOID NEW'!$E$67<6.5,P87*(1-'AVOID NEW'!$E$67),P87-6.5),\"NA\")","v":27.388400000000001},25.57,{"$f":"IF(OR('Input - Capacity Factors'!$C$3=\"Wind\"),IF(R87*'AVOID NEW'!$E$67<6.5,R87*(1-'AVOID NEW'!$E$67),R87-6.5),\"NA\")","v":23.5244},null,null,33.770000000000003,{"$f":"IF(OR('Input - Capacity Factors'!$C$3=\"Wind\"),IF(V87*'AVOID NEW'!$E$67<6.5,V87*(1-'AVOID NEW'!$E$67),V87-6.5),\"NA\")","v":31.068400000000004},35.44,{"$f":"IF(OR('Input - Capacity Factors'!$C$3=\"Wind\"),IF(X87*'AVOID NEW'!$E$67<6.5,X87*(1-'AVOID NEW'!$E$67),X87-6.5),\"NA\")","v":32.604799999999997},30.44,{"$f":"IF(OR('Input - Capacity Factors'!$C$3=\"Wind\"),IF(Z87*'AVOID NEW'!$E$67<6.5,Z87*(1-'AVOID NEW'!$E$67),Z87-6.5),\"NA\")","v":28.004800000000003}]
[null,4,{"$f":"'AVOID NEW'!AP12","v":34.372010930110029},36.042010930110031,31.042010930110031,null,37.119999999999997,{"$f":"IF(OR('Input - Capacity Factors'!$C$3=\"Wind\"),IF(G88*'AVOID NEW'!$E$67<6.5,G88*(1-'AVOID NEW'!$E$67),G88-6.5),\"NA\")","v":34.150399999999998},38.93,{"$f":"IF(OR('Input - Capacity Factors'!$C$3=\"Wind\"),IF(I88*'AVOID NEW'!$E$67<6.5,I88*(1-'AVOID NEW'!$E$67),I88-6.5),\"NA\")","v":35.815600000000003},33.53,{"$f":"IF(OR('Input - Capacity Factors'!$C$3=\"Wind\"),IF(K88*'AVOID NEW'!$E$67<6.5,K88*(1-'AVOID NEW'!$E$67),K88-6.5),\"NA\")","v":30.847600000000003},null,28.87,{"$f":"IF(OR('Input - Capacity Factors'!$C$3=\"Wind\"),IF(N88*'AVOID NEW'!$E$67<6.5,N88*(1-'AVOID NEW'!$E$67),N88-6.5),\"NA\")","v":26.560400000000001},30.28,{"$f":"IF(OR('Input - Capacity Factors'!$C$3=\"Wind\"),IF(P88*'AVOID NEW'!$E$67<6.5,P88*(1-'AVOID NEW'!$E$67),P88-6.5),\"NA\")","v":27.857600000000001},26.08,{"$f":"IF(OR('Input - Capacity Factors'!$C$3=\"Wind\"),IF(R88*'AVOID NEW'!$E$67<6.5,R88*(1-'AVOID NEW'!$E$67),R88-6.5),\"NA\")","v":23.993600000000001},null,null,34.369999999999997,{"$f":"IF(OR('Input - Capacity Factors'!$C$3=\"Wind\"),IF(V88*'AVOID NEW'!$E$67<6.5,V88*(1-'AVOID NEW'!$E$67),V88-6.5),\"NA\")","v":31.6204},36.04,{"$f":"IF(OR('Input - Capacity Factors'!$C$3=\"Wind\"),IF(X88*'AVOID NEW'!$E$67<6.5,X88*(1-'AVOID NEW'!$E$67),X88-6.5),\"NA\")","v":33.156800000000004},31.04,{"$f":"IF(OR('Input - Capacity Factors'!$C$3=\"Wind\"),IF(Z88*'AVOID NEW'!$E$67<6.5,Z88*(1-'AVOID NEW'!$E$67),Z88-6.5),\"NA\")","v":28.556799999999999}]
[null,5,{"$f":"'AVOID NEW'!AP13","v":35.152984142736543},36.822984142736544,31.822984142736544,null,37.97,{"$f":"IF(OR('Input - Capacity Factors'!$C$3=\"Wind\"),IF(G89*'AVOID NEW'!$E$67<6.5,G89*(1-'AVOID NEW'!$E$67),G89-6.5),\"NA\")","v":34.932400000000001},39.770000000000003,{"$f":"IF(OR('Input - Capacity Factors'!$C$3=\"Wind\"),IF(I89*'AVOID NEW'!$E$67<6.5,I89*(1-'AVOID NEW'!$E$67),I89-6.5),\"NA\")","v":36.588400000000007},34.369999999999997,{"$f":"IF(OR('Input - Capacity Factors'!$C$3=\"Wind\"),IF(K89*'AVOID NEW'!$E$67<6.5,K89*(1-'AVOID NEW'!$E$67),K89-6.5),\"NA\")","v":31.6204},null,29.53,{"$f":"IF(OR('Input - Capacity Factors'!$C$3=\"Wind\"),IF(N89*'AVOID NEW'!$E$67<6.5,N89*(1-'AVOID NEW'!$E$67),N89-6.5),\"NA\")","v":27.167600000000004},30.93,{"$f":"IF(OR('Input - Capacity Factors'!$C$3=\"Wind\"),IF(P89*'AVOID NEW'!$E$67<6.5,P89*(1-'AVOID NEW'!$E$67),P89-6.5),\"NA\")","v":28.4556},26.73,{"$f":"IF(OR('Input - Capacity Factors'!$C$3=\"Wind\"),IF(R89*'AVOID NEW'!$E$67<6.5,R89*(1-'AVOID NEW'!$E$67),R89-6.5),\"NA\")","v":24.591600000000003},null,null,35.15,{"$f":"IF(OR('Input - Capacity Factors'!$C$3=\"Wind\"),IF(V89*'AVOID NEW'!$E$67<6.5,V89*(1-'AVOID NEW'!$E$67),V89-6.5),\"NA\")","v":32.338000000000001},36.82,{"$f":"IF(OR('Input - Capacity Factors'!$C$3=\"Wind\"),IF(X89*'AVOID NEW'!$E$67<6.5,X89*(1-'AVOID NEW'!$E$67),X89-6.5),\"NA\")","v":33.874400000000001},31.82,{"$f":"IF(OR('Input - Capacity Factors'!$C$3=\"Wind\"),IF(Z89*'AVOID NEW'!$E$67<6.5,Z89*(1-'AVOID NEW'!$E$67),Z89-6.5),\"NA\")","v":29.2744}]
[null,6,{"$f":"'AVOID NEW'!AP14","v":35.967671019113965},37.637671019113967,32.637671019113967,null,38.85,{"$f":"IF(OR('Input - Capacity Factors'!$C$3=\"Wind\"),IF(G90*'AVOID NEW'!$E$67<6.5,G90*(1-'AVOID NEW'!$E$67),G90-6.5),\"NA\")","v":35.742000000000004},40.65,{"$f":"IF(OR('Input - Capacity Factors'!$C$3=\"Wind\"),IF(I90*'AVOID NEW'!$E$67<6.5,I90*(1-'AVOID NEW'!$E$67),I90-6.5),\"NA\")","v":37.398000000000003},35.25,{"$f":"IF(OR('Input - Capacity Factors'!$C$3=\"Wind\"),IF(K90*'AVOID NEW'!$E$67<6.5,K90*(1-'AVOID NEW'!$E$67),K90-6.5),\"NA\")","v":32.43},null,30.21,{"$f":"IF(OR('Input - Capacity Factors'!$C$3=\"Wind\"),IF(N90*'AVOID NEW'!$E$67<6.5,N90*(1-'AVOID NEW'!$E$67),N90-6.5),\"NA\")","v":27.793200000000002},31.62,{"$f":"IF(OR('Input - Capacity Factors'!$C$3=\"Wind\"),IF(P90*'AVOID NEW'!$E$67<6.5,P90*(1-'AVOID NEW'!$E$67),P90-6.5),\"NA\")","v":29.090400000000002},27.42,{"$f":"IF(OR('Input - Capacity Factors'!$C$3=\"Wind\"),IF(R90*'AVOID NEW'!$E$67<6.5,R90*(1-'AVOID NEW'!$E$67),R90-6.5),\"NA\")","v":25.226400000000002},null,null,35.97,{"$f":"IF(OR('Input - Capacity Factors'!$C$3=\"Wind\"),IF(V90*'AVOID NEW'!$E$67<6.5,V90*(1-'AVOID NEW'!$E$67),V90-6.5),\"NA\")","v":33.092399999999998},37.64,{"$f":"IF(OR('Input - Capacity Factors'!$C$3=\"Wind\"),IF(X90*'AVOID NEW'!$E$67<6.5,X90*(1-'AVOID NEW'!$E$67),X90-6.5),\"NA\")","v":34.628800000000005},32.64,{"$f":"IF(OR('Input - Capacity Factors'!$C$3=\"Wind\"),IF(Z90*'AVOID NEW'!$E$67<6.5,Z90*(1-'AVOID NEW'!$E$67),Z90-6.5),\"NA\")","v":30.0288}]
[null,7,{"$f":"'AVOID NEW'!AP15","v":36.738119069635822},38.408119069635823,33.408119069635823,null,39.68,{"$f":"IF(OR('Input - Capacity Factors'!$C$3=\"Wind\"),IF(G91*'AVOID NEW'!$E$67<6.5,G91*(1-'AVOID NEW'!$E$67),G91-6.5),\"NA\")","v":36.505600000000001},41.48,{"$f":"IF(OR('Input - Capacity Factors'!$C$3=\"Wind\"),IF(I91*'AVOID NEW'!$E$67<6.5,I91*(1-'AVOID NEW'!$E$67),I91-6.5),\"NA\")","v":38.1616},36.08,{"$f":"IF(OR('Input - Capacity Factors'!$C$3=\"Wind\"),IF(K91*'AVOID NEW'!$E$67<6.5,K91*(1-'AVOID NEW'!$E$67),K91-6.5),\"NA\")","v":33.193599999999996},null,30.86,{"$f":"IF(OR('Input - Capacity Factors'!$C$3=\"Wind\"),IF(N91*'AVOID NEW'!$E$67<6.5,N91*(1-'AVOID NEW'!$E$67),N91-6.5),\"NA\")","v":28.391200000000001},32.26,{"$f":"IF(OR('Input - Capacity Factors'!$C$3=\"Wind\"),IF(P91*'AVOID NEW'!$E$67<6.5,P91*(1-'AVOID NEW'!$E$67),P91-6.5),\"NA\")","v":29.679199999999998},28.06,{"$f":"IF(OR('Input - Capacity Factors'!$C$3=\"Wind\"),IF(R91*'AVOID NEW'!$E$67<6.5,R91*(1-'AVOID NEW'!$E$67),R91-6.5),\"NA\")","v":25.815200000000001},null,null,36.74,{"$f":"IF(OR('Input - Capacity Factors'!$C$3=\"Wind\"),IF(V91*'AVOID NEW'!$E$67<6.5,V91*(1-'AVOID NEW'!$E$67),V91-6.5),\"NA\")","v":33.800800000000002},38.409999999999997,{"$f":"IF(OR('Input - Capacity Factors'!$C$3=\"Wind\"),IF(X91*'AVOID NEW'!$E$67<6.5,X91*(1-'AVOID NEW'!$E$67),X91-6.5),\"NA\")","v":35.337199999999996},33.409999999999997,{"$f":"IF(OR('Input - Capacity Factors'!$C$3=\"Wind\"),IF(Z91*'AVOID NEW'!$E$67<6.5,Z91*(1-'AVOID NEW'!$E$67),Z91-6.5),\"NA\")","v":30.737199999999998}]
[null,8,{"$f":"'AVOID NEW'!AP16","v":37.450444555036114},39.120444555036116,34.120444555036116,null,40.450000000000003,{"$f":"IF(OR('Input - Capacity Factors'!$C$3=\"Wind\"),IF(G92*'AVOID NEW'!$E$67<6.5,G92*(1-'AVOID NEW'!$E$67),G92-6.5),\"NA\")","v":37.214000000000006},42.25,{"$f":"IF(OR('Input - Capacity Factors'!$C$3=\"Wind\"),IF(I92*'AVOID NEW'!$E$67<6.5,I92*(1-'AVOID NEW'!$E$67),I92-6.5),\"NA\")","v":38.870000000000005},36.85,{"$f":"IF(OR('Input - Capacity Factors'!$C$3=\"Wind\"),IF(K92*'AVOID NEW'!$E$67<6.5,K92*(1-'AVOID NEW'!$E$67),K92-6.5),\"NA\")","v":33.902000000000001},null,31.46,{"$f":"IF(OR('Input - Capacity Factors'!$C$3=\"Wind\"),IF(N92*'AVOID NEW'!$E$67<6.5,N92*(1-'AVOID NEW'!$E$67),N92-6.5),\"NA\")","v":28.943200000000001},32.86,{"$f":"IF(OR('Input - Capacity Factors'!$C$3=\"Wind\"),IF(P92*'AVOID NEW'!$E$67<6.5,P92*(1-'AVOID NEW'!$E$67),P92-6.5),\"NA\")","v":30.231200000000001},28.66,{"$f":"IF(OR('Input - Capacity Factors'!$C$3=\"Wind\"),IF(R92*'AVOID NEW'!$E$67<6.5,R92*(1-'AVOID NEW'!$E$67),R92-6.5),\"NA\")","v":26.3672},null,null,37.450000000000003,{"$f":"IF(OR('Input - Capacity Factors'!$C$3=\"Wind\"),IF(V92*'AVOID NEW'!$E$67<6.5,V92*(1-'AVOID NEW'!$E$67),V92-6.5),\"NA\")","v":34.454000000000001},39.119999999999997,{"$f":"IF(OR('Input - Capacity Factors'!$C$3=\"Wind\"),IF(X92*'AVOID NEW'!$E$67<6.5,X92*(1-'AVOID NEW'!$E$67),X92-6.5),\"NA\")","v":35.990400000000001},34.119999999999997,{"$f":"IF(OR('Input - Capacity Factors'!$C$3=\"Wind\"),IF(Z92*'AVOID NEW'!$E$67<6.5,Z92*(1-'AVOID NEW'!$E$67),Z92-6.5),\"NA\")","v":31.3904}]
[null,9,{"$f":"'AVOID NEW'!AP17","v":38.135365072546293},39.805365072546294,34.805365072546294,null,41.19,{"$f":"IF(OR('Input - Capacity Factors'!$C$3=\"Wind\"),IF(G93*'AVOID NEW'!$E$67<6.5,G93*(1-'AVOID NEW'!$E$67),G93-6.5),\"NA\")","v":37.894799999999996},42.99,{"$f":"IF(OR('Input - Capacity Factors'!$C$3=\"Wind\"),IF(I93*'AVOID NEW'!$E$67<6.5,I93*(1-'AVOID NEW'!$E$67),I93-6.5),\"NA\")","v":39.550800000000002},37.590000000000003,{"$f":"IF(OR('Input - Capacity Factors'!$C$3=\"Wind\"),IF(K93*'AVOID NEW'!$E$67<6.5,K93*(1-'AVOID NEW'!$E$67),K93-6.5),\"NA\")","v":34.582800000000006},null,32.03,{"$f":"IF(OR('Input - Capacity Factors'!$C$3=\"Wind\"),IF(N93*'AVOID NEW'!$E$67<6.5,N93*(1-'AVOID NEW'!$E$67),N93-6.5),\"NA\")","v":29.467600000000001},33.44,{"$f":"IF(OR('Input - Capacity Factors'!$C$3=\"Wind\"),IF(P93*'AVOID NEW'!$E$67<6.5,P93*(1-'AVOID NEW'!$E$67),P93-6.5),\"NA\")","v":30.764799999999997},29.24,{"$f":"IF(OR('Input - Capacity Factors'!$C$3=\"Wind\"),IF(R93*'AVOID NEW'!$E$67<6.5,R93*(1-'AVOID NEW'!$E$67),R93-6.5),\"NA\")","v":26.9008},null,null,38.14,{"$f":"IF(OR('Input - Capacity Factors'!$C$3=\"Wind\"),IF(V93*'AVOID NEW'!$E$67<6.5,V93*(1-'AVOID NEW'!$E$67),V93-6.5),\"NA\")","v":35.088799999999999},39.81,{"$f":"IF(OR('Input - Capacity Factors'!$C$3=\"Wind\"),IF(X93*'AVOID NEW'!$E$67<6.5,X93*(1-'AVOID NEW'!$E$67),X93-6.5),\"NA\")","v":36.625200000000007},34.81,{"$f":"IF(OR('Input - Capacity Factors'!$C$3=\"Wind\"),IF(Z93*'AVOID NEW'!$E$67<6.5,Z93*(1-'AVOID NEW'!$E$67),Z93-6.5),\"NA\")","v":32.025200000000005}]
[null,10,{"$f":"'AVOID NEW'!AP18","v":38.790467723432059},40.46046772343206,35.46046772343206,null,41.89,{"$f":"IF(OR('Input - Capacity Factors'!$C$3=\"Wind\"),IF(G94*'AVOID NEW'!$E$67<6.5,G94*(1-'AVOID NEW'!$E$67),G94-6.5),\"NA\")","v":38.538800000000002},43.7,{"$f":"IF(OR('Input - Capacity Factors'!$C$3=\"Wind\"),IF(I94*'AVOID NEW'!$E$67<6.5,I94*(1-'AVOID NEW'!$E$67),I94-6.5),\"NA\")","v":40.204000000000008},38.299999999999997,{"$f":"IF(OR('Input - Capacity Factors'!$C$3=\"Wind\"),IF(K94*'AVOID NEW'!$E$67<6.5,K94*(1-'AVOID NEW'!$E$67),K94-6.5),\"NA\")","v":35.235999999999997},null,32.58,{"$f":"IF(OR('Input - Capacity Factors'!$C$3=\"Wind\"),IF(N94*'AVOID NEW'!$E$67<6.5,N94*(1-'AVOID NEW'!$E$67),N94-6.5),\"NA\")","v":29.973600000000001},33.99,{"$f":"IF(OR('Input - Capacity Factors'!$C$3=\"Wind\"),IF(P94*'AVOID NEW'!$E$67<6.5,P94*(1-'AVOID NEW'!$E$67),P94-6.5),\"NA\")","v":31.270800000000005},29.79,{"$f":"IF(OR('Input - Capacity Factors'!$C$3=\"Wind\"),IF(R94*'AVOID NEW'!$E$67<6.5,R94*(1-'AVOID NEW'!$E$67),R94-6.5),\"NA\")","v":27.4068},null,null,38.79,{"$f":"IF(OR('Input - Capacity Factors'!$C$3=\"Wind\"),IF(V94*'AVOID NEW'!$E$67<6.5,V94*(1-'AVOID NEW'!$E$67),V94-6.5),\"NA\")","v":35.686799999999998},40.46,{"$f":"IF(OR('Input - Capacity Factors'!$C$3=\"Wind\"),IF(X94*'AVOID NEW'!$E$67<6.5,X94*(1-'AVOID NEW'!$E$67),X94-6.5),\"NA\")","v":37.223200000000006},35.46,{"$f":"IF(OR('Input - Capacity Factors'!$C$3=\"Wind\"),IF(Z94*'AVOID NEW'!$E$67<6.5,Z94*(1-'AVOID NEW'!$E$67),Z94-6.5),\"NA\")","v":32.623200000000004}]
[null,11,{"$f":"'AVOID NEW'!AP19","v":39.390891077541461},41.060891077541463,36.060891077541463,null,42.54,{"$f":"IF(OR('Input - Capacity Factors'!$C$3=\"Wind\"),IF(G95*'AVOID NEW'!$E$67<6.5,G95*(1-'AVOID NEW'!$E$67),G95-6.5),\"NA\")","v":39.136800000000001},44.35,{"$f":"IF(OR('Input - Capacity Factors'!$C$3=\"Wind\"),IF(I95*'AVOID NEW'!$E$67<6.5,I95*(1-'AVOID NEW'!$E$67),I95-6.5),\"NA\")","v":40.802},38.950000000000003,{"$f":"IF(OR('Input - Capacity Factors'!$C$3=\"Wind\"),IF(K95*'AVOID NEW'!$E$67<6.5,K95*(1-'AVOID NEW'!$E$67),K95-6.5),\"NA\")","v":35.834000000000003},null,33.090000000000003,{"$f":"IF(OR('Input - Capacity Factors'!$C$3=\"Wind\"),IF(N95*'AVOID NEW'!$E$67<6.5,N95*(1-'AVOID NEW'!$E$67),N95-6.5),\"NA\")","v":30.442800000000005},34.49,{"$f":"IF(OR('Input - Capacity Factors'!$C$3=\"Wind\"),IF(P95*'AVOID NEW'!$E$67<6.5,P95*(1-'AVOID NEW'!$E$67),P95-6.5),\"NA\")","v":31.730800000000002},30.29,{"$f":"IF(OR('Input - Capacity Factors'!$C$3=\"Wind\"),IF(R95*'AVOID NEW'!$E$67<6.5,R95*(1-'AVOID NEW'!$E$67),R95-6.5),\"NA\")","v":27.866800000000001},null,null,39.39,{"$f":"IF(OR('Input - Capacity Factors'!$C$3=\"Wind\"),IF(V95*'AVOID NEW'!$E$67<6.5,V95*(1-'AVOID NEW'!$E$67),V95-6.5),\"NA\")","v":36.238800000000005},41.06,{"$f":"IF(OR('Input - Capacity Factors'!$C$3=\"Wind\"),IF(X95*'AVOID NEW'!$E$67<6.5,X95*(1-'AVOID NEW'!$E$67),X95-6.5),\"NA\")","v":37.775200000000005},36.06,{"$f":"IF(OR('Input - Capacity Factors'!$C$3=\"Wind\"),IF(Z95*'AVOID NEW'!$E$67<6.5,Z95*(1-'AVOID NEW'!$E$67),Z95-6.5),\"NA\")","v":33.175200000000004}]
[null,12,{"$f":"'AVOID NEW'!AP20","v":39.927888724424136},41.597888724424138,36.597888724424138,null,43.12,{"$f":"IF(OR('Input - Capacity Factors'!$C$3=\"Wind\"),IF(G96*'AVOID NEW'!$E$67<6.5,G96*(1-'AVOID NEW'!$E$67),G96-6.5),\"NA\")","v":39.670400000000001},44.93,{"$f":"IF(OR('Input - Capacity Factors'!$C$3=\"Wind\"),IF(I96*'AVOID NEW'!$E$67<6.5,I96*(1-'AVOID NEW'!$E$67),I96-6.5),\"NA\")","v":41.335599999999999},39.53,{"$f":"IF(OR('Input - Capacity Factors'!$C$3=\"Wind\"),IF(K96*'AVOID NEW'!$E$67<6.5,K96*(1-'AVOID NEW'!$E$67),K96-6.5),\"NA\")","v":36.367600000000003},null,33.54,{"$f":"IF(OR('Input - Capacity Factors'!$C$3=\"Wind\"),IF(N96*'AVOID NEW'!$E$67<6.5,N96*(1-'AVOID NEW'!$E$67),N96-6.5),\"NA\")","v":30.8568},34.94,{"$f":"IF(OR('Input - Capacity Factors'!$C$3=\"Wind\"),IF(P96*'AVOID NEW'!$E$67<6.5,P96*(1-'AVOID NEW'!$E$67),P96-6.5),\"NA\")","v":32.144799999999996},30.74,{"$f":"IF(OR('Input - Capacity Factors'!$C$3=\"Wind\"),IF(R96*'AVOID NEW'!$E$67<6.5,R96*(1-'AVOID NEW'!$E$67),R96-6.5),\"NA\")","v":28.280799999999999},null,null,39.93,{"$f":"IF(OR('Input - Capacity Factors'!$C$3=\"Wind\"),IF(V96*'AVOID NEW'!$E$67<6.5,V96*(1-'AVOID NEW'!$E$67),V96-6.5),\"NA\")","v":36.735599999999998},41.6,{"$f":"IF(OR('Input - Capacity Factors'!$C$3=\"Wind\"),IF(X96*'AVOID NEW'!$E$67<6.5,X96*(1-'AVOID NEW'!$E$67),X96-6.5),\"NA\")","v":38.272000000000006},36.6,{"$f":"IF(OR('Input - Capacity Factors'!$C$3=\"Wind\"),IF(Z96*'AVOID NEW'!$E$67<6.5,Z96*(1-'AVOID NEW'!$E$67),Z96-6.5),\"NA\")","v":33.672000000000004}]
[null,13,{"$f":"'AVOID NEW'!AP21","v":40.429690596363365},42.099690596363367,37.099690596363367,null,43.66,{"$f":"IF(OR('Input - Capacity Factors'!$C$3=\"Wind\"),IF(G97*'AVOID NEW'!$E$67<6.5,G97*(1-'AVOID NEW'!$E$67),G97-6.5),\"NA\")","v":40.167200000000001},45.47,{"$f":"IF(OR('Input - Capacity Factors'!$C$3=\"Wind\"),IF(I97*'AVOID NEW'!$E$67<6.5,I97*(1-'AVOID NEW'!$E$67),I97-6.5),\"NA\")","v":41.8324},40.07,{"$f":"IF(OR('Input - Capacity Factors'!$C$3=\"Wind\"),IF(K97*'AVOID NEW'!$E$67<6.5,K97*(1-'AVOID NEW'!$E$67),K97-6.5),\"NA\")","v":36.864400000000003},null,33.96,{"$f":"IF(OR('Input - Capacity Factors'!$C$3=\"Wind\"),IF(N97*'AVOID NEW'!$E$67<6.5,N97*(1-'AVOID NEW'!$E$67),N97-6.5),\"NA\")","v":31.243200000000002},35.36,{"$f":"IF(OR('Input - Capacity Factors'!$C$3=\"Wind\"),IF(P97*'AVOID NEW'!$E$67<6.5,P97*(1-'AVOID NEW'!$E$67),P97-6.5),\"NA\")","v":32.531199999999998},31.16,{"$f":"IF(OR('Input - Capacity Factors'!$C$3=\"Wind\"),IF(R97*'AVOID NEW'!$E$67<6.5,R97*(1-'AVOID NEW'!$E$67),R97-6.5),\"NA\")","v":28.667200000000001},null,null,40.43,{"$f":"IF(OR('Input - Capacity Factors'!$C$3=\"Wind\"),IF(V97*'AVOID NEW'!$E$67<6.5,V97*(1-'AVOID NEW'!$E$67),V97-6.5),\"NA\")","v":37.195599999999999},42.1,{"$f":"IF(OR('Input - Capacity Factors'!$C$3=\"Wind\"),IF(X97*'AVOID NEW'!$E$67<6.5,X97*(1-'AVOID NEW'!$E$67),X97-6.5),\"NA\")","v":38.732000000000006},37.1,{"$f":"IF(OR('Input - Capacity Factors'!$C$3=\"Wind\"),IF(Z97*'AVOID NEW'!$E$67<6.5,Z97*(1-'AVOID NEW'!$E$67),Z97-6.5),\"NA\")","v":34.132000000000005}]
[null,14,{"$f":"'AVOID NEW'!AP22","v":40.897200670930218},42.56720067093022,37.56720067093022,null,44.17,{"$f":"IF(OR('Input - Capacity Factors'!$C$3=\"Wind\"),IF(G98*'AVOID NEW'!$E$67<6.5,G98*(1-'AVOID NEW'!$E$67),G98-6.5),\"NA\")","v":40.636400000000002},45.97,{"$f":"IF(OR('Input - Capacity Factors'!$C$3=\"Wind\"),IF(I98*'AVOID NEW'!$E$67<6.5,I98*(1-'AVOID NEW'!$E$67),I98-6.5),\"NA\")","v":42.292400000000001},40.57,{"$f":"IF(OR('Input - Capacity Factors'!$C$3=\"Wind\"),IF(K98*'AVOID NEW'!$E$67<6.5,K98*(1-'AVOID NEW'!$E$67),K98-6.5),\"NA\")","v":37.324400000000004},null,34.35,{"$f":"IF(OR('Input - Capacity Factors'!$C$3=\"Wind\"),IF(N98*'AVOID NEW'!$E$67<6.5,N98*(1-'AVOID NEW'!$E$67),N98-6.5),\"NA\")","v":31.602000000000004},35.76,{"$f":"IF(OR('Input - Capacity Factors'!$C$3=\"Wind\"),IF(P98*'AVOID NEW'!$E$67<6.5,P98*(1-'AVOID NEW'!$E$67),P98-6.5),\"NA\")","v":32.8992},31.56,{"$f":"IF(OR('Input - Capacity Factors'!$C$3=\"Wind\"),IF(R98*'AVOID NEW'!$E$67<6.5,R98*(1-'AVOID NEW'!$E$67),R98-6.5),\"NA\")","v":29.0352},null,null,40.9,{"$f":"IF(OR('Input - Capacity Factors'!$C$3=\"Wind\"),IF(V98*'AVOID NEW'!$E$67<6.5,V98*(1-'AVOID NEW'!$E$67),V98-6.5),\"NA\")","v":37.628},42.57,{"$f":"IF(OR('Input - Capacity Factors'!$C$3=\"Wind\"),IF(X98*'AVOID NEW'!$E$67<6.5,X98*(1-'AVOID NEW'!$E$67),X98-6.5),\"NA\")","v":39.164400000000001},37.57,{"$f":"IF(OR('Input - Capacity Factors'!$C$3=\"Wind\"),IF(Z98*'AVOID NEW'!$E$67<6.5,Z98*(1-'AVOID NEW'!$E$67),Z98-6.5),\"NA\")","v":34.564399999999999}]
[null,15,{"$f":"'AVOID NEW'!AP23","v":41.344587357159419},43.014587357159421,38.014587357159421,null,44.65,{"$f":"IF(OR('Input - Capacity Factors'!$C$3=\"Wind\"),IF(G99*'AVOID NEW'!$E$67<6.5,G99*(1-'AVOID NEW'!$E$67),G99-6.5),\"NA\")","v":41.078000000000003},46.46,{"$f":"IF(OR('Input - Capacity Factors'!$C$3=\"Wind\"),IF(I99*'AVOID NEW'!$E$67<6.5,I99*(1-'AVOID NEW'!$E$67),I99-6.5),\"NA\")","v":42.743200000000002},41.06,{"$f":"IF(OR('Input - Capacity Factors'!$C$3=\"Wind\"),IF(K99*'AVOID NEW'!$E$67<6.5,K99*(1-'AVOID NEW'!$E$67),K99-6.5),\"NA\")","v":37.775200000000005},null,34.729999999999997,{"$f":"IF(OR('Input - Capacity Factors'!$C$3=\"Wind\"),IF(N99*'AVOID NEW'!$E$67<6.5,N99*(1-'AVOID NEW'!$E$67),N99-6.5),\"NA\")","v":31.951599999999999},36.130000000000003,{"$f":"IF(OR('Input - Capacity Factors'!$C$3=\"Wind\"),IF(P99*'AVOID NEW'!$E$67<6.5,P99*(1-'AVOID NEW'!$E$67),P99-6.5),\"NA\")","v":33.239600000000003},31.93,{"$f":"IF(OR('Input - Capacity Factors'!$C$3=\"Wind\"),IF(R99*'AVOID NEW'!$E$67<6.5,R99*(1-'AVOID NEW'!$E$67),R99-6.5),\"NA\")","v":29.375600000000002},null,null,41.34,{"$f":"IF(OR('Input - Capacity Factors'!$C$3=\"Wind\"),IF(V99*'AVOID NEW'!$E$67<6.5,V99*(1-'AVOID NEW'!$E$67),V99-6.5),\"NA\")","v":38.032800000000002},43.01,{"$f":"IF(OR('Input - Capacity Factors'!$C$3=\"Wind\"),IF(X99*'AVOID NEW'!$E$67<6.5,X99*(1-'AVOID NEW'!$E$67),X99-6.5),\"NA\")","v":39.569200000000002},38.01,{"$f":"IF(OR('Input - Capacity Factors'!$C$3=\"Wind\"),IF(Z99*'AVOID NEW'!$E$67<6.5,Z99*(1-'AVOID NEW'!$E$67),Z99-6.5),\"NA\")","v":34.969200000000001}]
[null,16,{"$f":"'AVOID NEW'!AP24","v":41.772434776415473},43.442434776415475,38.442434776415475,null,45.11,{"$f":"IF(OR('Input - Capacity Factors'!$C$3=\"Wind\"),IF(G100*'AVOID NEW'!$E$67<6.5,G100*(1-'AVOID NEW'!$E$67),G100-6.5),\"NA\")","v":41.501200000000004},46.92,{"$f":"IF(OR('Input - Capacity Factors'!$C$3=\"Wind\"),IF(I100*'AVOID NEW'!$E$67<6.5,I100*(1-'AVOID NEW'!$E$67),I100-6.5),\"NA\")","v":43.166400000000003},41.52,{"$f":"IF(OR('Input - Capacity Factors'!$C$3=\"Wind\"),IF(K100*'AVOID NEW'!$E$67<6.5,K100*(1-'AVOID NEW'!$E$67),K100-6.5),\"NA\")","v":38.198400000000007},null,35.090000000000003,{"$f":"IF(OR('Input - Capacity Factors'!$C$3=\"Wind\"),IF(N100*'AVOID NEW'!$E$67<6.5,N100*(1-'AVOID NEW'!$E$67),N100-6.5),\"NA\")","v":32.282800000000002},36.49,{"$f":"IF(OR('Input - Capacity Factors'!$C$3=\"Wind\"),IF(P100*'AVOID NEW'!$E$67<6.5,P100*(1-'AVOID NEW'!$E$67),P100-6.5),\"NA\")","v":33.570800000000006},32.29,{"$f":"IF(OR('Input - Capacity Factors'!$C$3=\"Wind\"),IF(R100*'AVOID NEW'!$E$67<6.5,R100*(1-'AVOID NEW'!$E$67),R100-6.5),\"NA\")","v":29.706800000000001},null,null,41.77,{"$f":"IF(OR('Input - Capacity Factors'!$C$3=\"Wind\"),IF(V100*'AVOID NEW'!$E$67<6.5,V100*(1-'AVOID NEW'!$E$67),V100-6.5),\"NA\")","v":38.428400000000003},43.44,{"$f":"IF(OR('Input - Capacity Factors'!$C$3=\"Wind\"),IF(X100*'AVOID NEW'!$E$67<6.5,X100*(1-'AVOID NEW'!$E$67),X100-6.5),\"NA\")","v":39.964799999999997},38.44,{"$f":"IF(OR('Input - Capacity Factors'!$C$3=\"Wind\"),IF(Z100*'AVOID NEW'!$E$67<6.5,Z100*(1-'AVOID NEW'!$E$67),Z100-6.5),\"NA\")","v":35.364800000000002}]
[null,17,{"$f":"'AVOID NEW'!AP25","v":42.191245265997566},43.861245265997567,38.861245265997567,null,45.57,{"$f":"IF(OR('Input - Capacity Factors'!$C$3=\"Wind\"),IF(G101*'AVOID NEW'!$E$67<6.5,G101*(1-'AVOID NEW'!$E$67),G101-6.5),\"NA\")","v":41.924399999999999},47.37,{"$f":"IF(OR('Input - Capacity Factors'!$C$3=\"Wind\"),IF(I101*'AVOID NEW'!$E$67<6.5,I101*(1-'AVOID NEW'!$E$67),I101-6.5),\"NA\")","v":43.580399999999997},41.97,{"$f":"IF(OR('Input - Capacity Factors'!$C$3=\"Wind\"),IF(K101*'AVOID NEW'!$E$67<6.5,K101*(1-'AVOID NEW'!$E$67),K101-6.5),\"NA\")","v":38.612400000000001},null,35.44,{"$f":"IF(OR('Input - Capacity Factors'!$C$3=\"Wind\"),IF(N101*'AVOID NEW'!$E$67<6.5,N101*(1-'AVOID NEW'!$E$67),N101-6.5),\"NA\")","v":32.604799999999997},36.840000000000003,{"$f":"IF(OR('Input - Capacity Factors'!$C$3=\"Wind\"),IF(P101*'AVOID NEW'!$E$67<6.5,P101*(1-'AVOID NEW'!$E$67),P101-6.5),\"NA\")","v":33.892800000000001},32.64,{"$f":"IF(OR('Input - Capacity Factors'!$C$3=\"Wind\"),IF(R101*'AVOID NEW'!$E$67<6.5,R101*(1-'AVOID NEW'!$E$67),R101-6.5),\"NA\")","v":30.0288},null,null,42.19,{"$f":"IF(OR('Input - Capacity Factors'!$C$3=\"Wind\"),IF(V101*'AVOID NEW'!$E$67<6.5,V101*(1-'AVOID NEW'!$E$67),V101-6.5),\"NA\")","v":38.814799999999998},43.86,{"$f":"IF(OR('Input - Capacity Factors'!$C$3=\"Wind\"),IF(X101*'AVOID NEW'!$E$67<6.5,X101*(1-'AVOID NEW'!$E$67),X101-6.5),\"NA\")","v":40.351199999999999},38.86,{"$f":"IF(OR('Input - Capacity Factors'!$C$3=\"Wind\"),IF(Z101*'AVOID NEW'!$E$67<6.5,Z101*(1-'AVOID NEW'!$E$67),Z101-6.5),\"NA\")","v":35.751200000000004}]
[null,18,{"$f":"'AVOID NEW'!AP26","v":42.595776321078255},44.265776321078256,39.265776321078256,null,46,{"$f":"IF(OR('Input - Capacity Factors'!$C$3=\"Wind\"),IF(G102*'AVOID NEW'!$E$67<6.5,G102*(1-'AVOID NEW'!$E$67),G102-6.5),\"NA\")","v":42.32},47.81,{"$f":"IF(OR('Input - Capacity Factors'!$C$3=\"Wind\"),IF(I102*'AVOID NEW'!$E$67<6.5,I102*(1-'AVOID NEW'!$E$67),I102-6.5),\"NA\")","v":43.985200000000006},42.41,{"$f":"IF(OR('Input - Capacity Factors'!$C$3=\"Wind\"),IF(K102*'AVOID NEW'!$E$67<6.5,K102*(1-'AVOID NEW'!$E$67),K102-6.5),\"NA\")","v":39.017199999999995},null,35.78,{"$f":"IF(OR('Input - Capacity Factors'!$C$3=\"Wind\"),IF(N102*'AVOID NEW'!$E$67<6.5,N102*(1-'AVOID NEW'!$E$67),N102-6.5),\"NA\")","v":32.9176},37.18,{"$f":"IF(OR('Input - Capacity Factors'!$C$3=\"Wind\"),IF(P102*'AVOID NEW'!$E$67<6.5,P102*(1-'AVOID NEW'!$E$67),P102-6.5),\"NA\")","v":34.205600000000004},32.979999999999997,{"$f":"IF(OR('Input - Capacity Factors'!$C$3=\"Wind\"),IF(R102*'AVOID NEW'!$E$67<6.5,R102*(1-'AVOID NEW'!$E$67),R102-6.5),\"NA\")","v":30.3416},null,null,42.6,{"$f":"IF(OR('Input - Capacity Factors'!$C$3=\"Wind\"),IF(V102*'AVOID NEW'!$E$67<6.5,V102*(1-'AVOID NEW'!$E$67),V102-6.5),\"NA\")","v":39.192},44.27,{"$f":"IF(OR('Input - Capacity Factors'!$C$3=\"Wind\"),IF(X102*'AVOID NEW'!$E$67<6.5,X102*(1-'AVOID NEW'!$E$67),X102-6.5),\"NA\")","v":40.728400000000008},39.270000000000003,{"$f":"IF(OR('Input - Capacity Factors'!$C$3=\"Wind\"),IF(Z102*'AVOID NEW'!$E$67<6.5,Z102*(1-'AVOID NEW'!$E$67),Z102-6.5),\"NA\")","v":36.128400000000006}]
[null,19,{"$f":"'AVOID NEW'!AP27","v":42.978873758013059},44.64887375801306,39.64887375801306,null,46.42,{"$f":"IF(OR('Input - Capacity Factors'!$C$3=\"Wind\"),IF(G103*'AVOID NEW'!$E$67<6.5,G103*(1-'AVOID NEW'!$E$67),G103-6.5),\"NA\")","v":42.706400000000002},48.22,{"$f":"IF(OR('Input - Capacity Factors'!$C$3=\"Wind\"),IF(I103*'AVOID NEW'!$E$67<6.5,I103*(1-'AVOID NEW'!$E$67),I103-6.5),\"NA\")","v":44.362400000000001},42.82,{"$f":"IF(OR('Input - Capacity Factors'!$C$3=\"Wind\"),IF(K103*'AVOID NEW'!$E$67<6.5,K103*(1-'AVOID NEW'!$E$67),K103-6.5),\"NA\")","v":39.394400000000005},null,36.1,{"$f":"IF(OR('Input - Capacity Factors'!$C$3=\"Wind\"),IF(N103*'AVOID NEW'!$E$67<6.5,N103*(1-'AVOID NEW'!$E$67),N103-6.5),\"NA\")","v":33.212000000000003},37.51,{"$f":"IF(OR('Input - Capacity Factors'!$C$3=\"Wind\"),IF(P103*'AVOID NEW'!$E$67<6.5,P103*(1-'AVOID NEW'!$E$67),P103-6.5),\"NA\")","v":34.5092},33.31,{"$f":"IF(OR('Input - Capacity Factors'!$C$3=\"Wind\"),IF(R103*'AVOID NEW'!$E$67<6.5,R103*(1-'AVOID NEW'!$E$67),R103-6.5),\"NA\")","v":30.645200000000003},null,null,42.98,{"$f":"IF(OR('Input - Capacity Factors'!$C$3=\"Wind\"),IF(V103*'AVOID NEW'!$E$67<6.5,V103*(1-'AVOID NEW'!$E$67),V103-6.5),\"NA\")","v":39.541599999999995},44.65,{"$f":"IF(OR('Input - Capacity Factors'!$C$3=\"Wind\"),IF(X103*'AVOID NEW'!$E$67<6.5,X103*(1-'AVOID NEW'!$E$67),X103-6.5),\"NA\")","v":41.078000000000003},39.65,{"$f":"IF(OR('Input - Capacity Factors'!$C$3=\"Wind\"),IF(Z103*'AVOID NEW'!$E$67<6.5,Z103*(1-'AVOID NEW'!$E$67),Z103-6.5),\"NA\")","v":36.478000000000002}]
[null,20,{"$f":"'AVOID NEW'!AP28","v":43.349180278074648},45.01918027807465,40.01918027807465,null,46.82,{"$f":"IF(OR('Input - Capacity Factors'!$C$3=\"Wind\"),IF(G104*'AVOID NEW'!$E$67<6.5,G104*(1-'AVOID NEW'!$E$67),G104-6.5),\"NA\")","v":43.074400000000004},48.62,{"$f":"IF(OR('Input - Capacity Factors'!$C$3=\"Wind\"),IF(I104*'AVOID NEW'!$E$67<6.5,I104*(1-'AVOID NEW'!$E$67),I104-6.5),\"NA\")","v":44.730400000000003},43.22,{"$f":"IF(OR('Input - Capacity Factors'!$C$3=\"Wind\"),IF(K104*'AVOID NEW'!$E$67<6.5,K104*(1-'AVOID NEW'!$E$67),K104-6.5),\"NA\")","v":39.7624},null,36.409999999999997,{"$f":"IF(OR('Input - Capacity Factors'!$C$3=\"Wind\"),IF(N104*'AVOID NEW'!$E$67<6.5,N104*(1-'AVOID NEW'!$E$67),N104-6.5),\"NA\")","v":33.497199999999999},37.82,{"$f":"IF(OR('Input - Capacity Factors'!$C$3=\"Wind\"),IF(P104*'AVOID NEW'!$E$67<6.5,P104*(1-'AVOID NEW'!$E$67),P104-6.5),\"NA\")","v":34.794400000000003},33.619999999999997,{"$f":"IF(OR('Input - Capacity Factors'!$C$3=\"Wind\"),IF(R104*'AVOID NEW'!$E$67<6.5,R104*(1-'AVOID NEW'!$E$67),R104-6.5),\"NA\")","v":30.930399999999999},null,null,43.35,{"$f":"IF(OR('Input - Capacity Factors'!$C$3=\"Wind\"),IF(V104*'AVOID NEW'!$E$67<6.5,V104*(1-'AVOID NEW'!$E$67),V104-6.5),\"NA\")","v":39.882000000000005},45.02,{"$f":"IF(OR('Input - Capacity Factors'!$C$3=\"Wind\"),IF(X104*'AVOID NEW'!$E$67<6.5,X104*(1-'AVOID NEW'!$E$67),X104-6.5),\"NA\")","v":41.418400000000005},40.020000000000003,{"$f":"IF(OR('Input - Capacity Factors'!$C$3=\"Wind\"),IF(Z104*'AVOID NEW'!$E$67<6.5,Z104*(1-'AVOID NEW'!$E$67),Z104-6.5),\"NA\")","v":36.818400000000004}]
[]
[]
[]
[null,{"$f":"$B$1","v":"THESE RATES ARE NOT VALID"}]
[null,"LEVELIZED RATES"]
[null,{"$f":"\"PROJECT ON-LINE IN \"& 'AVOID NEW'!$D$54+3","v":"PROJECT ON-LINE IN 2025"}]
[null,{"$f":"\"Rate Effective Date: \"&'AVOID NEW'!$E$69","v":"Rate Effective Date: XXXX, 2022"}]
[null,{"$f":"\"Resource:  \"&'Input - Capacity Factors'!$C$3","v":"Resource:  Wind"}]
[null,null,"Levelized Price",null,null,null,{"$f":"\"Season 1 Pricing (\"&$D$7*100&\"%)\"","v":"Season 1 Pricing (108%)"},null,null,null,null,null,null,{"$f":"\"Season 2 Pricing (\"&100*$D$8&\"%)\"","v":"Season 2 Pricing (84%)"},null,null,null,null,null,null,null,"Non-Seasonalized Pricing"]
[null,null,"Heavy and Light Load Hour Differential",{"$f":"'AVOID NEW'!$E$66","v":5},null,null,"Flat",null,"Heavy Load Hour",null,"Light Load Hour",null,null,"Flat",null,"Heavy Load Hour",null,"Light Load Hour",null,null,null,"Flat",null,"Heavy Load Hour",null,"Light Load Hour"]
[null,null,null,{"$f":"ROUND(D114/3,2)","v":1.67},{"$f":"-ROUND((D114*2)/3,2)","v":-3.33},null,null,"Price less wind integration adjustment",null,"Price less wind integration adjustment",null,"Price less wind integration adjustment",null,null,"Price less wind integration adjustment",null,"Price less wind integration adjustment",null,"Price less wind integration adjustment",null,null,null,"Price less wind integration adjustment",null,"Price less wind integration adjustment",null,"Price less wind integration adjustment"]
[null,"Contract Length","Flat","Heavy Load Hour","Light Load Hour",null,"Price",null,"Price",null,"Price",null,null,"Price",null,"Price",null,"Price",null,null,null,"Price",null,"Price",null,"Price"]
[null,1,{"$f":"'AVOID NEW'!AQ9","v":33.212000779264272},{"$f":"C117+D$83","v":34.882000779264274},{"$f":"C117+E$83","v":29.882000779264274},null,{"$f":"ROUND((+$C117*$D$7),2)","v":35.869999999999997},{"$f":"IF(OR('Input - Capacity Factors'!$C$3=\"Wind\"),IF(G117*'AVOID NEW'!$E$67<6.5,G117*(1-'AVOID NEW'!$E$67),G117-6.5),\"NA\")","v":33.000399999999999},{"$f":"ROUND((+$D117*$D$7),2)","v":37.67},{"$f":"IF(OR('Input - Capacity Factors'!$C$3=\"Wind\"),IF(I117*'AVOID NEW'!$E$67<6.5,I117*(1-'AVOID NEW'!$E$67),I117-6.5),\"NA\")","v":34.656400000000005},{"$f":"ROUND((+$E117*$D$7),2)","v":32.270000000000003},{"$f":"IF(OR('Input - Capacity Factors'!$C$3=\"Wind\"),IF(K117*'AVOID NEW'!$E$67<6.5,K117*(1-'AVOID NEW'!$E$67),K117-6.5),\"NA\")","v":29.688400000000005},null,{"$f":"ROUND((+$C117*$D$8),2)","v":27.9},{"$f":"IF(OR('Input - Capacity Factors'!$C$3=\"Wind\"),IF(N117*'AVOID NEW'!$E$67<6.5,N117*(1-'AVOID NEW'!$E$67),N117-6.5),\"NA\")","v":25.667999999999999},{"$f":"ROUND((+$D117*$D$8),2)","v":29.3},{"$f":"IF(OR('Input - Capacity Factors'!$C$3=\"Wind\"),IF(P117*'AVOID NEW'!$E$67<6.5,P117*(1-'AVOID NEW'!$E$67),P117-6.5),\"NA\")","v":26.956000000000003},{"$f":"ROUND((+$E117*$D$8),2)","v":25.1},{"$f":"IF(OR('Input - Capacity Factors'!$C$3=\"Wind\"),IF(R117*'AVOID NEW'!$E$67<6.5,R117*(1-'AVOID NEW'!$E$67),R117-6.5),\"NA\")","v":23.092000000000002},null,null,{"$f":"ROUND((+$C117),2)","v":33.21},{"$f":"IF(OR('Input - Capacity Factors'!$C$3=\"Wind\"),IF(V117*'AVOID NEW'!$E$67<6.5,V117*(1-'AVOID NEW'!$E$67),V117-6.5),\"NA\")","v":30.5532},{"$f":"ROUND((+$D117),2)","v":34.880000000000003},{"$f":"IF(OR('Input - Capacity Factors'!$C$3=\"Wind\"),IF(X117*'AVOID NEW'!$E$67<6.5,X117*(1-'AVOID NEW'!$E$67),X117-6.5),\"NA\")","v":32.089600000000004},{"$f":"ROUND((+$E117),2)","v":29.88},{"$f":"IF(OR('Input - Capacity Factors'!$C$3=\"Wind\"),IF(Z117*'AVOID NEW'!$E$67<6.5,Z117*(1-'AVOID NEW'!$E$67),Z117-6.5),\"NA\")","v":27.489599999999999}]
[null,2,{"$f":"'AVOID NEW'!AQ10","v":33.816190104740791},35.486190104740793,30.486190104740793,null,36.520000000000003,{"$f":"IF(OR('Input - Capacity Factors'!$C$3=\"Wind\"),IF(G118*'AVOID NEW'!$E$67<6.5,G118*(1-'AVOID NEW'!$E$67),G118-6.5),\"NA\")","v":33.598400000000005},38.33,{"$f":"IF(OR('Input - Capacity Factors'!$C$3=\"Wind\"),IF(I118*'AVOID NEW'!$E$67<6.5,I118*(1-'AVOID NEW'!$E$67),I118-6.5),\"NA\")","v":35.263599999999997},32.93,{"$f":"IF(OR('Input - Capacity Factors'!$C$3=\"Wind\"),IF(K118*'AVOID NEW'!$E$67<6.5,K118*(1-'AVOID NEW'!$E$67),K118-6.5),\"NA\")","v":30.2956},null,28.41,{"$f":"IF(OR('Input - Capacity Factors'!$C$3=\"Wind\"),IF(N118*'AVOID NEW'!$E$67<6.5,N118*(1-'AVOID NEW'!$E$67),N118-6.5),\"NA\")","v":26.1372},29.81,{"$f":"IF(OR('Input - Capacity Factors'!$C$3=\"Wind\"),IF(P118*'AVOID NEW'!$E$67<6.5,P118*(1-'AVOID NEW'!$E$67),P118-6.5),\"NA\")","v":27.4252},25.61,{"$f":"IF(OR('Input - Capacity Factors'!$C$3=\"Wind\"),IF(R118*'AVOID NEW'!$E$67<6.5,R118*(1-'AVOID NEW'!$E$67),R118-6.5),\"NA\")","v":23.561199999999999},null,null,{"$f":"ROUND((+$C118),2)","v":33.82},{"$f":"IF(OR('Input - Capacity Factors'!$C$3=\"Wind\"),IF(V118*'AVOID NEW'!$E$67<6.5,V118*(1-'AVOID NEW'!$E$67),V118-6.5),\"NA\")","v":31.114400000000003},{"$f":"ROUND((+$D118),2)","v":35.49},{"$f":"IF(OR('Input - Capacity Factors'!$C$3=\"Wind\"),IF(X118*'AVOID NEW'!$E$67<6.5,X118*(1-'AVOID NEW'!$E$67),X118-6.5),\"NA\")","v":32.650800000000004},{"$f":"ROUND((+$E118),2)","v":30.49},{"$f":"IF(OR('Input - Capacity Factors'!$C$3=\"Wind\"),IF(Z118*'AVOID NEW'!$E$67<6.5,Z118*(1-'AVOID NEW'!$E$67),Z118-6.5),\"NA\")","v":28.050799999999999}]
[null,3,{"$f":"'AVOID NEW'!AQ11","v":34.636284897735003},36.306284897735004,31.306284897735004,null,37.409999999999997,{"$f":"IF(OR('Input - Capacity Factors'!$C$3=\"Wind\"),IF(G119*'AVOID NEW'!$E$67<6.5,G119*(1-'AVOID NEW'!$E$67),G119-6.5),\"NA\")","v":34.417200000000001},39.21,{"$f":"IF(OR('Input - Capacity Factors'!$C$3=\"Wind\"),IF(I119*'AVOID NEW'!$E$67<6.5,I119*(1-'AVOID NEW'!$E$67),I119-6.5),\"NA\")","v":36.0732},33.81,{"$f":"IF(OR('Input - Capacity Factors'!$C$3=\"Wind\"),IF(K119*'AVOID NEW'!$E$67<6.5,K119*(1-'AVOID NEW'!$E$67),K119-6.5),\"NA\")","v":31.105200000000004},null,29.09,{"$f":"IF(OR('Input - Capacity Factors'!$C$3=\"Wind\"),IF(N119*'AVOID NEW'!$E$67<6.5,N119*(1-'AVOID NEW'!$E$67),N119-6.5),\"NA\")","v":26.762800000000002},30.5,{"$f":"IF(OR('Input - Capacity Factors'!$C$3=\"Wind\"),IF(P119*'AVOID NEW'!$E$67<6.5,P119*(1-'AVOID NEW'!$E$67),P119-6.5),\"NA\")","v":28.060000000000002},26.3,{"$f":"IF(OR('Input - Capacity Factors'!$C$3=\"Wind\"),IF(R119*'AVOID NEW'!$E$67<6.5,R119*(1-'AVOID NEW'!$E$67),R119-6.5),\"NA\")","v":24.196000000000002},null,null,34.64,{"$f":"IF(OR('Input - Capacity Factors'!$C$3=\"Wind\"),IF(V119*'AVOID NEW'!$E$67<6.5,V119*(1-'AVOID NEW'!$E$67),V119-6.5),\"NA\")","v":31.8688},36.31,{"$f":"IF(OR('Input - Capacity Factors'!$C$3=\"Wind\"),IF(X119*'AVOID NEW'!$E$67<6.5,X119*(1-'AVOID NEW'!$E$67),X119-6.5),\"NA\")","v":33.405200000000001},31.31,{"$f":"IF(OR('Input - Capacity Factors'!$C$3=\"Wind\"),IF(Z119*'AVOID NEW'!$E$67<6.5,Z119*(1-'AVOID NEW'!$E$67),Z119-6.5),\"NA\")","v":28.805199999999999}]
[null,4,{"$f":"'AVOID NEW'!AQ12","v":35.595504189224606},37.265504189224608,32.265504189224608,null,38.44,{"$f":"IF(OR('Input - Capacity Factors'!$C$3=\"Wind\"),IF(G120*'AVOID NEW'!$E$67<6.5,G120*(1-'AVOID NEW'!$E$67),G120-6.5),\"NA\")","v":35.364800000000002},40.25,{"$f":"IF(OR('Input - Capacity Factors'!$C$3=\"Wind\"),IF(I120*'AVOID NEW'!$E$67<6.5,I120*(1-'AVOID NEW'!$E$67),I120-6.5),\"NA\")","v":37.03},34.85,{"$f":"IF(OR('Input - Capacity Factors'!$C$3=\"Wind\"),IF(K120*'AVOID NEW'!$E$67<6.5,K120*(1-'AVOID NEW'!$E$67),K120-6.5),\"NA\")","v":32.062000000000005},null,29.9,{"$f":"IF(OR('Input - Capacity Factors'!$C$3=\"Wind\"),IF(N120*'AVOID NEW'!$E$67<6.5,N120*(1-'AVOID NEW'!$E$67),N120-6.5),\"NA\")","v":27.507999999999999},31.3,{"$f":"IF(OR('Input - Capacity Factors'!$C$3=\"Wind\"),IF(P120*'AVOID NEW'!$E$67<6.5,P120*(1-'AVOID NEW'!$E$67),P120-6.5),\"NA\")","v":28.796000000000003},27.1,{"$f":"IF(OR('Input - Capacity Factors'!$C$3=\"Wind\"),IF(R120*'AVOID NEW'!$E$67<6.5,R120*(1-'AVOID NEW'!$E$67),R120-6.5),\"NA\")","v":24.932000000000002},null,null,35.6,{"$f":"IF(OR('Input - Capacity Factors'!$C$3=\"Wind\"),IF(V120*'AVOID NEW'!$E$67<6.5,V120*(1-'AVOID NEW'!$E$67),V120-6.5),\"NA\")","v":32.752000000000002},37.270000000000003,{"$f":"IF(OR('Input - Capacity Factors'!$C$3=\"Wind\"),IF(X120*'AVOID NEW'!$E$67<6.5,X120*(1-'AVOID NEW'!$E$67),X120-6.5),\"NA\")","v":34.288400000000003},32.270000000000003,{"$f":"IF(OR('Input - Capacity Factors'!$C$3=\"Wind\"),IF(Z120*'AVOID NEW'!$E$67<6.5,Z120*(1-'AVOID NEW'!$E$67),Z120-6.5),\"NA\")","v":29.688400000000005}]
[null,5,{"$f":"'AVOID NEW'!AQ13","v":36.540044226481257},38.210044226481259,33.210044226481259,null,39.46,{"$f":"IF(OR('Input - Capacity Factors'!$C$3=\"Wind\"),IF(G121*'AVOID NEW'!$E$67<6.5,G121*(1-'AVOID NEW'!$E$67),G121-6.5),\"NA\")","v":36.303200000000004},41.27,{"$f":"IF(OR('Input - Capacity Factors'!$C$3=\"Wind\"),IF(I121*'AVOID NEW'!$E$67<6.5,I121*(1-'AVOID NEW'!$E$67),I121-6.5),\"NA\")","v":37.968400000000003},35.869999999999997,{"$f":"IF(OR('Input - Capacity Factors'!$C$3=\"Wind\"),IF(K121*'AVOID NEW'!$E$67<6.5,K121*(1-'AVOID NEW'!$E$67),K121-6.5),\"NA\")","v":33.000399999999999},null,30.69,{"$f":"IF(OR('Input - Capacity Factors'!$C$3=\"Wind\"),IF(N121*'AVOID NEW'!$E$67<6.5,N121*(1-'AVOID NEW'!$E$67),N121-6.5),\"NA\")","v":28.234800000000003},32.1,{"$f":"IF(OR('Input - Capacity Factors'!$C$3=\"Wind\"),IF(P121*'AVOID NEW'!$E$67<6.5,P121*(1-'AVOID NEW'!$E$67),P121-6.5),\"NA\")","v":29.532000000000004},27.9,{"$f":"IF(OR('Input - Capacity Factors'!$C$3=\"Wind\"),IF(R121*'AVOID NEW'!$E$67<6.5,R121*(1-'AVOID NEW'!$E$67),R121-6.5),\"NA\")","v":25.667999999999999},null,null,36.54,{"$f":"IF(OR('Input - Capacity Factors'!$C$3=\"Wind\"),IF(V121*'AVOID NEW'!$E$67<6.5,V121*(1-'AVOID NEW'!$E$67),V121-6.5),\"NA\")","v":33.616799999999998},38.21,{"$f":"IF(OR('Input - Capacity Factors'!$C$3=\"Wind\"),IF(X121*'AVOID NEW'!$E$67<6.5,X121*(1-'AVOID NEW'!$E$67),X121-6.5),\"NA\")","v":35.153200000000005},33.21,{"$f":"IF(OR('Input - Capacity Factors'!$C$3=\"Wind\"),IF(Z121*'AVOID NEW'!$E$67<6.5,Z121*(1-'AVOID NEW'!$E$67),Z121-6.5),\"NA\")","v":30.5532}]
[null,6,{"$f":"'AVOID NEW'!AQ14","v":37.400394103553779},39.070394103553781,34.070394103553781,null,40.39,{"$f":"IF(OR('Input - Capacity Factors'!$C$3=\"Wind\"),IF(G122*'AVOID NEW'!$E$67<6.5,G122*(1-'AVOID NEW'!$E$67),G122-6.5),\"NA\")","v":37.158799999999999},42.2,{"$f":"IF(OR('Input - Capacity Factors'!$C$3=\"Wind\"),IF(I122*'AVOID NEW'!$E$67<6.5,I122*(1-'AVOID NEW'!$E$67),I122-6.5),\"NA\")","v":38.824000000000005},36.799999999999997,{"$f":"IF(OR('Input - Capacity Factors'!$C$3=\"Wind\"),IF(K122*'AVOID NEW'!$E$67<6.5,K122*(1-'AVOID NEW'!$E$67),K122-6.5),\"NA\")","v":33.856000000000002},null,31.42,{"$f":"IF(OR('Input - Capacity Factors'!$C$3=\"Wind\"),IF(N122*'AVOID NEW'!$E$67<6.5,N122*(1-'AVOID NEW'!$E$67),N122-6.5),\"NA\")","v":28.906400000000001},32.82,{"$f":"IF(OR('Input - Capacity Factors'!$C$3=\"Wind\"),IF(P122*'AVOID NEW'!$E$67<6.5,P122*(1-'AVOID NEW'!$E$67),P122-6.5),\"NA\")","v":30.194400000000002},28.62,{"$f":"IF(OR('Input - Capacity Factors'!$C$3=\"Wind\"),IF(R122*'AVOID NEW'!$E$67<6.5,R122*(1-'AVOID NEW'!$E$67),R122-6.5),\"NA\")","v":26.330400000000001},null,null,37.4,{"$f":"IF(OR('Input - Capacity Factors'!$C$3=\"Wind\"),IF(V122*'AVOID NEW'!$E$67<6.5,V122*(1-'AVOID NEW'!$E$67),V122-6.5),\"NA\")","v":34.408000000000001},39.07,{"$f":"IF(OR('Input - Capacity Factors'!$C$3=\"Wind\"),IF(X122*'AVOID NEW'!$E$67<6.5,X122*(1-'AVOID NEW'!$E$67),X122-6.5),\"NA\")","v":35.944400000000002},34.07,{"$f":"IF(OR('Input - Capacity Factors'!$C$3=\"Wind\"),IF(Z122*'AVOID NEW'!$E$67<6.5,Z122*(1-'AVOID NEW'!$E$67),Z122-6.5),\"NA\")","v":31.3444}]
[null,7,{"$f":"'AVOID NEW'!AQ15","v":38.176567071962431},39.846567071962433,34.846567071962433,null,41.23,{"$f":"IF(OR('Input - Capacity Factors'!$C$3=\"Wind\"),IF(G123*'AVOID NEW'!$E$67<6.5,G123*(1-'AVOID NEW'!$E$67),G123-6.5),\"NA\")","v":37.931599999999996},43.03,{"$f":"IF(OR('Input - Capacity Factors'!$C$3=\"Wind\"),IF(I123*'AVOID NEW'!$E$67<6.5,I123*(1-'AVOID NEW'!$E$67),I123-6.5),\"NA\")","v":39.587600000000002},37.630000000000003,{"$f":"IF(OR('Input - Capacity Factors'!$C$3=\"Wind\"),IF(K123*'AVOID NEW'!$E$67<6.5,K123*(1-'AVOID NEW'!$E$67),K123-6.5),\"NA\")","v":34.619600000000005},null,32.07,{"$f":"IF(OR('Input - Capacity Factors'!$C$3=\"Wind\"),IF(N123*'AVOID NEW'!$E$67<6.5,N123*(1-'AVOID NEW'!$E$67),N123-6.5),\"NA\")","v":29.5044},33.47,{"$f":"IF(OR('Input - Capacity Factors'!$C$3=\"Wind\"),IF(P123*'AVOID NEW'!$E$67<6.5,P123*(1-'AVOID NEW'!$E$67),P123-6.5),\"NA\")","v":30.792400000000001},29.27,{"$f":"IF(OR('Input - Capacity Factors'!$C$3=\"Wind\"),IF(R123*'AVOID NEW'!$E$67<6.5,R123*(1-'AVOID NEW'!$E$67),R123-6.5),\"NA\")","v":26.9284},null,null,38.18,{"$f":"IF(OR('Input - Capacity Factors'!$C$3=\"Wind\"),IF(V123*'AVOID NEW'!$E$67<6.5,V123*(1-'AVOID NEW'!$E$67),V123-6.5),\"NA\")","v":35.125599999999999},39.85,{"$f":"IF(OR('Input - Capacity Factors'!$C$3=\"Wind\"),IF(X123*'AVOID NEW'!$E$67<6.5,X123*(1-'AVOID NEW'!$E$67),X123-6.5),\"NA\")","v":36.662000000000006},34.85,{"$f":"IF(OR('Input - Capacity Factors'!$C$3=\"Wind\"),IF(Z123*'AVOID NEW'!$E$67<6.5,Z123*(1-'AVOID NEW'!$E$67),Z123-6.5),\"NA\")","v":32.062000000000005}]
[null,8,{"$f":"'AVOID NEW'!AQ16","v":38.913666422859656},40.583666422859658,35.583666422859658,null,42.03,{"$f":"IF(OR('Input - Capacity Factors'!$C$3=\"Wind\"),IF(G124*'AVOID NEW'!$E$67<6.5,G124*(1-'AVOID NEW'!$E$67),G124-6.5),\"NA\")","v":38.6676},43.83,{"$f":"IF(OR('Input - Capacity Factors'!$C$3=\"Wind\"),IF(I124*'AVOID NEW'!$E$67<6.5,I124*(1-'AVOID NEW'!$E$67),I124-6.5),\"NA\")","v":40.323599999999999},38.43,{"$f":"IF(OR('Input - Capacity Factors'!$C$3=\"Wind\"),IF(K124*'AVOID NEW'!$E$67<6.5,K124*(1-'AVOID NEW'!$E$67),K124-6.5),\"NA\")","v":35.355600000000003},null,32.69,{"$f":"IF(OR('Input - Capacity Factors'!$C$3=\"Wind\"),IF(N124*'AVOID NEW'!$E$67<6.5,N124*(1-'AVOID NEW'!$E$67),N124-6.5),\"NA\")","v":30.0748},34.090000000000003,{"$f":"IF(OR('Input - Capacity Factors'!$C$3=\"Wind\"),IF(P124*'AVOID NEW'!$E$67<6.5,P124*(1-'AVOID NEW'!$E$67),P124-6.5),\"NA\")","v":31.362800000000004},29.89,{"$f":"IF(OR('Input - Capacity Factors'!$C$3=\"Wind\"),IF(R124*'AVOID NEW'!$E$67<6.5,R124*(1-'AVOID NEW'!$E$67),R124-6.5),\"NA\")","v":27.498800000000003},null,null,38.909999999999997,{"$f":"IF(OR('Input - Capacity Factors'!$C$3=\"Wind\"),IF(V124*'AVOID NEW'!$E$67<6.5,V124*(1-'AVOID NEW'!$E$67),V124-6.5),\"NA\")","v":35.797199999999997},40.58,{"$f":"IF(OR('Input - Capacity Factors'!$C$3=\"Wind\"),IF(X124*'AVOID NEW'!$E$67<6.5,X124*(1-'AVOID NEW'!$E$67),X124-6.5),\"NA\")","v":37.333599999999997},35.58,{"$f":"IF(OR('Input - Capacity Factors'!$C$3=\"Wind\"),IF(Z124*'AVOID NEW'!$E$67<6.5,Z124*(1-'AVOID NEW'!$E$67),Z124-6.5),\"NA\")","v":32.733600000000003}]
[null,9,{"$f":"'AVOID NEW'!AQ17","v":39.612565459106783},41.282565459106785,36.282565459106785,null,42.78,{"$f":"IF(OR('Input - Capacity Factors'!$C$3=\"Wind\"),IF(G125*'AVOID NEW'!$E$67<6.5,G125*(1-'AVOID NEW'!$E$67),G125-6.5),\"NA\")","v":39.357600000000005},44.59,{"$f":"IF(OR('Input - Capacity Factors'!$C$3=\"Wind\"),IF(I125*'AVOID NEW'!$E$67<6.5,I125*(1-'AVOID NEW'!$E$67),I125-6.5),\"NA\")","v":41.022800000000004},39.19,{"$f":"IF(OR('Input - Capacity Factors'!$C$3=\"Wind\"),IF(K125*'AVOID NEW'!$E$67<6.5,K125*(1-'AVOID NEW'!$E$67),K125-6.5),\"NA\")","v":36.0548},null,33.270000000000003,{"$f":"IF(OR('Input - Capacity Factors'!$C$3=\"Wind\"),IF(N125*'AVOID NEW'!$E$67<6.5,N125*(1-'AVOID NEW'!$E$67),N125-6.5),\"NA\")","v":30.608400000000003},34.68,{"$f":"IF(OR('Input - Capacity Factors'!$C$3=\"Wind\"),IF(P125*'AVOID NEW'!$E$67<6.5,P125*(1-'AVOID NEW'!$E$67),P125-6.5),\"NA\")","v":31.9056},30.48,{"$f":"IF(OR('Input - Capacity Factors'!$C$3=\"Wind\"),IF(R125*'AVOID NEW'!$E$67<6.5,R125*(1-'AVOID NEW'!$E$67),R125-6.5),\"NA\")","v":28.041600000000003},null,null,39.61,{"$f":"IF(OR('Input - Capacity Factors'!$C$3=\"Wind\"),IF(V125*'AVOID NEW'!$E$67<6.5,V125*(1-'AVOID NEW'!$E$67),V125-6.5),\"NA\")","v":36.441200000000002},41.28,{"$f":"IF(OR('Input - Capacity Factors'!$C$3=\"Wind\"),IF(X125*'AVOID NEW'!$E$67<6.5,X125*(1-'AVOID NEW'!$E$67),X125-6.5),\"NA\")","v":37.977600000000002},36.28,{"$f":"IF(OR('Input - Capacity Factors'!$C$3=\"Wind\"),IF(Z125*'AVOID NEW'!$E$67<6.5,Z125*(1-'AVOID NEW'!$E$67),Z125-6.5),\"NA\")","v":33.377600000000001}]
[null,10,{"$f":"'AVOID NEW'!AQ18","v":40.246932464115147},41.916932464115149,36.916932464115149,null,43.47,{"$f":"IF(OR('Input - Capacity Factors'!$C$3=\"Wind\"),IF(G126*'AVOID NEW'!$E$67<6.5,G126*(1-'AVOID NEW'!$E$67),G126-6.5),\"NA\")","v":39.992400000000004},45.27,{"$f":"IF(OR('Input - Capacity Factors'!$C$3=\"Wind\"),IF(I126*'AVOID NEW'!$E$67<6.5,I126*(1-'AVOID NEW'!$E$67),I126-6.5),\"NA\")","v":41.648400000000002},39.869999999999997,{"$f":"IF(OR('Input - Capacity Factors'!$C$3=\"Wind\"),IF(K126*'AVOID NEW'!$E$67<6.5,K126*(1-'AVOID NEW'!$E$67),K126-6.5),\"NA\")","v":36.680399999999999},null,33.81,{"$f":"IF(OR('Input - Capacity Factors'!$C$3=\"Wind\"),IF(N126*'AVOID NEW'!$E$67<6.5,N126*(1-'AVOID NEW'!$E$67),N126-6.5),\"NA\")","v":31.105200000000004},35.21,{"$f":"IF(OR('Input - Capacity Factors'!$C$3=\"Wind\"),IF(P126*'AVOID NEW'!$E$67<6.5,P126*(1-'AVOID NEW'!$E$67),P126-6.5),\"NA\")","v":32.3932},31.01,{"$f":"IF(OR('Input - Capacity Factors'!$C$3=\"Wind\"),IF(R126*'AVOID NEW'!$E$67<6.5,R126*(1-'AVOID NEW'!$E$67),R126-6.5),\"NA\")","v":28.529200000000003},null,null,40.25,{"$f":"IF(OR('Input - Capacity Factors'!$C$3=\"Wind\"),IF(V126*'AVOID NEW'!$E$67<6.5,V126*(1-'AVOID NEW'!$E$67),V126-6.5),\"NA\")","v":37.03},41.92,{"$f":"IF(OR('Input - Capacity Factors'!$C$3=\"Wind\"),IF(X126*'AVOID NEW'!$E$67<6.5,X126*(1-'AVOID NEW'!$E$67),X126-6.5),\"NA\")","v":38.566400000000002},36.92,{"$f":"IF(OR('Input - Capacity Factors'!$C$3=\"Wind\"),IF(Z126*'AVOID NEW'!$E$67<6.5,Z126*(1-'AVOID NEW'!$E$67),Z126-6.5),\"NA\")","v":33.9664}]
[null,11,{"$f":"'AVOID NEW'!AQ19","v":40.808873525655663},42.478873525655665,37.478873525655665,null,44.07,{"$f":"IF(OR('Input - Capacity Factors'!$C$3=\"Wind\"),IF(G127*'AVOID NEW'!$E$67<6.5,G127*(1-'AVOID NEW'!$E$67),G127-6.5),\"NA\")","v":40.544400000000003},45.88,{"$f":"IF(OR('Input - Capacity Factors'!$C$3=\"Wind\"),IF(I127*'AVOID NEW'!$E$67<6.5,I127*(1-'AVOID NEW'!$E$67),I127-6.5),\"NA\")","v":42.209600000000002},40.479999999999997,{"$f":"IF(OR('Input - Capacity Factors'!$C$3=\"Wind\"),IF(K127*'AVOID NEW'!$E$67<6.5,K127*(1-'AVOID NEW'!$E$67),K127-6.5),\"NA\")","v":37.241599999999998},null,34.28,{"$f":"IF(OR('Input - Capacity Factors'!$C$3=\"Wind\"),IF(N127*'AVOID NEW'!$E$67<6.5,N127*(1-'AVOID NEW'!$E$67),N127-6.5),\"NA\")","v":31.537600000000001},35.68,{"$f":"IF(OR('Input - Capacity Factors'!$C$3=\"Wind\"),IF(P127*'AVOID NEW'!$E$67<6.5,P127*(1-'AVOID NEW'!$E$67),P127-6.5),\"NA\")","v":32.825600000000001},31.48,{"$f":"IF(OR('Input - Capacity Factors'!$C$3=\"Wind\"),IF(R127*'AVOID NEW'!$E$67<6.5,R127*(1-'AVOID NEW'!$E$67),R127-6.5),\"NA\")","v":28.961600000000001},null,null,40.81,{"$f":"IF(OR('Input - Capacity Factors'!$C$3=\"Wind\"),IF(V127*'AVOID NEW'!$E$67<6.5,V127*(1-'AVOID NEW'!$E$67),V127-6.5),\"NA\")","v":37.545200000000001},42.48,{"$f":"IF(OR('Input - Capacity Factors'!$C$3=\"Wind\"),IF(X127*'AVOID NEW'!$E$67<6.5,X127*(1-'AVOID NEW'!$E$67),X127-6.5),\"NA\")","v":39.081600000000002},37.479999999999997,{"$f":"IF(OR('Input - Capacity Factors'!$C$3=\"Wind\"),IF(Z127*'AVOID NEW'!$E$67<6.5,Z127*(1-'AVOID NEW'!$E$67),Z127-6.5),\"NA\")","v":34.4816}]
[null,12,{"$f":"'AVOID NEW'!AQ20","v":41.331954740804449},43.00195474080445,38.00195474080445,null,44.64,{"$f":"IF(OR('Input - Capacity Factors'!$C$3=\"Wind\"),IF(G128*'AVOID NEW'!$E$67<6.5,G128*(1-'AVOID NEW'!$E$67),G128-6.5),\"NA\")","v":41.068800000000003},46.44,{"$f":"IF(OR('Input - Capacity Factors'!$C$3=\"Wind\"),IF(I128*'AVOID NEW'!$E$67<6.5,I128*(1-'AVOID NEW'!$E$67),I128-6.5),\"NA\")","v":42.724800000000002},41.04,{"$f":"IF(OR('Input - Capacity Factors'!$C$3=\"Wind\"),IF(K128*'AVOID NEW'!$E$67<6.5,K128*(1-'AVOID NEW'!$E$67),K128-6.5),\"NA\")","v":37.756799999999998},null,34.72,{"$f":"IF(OR('Input - Capacity Factors'!$C$3=\"Wind\"),IF(N128*'AVOID NEW'!$E$67<6.5,N128*(1-'AVOID NEW'!$E$67),N128-6.5),\"NA\")","v":31.942399999999999},36.119999999999997,{"$f":"IF(OR('Input - Capacity Factors'!$C$3=\"Wind\"),IF(P128*'AVOID NEW'!$E$67<6.5,P128*(1-'AVOID NEW'!$E$67),P128-6.5),\"NA\")","v":33.230399999999996},31.92,{"$f":"IF(OR('Input - Capacity Factors'!$C$3=\"Wind\"),IF(R128*'AVOID NEW'!$E$67<6.5,R128*(1-'AVOID NEW'!$E$67),R128-6.5),\"NA\")","v":29.366400000000002},null,null,41.33,{"$f":"IF(OR('Input - Capacity Factors'!$C$3=\"Wind\"),IF(V128*'AVOID NEW'!$E$67<6.5,V128*(1-'AVOID NEW'!$E$67),V128-6.5),\"NA\")","v":38.023600000000002},43,{"$f":"IF(OR('Input - Capacity Factors'!$C$3=\"Wind\"),IF(X128*'AVOID NEW'!$E$67<6.5,X128*(1-'AVOID NEW'!$E$67),X128-6.5),\"NA\")","v":39.56},38,{"$f":"IF(OR('Input - Capacity Factors'!$C$3=\"Wind\"),IF(Z128*'AVOID NEW'!$E$67<6.5,Z128*(1-'AVOID NEW'!$E$67),Z128-6.5),\"NA\")","v":34.96}]
[null,13,{"$f":"'AVOID NEW'!AQ21","v":41.817719054877912},43.487719054877914,38.487719054877914,null,45.16,{"$f":"IF(OR('Input - Capacity Factors'!$C$3=\"Wind\"),IF(G129*'AVOID NEW'!$E$67<6.5,G129*(1-'AVOID NEW'!$E$67),G129-6.5),\"NA\")","v":41.547199999999997},46.97,{"$f":"IF(OR('Input - Capacity Factors'!$C$3=\"Wind\"),IF(I129*'AVOID NEW'!$E$67<6.5,I129*(1-'AVOID NEW'!$E$67),I129-6.5),\"NA\")","v":43.212400000000002},41.57,{"$f":"IF(OR('Input - Capacity Factors'!$C$3=\"Wind\"),IF(K129*'AVOID NEW'!$E$67<6.5,K129*(1-'AVOID NEW'!$E$67),K129-6.5),\"NA\")","v":38.244399999999999},null,35.130000000000003,{"$f":"IF(OR('Input - Capacity Factors'!$C$3=\"Wind\"),IF(N129*'AVOID NEW'!$E$67<6.5,N129*(1-'AVOID NEW'!$E$67),N129-6.5),\"NA\")","v":32.319600000000001},36.53,{"$f":"IF(OR('Input - Capacity Factors'!$C$3=\"Wind\"),IF(P129*'AVOID NEW'!$E$67<6.5,P129*(1-'AVOID NEW'!$E$67),P129-6.5),\"NA\")","v":33.607600000000005},32.33,{"$f":"IF(OR('Input - Capacity Factors'!$C$3=\"Wind\"),IF(R129*'AVOID NEW'!$E$67<6.5,R129*(1-'AVOID NEW'!$E$67),R129-6.5),\"NA\")","v":29.743600000000001},null,null,41.82,{"$f":"IF(OR('Input - Capacity Factors'!$C$3=\"Wind\"),IF(V129*'AVOID NEW'!$E$67<6.5,V129*(1-'AVOID NEW'!$E$67),V129-6.5),\"NA\")","v":38.474400000000003},43.49,{"$f":"IF(OR('Input - Capacity Factors'!$C$3=\"Wind\"),IF(X129*'AVOID NEW'!$E$67<6.5,X129*(1-'AVOID NEW'!$E$67),X129-6.5),\"NA\")","v":40.010800000000003},38.49,{"$f":"IF(OR('Input - Capacity Factors'!$C$3=\"Wind\"),IF(Z129*'AVOID NEW'!$E$67<6.5,Z129*(1-'AVOID NEW'!$E$67),Z129-6.5),\"NA\")","v":35.410800000000002}]
[null,14,{"$f":"'AVOID NEW'!AQ22","v":42.282414023825801},43.952414023825803,38.952414023825803,null,45.67,{"$f":"IF(OR('Input - Capacity Factors'!$C$3=\"Wind\"),IF(G130*'AVOID NEW'!$E$67<6.5,G130*(1-'AVOID NEW'!$E$67),G130-6.5),\"NA\")","v":42.016400000000004},47.47,{"$f":"IF(OR('Input - Capacity Factors'!$C$3=\"Wind\"),IF(I130*'AVOID NEW'!$E$67<6.5,I130*(1-'AVOID NEW'!$E$67),I130-6.5),\"NA\")","v":43.672400000000003},42.07,{"$f":"IF(OR('Input - Capacity Factors'!$C$3=\"Wind\"),IF(K130*'AVOID NEW'!$E$67<6.5,K130*(1-'AVOID NEW'!$E$67),K130-6.5),\"NA\")","v":38.7044},null,35.520000000000003,{"$f":"IF(OR('Input - Capacity Factors'!$C$3=\"Wind\"),IF(N130*'AVOID NEW'!$E$67<6.5,N130*(1-'AVOID NEW'!$E$67),N130-6.5),\"NA\")","v":32.678400000000003},36.92,{"$f":"IF(OR('Input - Capacity Factors'!$C$3=\"Wind\"),IF(P130*'AVOID NEW'!$E$67<6.5,P130*(1-'AVOID NEW'!$E$67),P130-6.5),\"NA\")","v":33.9664},32.72,{"$f":"IF(OR('Input - Capacity Factors'!$C$3=\"Wind\"),IF(R130*'AVOID NEW'!$E$67<6.5,R130*(1-'AVOID NEW'!$E$67),R130-6.5),\"NA\")","v":30.102399999999999},null,null,42.28,{"$f":"IF(OR('Input - Capacity Factors'!$C$3=\"Wind\"),IF(V130*'AVOID NEW'!$E$67<6.5,V130*(1-'AVOID NEW'!$E$67),V130-6.5),\"NA\")","v":38.897600000000004},43.95,{"$f":"IF(OR('Input - Capacity Factors'!$C$3=\"Wind\"),IF(X130*'AVOID NEW'!$E$67<6.5,X130*(1-'AVOID NEW'!$E$67),X130-6.5),\"NA\")","v":40.434000000000005},38.950000000000003,{"$f":"IF(OR('Input - Capacity Factors'!$C$3=\"Wind\"),IF(Z130*'AVOID NEW'!$E$67<6.5,Z130*(1-'AVOID NEW'!$E$67),Z130-6.5),\"NA\")","v":35.834000000000003}]
[null,15,{"$f":"'AVOID NEW'!AQ23","v":42.726739252129356},44.396739252129358,39.396739252129358,null,46.14,{"$f":"IF(OR('Input - Capacity Factors'!$C$3=\"Wind\"),IF(G131*'AVOID NEW'!$E$67<6.5,G131*(1-'AVOID NEW'!$E$67),G131-6.5),\"NA\")","v":42.448800000000006},47.95,{"$f":"IF(OR('Input - Capacity Factors'!$C$3=\"Wind\"),IF(I131*'AVOID NEW'!$E$67<6.5,I131*(1-'AVOID NEW'!$E$67),I131-6.5),\"NA\")","v":44.114000000000004},42.55,{"$f":"IF(OR('Input - Capacity Factors'!$C$3=\"Wind\"),IF(K131*'AVOID NEW'!$E$67<6.5,K131*(1-'AVOID NEW'!$E$67),K131-6.5),\"NA\")","v":39.146000000000001},null,35.89,{"$f":"IF(OR('Input - Capacity Factors'!$C$3=\"Wind\"),IF(N131*'AVOID NEW'!$E$67<6.5,N131*(1-'AVOID NEW'!$E$67),N131-6.5),\"NA\")","v":33.018799999999999},37.29,{"$f":"IF(OR('Input - Capacity Factors'!$C$3=\"Wind\"),IF(P131*'AVOID NEW'!$E$67<6.5,P131*(1-'AVOID NEW'!$E$67),P131-6.5),\"NA\")","v":34.306800000000003},33.090000000000003,{"$f":"IF(OR('Input - Capacity Factors'!$C$3=\"Wind\"),IF(R131*'AVOID NEW'!$E$67<6.5,R131*(1-'AVOID NEW'!$E$67),R131-6.5),\"NA\")","v":30.442800000000005},null,null,42.73,{"$f":"IF(OR('Input - Capacity Factors'!$C$3=\"Wind\"),IF(V131*'AVOID NEW'!$E$67<6.5,V131*(1-'AVOID NEW'!$E$67),V131-6.5),\"NA\")","v":39.311599999999999},44.4,{"$f":"IF(OR('Input - Capacity Factors'!$C$3=\"Wind\"),IF(X131*'AVOID NEW'!$E$67<6.5,X131*(1-'AVOID NEW'!$E$67),X131-6.5),\"NA\")","v":40.847999999999999},39.4,{"$f":"IF(OR('Input - Capacity Factors'!$C$3=\"Wind\"),IF(Z131*'AVOID NEW'!$E$67<6.5,Z131*(1-'AVOID NEW'!$E$67),Z131-6.5),\"NA\")","v":36.247999999999998}]
[null,16,{"$f":"'AVOID NEW'!AQ24","v":43.162416113163438},44.83241611316344,39.83241611316344,null,46.62,{"$f":"IF(OR('Input - Capacity Factors'!$C$3=\"Wind\"),IF(G132*'AVOID NEW'!$E$67<6.5,G132*(1-'AVOID NEW'!$E$67),G132-6.5),\"NA\")","v":42.8904},48.42,{"$f":"IF(OR('Input - Capacity Factors'!$C$3=\"Wind\"),IF(I132*'AVOID NEW'!$E$67<6.5,I132*(1-'AVOID NEW'!$E$67),I132-6.5),\"NA\")","v":44.546400000000006},43.02,{"$f":"IF(OR('Input - Capacity Factors'!$C$3=\"Wind\"),IF(K132*'AVOID NEW'!$E$67<6.5,K132*(1-'AVOID NEW'!$E$67),K132-6.5),\"NA\")","v":39.578400000000002},null,36.26,{"$f":"IF(OR('Input - Capacity Factors'!$C$3=\"Wind\"),IF(N132*'AVOID NEW'!$E$67<6.5,N132*(1-'AVOID NEW'!$E$67),N132-6.5),\"NA\")","v":33.359200000000001},37.659999999999997,{"$f":"IF(OR('Input - Capacity Factors'!$C$3=\"Wind\"),IF(P132*'AVOID NEW'!$E$67<6.5,P132*(1-'AVOID NEW'!$E$67),P132-6.5),\"NA\")","v":34.647199999999998},33.46,{"$f":"IF(OR('Input - Capacity Factors'!$C$3=\"Wind\"),IF(R132*'AVOID NEW'!$E$67<6.5,R132*(1-'AVOID NEW'!$E$67),R132-6.5),\"NA\")","v":30.783200000000001},null,null,43.16,{"$f":"IF(OR('Input - Capacity Factors'!$C$3=\"Wind\"),IF(V132*'AVOID NEW'!$E$67<6.5,V132*(1-'AVOID NEW'!$E$67),V132-6.5),\"NA\")","v":39.7072},44.83,{"$f":"IF(OR('Input - Capacity Factors'!$C$3=\"Wind\"),IF(X132*'AVOID NEW'!$E$67<6.5,X132*(1-'AVOID NEW'!$E$67),X132-6.5),\"NA\")","v":41.243600000000001},39.83,{"$f":"IF(OR('Input - Capacity Factors'!$C$3=\"Wind\"),IF(Z132*'AVOID NEW'!$E$67<6.5,Z132*(1-'AVOID NEW'!$E$67),Z132-6.5),\"NA\")","v":36.643599999999999}]
[null,17,{"$f":"'AVOID NEW'!AQ25","v":43.583521416922132},45.253521416922133,40.253521416922133,null,47.07,{"$f":"IF(OR('Input - Capacity Factors'!$C$3=\"Wind\"),IF(G133*'AVOID NEW'!$E$67<6.5,G133*(1-'AVOID NEW'!$E$67),G133-6.5),\"NA\")","v":43.304400000000001},48.87,{"$f":"IF(OR('Input - Capacity Factors'!$C$3=\"Wind\"),IF(I133*'AVOID NEW'!$E$67<6.5,I133*(1-'AVOID NEW'!$E$67),I133-6.5),\"NA\")","v":44.9604},43.47,{"$f":"IF(OR('Input - Capacity Factors'!$C$3=\"Wind\"),IF(K133*'AVOID NEW'!$E$67<6.5,K133*(1-'AVOID NEW'!$E$67),K133-6.5),\"NA\")","v":39.992400000000004},null,36.61,{"$f":"IF(OR('Input - Capacity Factors'!$C$3=\"Wind\"),IF(N133*'AVOID NEW'!$E$67<6.5,N133*(1-'AVOID NEW'!$E$67),N133-6.5),\"NA\")","v":33.681200000000004},38.01,{"$f":"IF(OR('Input - Capacity Factors'!$C$3=\"Wind\"),IF(P133*'AVOID NEW'!$E$67<6.5,P133*(1-'AVOID NEW'!$E$67),P133-6.5),\"NA\")","v":34.969200000000001},33.81,{"$f":"IF(OR('Input - Capacity Factors'!$C$3=\"Wind\"),IF(R133*'AVOID NEW'!$E$67<6.5,R133*(1-'AVOID NEW'!$E$67),R133-6.5),\"NA\")","v":31.105200000000004},null,null,43.58,{"$f":"IF(OR('Input - Capacity Factors'!$C$3=\"Wind\"),IF(V133*'AVOID NEW'!$E$67<6.5,V133*(1-'AVOID NEW'!$E$67),V133-6.5),\"NA\")","v":40.093600000000002},45.25,{"$f":"IF(OR('Input - Capacity Factors'!$C$3=\"Wind\"),IF(X133*'AVOID NEW'!$E$67<6.5,X133*(1-'AVOID NEW'!$E$67),X133-6.5),\"NA\")","v":41.63},40.25,{"$f":"IF(OR('Input - Capacity Factors'!$C$3=\"Wind\"),IF(Z133*'AVOID NEW'!$E$67<6.5,Z133*(1-'AVOID NEW'!$E$67),Z133-6.5),\"NA\")","v":37.03}]
[null,18,{"$f":"'AVOID NEW'!AQ26","v":43.982092098053307},45.652092098053309,40.652092098053309,null,47.5,{"$f":"IF(OR('Input - Capacity Factors'!$C$3=\"Wind\"),IF(G134*'AVOID NEW'!$E$67<6.5,G134*(1-'AVOID NEW'!$E$67),G134-6.5),\"NA\")","v":43.7},49.3,{"$f":"IF(OR('Input - Capacity Factors'!$C$3=\"Wind\"),IF(I134*'AVOID NEW'!$E$67<6.5,I134*(1-'AVOID NEW'!$E$67),I134-6.5),\"NA\")","v":45.356000000000002},43.9,{"$f":"IF(OR('Input - Capacity Factors'!$C$3=\"Wind\"),IF(K134*'AVOID NEW'!$E$67<6.5,K134*(1-'AVOID NEW'!$E$67),K134-6.5),\"NA\")","v":40.387999999999998},null,36.94,{"$f":"IF(OR('Input - Capacity Factors'!$C$3=\"Wind\"),IF(N134*'AVOID NEW'!$E$67<6.5,N134*(1-'AVOID NEW'!$E$67),N134-6.5),\"NA\")","v":33.9848},38.35,{"$f":"IF(OR('Input - Capacity Factors'!$C$3=\"Wind\"),IF(P134*'AVOID NEW'!$E$67<6.5,P134*(1-'AVOID NEW'!$E$67),P134-6.5),\"NA\")","v":35.282000000000004},34.15,{"$f":"IF(OR('Input - Capacity Factors'!$C$3=\"Wind\"),IF(R134*'AVOID NEW'!$E$67<6.5,R134*(1-'AVOID NEW'!$E$67),R134-6.5),\"NA\")","v":31.417999999999999},null,null,43.98,{"$f":"IF(OR('Input - Capacity Factors'!$C$3=\"Wind\"),IF(V134*'AVOID NEW'!$E$67<6.5,V134*(1-'AVOID NEW'!$E$67),V134-6.5),\"NA\")","v":40.461599999999997},45.65,{"$f":"IF(OR('Input - Capacity Factors'!$C$3=\"Wind\"),IF(X134*'AVOID NEW'!$E$67<6.5,X134*(1-'AVOID NEW'!$E$67),X134-6.5),\"NA\")","v":41.997999999999998},40.65,{"$f":"IF(OR('Input - Capacity Factors'!$C$3=\"Wind\"),IF(Z134*'AVOID NEW'!$E$67<6.5,Z134*(1-'AVOID NEW'!$E$67),Z134-6.5),\"NA\")","v":37.398000000000003}]
[null,19,{"$f":"'AVOID NEW'!AQ27","v":44.367703140418286},46.037703140418287,41.037703140418287,null,47.92,{"$f":"IF(OR('Input - Capacity Factors'!$C$3=\"Wind\"),IF(G135*'AVOID NEW'!$E$67<6.5,G135*(1-'AVOID NEW'!$E$67),G135-6.5),\"NA\")","v":44.086400000000005},49.72,{"$f":"IF(OR('Input - Capacity Factors'!$C$3=\"Wind\"),IF(I135*'AVOID NEW'!$E$67<6.5,I135*(1-'AVOID NEW'!$E$67),I135-6.5),\"NA\")","v":45.742400000000004},44.32,{"$f":"IF(OR('Input - Capacity Factors'!$C$3=\"Wind\"),IF(K135*'AVOID NEW'!$E$67<6.5,K135*(1-'AVOID NEW'!$E$67),K135-6.5),\"NA\")","v":40.7744},null,37.270000000000003,{"$f":"IF(OR('Input - Capacity Factors'!$C$3=\"Wind\"),IF(N135*'AVOID NEW'!$E$67<6.5,N135*(1-'AVOID NEW'!$E$67),N135-6.5),\"NA\")","v":34.288400000000003},38.67,{"$f":"IF(OR('Input - Capacity Factors'!$C$3=\"Wind\"),IF(P135*'AVOID NEW'!$E$67<6.5,P135*(1-'AVOID NEW'!$E$67),P135-6.5),\"NA\")","v":35.5764},34.47,{"$f":"IF(OR('Input - Capacity Factors'!$C$3=\"Wind\"),IF(R135*'AVOID NEW'!$E$67<6.5,R135*(1-'AVOID NEW'!$E$67),R135-6.5),\"NA\")","v":31.712399999999999},null,null,44.37,{"$f":"IF(OR('Input - Capacity Factors'!$C$3=\"Wind\"),IF(V135*'AVOID NEW'!$E$67<6.5,V135*(1-'AVOID NEW'!$E$67),V135-6.5),\"NA\")","v":40.820399999999999},46.04,{"$f":"IF(OR('Input - Capacity Factors'!$C$3=\"Wind\"),IF(X135*'AVOID NEW'!$E$67<6.5,X135*(1-'AVOID NEW'!$E$67),X135-6.5),\"NA\")","v":42.3568},41.04,{"$f":"IF(OR('Input - Capacity Factors'!$C$3=\"Wind\"),IF(Z135*'AVOID NEW'!$E$67<6.5,Z135*(1-'AVOID NEW'!$E$67),Z135-6.5),\"NA\")","v":37.756799999999998}]
[null,20,{"$f":"'AVOID NEW'!AQ28","v":44.743775332318798},46.413775332318799,41.413775332318799,null,48.32,{"$f":"IF(OR('Input - Capacity Factors'!$C$3=\"Wind\"),IF(G136*'AVOID NEW'!$E$67<6.5,G136*(1-'AVOID NEW'!$E$67),G136-6.5),\"NA\")","v":44.4544},50.13,{"$f":"IF(OR('Input - Capacity Factors'!$C$3=\"Wind\"),IF(I136*'AVOID NEW'!$E$67<6.5,I136*(1-'AVOID NEW'!$E$67),I136-6.5),\"NA\")","v":46.119600000000005},44.73,{"$f":"IF(OR('Input - Capacity Factors'!$C$3=\"Wind\"),IF(K136*'AVOID NEW'!$E$67<6.5,K136*(1-'AVOID NEW'!$E$67),K136-6.5),\"NA\")","v":41.151600000000002},null,37.58,{"$f":"IF(OR('Input - Capacity Factors'!$C$3=\"Wind\"),IF(N136*'AVOID NEW'!$E$67<6.5,N136*(1-'AVOID NEW'!$E$67),N136-6.5),\"NA\")","v":34.573599999999999},38.99,{"$f":"IF(OR('Input - Capacity Factors'!$C$3=\"Wind\"),IF(P136*'AVOID NEW'!$E$67<6.5,P136*(1-'AVOID NEW'!$E$67),P136-6.5),\"NA\")","v":35.870800000000003},34.79,{"$f":"IF(OR('Input - Capacity Factors'!$C$3=\"Wind\"),IF(R136*'AVOID NEW'!$E$67<6.5,R136*(1-'AVOID NEW'!$E$67),R136-6.5),\"NA\")","v":32.006799999999998},null,null,44.74,{"$f":"IF(OR('Input - Capacity Factors'!$C$3=\"Wind\"),IF(V136*'AVOID NEW'!$E$67<6.5,V136*(1-'AVOID NEW'!$E$67),V136-6.5),\"NA\")","v":41.160800000000002},46.41,{"$f":"IF(OR('Input - Capacity Factors'!$C$3=\"Wind\"),IF(X136*'AVOID NEW'!$E$67<6.5,X136*(1-'AVOID NEW'!$E$67),X136-6.5),\"NA\")","v":42.697200000000002},41.41,{"$f":"IF(OR('Input - Capacity Factors'!$C$3=\"Wind\"),IF(Z136*'AVOID NEW'!$E$67<6.5,Z136*(1-'AVOID NEW'!$E$67),Z136-6.5),\"NA\")","v":38.097200000000001}]
[]
[]
[]
[null,{"$f":"$B$1","v":"THESE RATES ARE NOT VALID"}]
[null,"LEVELIZED RATES"]
[null,{"$f":"\"PROJECT ON-LINE IN \"& 'AVOID NEW'!$D$54+4","v":"PROJECT ON-LINE IN 2026"}]
[null,{"$f":"\"Rate Effective Date: \"&'AVOID NEW'!$E$69","v":"Rate Effective Date: XXXX, 2022"}]
[null,{"$f":"\"Resource:  \"&'Input - Capacity Factors'!$C$3","v":"Resource:  Wind"}]
[null,null,"Levelized Price",null,null,null,{"$f":"\"Season 1 Pricing (\"&$D$7*100&\"%)\"","v":"Season 1 Pricing (108%)"},null,null,null,null,null,null,{"$f":"\"Season 2 Pricing (\"&100*$D$8&\"%)\"","v":"Season 2 Pricing (84%)"},null,null,null,null,null,null,null,"Non-Seasonalized Pricing"]
[null,null,"Heavy and Light Load Hour Differential",{"$f":"'AVOID NEW'!$E$66","v":5},null,null,"Flat",null,"Heavy Load Hour",null,"Light Load Hour",null,null,"Flat",null,"Heavy Load Hour",null,"Light Load Hour",null,null,null,"Flat",null,"Heavy Load Hour",null,"Light Load Hour"]
[null,null,null,{"$f":"ROUND(D146/3,2)","v":1.67},{"$f":"-ROUND((D146*2)/3,2)","v":-3.33},null,null,"Price less wind integration adjustment",null,"Price less wind integration adjustment",null,"Price less wind integration adjustment",null,null,"Price less wind integration adjustment",null,"Price less wind integration adjustment",null,"Price less wind integration adjustment",null,null,null,"Price less wind integration adjustment",null,"Price less wind integration adjustment",null,"Price less wind integration adjustment"]
[null,"Contract Length","Flat","Heavy Load Hour","Light Load Hour",null,"Price",null,"Price",null,"Price",null,null,"Price",null,"Price",null,"Price",null,null,null,"Price",null,"Price",null,"Price"]
[null,1,{"$f":"'AVOID NEW'!AR9","v":34.469802824546996},{"$f":"C149+D$83","v":36.139802824546997},{"$f":"C149+E$83","v":31.139802824546997},null,{"$f":"ROUND((+$C149*$D$7),2)","v":37.229999999999997},{"$f":"IF(OR('Input - Capacity Factors'!$C$3=\"Wind\"),IF(G149*'AVOID NEW'!$E$67<6.5,G149*(1-'AVOID NEW'!$E$67),G149-6.5),\"NA\")","v":34.251599999999996},{"$f":"ROUND((+$D149*$D$7),2)","v":39.03},{"$f":"IF(OR('Input - Capacity Factors'!$C$3=\"Wind\"),IF(I149*'AVOID NEW'!$E$67<6.5,I149*(1-'AVOID NEW'!$E$67),I149-6.5),\"NA\")","v":35.907600000000002},{"$f":"ROUND((+$E149*$D$7),2)","v":33.630000000000003},{"$f":"IF(OR('Input - Capacity Factors'!$C$3=\"Wind\"),IF(K149*'AVOID NEW'!$E$67<6.5,K149*(1-'AVOID NEW'!$E$67),K149-6.5),\"NA\")","v":30.939600000000002},null,{"$f":"ROUND((+$C149*$D$8),2)","v":28.95},{"$f":"IF(OR('Input - Capacity Factors'!$C$3=\"Wind\"),IF(N149*'AVOID NEW'!$E$67<6.5,N149*(1-'AVOID NEW'!$E$67),N149-6.5),\"NA\")","v":26.634},{"$f":"ROUND((+$D149*$D$8),2)","v":30.36},{"$f":"IF(OR('Input - Capacity Factors'!$C$3=\"Wind\"),IF(P149*'AVOID NEW'!$E$67<6.5,P149*(1-'AVOID NEW'!$E$67),P149-6.5),\"NA\")","v":27.9312},{"$f":"ROUND((+$E149*$D$8),2)","v":26.16},{"$f":"IF(OR('Input - Capacity Factors'!$C$3=\"Wind\"),IF(R149*'AVOID NEW'!$E$67<6.5,R149*(1-'AVOID NEW'!$E$67),R149-6.5),\"NA\")","v":24.0672},null,null,{"$f":"ROUND((+$C149),2)","v":34.47},{"$f":"IF(OR('Input - Capacity Factors'!$C$3=\"Wind\"),IF(V149*'AVOID NEW'!$E$67<6.5,V149*(1-'AVOID NEW'!$E$67),V149-6.5),\"NA\")","v":31.712399999999999},{"$f":"ROUND((+$D149),2)","v":36.14},{"$f":"IF(OR('Input - Capacity Factors'!$C$3=\"Wind\"),IF(X149*'AVOID NEW'!$E$67<6.5,X149*(1-'AVOID NEW'!$E$67),X149-6.5),\"NA\")","v":33.248800000000003},{"$f":"ROUND((+$E149),2)","v":31.14},{"$f":"IF(OR('Input - Capacity Factors'!$C$3=\"Wind\"),IF(Z149*'AVOID NEW'!$E$67<6.5,Z149*(1-'AVOID NEW'!$E$67),Z149-6.5),\"NA\")","v":28.648800000000001}]
[null,2,{"$f":"'AVOID NEW'!AR10","v":35.436952540192983},37.106952540192985,32.106952540192985,null,38.270000000000003,{"$f":"IF(OR('Input - Capacity Factors'!$C$3=\"Wind\"),IF(G150*'AVOID NEW'!$E$67<6.5,G150*(1-'AVOID NEW'!$E$67),G150-6.5),\"NA\")","v":35.208400000000005},40.08,{"$f":"IF(OR('Input - Capacity Factors'!$C$3=\"Wind\"),IF(I150*'AVOID NEW'!$E$67<6.5,I150*(1-'AVOID NEW'!$E$67),I150-6.5),\"NA\")","v":36.873600000000003},34.68,{"$f":"IF(OR('Input - Capacity Factors'!$C$3=\"Wind\"),IF(K150*'AVOID NEW'!$E$67<6.5,K150*(1-'AVOID NEW'!$E$67),K150-6.5),\"NA\")","v":31.9056},null,29.77,{"$f":"IF(OR('Input - Capacity Factors'!$C$3=\"Wind\"),IF(N150*'AVOID NEW'!$E$67<6.5,N150*(1-'AVOID NEW'!$E$67),N150-6.5),\"NA\")","v":27.388400000000001},31.17,{"$f":"IF(OR('Input - Capacity Factors'!$C$3=\"Wind\"),IF(P150*'AVOID NEW'!$E$67<6.5,P150*(1-'AVOID NEW'!$E$67),P150-6.5),\"NA\")","v":28.676400000000005},26.97,{"$f":"IF(OR('Input - Capacity Factors'!$C$3=\"Wind\"),IF(R150*'AVOID NEW'!$E$67<6.5,R150*(1-'AVOID NEW'!$E$67),R150-6.5),\"NA\")","v":24.8124},null,null,{"$f":"ROUND((+$C150),2)","v":35.44},{"$f":"IF(OR('Input - Capacity Factors'!$C$3=\"Wind\"),IF(V150*'AVOID NEW'!$E$67<6.5,V150*(1-'AVOID NEW'!$E$67),V150-6.5),\"NA\")","v":32.604799999999997},{"$f":"ROUND((+$D150),2)","v":37.11},{"$f":"IF(OR('Input - Capacity Factors'!$C$3=\"Wind\"),IF(X150*'AVOID NEW'!$E$67<6.5,X150*(1-'AVOID NEW'!$E$67),X150-6.5),\"NA\")","v":34.141199999999998},{"$f":"ROUND((+$E150),2)","v":32.11},{"$f":"IF(OR('Input - Capacity Factors'!$C$3=\"Wind\"),IF(Z150*'AVOID NEW'!$E$67<6.5,Z150*(1-'AVOID NEW'!$E$67),Z150-6.5),\"NA\")","v":29.5412}]
[null,3,{"$f":"'AVOID NEW'!AR11","v":36.523390789199958},38.19339078919996,33.19339078919996,null,39.450000000000003,{"$f":"IF(OR('Input - Capacity Factors'!$C$3=\"Wind\"),IF(G151*'AVOID NEW'!$E$67<6.5,G151*(1-'AVOID NEW'!$E$67),G151-6.5),\"NA\")","v":36.294000000000004},41.25,{"$f":"IF(OR('Input - Capacity Factors'!$C$3=\"Wind\"),IF(I151*'AVOID NEW'!$E$67<6.5,I151*(1-'AVOID NEW'!$E$67),I151-6.5),\"NA\")","v":37.950000000000003},35.85,{"$f":"IF(OR('Input - Capacity Factors'!$C$3=\"Wind\"),IF(K151*'AVOID NEW'!$E$67<6.5,K151*(1-'AVOID NEW'!$E$67),K151-6.5),\"NA\")","v":32.981999999999999},null,30.68,{"$f":"IF(OR('Input - Capacity Factors'!$C$3=\"Wind\"),IF(N151*'AVOID NEW'!$E$67<6.5,N151*(1-'AVOID NEW'!$E$67),N151-6.5),\"NA\")","v":28.2256},32.08,{"$f":"IF(OR('Input - Capacity Factors'!$C$3=\"Wind\"),IF(P151*'AVOID NEW'!$E$67<6.5,P151*(1-'AVOID NEW'!$E$67),P151-6.5),\"NA\")","v":29.5136},27.88,{"$f":"IF(OR('Input - Capacity Factors'!$C$3=\"Wind\"),IF(R151*'AVOID NEW'!$E$67<6.5,R151*(1-'AVOID NEW'!$E$67),R151-6.5),\"NA\")","v":25.6496},null,null,36.520000000000003,{"$f":"IF(OR('Input - Capacity Factors'!$C$3=\"Wind\"),IF(V151*'AVOID NEW'!$E$67<6.5,V151*(1-'AVOID NEW'!$E$67),V151-6.5),\"NA\")","v":33.598400000000005},38.19,{"$f":"IF(OR('Input - Capacity Factors'!$C$3=\"Wind\"),IF(X151*'AVOID NEW'!$E$67<6.5,X151*(1-'AVOID NEW'!$E$67),X151-6.5),\"NA\")","v":35.134799999999998},33.19,{"$f":"IF(OR('Input - Capacity Factors'!$C$3=\"Wind\"),IF(Z151*'AVOID NEW'!$E$67<6.5,Z151*(1-'AVOID NEW'!$E$67),Z151-6.5),\"NA\")","v":30.534800000000001}]
[null,4,{"$f":"'AVOID NEW'!AR12","v":37.548881229324905},39.218881229324907,34.218881229324907,null,40.549999999999997,{"$f":"IF(OR('Input - Capacity Factors'!$C$3=\"Wind\"),IF(G152*'AVOID NEW'!$E$67<6.5,G152*(1-'AVOID NEW'!$E$67),G152-6.5),\"NA\")","v":37.305999999999997},42.36,{"$f":"IF(OR('Input - Capacity Factors'!$C$3=\"Wind\"),IF(I152*'AVOID NEW'!$E$67<6.5,I152*(1-'AVOID NEW'!$E$67),I152-6.5),\"NA\")","v":38.971200000000003},36.96,{"$f":"IF(OR('Input - Capacity Factors'!$C$3=\"Wind\"),IF(K152*'AVOID NEW'!$E$67<6.5,K152*(1-'AVOID NEW'!$E$67),K152-6.5),\"NA\")","v":34.0032},null,31.54,{"$f":"IF(OR('Input - Capacity Factors'!$C$3=\"Wind\"),IF(N152*'AVOID NEW'!$E$67<6.5,N152*(1-'AVOID NEW'!$E$67),N152-6.5),\"NA\")","v":29.0168},32.94,{"$f":"IF(OR('Input - Capacity Factors'!$C$3=\"Wind\"),IF(P152*'AVOID NEW'!$E$67<6.5,P152*(1-'AVOID NEW'!$E$67),P152-6.5),\"NA\")","v":30.3048},28.74,{"$f":"IF(OR('Input - Capacity Factors'!$C$3=\"Wind\"),IF(R152*'AVOID NEW'!$E$67<6.5,R152*(1-'AVOID NEW'!$E$67),R152-6.5),\"NA\")","v":26.440799999999999},null,null,37.549999999999997,{"$f":"IF(OR('Input - Capacity Factors'!$C$3=\"Wind\"),IF(V152*'AVOID NEW'!$E$67<6.5,V152*(1-'AVOID NEW'!$E$67),V152-6.5),\"NA\")","v":34.545999999999999},39.22,{"$f":"IF(OR('Input - Capacity Factors'!$C$3=\"Wind\"),IF(X152*'AVOID NEW'!$E$67<6.5,X152*(1-'AVOID NEW'!$E$67),X152-6.5),\"NA\")","v":36.0824},34.22,{"$f":"IF(OR('Input - Capacity Factors'!$C$3=\"Wind\"),IF(Z152*'AVOID NEW'!$E$67<6.5,Z152*(1-'AVOID NEW'!$E$67),Z152-6.5),\"NA\")","v":31.482400000000002}]
[null,5,{"$f":"'AVOID NEW'!AR13","v":38.454388880014868},40.12438888001487,35.12438888001487,null,41.53,{"$f":"IF(OR('Input - Capacity Factors'!$C$3=\"Wind\"),IF(G153*'AVOID NEW'!$E$67<6.5,G153*(1-'AVOID NEW'!$E$67),G153-6.5),\"NA\")","v":38.207599999999999},43.33,{"$f":"IF(OR('Input - Capacity Factors'!$C$3=\"Wind\"),IF(I153*'AVOID NEW'!$E$67<6.5,I153*(1-'AVOID NEW'!$E$67),I153-6.5),\"NA\")","v":39.863599999999998},37.93,{"$f":"IF(OR('Input - Capacity Factors'!$C$3=\"Wind\"),IF(K153*'AVOID NEW'!$E$67<6.5,K153*(1-'AVOID NEW'!$E$67),K153-6.5),\"NA\")","v":34.895600000000002},null,32.299999999999997,{"$f":"IF(OR('Input - Capacity Factors'!$C$3=\"Wind\"),IF(N153*'AVOID NEW'!$E$67<6.5,N153*(1-'AVOID NEW'!$E$67),N153-6.5),\"NA\")","v":29.715999999999998},33.700000000000003,{"$f":"IF(OR('Input - Capacity Factors'!$C$3=\"Wind\"),IF(P153*'AVOID NEW'!$E$67<6.5,P153*(1-'AVOID NEW'!$E$67),P153-6.5),\"NA\")","v":31.004000000000005},29.5,{"$f":"IF(OR('Input - Capacity Factors'!$C$3=\"Wind\"),IF(R153*'AVOID NEW'!$E$67<6.5,R153*(1-'AVOID NEW'!$E$67),R153-6.5),\"NA\")","v":27.14},null,null,38.450000000000003,{"$f":"IF(OR('Input - Capacity Factors'!$C$3=\"Wind\"),IF(V153*'AVOID NEW'!$E$67<6.5,V153*(1-'AVOID NEW'!$E$67),V153-6.5),\"NA\")","v":35.374000000000002},40.119999999999997,{"$f":"IF(OR('Input - Capacity Factors'!$C$3=\"Wind\"),IF(X153*'AVOID NEW'!$E$67<6.5,X153*(1-'AVOID NEW'!$E$67),X153-6.5),\"NA\")","v":36.910400000000003},35.119999999999997,{"$f":"IF(OR('Input - Capacity Factors'!$C$3=\"Wind\"),IF(Z153*'AVOID NEW'!$E$67<6.5,Z153*(1-'AVOID NEW'!$E$67),Z153-6.5),\"NA\")","v":32.310400000000001}]
[null,6,{"$f":"'AVOID NEW'!AR14","v":39.256353963394233},40.926353963394234,35.926353963394234,null,42.4,{"$f":"IF(OR('Input - Capacity Factors'!$C$3=\"Wind\"),IF(G154*'AVOID NEW'!$E$67<6.5,G154*(1-'AVOID NEW'!$E$67),G154-6.5),\"NA\")","v":39.008000000000003},44.2,{"$f":"IF(OR('Input - Capacity Factors'!$C$3=\"Wind\"),IF(I154*'AVOID NEW'!$E$67<6.5,I154*(1-'AVOID NEW'!$E$67),I154-6.5),\"NA\")","v":40.664000000000001},38.799999999999997,{"$f":"IF(OR('Input - Capacity Factors'!$C$3=\"Wind\"),IF(K154*'AVOID NEW'!$E$67<6.5,K154*(1-'AVOID NEW'!$E$67),K154-6.5),\"NA\")","v":35.695999999999998},null,32.979999999999997,{"$f":"IF(OR('Input - Capacity Factors'!$C$3=\"Wind\"),IF(N154*'AVOID NEW'!$E$67<6.5,N154*(1-'AVOID NEW'!$E$67),N154-6.5),\"NA\")","v":30.3416},34.380000000000003,{"$f":"IF(OR('Input - Capacity Factors'!$C$3=\"Wind\"),IF(P154*'AVOID NEW'!$E$67<6.5,P154*(1-'AVOID NEW'!$E$67),P154-6.5),\"NA\")","v":31.629600000000003},30.18,{"$f":"IF(OR('Input - Capacity Factors'!$C$3=\"Wind\"),IF(R154*'AVOID NEW'!$E$67<6.5,R154*(1-'AVOID NEW'!$E$67),R154-6.5),\"NA\")","v":27.765599999999999},null,null,39.26,{"$f":"IF(OR('Input - Capacity Factors'!$C$3=\"Wind\"),IF(V154*'AVOID NEW'!$E$67<6.5,V154*(1-'AVOID NEW'!$E$67),V154-6.5),\"NA\")","v":36.119199999999999},40.93,{"$f":"IF(OR('Input - Capacity Factors'!$C$3=\"Wind\"),IF(X154*'AVOID NEW'!$E$67<6.5,X154*(1-'AVOID NEW'!$E$67),X154-6.5),\"NA\")","v":37.6556},35.93,{"$f":"IF(OR('Input - Capacity Factors'!$C$3=\"Wind\"),IF(Z154*'AVOID NEW'!$E$67<6.5,Z154*(1-'AVOID NEW'!$E$67),Z154-6.5),\"NA\")","v":33.055599999999998}]
[null,7,{"$f":"'AVOID NEW'!AR15","v":40.015554314637519},41.685554314637521,36.685554314637521,null,43.22,{"$f":"IF(OR('Input - Capacity Factors'!$C$3=\"Wind\"),IF(G155*'AVOID NEW'!$E$67<6.5,G155*(1-'AVOID NEW'!$E$67),G155-6.5),\"NA\")","v":39.7624},45.02,{"$f":"IF(OR('Input - Capacity Factors'!$C$3=\"Wind\"),IF(I155*'AVOID NEW'!$E$67<6.5,I155*(1-'AVOID NEW'!$E$67),I155-6.5),\"NA\")","v":41.418400000000005},39.619999999999997,{"$f":"IF(OR('Input - Capacity Factors'!$C$3=\"Wind\"),IF(K155*'AVOID NEW'!$E$67<6.5,K155*(1-'AVOID NEW'!$E$67),K155-6.5),\"NA\")","v":36.450400000000002},null,33.61,{"$f":"IF(OR('Input - Capacity Factors'!$C$3=\"Wind\"),IF(N155*'AVOID NEW'!$E$67<6.5,N155*(1-'AVOID NEW'!$E$67),N155-6.5),\"NA\")","v":30.921200000000002},35.020000000000003,{"$f":"IF(OR('Input - Capacity Factors'!$C$3=\"Wind\"),IF(P155*'AVOID NEW'!$E$67<6.5,P155*(1-'AVOID NEW'!$E$67),P155-6.5),\"NA\")","v":32.218400000000003},30.82,{"$f":"IF(OR('Input - Capacity Factors'!$C$3=\"Wind\"),IF(R155*'AVOID NEW'!$E$67<6.5,R155*(1-'AVOID NEW'!$E$67),R155-6.5),\"NA\")","v":28.354400000000002},null,null,40.020000000000003,{"$f":"IF(OR('Input - Capacity Factors'!$C$3=\"Wind\"),IF(V155*'AVOID NEW'!$E$67<6.5,V155*(1-'AVOID NEW'!$E$67),V155-6.5),\"NA\")","v":36.818400000000004},41.69,{"$f":"IF(OR('Input - Capacity Factors'!$C$3=\"Wind\"),IF(X155*'AVOID NEW'!$E$67<6.5,X155*(1-'AVOID NEW'!$E$67),X155-6.5),\"NA\")","v":38.354799999999997},36.69,{"$f":"IF(OR('Input - Capacity Factors'!$C$3=\"Wind\"),IF(Z155*'AVOID NEW'!$E$67<6.5,Z155*(1-'AVOID NEW'!$E$67),Z155-6.5),\"NA\")","v":33.754799999999996}]
[null,8,{"$f":"'AVOID NEW'!AR16","v":40.733982992827599},42.403982992827601,37.403982992827601,null,43.99,{"$f":"IF(OR('Input - Capacity Factors'!$C$3=\"Wind\"),IF(G156*'AVOID NEW'!$E$67<6.5,G156*(1-'AVOID NEW'!$E$67),G156-6.5),\"NA\")","v":40.470800000000004},45.8,{"$f":"IF(OR('Input - Capacity Factors'!$C$3=\"Wind\"),IF(I156*'AVOID NEW'!$E$67<6.5,I156*(1-'AVOID NEW'!$E$67),I156-6.5),\"NA\")","v":42.135999999999996},40.4,{"$f":"IF(OR('Input - Capacity Factors'!$C$3=\"Wind\"),IF(K156*'AVOID NEW'!$E$67<6.5,K156*(1-'AVOID NEW'!$E$67),K156-6.5),\"NA\")","v":37.167999999999999},null,34.22,{"$f":"IF(OR('Input - Capacity Factors'!$C$3=\"Wind\"),IF(N156*'AVOID NEW'!$E$67<6.5,N156*(1-'AVOID NEW'!$E$67),N156-6.5),\"NA\")","v":31.482400000000002},35.619999999999997,{"$f":"IF(OR('Input - Capacity Factors'!$C$3=\"Wind\"),IF(P156*'AVOID NEW'!$E$67<6.5,P156*(1-'AVOID NEW'!$E$67),P156-6.5),\"NA\")","v":32.770400000000002},31.42,{"$f":"IF(OR('Input - Capacity Factors'!$C$3=\"Wind\"),IF(R156*'AVOID NEW'!$E$67<6.5,R156*(1-'AVOID NEW'!$E$67),R156-6.5),\"NA\")","v":28.906400000000001},null,null,40.729999999999997,{"$f":"IF(OR('Input - Capacity Factors'!$C$3=\"Wind\"),IF(V156*'AVOID NEW'!$E$67<6.5,V156*(1-'AVOID NEW'!$E$67),V156-6.5),\"NA\")","v":37.471600000000002},42.4,{"$f":"IF(OR('Input - Capacity Factors'!$C$3=\"Wind\"),IF(X156*'AVOID NEW'!$E$67<6.5,X156*(1-'AVOID NEW'!$E$67),X156-6.5),\"NA\")","v":39.008000000000003},37.4,{"$f":"IF(OR('Input - Capacity Factors'!$C$3=\"Wind\"),IF(Z156*'AVOID NEW'!$E$67<6.5,Z156*(1-'AVOID NEW'!$E$67),Z156-6.5),\"NA\")","v":34.408000000000001}]
[null,9,{"$f":"'AVOID NEW'!AR17","v":41.381531399245226},43.051531399245228,38.051531399245228,null,44.69,{"$f":"IF(OR('Input - Capacity Factors'!$C$3=\"Wind\"),IF(G157*'AVOID NEW'!$E$67<6.5,G157*(1-'AVOID NEW'!$E$67),G157-6.5),\"NA\")","v":41.114800000000002},46.5,{"$f":"IF(OR('Input - Capacity Factors'!$C$3=\"Wind\"),IF(I157*'AVOID NEW'!$E$67<6.5,I157*(1-'AVOID NEW'!$E$67),I157-6.5),\"NA\")","v":42.78},41.1,{"$f":"IF(OR('Input - Capacity Factors'!$C$3=\"Wind\"),IF(K157*'AVOID NEW'!$E$67<6.5,K157*(1-'AVOID NEW'!$E$67),K157-6.5),\"NA\")","v":37.812000000000005},null,34.76,{"$f":"IF(OR('Input - Capacity Factors'!$C$3=\"Wind\"),IF(N157*'AVOID NEW'!$E$67<6.5,N157*(1-'AVOID NEW'!$E$67),N157-6.5),\"NA\")","v":31.979199999999999},36.159999999999997,{"$f":"IF(OR('Input - Capacity Factors'!$C$3=\"Wind\"),IF(P157*'AVOID NEW'!$E$67<6.5,P157*(1-'AVOID NEW'!$E$67),P157-6.5),\"NA\")","v":33.267199999999995},31.96,{"$f":"IF(OR('Input - Capacity Factors'!$C$3=\"Wind\"),IF(R157*'AVOID NEW'!$E$67<6.5,R157*(1-'AVOID NEW'!$E$67),R157-6.5),\"NA\")","v":29.403200000000002},null,null,41.38,{"$f":"IF(OR('Input - Capacity Factors'!$C$3=\"Wind\"),IF(V157*'AVOID NEW'!$E$67<6.5,V157*(1-'AVOID NEW'!$E$67),V157-6.5),\"NA\")","v":38.069600000000001},43.05,{"$f":"IF(OR('Input - Capacity Factors'!$C$3=\"Wind\"),IF(X157*'AVOID NEW'!$E$67<6.5,X157*(1-'AVOID NEW'!$E$67),X157-6.5),\"NA\")","v":39.606000000000002},38.049999999999997,{"$f":"IF(OR('Input - Capacity Factors'!$C$3=\"Wind\"),IF(Z157*'AVOID NEW'!$E$67<6.5,Z157*(1-'AVOID NEW'!$E$67),Z157-6.5),\"NA\")","v":35.006}]
[null,10,{"$f":"'AVOID NEW'!AR18","v":41.950246449073255},43.620246449073257,38.620246449073257,null,45.31,{"$f":"IF(OR('Input - Capacity Factors'!$C$3=\"Wind\"),IF(G158*'AVOID NEW'!$E$67<6.5,G158*(1-'AVOID NEW'!$E$67),G158-6.5),\"NA\")","v":41.685200000000002},47.11,{"$f":"IF(OR('Input - Capacity Factors'!$C$3=\"Wind\"),IF(I158*'AVOID NEW'!$E$67<6.5,I158*(1-'AVOID NEW'!$E$67),I158-6.5),\"NA\")","v":43.341200000000001},41.71,{"$f":"IF(OR('Input - Capacity Factors'!$C$3=\"Wind\"),IF(K158*'AVOID NEW'!$E$67<6.5,K158*(1-'AVOID NEW'!$E$67),K158-6.5),\"NA\")","v":38.373200000000004},null,35.24,{"$f":"IF(OR('Input - Capacity Factors'!$C$3=\"Wind\"),IF(N158*'AVOID NEW'!$E$67<6.5,N158*(1-'AVOID NEW'!$E$67),N158-6.5),\"NA\")","v":32.4208},36.64,{"$f":"IF(OR('Input - Capacity Factors'!$C$3=\"Wind\"),IF(P158*'AVOID NEW'!$E$67<6.5,P158*(1-'AVOID NEW'!$E$67),P158-6.5),\"NA\")","v":33.708800000000004},32.44,{"$f":"IF(OR('Input - Capacity Factors'!$C$3=\"Wind\"),IF(R158*'AVOID NEW'!$E$67<6.5,R158*(1-'AVOID NEW'!$E$67),R158-6.5),\"NA\")","v":29.844799999999999},null,null,41.95,{"$f":"IF(OR('Input - Capacity Factors'!$C$3=\"Wind\"),IF(V158*'AVOID NEW'!$E$67<6.5,V158*(1-'AVOID NEW'!$E$67),V158-6.5),\"NA\")","v":38.594000000000001},43.62,{"$f":"IF(OR('Input - Capacity Factors'!$C$3=\"Wind\"),IF(X158*'AVOID NEW'!$E$67<6.5,X158*(1-'AVOID NEW'!$E$67),X158-6.5),\"NA\")","v":40.130400000000002},38.619999999999997,{"$f":"IF(OR('Input - Capacity Factors'!$C$3=\"Wind\"),IF(Z158*'AVOID NEW'!$E$67<6.5,Z158*(1-'AVOID NEW'!$E$67),Z158-6.5),\"NA\")","v":35.5304}]
[null,11,{"$f":"'AVOID NEW'!AR19","v":42.479326957380771},44.149326957380772,39.149326957380772,null,45.88,{"$f":"IF(OR('Input - Capacity Factors'!$C$3=\"Wind\"),IF(G159*'AVOID NEW'!$E$67<6.5,G159*(1-'AVOID NEW'!$E$67),G159-6.5),\"NA\")","v":42.209600000000002},47.68,{"$f":"IF(OR('Input - Capacity Factors'!$C$3=\"Wind\"),IF(I159*'AVOID NEW'!$E$67<6.5,I159*(1-'AVOID NEW'!$E$67),I159-6.5),\"NA\")","v":43.865600000000001},42.28,{"$f":"IF(OR('Input - Capacity Factors'!$C$3=\"Wind\"),IF(K159*'AVOID NEW'!$E$67<6.5,K159*(1-'AVOID NEW'!$E$67),K159-6.5),\"NA\")","v":38.897600000000004},null,35.68,{"$f":"IF(OR('Input - Capacity Factors'!$C$3=\"Wind\"),IF(N159*'AVOID NEW'!$E$67<6.5,N159*(1-'AVOID NEW'!$E$67),N159-6.5),\"NA\")","v":32.825600000000001},37.090000000000003,{"$f":"IF(OR('Input - Capacity Factors'!$C$3=\"Wind\"),IF(P159*'AVOID NEW'!$E$67<6.5,P159*(1-'AVOID NEW'!$E$67),P159-6.5),\"NA\")","v":34.122800000000005},32.89,{"$f":"IF(OR('Input - Capacity Factors'!$C$3=\"Wind\"),IF(R159*'AVOID NEW'!$E$67<6.5,R159*(1-'AVOID NEW'!$E$67),R159-6.5),\"NA\")","v":30.258800000000001},null,null,42.48,{"$f":"IF(OR('Input - Capacity Factors'!$C$3=\"Wind\"),IF(V159*'AVOID NEW'!$E$67<6.5,V159*(1-'AVOID NEW'!$E$67),V159-6.5),\"NA\")","v":39.081600000000002},44.15,{"$f":"IF(OR('Input - Capacity Factors'!$C$3=\"Wind\"),IF(X159*'AVOID NEW'!$E$67<6.5,X159*(1-'AVOID NEW'!$E$67),X159-6.5),\"NA\")","v":40.618000000000002},39.15,{"$f":"IF(OR('Input - Capacity Factors'!$C$3=\"Wind\"),IF(Z159*'AVOID NEW'!$E$67<6.5,Z159*(1-'AVOID NEW'!$E$67),Z159-6.5),\"NA\")","v":36.018000000000001}]
[null,12,{"$f":"'AVOID NEW'!AR20","v":42.970334545708496},44.640334545708498,39.640334545708498,null,46.41,{"$f":"IF(OR('Input - Capacity Factors'!$C$3=\"Wind\"),IF(G160*'AVOID NEW'!$E$67<6.5,G160*(1-'AVOID NEW'!$E$67),G160-6.5),\"NA\")","v":42.697200000000002},48.21,{"$f":"IF(OR('Input - Capacity Factors'!$C$3=\"Wind\"),IF(I160*'AVOID NEW'!$E$67<6.5,I160*(1-'AVOID NEW'!$E$67),I160-6.5),\"NA\")","v":44.353200000000001},42.81,{"$f":"IF(OR('Input - Capacity Factors'!$C$3=\"Wind\"),IF(K160*'AVOID NEW'!$E$67<6.5,K160*(1-'AVOID NEW'!$E$67),K160-6.5),\"NA\")","v":39.385200000000005},null,36.1,{"$f":"IF(OR('Input - Capacity Factors'!$C$3=\"Wind\"),IF(N160*'AVOID NEW'!$E$67<6.5,N160*(1-'AVOID NEW'!$E$67),N160-6.5),\"NA\")","v":33.212000000000003},37.5,{"$f":"IF(OR('Input - Capacity Factors'!$C$3=\"Wind\"),IF(P160*'AVOID NEW'!$E$67<6.5,P160*(1-'AVOID NEW'!$E$67),P160-6.5),\"NA\")","v":34.5},33.299999999999997,{"$f":"IF(OR('Input - Capacity Factors'!$C$3=\"Wind\"),IF(R160*'AVOID NEW'!$E$67<6.5,R160*(1-'AVOID NEW'!$E$67),R160-6.5),\"NA\")","v":30.635999999999999},null,null,42.97,{"$f":"IF(OR('Input - Capacity Factors'!$C$3=\"Wind\"),IF(V160*'AVOID NEW'!$E$67<6.5,V160*(1-'AVOID NEW'!$E$67),V160-6.5),\"NA\")","v":39.532400000000003},44.64,{"$f":"IF(OR('Input - Capacity Factors'!$C$3=\"Wind\"),IF(X160*'AVOID NEW'!$E$67<6.5,X160*(1-'AVOID NEW'!$E$67),X160-6.5),\"NA\")","v":41.068800000000003},39.64,{"$f":"IF(OR('Input - Capacity Factors'!$C$3=\"Wind\"),IF(Z160*'AVOID NEW'!$E$67<6.5,Z160*(1-'AVOID NEW'!$E$67),Z160-6.5),\"NA\")","v":36.468800000000002}]
[null,13,{"$f":"'AVOID NEW'!AR21","v":43.441413673769972},45.111413673769974,40.111413673769974,null,46.92,{"$f":"IF(OR('Input - Capacity Factors'!$C$3=\"Wind\"),IF(G161*'AVOID NEW'!$E$67<6.5,G161*(1-'AVOID NEW'!$E$67),G161-6.5),\"NA\")","v":43.166400000000003},48.72,{"$f":"IF(OR('Input - Capacity Factors'!$C$3=\"Wind\"),IF(I161*'AVOID NEW'!$E$67<6.5,I161*(1-'AVOID NEW'!$E$67),I161-6.5),\"NA\")","v":44.822400000000002},43.32,{"$f":"IF(OR('Input - Capacity Factors'!$C$3=\"Wind\"),IF(K161*'AVOID NEW'!$E$67<6.5,K161*(1-'AVOID NEW'!$E$67),K161-6.5),\"NA\")","v":39.854400000000005},null,36.49,{"$f":"IF(OR('Input - Capacity Factors'!$C$3=\"Wind\"),IF(N161*'AVOID NEW'!$E$67<6.5,N161*(1-'AVOID NEW'!$E$67),N161-6.5),\"NA\")","v":33.570800000000006},37.89,{"$f":"IF(OR('Input - Capacity Factors'!$C$3=\"Wind\"),IF(P161*'AVOID NEW'!$E$67<6.5,P161*(1-'AVOID NEW'!$E$67),P161-6.5),\"NA\")","v":34.858800000000002},33.69,{"$f":"IF(OR('Input - Capacity Factors'!$C$3=\"Wind\"),IF(R161*'AVOID NEW'!$E$67<6.5,R161*(1-'AVOID NEW'!$E$67),R161-6.5),\"NA\")","v":30.994799999999998},null,null,43.44,{"$f":"IF(OR('Input - Capacity Factors'!$C$3=\"Wind\"),IF(V161*'AVOID NEW'!$E$67<6.5,V161*(1-'AVOID NEW'!$E$67),V161-6.5),\"NA\")","v":39.964799999999997},45.11,{"$f":"IF(OR('Input - Capacity Factors'!$C$3=\"Wind\"),IF(X161*'AVOID NEW'!$E$67<6.5,X161*(1-'AVOID NEW'!$E$67),X161-6.5),\"NA\")","v":41.501200000000004},40.11,{"$f":"IF(OR('Input - Capacity Factors'!$C$3=\"Wind\"),IF(Z161*'AVOID NEW'!$E$67<6.5,Z161*(1-'AVOID NEW'!$E$67),Z161-6.5),\"NA\")","v":36.901200000000003}]
[null,14,{"$f":"'AVOID NEW'!AR22","v":43.892949622347061},45.562949622347062,40.562949622347062,null,47.4,{"$f":"IF(OR('Input - Capacity Factors'!$C$3=\"Wind\"),IF(G162*'AVOID NEW'!$E$67<6.5,G162*(1-'AVOID NEW'!$E$67),G162-6.5),\"NA\")","v":43.608000000000004},49.21,{"$f":"IF(OR('Input - Capacity Factors'!$C$3=\"Wind\"),IF(I162*'AVOID NEW'!$E$67<6.5,I162*(1-'AVOID NEW'!$E$67),I162-6.5),\"NA\")","v":45.273200000000003},43.81,{"$f":"IF(OR('Input - Capacity Factors'!$C$3=\"Wind\"),IF(K162*'AVOID NEW'!$E$67<6.5,K162*(1-'AVOID NEW'!$E$67),K162-6.5),\"NA\")","v":40.305200000000006},null,36.869999999999997,{"$f":"IF(OR('Input - Capacity Factors'!$C$3=\"Wind\"),IF(N162*'AVOID NEW'!$E$67<6.5,N162*(1-'AVOID NEW'!$E$67),N162-6.5),\"NA\")","v":33.920400000000001},38.270000000000003,{"$f":"IF(OR('Input - Capacity Factors'!$C$3=\"Wind\"),IF(P162*'AVOID NEW'!$E$67<6.5,P162*(1-'AVOID NEW'!$E$67),P162-6.5),\"NA\")","v":35.208400000000005},34.07,{"$f":"IF(OR('Input - Capacity Factors'!$C$3=\"Wind\"),IF(R162*'AVOID NEW'!$E$67<6.5,R162*(1-'AVOID NEW'!$E$67),R162-6.5),\"NA\")","v":31.3444},null,null,43.89,{"$f":"IF(OR('Input - Capacity Factors'!$C$3=\"Wind\"),IF(V162*'AVOID NEW'!$E$67<6.5,V162*(1-'AVOID NEW'!$E$67),V162-6.5),\"NA\")","v":40.378800000000005},45.56,{"$f":"IF(OR('Input - Capacity Factors'!$C$3=\"Wind\"),IF(X162*'AVOID NEW'!$E$67<6.5,X162*(1-'AVOID NEW'!$E$67),X162-6.5),\"NA\")","v":41.915200000000006},40.56,{"$f":"IF(OR('Input - Capacity Factors'!$C$3=\"Wind\"),IF(Z162*'AVOID NEW'!$E$67<6.5,Z162*(1-'AVOID NEW'!$E$67),Z162-6.5),\"NA\")","v":37.315200000000004}]
[null,15,{"$f":"'AVOID NEW'!AR23","v":44.337735012918813},46.007735012918815,41.007735012918815,null,47.88,{"$f":"IF(OR('Input - Capacity Factors'!$C$3=\"Wind\"),IF(G163*'AVOID NEW'!$E$67<6.5,G163*(1-'AVOID NEW'!$E$67),G163-6.5),\"NA\")","v":44.049600000000005},49.69,{"$f":"IF(OR('Input - Capacity Factors'!$C$3=\"Wind\"),IF(I163*'AVOID NEW'!$E$67<6.5,I163*(1-'AVOID NEW'!$E$67),I163-6.5),\"NA\")","v":45.714799999999997},44.29,{"$f":"IF(OR('Input - Capacity Factors'!$C$3=\"Wind\"),IF(K163*'AVOID NEW'!$E$67<6.5,K163*(1-'AVOID NEW'!$E$67),K163-6.5),\"NA\")","v":40.7468},null,37.24,{"$f":"IF(OR('Input - Capacity Factors'!$C$3=\"Wind\"),IF(N163*'AVOID NEW'!$E$67<6.5,N163*(1-'AVOID NEW'!$E$67),N163-6.5),\"NA\")","v":34.260800000000003},38.65,{"$f":"IF(OR('Input - Capacity Factors'!$C$3=\"Wind\"),IF(P163*'AVOID NEW'!$E$67<6.5,P163*(1-'AVOID NEW'!$E$67),P163-6.5),\"NA\")","v":35.558},34.450000000000003,{"$f":"IF(OR('Input - Capacity Factors'!$C$3=\"Wind\"),IF(R163*'AVOID NEW'!$E$67<6.5,R163*(1-'AVOID NEW'!$E$67),R163-6.5),\"NA\")","v":31.694000000000003},null,null,44.34,{"$f":"IF(OR('Input - Capacity Factors'!$C$3=\"Wind\"),IF(V163*'AVOID NEW'!$E$67<6.5,V163*(1-'AVOID NEW'!$E$67),V163-6.5),\"NA\")","v":40.792800000000007},46.01,{"$f":"IF(OR('Input - Capacity Factors'!$C$3=\"Wind\"),IF(X163*'AVOID NEW'!$E$67<6.5,X163*(1-'AVOID NEW'!$E$67),X163-6.5),\"NA\")","v":42.3292},41.01,{"$f":"IF(OR('Input - Capacity Factors'!$C$3=\"Wind\"),IF(Z163*'AVOID NEW'!$E$67<6.5,Z163*(1-'AVOID NEW'!$E$67),Z163-6.5),\"NA\")","v":37.729199999999999}]
[null,16,{"$f":"'AVOID NEW'!AR24","v":44.768790404980095},46.438790404980097,41.438790404980097,null,48.35,{"$f":"IF(OR('Input - Capacity Factors'!$C$3=\"Wind\"),IF(G164*'AVOID NEW'!$E$67<6.5,G164*(1-'AVOID NEW'!$E$67),G164-6.5),\"NA\")","v":44.482000000000006},50.15,{"$f":"IF(OR('Input - Capacity Factors'!$C$3=\"Wind\"),IF(I164*'AVOID NEW'!$E$67<6.5,I164*(1-'AVOID NEW'!$E$67),I164-6.5),\"NA\")","v":46.137999999999998},44.75,{"$f":"IF(OR('Input - Capacity Factors'!$C$3=\"Wind\"),IF(K164*'AVOID NEW'!$E$67<6.5,K164*(1-'AVOID NEW'!$E$67),K164-6.5),\"NA\")","v":41.17},null,37.61,{"$f":"IF(OR('Input - Capacity Factors'!$C$3=\"Wind\"),IF(N164*'AVOID NEW'!$E$67<6.5,N164*(1-'AVOID NEW'!$E$67),N164-6.5),\"NA\")","v":34.601199999999999},39.01,{"$f":"IF(OR('Input - Capacity Factors'!$C$3=\"Wind\"),IF(P164*'AVOID NEW'!$E$67<6.5,P164*(1-'AVOID NEW'!$E$67),P164-6.5),\"NA\")","v":35.889200000000002},34.81,{"$f":"IF(OR('Input - Capacity Factors'!$C$3=\"Wind\"),IF(R164*'AVOID NEW'!$E$67<6.5,R164*(1-'AVOID NEW'!$E$67),R164-6.5),\"NA\")","v":32.025200000000005},null,null,44.77,{"$f":"IF(OR('Input - Capacity Factors'!$C$3=\"Wind\"),IF(V164*'AVOID NEW'!$E$67<6.5,V164*(1-'AVOID NEW'!$E$67),V164-6.5),\"NA\")","v":41.188400000000001},46.44,{"$f":"IF(OR('Input - Capacity Factors'!$C$3=\"Wind\"),IF(X164*'AVOID NEW'!$E$67<6.5,X164*(1-'AVOID NEW'!$E$67),X164-6.5),\"NA\")","v":42.724800000000002},41.44,{"$f":"IF(OR('Input - Capacity Factors'!$C$3=\"Wind\"),IF(Z164*'AVOID NEW'!$E$67<6.5,Z164*(1-'AVOID NEW'!$E$67),Z164-6.5),\"NA\")","v":38.1248}]
[null,17,{"$f":"'AVOID NEW'!AR25","v":45.177033329384429},46.847033329384431,41.847033329384431,null,48.79,{"$f":"IF(OR('Input - Capacity Factors'!$C$3=\"Wind\"),IF(G165*'AVOID NEW'!$E$67<6.5,G165*(1-'AVOID NEW'!$E$67),G165-6.5),\"NA\")","v":44.886800000000001},50.59,{"$f":"IF(OR('Input - Capacity Factors'!$C$3=\"Wind\"),IF(I165*'AVOID NEW'!$E$67<6.5,I165*(1-'AVOID NEW'!$E$67),I165-6.5),\"NA\")","v":46.542800000000007},45.19,{"$f":"IF(OR('Input - Capacity Factors'!$C$3=\"Wind\"),IF(K165*'AVOID NEW'!$E$67<6.5,K165*(1-'AVOID NEW'!$E$67),K165-6.5),\"NA\")","v":41.574799999999996},null,37.950000000000003,{"$f":"IF(OR('Input - Capacity Factors'!$C$3=\"Wind\"),IF(N165*'AVOID NEW'!$E$67<6.5,N165*(1-'AVOID NEW'!$E$67),N165-6.5),\"NA\")","v":34.914000000000001},39.35,{"$f":"IF(OR('Input - Capacity Factors'!$C$3=\"Wind\"),IF(P165*'AVOID NEW'!$E$67<6.5,P165*(1-'AVOID NEW'!$E$67),P165-6.5),\"NA\")","v":36.202000000000005},35.15,{"$f":"IF(OR('Input - Capacity Factors'!$C$3=\"Wind\"),IF(R165*'AVOID NEW'!$E$67<6.5,R165*(1-'AVOID NEW'!$E$67),R165-6.5),\"NA\")","v":32.338000000000001},null,null,45.18,{"$f":"IF(OR('Input - Capacity Factors'!$C$3=\"Wind\"),IF(V165*'AVOID NEW'!$E$67<6.5,V165*(1-'AVOID NEW'!$E$67),V165-6.5),\"NA\")","v":41.565600000000003},46.85,{"$f":"IF(OR('Input - Capacity Factors'!$C$3=\"Wind\"),IF(X165*'AVOID NEW'!$E$67<6.5,X165*(1-'AVOID NEW'!$E$67),X165-6.5),\"NA\")","v":43.102000000000004},41.85,{"$f":"IF(OR('Input - Capacity Factors'!$C$3=\"Wind\"),IF(Z165*'AVOID NEW'!$E$67<6.5,Z165*(1-'AVOID NEW'!$E$67),Z165-6.5),\"NA\")","v":38.502000000000002}]
[null,18,{"$f":"'AVOID NEW'!AR26","v":45.572952829314225},47.242952829314227,42.242952829314227,null,49.22,{"$f":"IF(OR('Input - Capacity Factors'!$C$3=\"Wind\"),IF(G166*'AVOID NEW'!$E$67<6.5,G166*(1-'AVOID NEW'!$E$67),G166-6.5),\"NA\")","v":45.282400000000003},51.02,{"$f":"IF(OR('Input - Capacity Factors'!$C$3=\"Wind\"),IF(I166*'AVOID NEW'!$E$67<6.5,I166*(1-'AVOID NEW'!$E$67),I166-6.5),\"NA\")","v":46.938400000000001},45.62,{"$f":"IF(OR('Input - Capacity Factors'!$C$3=\"Wind\"),IF(K166*'AVOID NEW'!$E$67<6.5,K166*(1-'AVOID NEW'!$E$67),K166-6.5),\"NA\")","v":41.970399999999998},null,38.28,{"$f":"IF(OR('Input - Capacity Factors'!$C$3=\"Wind\"),IF(N166*'AVOID NEW'!$E$67<6.5,N166*(1-'AVOID NEW'!$E$67),N166-6.5),\"NA\")","v":35.217600000000004},39.68,{"$f":"IF(OR('Input - Capacity Factors'!$C$3=\"Wind\"),IF(P166*'AVOID NEW'!$E$67<6.5,P166*(1-'AVOID NEW'!$E$67),P166-6.5),\"NA\")","v":36.505600000000001},35.479999999999997,{"$f":"IF(OR('Input - Capacity Factors'!$C$3=\"Wind\"),IF(R166*'AVOID NEW'!$E$67<6.5,R166*(1-'AVOID NEW'!$E$67),R166-6.5),\"NA\")","v":32.641599999999997},null,null,45.57,{"$f":"IF(OR('Input - Capacity Factors'!$C$3=\"Wind\"),IF(V166*'AVOID NEW'!$E$67<6.5,V166*(1-'AVOID NEW'!$E$67),V166-6.5),\"NA\")","v":41.924399999999999},47.24,{"$f":"IF(OR('Input - Capacity Factors'!$C$3=\"Wind\"),IF(X166*'AVOID NEW'!$E$67<6.5,X166*(1-'AVOID NEW'!$E$67),X166-6.5),\"NA\")","v":43.460800000000006},42.24,{"$f":"IF(OR('Input - Capacity Factors'!$C$3=\"Wind\"),IF(Z166*'AVOID NEW'!$E$67<6.5,Z166*(1-'AVOID NEW'!$E$67),Z166-6.5),\"NA\")","v":38.860800000000005}]
[null,19,{"$f":"'AVOID NEW'!AR27","v":45.960153724872434},47.630153724872436,42.630153724872436,null,49.64,{"$f":"IF(OR('Input - Capacity Factors'!$C$3=\"Wind\"),IF(G167*'AVOID NEW'!$E$67<6.5,G167*(1-'AVOID NEW'!$E$67),G167-6.5),\"NA\")","v":45.668800000000005},51.44,{"$f":"IF(OR('Input - Capacity Factors'!$C$3=\"Wind\"),IF(I167*'AVOID NEW'!$E$67<6.5,I167*(1-'AVOID NEW'!$E$67),I167-6.5),\"NA\")","v":47.324800000000003},46.04,{"$f":"IF(OR('Input - Capacity Factors'!$C$3=\"Wind\"),IF(K167*'AVOID NEW'!$E$67<6.5,K167*(1-'AVOID NEW'!$E$67),K167-6.5),\"NA\")","v":42.3568},null,38.61,{"$f":"IF(OR('Input - Capacity Factors'!$C$3=\"Wind\"),IF(N167*'AVOID NEW'!$E$67<6.5,N167*(1-'AVOID NEW'!$E$67),N167-6.5),\"NA\")","v":35.5212},40.01,{"$f":"IF(OR('Input - Capacity Factors'!$C$3=\"Wind\"),IF(P167*'AVOID NEW'!$E$67<6.5,P167*(1-'AVOID NEW'!$E$67),P167-6.5),\"NA\")","v":36.809199999999997},35.81,{"$f":"IF(OR('Input - Capacity Factors'!$C$3=\"Wind\"),IF(R167*'AVOID NEW'!$E$67<6.5,R167*(1-'AVOID NEW'!$E$67),R167-6.5),\"NA\")","v":32.945200000000007},null,null,45.96,{"$f":"IF(OR('Input - Capacity Factors'!$C$3=\"Wind\"),IF(V167*'AVOID NEW'!$E$67<6.5,V167*(1-'AVOID NEW'!$E$67),V167-6.5),\"NA\")","v":42.283200000000001},47.63,{"$f":"IF(OR('Input - Capacity Factors'!$C$3=\"Wind\"),IF(X167*'AVOID NEW'!$E$67<6.5,X167*(1-'AVOID NEW'!$E$67),X167-6.5),\"NA\")","v":43.819600000000001},42.63,{"$f":"IF(OR('Input - Capacity Factors'!$C$3=\"Wind\"),IF(Z167*'AVOID NEW'!$E$67<6.5,Z167*(1-'AVOID NEW'!$E$67),Z167-6.5),\"NA\")","v":39.219600000000007}]
[null,20,{"$f":"'AVOID NEW'!AR28","v":46.336023956863954},48.006023956863956,43.006023956863956,null,50.04,{"$f":"IF(OR('Input - Capacity Factors'!$C$3=\"Wind\"),IF(G168*'AVOID NEW'!$E$67<6.5,G168*(1-'AVOID NEW'!$E$67),G168-6.5),\"NA\")","v":46.036799999999999},51.85,{"$f":"IF(OR('Input - Capacity Factors'!$C$3=\"Wind\"),IF(I168*'AVOID NEW'!$E$67<6.5,I168*(1-'AVOID NEW'!$E$67),I168-6.5),\"NA\")","v":47.702000000000005},46.45,{"$f":"IF(OR('Input - Capacity Factors'!$C$3=\"Wind\"),IF(K168*'AVOID NEW'!$E$67<6.5,K168*(1-'AVOID NEW'!$E$67),K168-6.5),\"NA\")","v":42.734000000000002},null,38.92,{"$f":"IF(OR('Input - Capacity Factors'!$C$3=\"Wind\"),IF(N168*'AVOID NEW'!$E$67<6.5,N168*(1-'AVOID NEW'!$E$67),N168-6.5),\"NA\")","v":35.806400000000004},40.33,{"$f":"IF(OR('Input - Capacity Factors'!$C$3=\"Wind\"),IF(P168*'AVOID NEW'!$E$67<6.5,P168*(1-'AVOID NEW'!$E$67),P168-6.5),\"NA\")","v":37.1036},36.130000000000003,{"$f":"IF(OR('Input - Capacity Factors'!$C$3=\"Wind\"),IF(R168*'AVOID NEW'!$E$67<6.5,R168*(1-'AVOID NEW'!$E$67),R168-6.5),\"NA\")","v":33.239600000000003},null,null,46.34,{"$f":"IF(OR('Input - Capacity Factors'!$C$3=\"Wind\"),IF(V168*'AVOID NEW'!$E$67<6.5,V168*(1-'AVOID NEW'!$E$67),V168-6.5),\"NA\")","v":42.632800000000003},48.01,{"$f":"IF(OR('Input - Capacity Factors'!$C$3=\"Wind\"),IF(X168*'AVOID NEW'!$E$67<6.5,X168*(1-'AVOID NEW'!$E$67),X168-6.5),\"NA\")","v":44.169200000000004},43.01,{"$f":"IF(OR('Input - Capacity Factors'!$C$3=\"Wind\"),IF(Z168*'AVOID NEW'!$E$67<6.5,Z168*(1-'AVOID NEW'!$E$67),Z168-6.5),\"NA\")","v":39.569200000000002}]
[]
[]
[]
[null,{"$f":"$B$1","v":"THESE RATES ARE NOT VALID"}]
[null,"LEVELIZED RATES"]
[null,{"$f":"\"PROJECT ON-LINE IN \"& 'AVOID NEW'!$D$54+5","v":"PROJECT ON-LINE IN 2027"}]
[null,{"$f":"\"Rate Effective Date: \"&'AVOID NEW'!$E$69","v":"Rate Effective Date: XXXX, 2022"}]
[null,{"$f":"\"Resource:  \"&'Input - Capacity Factors'!$C$3","v":"Resource:  Wind"}]
[null,null,"Levelized Price",null,null,null,{"$f":"\"Season 1 Pricing (\"&$D$7*100&\"%)\"","v":"Season 1 Pricing (108%)"},null,null,null,null,null,null,{"$f":"\"Season 2 Pricing (\"&100*$D$8&\"%)\"","v":"Season 2 Pricing (84%)"},null,null,null,null,null,null,null,"Non-Seasonalized Pricing"]
[null,null,"Heavy and Light Load Hour Differential",{"$f":"'AVOID NEW'!$E$66","v":5},null,null,"Flat",null,"Heavy Load Hour",null,"Light Load Hour",null,null,"Flat",null,"Heavy Load Hour",null,"Light Load Hour",null,null,null,"Flat",null,"Heavy Load Hour",null,"Light Load Hour"]
[null,null,null,{"$f":"ROUND(D178/3,2)","v":1.67},{"$f":"-ROUND((D178*2)/3,2)","v":-3.33},null,null,"Price less wind integration adjustment",null,"Price less wind integration adjustment",null,"Price less wind integration adjustment",null,null,"Price less wind integration adjustment",null,"Price less wind integration adjustment",null,"Price less wind integration adjustment",null,null,null,"Price less wind integration adjustment",null,"Price less wind integration adjustment",null,"Price less wind integration adjustment"]
[null,"Contract Length","Flat","Heavy Load Hour","Light Load Hour",null,"Price",null,"Price",null,"Price",null,null,"Price",null,"Price",null,"Price",null,null,null,"Price",null,"Price",null,"Price"]
[null,1,{"$f":"'AVOID NEW'!AS9","v":36.483216235111144},{"$f":"C181+D$83","v":38.153216235111145},{"$f":"C181+E$83","v":33.153216235111145},null,{"$f":"ROUND((+$C181*$D$7),2)","v":39.4},{"$f":"IF(OR('Input - Capacity Factors'!$C$3=\"Wind\"),IF(G181*'AVOID NEW'!$E$67<6.5,G181*(1-'AVOID NEW'!$E$67),G181-6.5),\"NA\")","v":36.247999999999998},{"$f":"ROUND((+$D181*$D$7),2)","v":41.21},{"$f":"IF(OR('Input - Capacity Factors'!$C$3=\"Wind\"),IF(I181*'AVOID NEW'!$E$67<6.5,I181*(1-'AVOID NEW'!$E$67),I181-6.5),\"NA\")","v":37.913200000000003},{"$f":"ROUND((+$E181*$D$7),2)","v":35.81},{"$f":"IF(OR('Input - Capacity Factors'!$C$3=\"Wind\"),IF(K181*'AVOID NEW'!$E$67<6.5,K181*(1-'AVOID NEW'!$E$67),K181-6.5),\"NA\")","v":32.945200000000007},null,{"$f":"ROUND((+$C181*$D$8),2)","v":30.65},{"$f":"IF(OR('Input - Capacity Factors'!$C$3=\"Wind\"),IF(N181*'AVOID NEW'!$E$67<6.5,N181*(1-'AVOID NEW'!$E$67),N181-6.5),\"NA\")","v":28.198},{"$f":"ROUND((+$D181*$D$8),2)","v":32.049999999999997},{"$f":"IF(OR('Input - Capacity Factors'!$C$3=\"Wind\"),IF(P181*'AVOID NEW'!$E$67<6.5,P181*(1-'AVOID NEW'!$E$67),P181-6.5),\"NA\")","v":29.485999999999997},{"$f":"ROUND((+$E181*$D$8),2)","v":27.85},{"$f":"IF(OR('Input - Capacity Factors'!$C$3=\"Wind\"),IF(R181*'AVOID NEW'!$E$67<6.5,R181*(1-'AVOID NEW'!$E$67),R181-6.5),\"NA\")","v":25.622000000000003},null,null,{"$f":"ROUND((+$C181),2)","v":36.479999999999997},{"$f":"IF(OR('Input - Capacity Factors'!$C$3=\"Wind\"),IF(V181*'AVOID NEW'!$E$67<6.5,V181*(1-'AVOID NEW'!$E$67),V181-6.5),\"NA\")","v":33.561599999999999},{"$f":"ROUND((+$D181),2)","v":38.15},{"$f":"IF(OR('Input - Capacity Factors'!$C$3=\"Wind\"),IF(X181*'AVOID NEW'!$E$67<6.5,X181*(1-'AVOID NEW'!$E$67),X181-6.5),\"NA\")","v":35.097999999999999},{"$f":"ROUND((+$E181),2)","v":33.15},{"$f":"IF(OR('Input - Capacity Factors'!$C$3=\"Wind\"),IF(Z181*'AVOID NEW'!$E$67<6.5,Z181*(1-'AVOID NEW'!$E$67),Z181-6.5),\"NA\")","v":30.498000000000001}]
[null,2,{"$f":"'AVOID NEW'!AS10","v":37.677824383533817},39.347824383533819,34.347824383533819,null,40.69,{"$f":"IF(OR('Input - Capacity Factors'!$C$3=\"Wind\"),IF(G182*'AVOID NEW'!$E$67<6.5,G182*(1-'AVOID NEW'!$E$67),G182-6.5),\"NA\")","v":37.434800000000003},42.5,{"$f":"IF(OR('Input - Capacity Factors'!$C$3=\"Wind\"),IF(I182*'AVOID NEW'!$E$67<6.5,I182*(1-'AVOID NEW'!$E$67),I182-6.5),\"NA\")","v":39.1},37.1,{"$f":"IF(OR('Input - Capacity Factors'!$C$3=\"Wind\"),IF(K182*'AVOID NEW'!$E$67<6.5,K182*(1-'AVOID NEW'!$E$67),K182-6.5),\"NA\")","v":34.132000000000005},null,31.65,{"$f":"IF(OR('Input - Capacity Factors'!$C$3=\"Wind\"),IF(N182*'AVOID NEW'!$E$67<6.5,N182*(1-'AVOID NEW'!$E$67),N182-6.5),\"NA\")","v":29.117999999999999},33.049999999999997,{"$f":"IF(OR('Input - Capacity Factors'!$C$3=\"Wind\"),IF(P182*'AVOID NEW'!$E$67<6.5,P182*(1-'AVOID NEW'!$E$67),P182-6.5),\"NA\")","v":30.405999999999999},28.85,{"$f":"IF(OR('Input - Capacity Factors'!$C$3=\"Wind\"),IF(R182*'AVOID NEW'!$E$67<6.5,R182*(1-'AVOID NEW'!$E$67),R182-6.5),\"NA\")","v":26.542000000000002},null,null,{"$f":"ROUND((+$C182),2)","v":37.68},{"$f":"IF(OR('Input - Capacity Factors'!$C$3=\"Wind\"),IF(V182*'AVOID NEW'!$E$67<6.5,V182*(1-'AVOID NEW'!$E$67),V182-6.5),\"NA\")","v":34.665599999999998},{"$f":"ROUND((+$D182),2)","v":39.35},{"$f":"IF(OR('Input - Capacity Factors'!$C$3=\"Wind\"),IF(X182*'AVOID NEW'!$E$67<6.5,X182*(1-'AVOID NEW'!$E$67),X182-6.5),\"NA\")","v":36.202000000000005},{"$f":"ROUND((+$E182),2)","v":34.35},{"$f":"IF(OR('Input - Capacity Factors'!$C$3=\"Wind\"),IF(Z182*'AVOID NEW'!$E$67<6.5,Z182*(1-'AVOID NEW'!$E$67),Z182-6.5),\"NA\")","v":31.602000000000004}]
[null,3,{"$f":"'AVOID NEW'!AS11","v":38.747551883676714},40.417551883676715,35.417551883676715,null,41.85,{"$f":"IF(OR('Input - Capacity Factors'!$C$3=\"Wind\"),IF(G183*'AVOID NEW'!$E$67<6.5,G183*(1-'AVOID NEW'!$E$67),G183-6.5),\"NA\")","v":38.502000000000002},43.65,{"$f":"IF(OR('Input - Capacity Factors'!$C$3=\"Wind\"),IF(I183*'AVOID NEW'!$E$67<6.5,I183*(1-'AVOID NEW'!$E$67),I183-6.5),\"NA\")","v":40.158000000000001},38.25,{"$f":"IF(OR('Input - Capacity Factors'!$C$3=\"Wind\"),IF(K183*'AVOID NEW'!$E$67<6.5,K183*(1-'AVOID NEW'!$E$67),K183-6.5),\"NA\")","v":35.190000000000005},null,32.549999999999997,{"$f":"IF(OR('Input - Capacity Factors'!$C$3=\"Wind\"),IF(N183*'AVOID NEW'!$E$67<6.5,N183*(1-'AVOID NEW'!$E$67),N183-6.5),\"NA\")","v":29.945999999999998},33.950000000000003,{"$f":"IF(OR('Input - Capacity Factors'!$C$3=\"Wind\"),IF(P183*'AVOID NEW'!$E$67<6.5,P183*(1-'AVOID NEW'!$E$67),P183-6.5),\"NA\")","v":31.234000000000005},29.75,{"$f":"IF(OR('Input - Capacity Factors'!$C$3=\"Wind\"),IF(R183*'AVOID NEW'!$E$67<6.5,R183*(1-'AVOID NEW'!$E$67),R183-6.5),\"NA\")","v":27.37},null,null,38.75,{"$f":"IF(OR('Input - Capacity Factors'!$C$3=\"Wind\"),IF(V183*'AVOID NEW'!$E$67<6.5,V183*(1-'AVOID NEW'!$E$67),V183-6.5),\"NA\")","v":35.65},40.42,{"$f":"IF(OR('Input - Capacity Factors'!$C$3=\"Wind\"),IF(X183*'AVOID NEW'!$E$67<6.5,X183*(1-'AVOID NEW'!$E$67),X183-6.5),\"NA\")","v":37.186400000000006},35.42,{"$f":"IF(OR('Input - Capacity Factors'!$C$3=\"Wind\"),IF(Z183*'AVOID NEW'!$E$67<6.5,Z183*(1-'AVOID NEW'!$E$67),Z183-6.5),\"NA\")","v":32.586400000000005}]
[null,4,{"$f":"'AVOID NEW'!AS12","v":39.662245062641404},41.332245062641405,36.332245062641405,null,42.84,{"$f":"IF(OR('Input - Capacity Factors'!$C$3=\"Wind\"),IF(G184*'AVOID NEW'!$E$67<6.5,G184*(1-'AVOID NEW'!$E$67),G184-6.5),\"NA\")","v":39.412800000000004},44.64,{"$f":"IF(OR('Input - Capacity Factors'!$C$3=\"Wind\"),IF(I184*'AVOID NEW'!$E$67<6.5,I184*(1-'AVOID NEW'!$E$67),I184-6.5),\"NA\")","v":41.068800000000003},39.24,{"$f":"IF(OR('Input - Capacity Factors'!$C$3=\"Wind\"),IF(K184*'AVOID NEW'!$E$67<6.5,K184*(1-'AVOID NEW'!$E$67),K184-6.5),\"NA\")","v":36.100800000000007},null,33.32,{"$f":"IF(OR('Input - Capacity Factors'!$C$3=\"Wind\"),IF(N184*'AVOID NEW'!$E$67<6.5,N184*(1-'AVOID NEW'!$E$67),N184-6.5),\"NA\")","v":30.654400000000003},34.72,{"$f":"IF(OR('Input - Capacity Factors'!$C$3=\"Wind\"),IF(P184*'AVOID NEW'!$E$67<6.5,P184*(1-'AVOID NEW'!$E$67),P184-6.5),\"NA\")","v":31.942399999999999},30.52,{"$f":"IF(OR('Input - Capacity Factors'!$C$3=\"Wind\"),IF(R184*'AVOID NEW'!$E$67<6.5,R184*(1-'AVOID NEW'!$E$67),R184-6.5),\"NA\")","v":28.078400000000002},null,null,39.659999999999997,{"$f":"IF(OR('Input - Capacity Factors'!$C$3=\"Wind\"),IF(V184*'AVOID NEW'!$E$67<6.5,V184*(1-'AVOID NEW'!$E$67),V184-6.5),\"NA\")","v":36.487200000000001},41.33,{"$f":"IF(OR('Input - Capacity Factors'!$C$3=\"Wind\"),IF(X184*'AVOID NEW'!$E$67<6.5,X184*(1-'AVOID NEW'!$E$67),X184-6.5),\"NA\")","v":38.023600000000002},36.33,{"$f":"IF(OR('Input - Capacity Factors'!$C$3=\"Wind\"),IF(Z184*'AVOID NEW'!$E$67<6.5,Z184*(1-'AVOID NEW'!$E$67),Z184-6.5),\"NA\")","v":33.4236}]
[null,5,{"$f":"'AVOID NEW'!AS13","v":40.460873096865207},42.130873096865209,37.130873096865209,null,43.7,{"$f":"IF(OR('Input - Capacity Factors'!$C$3=\"Wind\"),IF(G185*'AVOID NEW'!$E$67<6.5,G185*(1-'AVOID NEW'!$E$67),G185-6.5),\"NA\")","v":40.204000000000008},45.5,{"$f":"IF(OR('Input - Capacity Factors'!$C$3=\"Wind\"),IF(I185*'AVOID NEW'!$E$67<6.5,I185*(1-'AVOID NEW'!$E$67),I185-6.5),\"NA\")","v":41.86},40.1,{"$f":"IF(OR('Input - Capacity Factors'!$C$3=\"Wind\"),IF(K185*'AVOID NEW'!$E$67<6.5,K185*(1-'AVOID NEW'!$E$67),K185-6.5),\"NA\")","v":36.892000000000003},null,33.99,{"$f":"IF(OR('Input - Capacity Factors'!$C$3=\"Wind\"),IF(N185*'AVOID NEW'!$E$67<6.5,N185*(1-'AVOID NEW'!$E$67),N185-6.5),\"NA\")","v":31.270800000000005},35.39,{"$f":"IF(OR('Input - Capacity Factors'!$C$3=\"Wind\"),IF(P185*'AVOID NEW'!$E$67<6.5,P185*(1-'AVOID NEW'!$E$67),P185-6.5),\"NA\")","v":32.558800000000005},31.19,{"$f":"IF(OR('Input - Capacity Factors'!$C$3=\"Wind\"),IF(R185*'AVOID NEW'!$E$67<6.5,R185*(1-'AVOID NEW'!$E$67),R185-6.5),\"NA\")","v":28.694800000000001},null,null,40.46,{"$f":"IF(OR('Input - Capacity Factors'!$C$3=\"Wind\"),IF(V185*'AVOID NEW'!$E$67<6.5,V185*(1-'AVOID NEW'!$E$67),V185-6.5),\"NA\")","v":37.223200000000006},42.13,{"$f":"IF(OR('Input - Capacity Factors'!$C$3=\"Wind\"),IF(X185*'AVOID NEW'!$E$67<6.5,X185*(1-'AVOID NEW'!$E$67),X185-6.5),\"NA\")","v":38.759600000000006},37.130000000000003,{"$f":"IF(OR('Input - Capacity Factors'!$C$3=\"Wind\"),IF(Z185*'AVOID NEW'!$E$67<6.5,Z185*(1-'AVOID NEW'!$E$67),Z185-6.5),\"NA\")","v":34.159600000000005}]
[null,6,{"$f":"'AVOID NEW'!AS14","v":41.221748251647782},42.891748251647783,37.891748251647783,null,44.52,{"$f":"IF(OR('Input - Capacity Factors'!$C$3=\"Wind\"),IF(G186*'AVOID NEW'!$E$67<6.5,G186*(1-'AVOID NEW'!$E$67),G186-6.5),\"NA\")","v":40.958400000000005},46.32,{"$f":"IF(OR('Input - Capacity Factors'!$C$3=\"Wind\"),IF(I186*'AVOID NEW'!$E$67<6.5,I186*(1-'AVOID NEW'!$E$67),I186-6.5),\"NA\")","v":42.614400000000003},40.92,{"$f":"IF(OR('Input - Capacity Factors'!$C$3=\"Wind\"),IF(K186*'AVOID NEW'!$E$67<6.5,K186*(1-'AVOID NEW'!$E$67),K186-6.5),\"NA\")","v":37.6464},null,34.630000000000003,{"$f":"IF(OR('Input - Capacity Factors'!$C$3=\"Wind\"),IF(N186*'AVOID NEW'!$E$67<6.5,N186*(1-'AVOID NEW'!$E$67),N186-6.5),\"NA\")","v":31.859600000000004},36.03,{"$f":"IF(OR('Input - Capacity Factors'!$C$3=\"Wind\"),IF(P186*'AVOID NEW'!$E$67<6.5,P186*(1-'AVOID NEW'!$E$67),P186-6.5),\"NA\")","v":33.147600000000004},31.83,{"$f":"IF(OR('Input - Capacity Factors'!$C$3=\"Wind\"),IF(R186*'AVOID NEW'!$E$67<6.5,R186*(1-'AVOID NEW'!$E$67),R186-6.5),\"NA\")","v":29.2836},null,null,41.22,{"$f":"IF(OR('Input - Capacity Factors'!$C$3=\"Wind\"),IF(V186*'AVOID NEW'!$E$67<6.5,V186*(1-'AVOID NEW'!$E$67),V186-6.5),\"NA\")","v":37.922400000000003},42.89,{"$f":"IF(OR('Input - Capacity Factors'!$C$3=\"Wind\"),IF(X186*'AVOID NEW'!$E$67<6.5,X186*(1-'AVOID NEW'!$E$67),X186-6.5),\"NA\")","v":39.458800000000004},37.89,{"$f":"IF(OR('Input - Capacity Factors'!$C$3=\"Wind\"),IF(Z186*'AVOID NEW'!$E$67<6.5,Z186*(1-'AVOID NEW'!$E$67),Z186-6.5),\"NA\")","v":34.858800000000002}]
[null,7,{"$f":"'AVOID NEW'!AS15","v":41.944580862083015},43.614580862083017,38.614580862083017,null,45.3,{"$f":"IF(OR('Input - Capacity Factors'!$C$3=\"Wind\"),IF(G187*'AVOID NEW'!$E$67<6.5,G187*(1-'AVOID NEW'!$E$67),G187-6.5),\"NA\")","v":41.676000000000002},47.1,{"$f":"IF(OR('Input - Capacity Factors'!$C$3=\"Wind\"),IF(I187*'AVOID NEW'!$E$67<6.5,I187*(1-'AVOID NEW'!$E$67),I187-6.5),\"NA\")","v":43.332000000000001},41.7,{"$f":"IF(OR('Input - Capacity Factors'!$C$3=\"Wind\"),IF(K187*'AVOID NEW'!$E$67<6.5,K187*(1-'AVOID NEW'!$E$67),K187-6.5),\"NA\")","v":38.364000000000004},null,35.229999999999997,{"$f":"IF(OR('Input - Capacity Factors'!$C$3=\"Wind\"),IF(N187*'AVOID NEW'!$E$67<6.5,N187*(1-'AVOID NEW'!$E$67),N187-6.5),\"NA\")","v":32.4116},36.64,{"$f":"IF(OR('Input - Capacity Factors'!$C$3=\"Wind\"),IF(P187*'AVOID NEW'!$E$67<6.5,P187*(1-'AVOID NEW'!$E$67),P187-6.5),\"NA\")","v":33.708800000000004},32.44,{"$f":"IF(OR('Input - Capacity Factors'!$C$3=\"Wind\"),IF(R187*'AVOID NEW'!$E$67<6.5,R187*(1-'AVOID NEW'!$E$67),R187-6.5),\"NA\")","v":29.844799999999999},null,null,41.94,{"$f":"IF(OR('Input - Capacity Factors'!$C$3=\"Wind\"),IF(V187*'AVOID NEW'!$E$67<6.5,V187*(1-'AVOID NEW'!$E$67),V187-6.5),\"NA\")","v":38.584800000000001},43.61,{"$f":"IF(OR('Input - Capacity Factors'!$C$3=\"Wind\"),IF(X187*'AVOID NEW'!$E$67<6.5,X187*(1-'AVOID NEW'!$E$67),X187-6.5),\"NA\")","v":40.121200000000002},38.61,{"$f":"IF(OR('Input - Capacity Factors'!$C$3=\"Wind\"),IF(Z187*'AVOID NEW'!$E$67<6.5,Z187*(1-'AVOID NEW'!$E$67),Z187-6.5),\"NA\")","v":35.5212}]
[null,8,{"$f":"'AVOID NEW'!AS16","v":42.592507930174762},44.262507930174763,39.262507930174763,null,46,{"$f":"IF(OR('Input - Capacity Factors'!$C$3=\"Wind\"),IF(G188*'AVOID NEW'!$E$67<6.5,G188*(1-'AVOID NEW'!$E$67),G188-6.5),\"NA\")","v":42.32},47.8,{"$f":"IF(OR('Input - Capacity Factors'!$C$3=\"Wind\"),IF(I188*'AVOID NEW'!$E$67<6.5,I188*(1-'AVOID NEW'!$E$67),I188-6.5),\"NA\")","v":43.975999999999999},42.4,{"$f":"IF(OR('Input - Capacity Factors'!$C$3=\"Wind\"),IF(K188*'AVOID NEW'!$E$67<6.5,K188*(1-'AVOID NEW'!$E$67),K188-6.5),\"NA\")","v":39.008000000000003},null,35.78,{"$f":"IF(OR('Input - Capacity Factors'!$C$3=\"Wind\"),IF(N188*'AVOID NEW'!$E$67<6.5,N188*(1-'AVOID NEW'!$E$67),N188-6.5),\"NA\")","v":32.9176},37.18,{"$f":"IF(OR('Input - Capacity Factors'!$C$3=\"Wind\"),IF(P188*'AVOID NEW'!$E$67<6.5,P188*(1-'AVOID NEW'!$E$67),P188-6.5),\"NA\")","v":34.205600000000004},32.979999999999997,{"$f":"IF(OR('Input - Capacity Factors'!$C$3=\"Wind\"),IF(R188*'AVOID NEW'!$E$67<6.5,R188*(1-'AVOID NEW'!$E$67),R188-6.5),\"NA\")","v":30.3416},null,null,42.59,{"$f":"IF(OR('Input - Capacity Factors'!$C$3=\"Wind\"),IF(V188*'AVOID NEW'!$E$67<6.5,V188*(1-'AVOID NEW'!$E$67),V188-6.5),\"NA\")","v":39.182800000000007},44.26,{"$f":"IF(OR('Input - Capacity Factors'!$C$3=\"Wind\"),IF(X188*'AVOID NEW'!$E$67<6.5,X188*(1-'AVOID NEW'!$E$67),X188-6.5),\"NA\")","v":40.719200000000001},39.26,{"$f":"IF(OR('Input - Capacity Factors'!$C$3=\"Wind\"),IF(Z188*'AVOID NEW'!$E$67<6.5,Z188*(1-'AVOID NEW'!$E$67),Z188-6.5),\"NA\")","v":36.119199999999999}]
[null,9,{"$f":"'AVOID NEW'!AS17","v":43.156697876165971},44.826697876165973,39.826697876165973,null,46.61,{"$f":"IF(OR('Input - Capacity Factors'!$C$3=\"Wind\"),IF(G189*'AVOID NEW'!$E$67<6.5,G189*(1-'AVOID NEW'!$E$67),G189-6.5),\"NA\")","v":42.8812},48.41,{"$f":"IF(OR('Input - Capacity Factors'!$C$3=\"Wind\"),IF(I189*'AVOID NEW'!$E$67<6.5,I189*(1-'AVOID NEW'!$E$67),I189-6.5),\"NA\")","v":44.537199999999999},43.01,{"$f":"IF(OR('Input - Capacity Factors'!$C$3=\"Wind\"),IF(K189*'AVOID NEW'!$E$67<6.5,K189*(1-'AVOID NEW'!$E$67),K189-6.5),\"NA\")","v":39.569200000000002},null,36.25,{"$f":"IF(OR('Input - Capacity Factors'!$C$3=\"Wind\"),IF(N189*'AVOID NEW'!$E$67<6.5,N189*(1-'AVOID NEW'!$E$67),N189-6.5),\"NA\")","v":33.35},37.65,{"$f":"IF(OR('Input - Capacity Factors'!$C$3=\"Wind\"),IF(P189*'AVOID NEW'!$E$67<6.5,P189*(1-'AVOID NEW'!$E$67),P189-6.5),\"NA\")","v":34.637999999999998},33.450000000000003,{"$f":"IF(OR('Input - Capacity Factors'!$C$3=\"Wind\"),IF(R189*'AVOID NEW'!$E$67<6.5,R189*(1-'AVOID NEW'!$E$67),R189-6.5),\"NA\")","v":30.774000000000004},null,null,43.16,{"$f":"IF(OR('Input - Capacity Factors'!$C$3=\"Wind\"),IF(V189*'AVOID NEW'!$E$67<6.5,V189*(1-'AVOID NEW'!$E$67),V189-6.5),\"NA\")","v":39.7072},44.83,{"$f":"IF(OR('Input - Capacity Factors'!$C$3=\"Wind\"),IF(X189*'AVOID NEW'!$E$67<6.5,X189*(1-'AVOID NEW'!$E$67),X189-6.5),\"NA\")","v":41.243600000000001},39.83,{"$f":"IF(OR('Input - Capacity Factors'!$C$3=\"Wind\"),IF(Z189*'AVOID NEW'!$E$67<6.5,Z189*(1-'AVOID NEW'!$E$67),Z189-6.5),\"NA\")","v":36.643599999999999}]
[null,10,{"$f":"'AVOID NEW'!AS18","v":43.682697644222763},45.352697644222765,40.352697644222765,null,47.18,{"$f":"IF(OR('Input - Capacity Factors'!$C$3=\"Wind\"),IF(G190*'AVOID NEW'!$E$67<6.5,G190*(1-'AVOID NEW'!$E$67),G190-6.5),\"NA\")","v":43.4056},48.98,{"$f":"IF(OR('Input - Capacity Factors'!$C$3=\"Wind\"),IF(I190*'AVOID NEW'!$E$67<6.5,I190*(1-'AVOID NEW'!$E$67),I190-6.5),\"NA\")","v":45.061599999999999},43.58,{"$f":"IF(OR('Input - Capacity Factors'!$C$3=\"Wind\"),IF(K190*'AVOID NEW'!$E$67<6.5,K190*(1-'AVOID NEW'!$E$67),K190-6.5),\"NA\")","v":40.093600000000002},null,36.69,{"$f":"IF(OR('Input - Capacity Factors'!$C$3=\"Wind\"),IF(N190*'AVOID NEW'!$E$67<6.5,N190*(1-'AVOID NEW'!$E$67),N190-6.5),\"NA\")","v":33.754799999999996},38.1,{"$f":"IF(OR('Input - Capacity Factors'!$C$3=\"Wind\"),IF(P190*'AVOID NEW'!$E$67<6.5,P190*(1-'AVOID NEW'!$E$67),P190-6.5),\"NA\")","v":35.052},33.9,{"$f":"IF(OR('Input - Capacity Factors'!$C$3=\"Wind\"),IF(R190*'AVOID NEW'!$E$67<6.5,R190*(1-'AVOID NEW'!$E$67),R190-6.5),\"NA\")","v":31.187999999999999},null,null,43.68,{"$f":"IF(OR('Input - Capacity Factors'!$C$3=\"Wind\"),IF(V190*'AVOID NEW'!$E$67<6.5,V190*(1-'AVOID NEW'!$E$67),V190-6.5),\"NA\")","v":40.185600000000001},45.35,{"$f":"IF(OR('Input - Capacity Factors'!$C$3=\"Wind\"),IF(X190*'AVOID NEW'!$E$67<6.5,X190*(1-'AVOID NEW'!$E$67),X190-6.5),\"NA\")","v":41.722000000000001},40.35,{"$f":"IF(OR('Input - Capacity Factors'!$C$3=\"Wind\"),IF(Z190*'AVOID NEW'!$E$67<6.5,Z190*(1-'AVOID NEW'!$E$67),Z190-6.5),\"NA\")","v":37.122}]
[null,11,{"$f":"'AVOID NEW'!AS19","v":44.171483464678047},45.841483464678049,40.841483464678049,null,47.71,{"$f":"IF(OR('Input - Capacity Factors'!$C$3=\"Wind\"),IF(G191*'AVOID NEW'!$E$67<6.5,G191*(1-'AVOID NEW'!$E$67),G191-6.5),\"NA\")","v":43.8932},49.51,{"$f":"IF(OR('Input - Capacity Factors'!$C$3=\"Wind\"),IF(I191*'AVOID NEW'!$E$67<6.5,I191*(1-'AVOID NEW'!$E$67),I191-6.5),\"NA\")","v":45.549199999999999},44.11,{"$f":"IF(OR('Input - Capacity Factors'!$C$3=\"Wind\"),IF(K191*'AVOID NEW'!$E$67<6.5,K191*(1-'AVOID NEW'!$E$67),K191-6.5),\"NA\")","v":40.581200000000003},null,37.1,{"$f":"IF(OR('Input - Capacity Factors'!$C$3=\"Wind\"),IF(N191*'AVOID NEW'!$E$67<6.5,N191*(1-'AVOID NEW'!$E$67),N191-6.5),\"NA\")","v":34.132000000000005},38.51,{"$f":"IF(OR('Input - Capacity Factors'!$C$3=\"Wind\"),IF(P191*'AVOID NEW'!$E$67<6.5,P191*(1-'AVOID NEW'!$E$67),P191-6.5),\"NA\")","v":35.429200000000002},34.31,{"$f":"IF(OR('Input - Capacity Factors'!$C$3=\"Wind\"),IF(R191*'AVOID NEW'!$E$67<6.5,R191*(1-'AVOID NEW'!$E$67),R191-6.5),\"NA\")","v":31.565200000000004},null,null,44.17,{"$f":"IF(OR('Input - Capacity Factors'!$C$3=\"Wind\"),IF(V191*'AVOID NEW'!$E$67<6.5,V191*(1-'AVOID NEW'!$E$67),V191-6.5),\"NA\")","v":40.636400000000002},45.84,{"$f":"IF(OR('Input - Capacity Factors'!$C$3=\"Wind\"),IF(X191*'AVOID NEW'!$E$67<6.5,X191*(1-'AVOID NEW'!$E$67),X191-6.5),\"NA\")","v":42.172800000000002},40.840000000000003,{"$f":"IF(OR('Input - Capacity Factors'!$C$3=\"Wind\"),IF(Z191*'AVOID NEW'!$E$67<6.5,Z191*(1-'AVOID NEW'!$E$67),Z191-6.5),\"NA\")","v":37.572800000000008}]
[null,12,{"$f":"'AVOID NEW'!AS20","v":44.643035352674055},46.313035352674056,41.313035352674056,null,48.21,{"$f":"IF(OR('Input - Capacity Factors'!$C$3=\"Wind\"),IF(G192*'AVOID NEW'!$E$67<6.5,G192*(1-'AVOID NEW'!$E$67),G192-6.5),\"NA\")","v":44.353200000000001},50.02,{"$f":"IF(OR('Input - Capacity Factors'!$C$3=\"Wind\"),IF(I192*'AVOID NEW'!$E$67<6.5,I192*(1-'AVOID NEW'!$E$67),I192-6.5),\"NA\")","v":46.018400000000007},44.62,{"$f":"IF(OR('Input - Capacity Factors'!$C$3=\"Wind\"),IF(K192*'AVOID NEW'!$E$67<6.5,K192*(1-'AVOID NEW'!$E$67),K192-6.5),\"NA\")","v":41.050399999999996},null,37.5,{"$f":"IF(OR('Input - Capacity Factors'!$C$3=\"Wind\"),IF(N192*'AVOID NEW'!$E$67<6.5,N192*(1-'AVOID NEW'!$E$67),N192-6.5),\"NA\")","v":34.5},38.9,{"$f":"IF(OR('Input - Capacity Factors'!$C$3=\"Wind\"),IF(P192*'AVOID NEW'!$E$67<6.5,P192*(1-'AVOID NEW'!$E$67),P192-6.5),\"NA\")","v":35.787999999999997},34.700000000000003,{"$f":"IF(OR('Input - Capacity Factors'!$C$3=\"Wind\"),IF(R192*'AVOID NEW'!$E$67<6.5,R192*(1-'AVOID NEW'!$E$67),R192-6.5),\"NA\")","v":31.924000000000003},null,null,44.64,{"$f":"IF(OR('Input - Capacity Factors'!$C$3=\"Wind\"),IF(V192*'AVOID NEW'!$E$67<6.5,V192*(1-'AVOID NEW'!$E$67),V192-6.5),\"NA\")","v":41.068800000000003},46.31,{"$f":"IF(OR('Input - Capacity Factors'!$C$3=\"Wind\"),IF(X192*'AVOID NEW'!$E$67<6.5,X192*(1-'AVOID NEW'!$E$67),X192-6.5),\"NA\")","v":42.605200000000004},41.31,{"$f":"IF(OR('Input - Capacity Factors'!$C$3=\"Wind\"),IF(Z192*'AVOID NEW'!$E$67<6.5,Z192*(1-'AVOID NEW'!$E$67),Z192-6.5),\"NA\")","v":38.005200000000002}]
[null,13,{"$f":"'AVOID NEW'!AS21","v":45.097020875282681},46.767020875282682,41.767020875282682,null,48.7,{"$f":"IF(OR('Input - Capacity Factors'!$C$3=\"Wind\"),IF(G193*'AVOID NEW'!$E$67<6.5,G193*(1-'AVOID NEW'!$E$67),G193-6.5),\"NA\")","v":44.804000000000002},50.51,{"$f":"IF(OR('Input - Capacity Factors'!$C$3=\"Wind\"),IF(I193*'AVOID NEW'!$E$67<6.5,I193*(1-'AVOID NEW'!$E$67),I193-6.5),\"NA\")","v":46.469200000000001},45.11,{"$f":"IF(OR('Input - Capacity Factors'!$C$3=\"Wind\"),IF(K193*'AVOID NEW'!$E$67<6.5,K193*(1-'AVOID NEW'!$E$67),K193-6.5),\"NA\")","v":41.501200000000004},null,37.880000000000003,{"$f":"IF(OR('Input - Capacity Factors'!$C$3=\"Wind\"),IF(N193*'AVOID NEW'!$E$67<6.5,N193*(1-'AVOID NEW'!$E$67),N193-6.5),\"NA\")","v":34.849600000000002},39.28,{"$f":"IF(OR('Input - Capacity Factors'!$C$3=\"Wind\"),IF(P193*'AVOID NEW'!$E$67<6.5,P193*(1-'AVOID NEW'!$E$67),P193-6.5),\"NA\")","v":36.137600000000006},35.08,{"$f":"IF(OR('Input - Capacity Factors'!$C$3=\"Wind\"),IF(R193*'AVOID NEW'!$E$67<6.5,R193*(1-'AVOID NEW'!$E$67),R193-6.5),\"NA\")","v":32.273600000000002},null,null,45.1,{"$f":"IF(OR('Input - Capacity Factors'!$C$3=\"Wind\"),IF(V193*'AVOID NEW'!$E$67<6.5,V193*(1-'AVOID NEW'!$E$67),V193-6.5),\"NA\")","v":41.492000000000004},46.77,{"$f":"IF(OR('Input - Capacity Factors'!$C$3=\"Wind\"),IF(X193*'AVOID NEW'!$E$67<6.5,X193*(1-'AVOID NEW'!$E$67),X193-6.5),\"NA\")","v":43.028400000000005},41.77,{"$f":"IF(OR('Input - Capacity Factors'!$C$3=\"Wind\"),IF(Z193*'AVOID NEW'!$E$67<6.5,Z193*(1-'AVOID NEW'!$E$67),Z193-6.5),\"NA\")","v":38.428400000000003}]
[null,14,{"$f":"'AVOID NEW'!AS22","v":45.547235923900672},47.217235923900674,42.217235923900674,null,49.19,{"$f":"IF(OR('Input - Capacity Factors'!$C$3=\"Wind\"),IF(G194*'AVOID NEW'!$E$67<6.5,G194*(1-'AVOID NEW'!$E$67),G194-6.5),\"NA\")","v":45.254800000000003},50.99,{"$f":"IF(OR('Input - Capacity Factors'!$C$3=\"Wind\"),IF(I194*'AVOID NEW'!$E$67<6.5,I194*(1-'AVOID NEW'!$E$67),I194-6.5),\"NA\")","v":46.910800000000002},45.59,{"$f":"IF(OR('Input - Capacity Factors'!$C$3=\"Wind\"),IF(K194*'AVOID NEW'!$E$67<6.5,K194*(1-'AVOID NEW'!$E$67),K194-6.5),\"NA\")","v":41.942800000000005},null,38.26,{"$f":"IF(OR('Input - Capacity Factors'!$C$3=\"Wind\"),IF(N194*'AVOID NEW'!$E$67<6.5,N194*(1-'AVOID NEW'!$E$67),N194-6.5),\"NA\")","v":35.199199999999998},39.659999999999997,{"$f":"IF(OR('Input - Capacity Factors'!$C$3=\"Wind\"),IF(P194*'AVOID NEW'!$E$67<6.5,P194*(1-'AVOID NEW'!$E$67),P194-6.5),\"NA\")","v":36.487200000000001},35.46,{"$f":"IF(OR('Input - Capacity Factors'!$C$3=\"Wind\"),IF(R194*'AVOID NEW'!$E$67<6.5,R194*(1-'AVOID NEW'!$E$67),R194-6.5),\"NA\")","v":32.623200000000004},null,null,45.55,{"$f":"IF(OR('Input - Capacity Factors'!$C$3=\"Wind\"),IF(V194*'AVOID NEW'!$E$67<6.5,V194*(1-'AVOID NEW'!$E$67),V194-6.5),\"NA\")","v":41.905999999999999},47.22,{"$f":"IF(OR('Input - Capacity Factors'!$C$3=\"Wind\"),IF(X194*'AVOID NEW'!$E$67<6.5,X194*(1-'AVOID NEW'!$E$67),X194-6.5),\"NA\")","v":43.442399999999999},42.22,{"$f":"IF(OR('Input - Capacity Factors'!$C$3=\"Wind\"),IF(Z194*'AVOID NEW'!$E$67<6.5,Z194*(1-'AVOID NEW'!$E$67),Z194-6.5),\"NA\")","v":38.842399999999998}]
[null,15,{"$f":"'AVOID NEW'!AS23","v":45.985281812166988},47.65528181216699,42.65528181216699,null,49.66,{"$f":"IF(OR('Input - Capacity Factors'!$C$3=\"Wind\"),IF(G195*'AVOID NEW'!$E$67<6.5,G195*(1-'AVOID NEW'!$E$67),G195-6.5),\"NA\")","v":45.687199999999997},51.47,{"$f":"IF(OR('Input - Capacity Factors'!$C$3=\"Wind\"),IF(I195*'AVOID NEW'!$E$67<6.5,I195*(1-'AVOID NEW'!$E$67),I195-6.5),\"NA\")","v":47.352400000000003},46.07,{"$f":"IF(OR('Input - Capacity Factors'!$C$3=\"Wind\"),IF(K195*'AVOID NEW'!$E$67<6.5,K195*(1-'AVOID NEW'!$E$67),K195-6.5),\"NA\")","v":42.384399999999999},null,38.630000000000003,{"$f":"IF(OR('Input - Capacity Factors'!$C$3=\"Wind\"),IF(N195*'AVOID NEW'!$E$67<6.5,N195*(1-'AVOID NEW'!$E$67),N195-6.5),\"NA\")","v":35.539600000000007},40.03,{"$f":"IF(OR('Input - Capacity Factors'!$C$3=\"Wind\"),IF(P195*'AVOID NEW'!$E$67<6.5,P195*(1-'AVOID NEW'!$E$67),P195-6.5),\"NA\")","v":36.827600000000004},35.83,{"$f":"IF(OR('Input - Capacity Factors'!$C$3=\"Wind\"),IF(R195*'AVOID NEW'!$E$67<6.5,R195*(1-'AVOID NEW'!$E$67),R195-6.5),\"NA\")","v":32.9636},null,null,45.99,{"$f":"IF(OR('Input - Capacity Factors'!$C$3=\"Wind\"),IF(V195*'AVOID NEW'!$E$67<6.5,V195*(1-'AVOID NEW'!$E$67),V195-6.5),\"NA\")","v":42.3108},47.66,{"$f":"IF(OR('Input - Capacity Factors'!$C$3=\"Wind\"),IF(X195*'AVOID NEW'!$E$67<6.5,X195*(1-'AVOID NEW'!$E$67),X195-6.5),\"NA\")","v":43.847200000000001},42.66,{"$f":"IF(OR('Input - Capacity Factors'!$C$3=\"Wind\"),IF(Z195*'AVOID NEW'!$E$67<6.5,Z195*(1-'AVOID NEW'!$E$67),Z195-6.5),\"NA\")","v":39.247199999999999}]
[null,16,{"$f":"'AVOID NEW'!AS24","v":46.400667616847791},48.070667616847793,43.070667616847793,null,50.11,{"$f":"IF(OR('Input - Capacity Factors'!$C$3=\"Wind\"),IF(G196*'AVOID NEW'!$E$67<6.5,G196*(1-'AVOID NEW'!$E$67),G196-6.5),\"NA\")","v":46.101199999999999},51.92,{"$f":"IF(OR('Input - Capacity Factors'!$C$3=\"Wind\"),IF(I196*'AVOID NEW'!$E$67<6.5,I196*(1-'AVOID NEW'!$E$67),I196-6.5),\"NA\")","v":47.766400000000004},46.52,{"$f":"IF(OR('Input - Capacity Factors'!$C$3=\"Wind\"),IF(K196*'AVOID NEW'!$E$67<6.5,K196*(1-'AVOID NEW'!$E$67),K196-6.5),\"NA\")","v":42.798400000000008},null,38.979999999999997,{"$f":"IF(OR('Input - Capacity Factors'!$C$3=\"Wind\"),IF(N196*'AVOID NEW'!$E$67<6.5,N196*(1-'AVOID NEW'!$E$67),N196-6.5),\"NA\")","v":35.861599999999996},40.380000000000003,{"$f":"IF(OR('Input - Capacity Factors'!$C$3=\"Wind\"),IF(P196*'AVOID NEW'!$E$67<6.5,P196*(1-'AVOID NEW'!$E$67),P196-6.5),\"NA\")","v":37.149600000000007},36.18,{"$f":"IF(OR('Input - Capacity Factors'!$C$3=\"Wind\"),IF(R196*'AVOID NEW'!$E$67<6.5,R196*(1-'AVOID NEW'!$E$67),R196-6.5),\"NA\")","v":33.285600000000002},null,null,46.4,{"$f":"IF(OR('Input - Capacity Factors'!$C$3=\"Wind\"),IF(V196*'AVOID NEW'!$E$67<6.5,V196*(1-'AVOID NEW'!$E$67),V196-6.5),\"NA\")","v":42.688000000000002},48.07,{"$f":"IF(OR('Input - Capacity Factors'!$C$3=\"Wind\"),IF(X196*'AVOID NEW'!$E$67<6.5,X196*(1-'AVOID NEW'!$E$67),X196-6.5),\"NA\")","v":44.224400000000003},43.07,{"$f":"IF(OR('Input - Capacity Factors'!$C$3=\"Wind\"),IF(Z196*'AVOID NEW'!$E$67<6.5,Z196*(1-'AVOID NEW'!$E$67),Z196-6.5),\"NA\")","v":39.624400000000001}]
[null,17,{"$f":"'AVOID NEW'!AS25","v":46.804846909469774},48.474846909469775,43.474846909469775,null,50.55,{"$f":"IF(OR('Input - Capacity Factors'!$C$3=\"Wind\"),IF(G197*'AVOID NEW'!$E$67<6.5,G197*(1-'AVOID NEW'!$E$67),G197-6.5),\"NA\")","v":46.506},52.35,{"$f":"IF(OR('Input - Capacity Factors'!$C$3=\"Wind\"),IF(I197*'AVOID NEW'!$E$67<6.5,I197*(1-'AVOID NEW'!$E$67),I197-6.5),\"NA\")","v":48.162000000000006},46.95,{"$f":"IF(OR('Input - Capacity Factors'!$C$3=\"Wind\"),IF(K197*'AVOID NEW'!$E$67<6.5,K197*(1-'AVOID NEW'!$E$67),K197-6.5),\"NA\")","v":43.194000000000003},null,39.32,{"$f":"IF(OR('Input - Capacity Factors'!$C$3=\"Wind\"),IF(N197*'AVOID NEW'!$E$67<6.5,N197*(1-'AVOID NEW'!$E$67),N197-6.5),\"NA\")","v":36.174399999999999},40.72,{"$f":"IF(OR('Input - Capacity Factors'!$C$3=\"Wind\"),IF(P197*'AVOID NEW'!$E$67<6.5,P197*(1-'AVOID NEW'!$E$67),P197-6.5),\"NA\")","v":37.462400000000002},36.520000000000003,{"$f":"IF(OR('Input - Capacity Factors'!$C$3=\"Wind\"),IF(R197*'AVOID NEW'!$E$67<6.5,R197*(1-'AVOID NEW'!$E$67),R197-6.5),\"NA\")","v":33.598400000000005},null,null,46.8,{"$f":"IF(OR('Input - Capacity Factors'!$C$3=\"Wind\"),IF(V197*'AVOID NEW'!$E$67<6.5,V197*(1-'AVOID NEW'!$E$67),V197-6.5),\"NA\")","v":43.055999999999997},48.47,{"$f":"IF(OR('Input - Capacity Factors'!$C$3=\"Wind\"),IF(X197*'AVOID NEW'!$E$67<6.5,X197*(1-'AVOID NEW'!$E$67),X197-6.5),\"NA\")","v":44.592399999999998},43.47,{"$f":"IF(OR('Input - Capacity Factors'!$C$3=\"Wind\"),IF(Z197*'AVOID NEW'!$E$67<6.5,Z197*(1-'AVOID NEW'!$E$67),Z197-6.5),\"NA\")","v":39.992400000000004}]
[null,18,{"$f":"'AVOID NEW'!AS26","v":47.20155847013941},48.871558470139412,43.871558470139412,null,50.98,{"$f":"IF(OR('Input - Capacity Factors'!$C$3=\"Wind\"),IF(G198*'AVOID NEW'!$E$67<6.5,G198*(1-'AVOID NEW'!$E$67),G198-6.5),\"NA\")","v":46.901600000000002},52.78,{"$f":"IF(OR('Input - Capacity Factors'!$C$3=\"Wind\"),IF(I198*'AVOID NEW'!$E$67<6.5,I198*(1-'AVOID NEW'!$E$67),I198-6.5),\"NA\")","v":48.557600000000001},47.38,{"$f":"IF(OR('Input - Capacity Factors'!$C$3=\"Wind\"),IF(K198*'AVOID NEW'!$E$67<6.5,K198*(1-'AVOID NEW'!$E$67),K198-6.5),\"NA\")","v":43.589600000000004},null,39.65,{"$f":"IF(OR('Input - Capacity Factors'!$C$3=\"Wind\"),IF(N198*'AVOID NEW'!$E$67<6.5,N198*(1-'AVOID NEW'!$E$67),N198-6.5),\"NA\")","v":36.478000000000002},41.05,{"$f":"IF(OR('Input - Capacity Factors'!$C$3=\"Wind\"),IF(P198*'AVOID NEW'!$E$67<6.5,P198*(1-'AVOID NEW'!$E$67),P198-6.5),\"NA\")","v":37.765999999999998},36.85,{"$f":"IF(OR('Input - Capacity Factors'!$C$3=\"Wind\"),IF(R198*'AVOID NEW'!$E$67<6.5,R198*(1-'AVOID NEW'!$E$67),R198-6.5),\"NA\")","v":33.902000000000001},null,null,47.2,{"$f":"IF(OR('Input - Capacity Factors'!$C$3=\"Wind\"),IF(V198*'AVOID NEW'!$E$67<6.5,V198*(1-'AVOID NEW'!$E$67),V198-6.5),\"NA\")","v":43.424000000000007},48.87,{"$f":"IF(OR('Input - Capacity Factors'!$C$3=\"Wind\"),IF(X198*'AVOID NEW'!$E$67<6.5,X198*(1-'AVOID NEW'!$E$67),X198-6.5),\"NA\")","v":44.9604},43.87,{"$f":"IF(OR('Input - Capacity Factors'!$C$3=\"Wind\"),IF(Z198*'AVOID NEW'!$E$67<6.5,Z198*(1-'AVOID NEW'!$E$67),Z198-6.5),\"NA\")","v":40.360399999999998}]
[null,19,{"$f":"'AVOID NEW'!AS27","v":47.58767997218127},49.257679972181272,44.257679972181272,null,51.39,{"$f":"IF(OR('Input - Capacity Factors'!$C$3=\"Wind\"),IF(G199*'AVOID NEW'!$E$67<6.5,G199*(1-'AVOID NEW'!$E$67),G199-6.5),\"NA\")","v":47.278800000000004},53.2,{"$f":"IF(OR('Input - Capacity Factors'!$C$3=\"Wind\"),IF(I199*'AVOID NEW'!$E$67<6.5,I199*(1-'AVOID NEW'!$E$67),I199-6.5),\"NA\")","v":48.944000000000003},47.8,{"$f":"IF(OR('Input - Capacity Factors'!$C$3=\"Wind\"),IF(K199*'AVOID NEW'!$E$67<6.5,K199*(1-'AVOID NEW'!$E$67),K199-6.5),\"NA\")","v":43.975999999999999},null,39.97,{"$f":"IF(OR('Input - Capacity Factors'!$C$3=\"Wind\"),IF(N199*'AVOID NEW'!$E$67<6.5,N199*(1-'AVOID NEW'!$E$67),N199-6.5),\"NA\")","v":36.772399999999998},41.38,{"$f":"IF(OR('Input - Capacity Factors'!$C$3=\"Wind\"),IF(P199*'AVOID NEW'!$E$67<6.5,P199*(1-'AVOID NEW'!$E$67),P199-6.5),\"NA\")","v":38.069600000000001},37.18,{"$f":"IF(OR('Input - Capacity Factors'!$C$3=\"Wind\"),IF(R199*'AVOID NEW'!$E$67<6.5,R199*(1-'AVOID NEW'!$E$67),R199-6.5),\"NA\")","v":34.205600000000004},null,null,47.59,{"$f":"IF(OR('Input - Capacity Factors'!$C$3=\"Wind\"),IF(V199*'AVOID NEW'!$E$67<6.5,V199*(1-'AVOID NEW'!$E$67),V199-6.5),\"NA\")","v":43.782800000000002},49.26,{"$f":"IF(OR('Input - Capacity Factors'!$C$3=\"Wind\"),IF(X199*'AVOID NEW'!$E$67<6.5,X199*(1-'AVOID NEW'!$E$67),X199-6.5),\"NA\")","v":45.319200000000002},44.26,{"$f":"IF(OR('Input - Capacity Factors'!$C$3=\"Wind\"),IF(Z199*'AVOID NEW'!$E$67<6.5,Z199*(1-'AVOID NEW'!$E$67),Z199-6.5),\"NA\")","v":40.719200000000001}]
[null,20,{"$f":"'AVOID NEW'!AS28","v":47.964233398399564},49.634233398399566,44.634233398399566,null,51.8,{"$f":"IF(OR('Input - Capacity Factors'!$C$3=\"Wind\"),IF(G200*'AVOID NEW'!$E$67<6.5,G200*(1-'AVOID NEW'!$E$67),G200-6.5),\"NA\")","v":47.655999999999999},53.6,{"$f":"IF(OR('Input - Capacity Factors'!$C$3=\"Wind\"),IF(I200*'AVOID NEW'!$E$67<6.5,I200*(1-'AVOID NEW'!$E$67),I200-6.5),\"NA\")","v":49.312000000000005},48.2,{"$f":"IF(OR('Input - Capacity Factors'!$C$3=\"Wind\"),IF(K200*'AVOID NEW'!$E$67<6.5,K200*(1-'AVOID NEW'!$E$67),K200-6.5),\"NA\")","v":44.344000000000001},null,40.29,{"$f":"IF(OR('Input - Capacity Factors'!$C$3=\"Wind\"),IF(N200*'AVOID NEW'!$E$67<6.5,N200*(1-'AVOID NEW'!$E$67),N200-6.5),\"NA\")","v":37.066800000000001},41.69,{"$f":"IF(OR('Input - Capacity Factors'!$C$3=\"Wind\"),IF(P200*'AVOID NEW'!$E$67<6.5,P200*(1-'AVOID NEW'!$E$67),P200-6.5),\"NA\")","v":38.354799999999997},37.49,{"$f":"IF(OR('Input - Capacity Factors'!$C$3=\"Wind\"),IF(R200*'AVOID NEW'!$E$67<6.5,R200*(1-'AVOID NEW'!$E$67),R200-6.5),\"NA\")","v":34.4908},null,null,47.96,{"$f":"IF(OR('Input - Capacity Factors'!$C$3=\"Wind\"),IF(V200*'AVOID NEW'!$E$67<6.5,V200*(1-'AVOID NEW'!$E$67),V200-6.5),\"NA\")","v":44.123200000000004},49.63,{"$f":"IF(OR('Input - Capacity Factors'!$C$3=\"Wind\"),IF(X200*'AVOID NEW'!$E$67<6.5,X200*(1-'AVOID NEW'!$E$67),X200-6.5),\"NA\")","v":45.659600000000005},44.63,{"$f":"IF(OR('Input - Capacity Factors'!$C$3=\"Wind\"),IF(Z200*'AVOID NEW'!$E$67<6.5,Z200*(1-'AVOID NEW'!$E$67),Z200-6.5),\"NA\")","v":41.059600000000003}]

{"sheet":"AVISTA NF HLH LLH Non-levelized","index":8,"n_rows":46,"n_cols":27,"rows_kept":46,"cut":false,"hidden":false,"merged":[[16,21,16,26],[17,2,18,2],[17,3,17,4],[17,6,17,7],[17,8,17,9],[17,25,17,26],[18,7,19,7],[18,9,19,9],[18,11,19,11],[18,14,19,14],[18,16,19,16],[18,18,19,18],[18,22,19,22],[18,24,19,24],[18,26,19,26],[17,21,17,22],[17,23,17,24],[13,1,13,18],[0,1,0,18],[1,1,1,18],[2,1,2,18],[11,1,11,18],[12,1,12,18],[14,1,14,18],[16,1,17,1],[16,2,16,4],[16,6,16,11],[16,13,16,18],[17,10,17,11],[17,13,17,14],[17,15,17,16],[17,17,17,18]]}
[null,{"$f":"IF('AVOID NEW'!E105=\"AVISTA\",\"AVISTA\",\"THESE RATES ARE NOT VALID\")","v":"THESE RATES ARE NOT VALID"}]
[null,"AVOIDED COST RATES FOR NON-FUELED PROJECTS"]
[null,"Eligibility for these rates is limited to wind and solar projects 100 kW or smaller, and to non-wind and non-solar projects smaller than 10 aMW"]
[]
[null,"Seasonalization Factors"]
[]
[null,"Season 1",null,{"$f":"'AVOID NEW'!E75","v":1.08},"(Applied to July - February)"]
[null,"Season 2",null,{"$f":"'AVOID NEW'!E76","v":0.84},"(Applied to March - June)"]
[]
[]
[]
[null,{"$f":"$B$1","v":"THESE RATES ARE NOT VALID"}]
[null,"NON-LEVELIZED RATES"]
[null,{"$f":"\"Rate Effective Date: \"&'AVOID NEW'!$E$69","v":"Rate Effective Date: XXXX, 2022"}]
[null,{"$f":"\"Resource:  \"&'Input - Capacity Factors'!$C$3","v":"Resource:  Wind"}]
[]
[null,null,"Non Levelized Price",null,null,null,{"$f":"\"Season 1 Pricing (\"&$D$7*100&\"%)\"","v":"Season 1 Pricing (108%)"},null,null,null,null,null,null,{"$f":"\"Season 2 Pricing (\"&100*$D$8&\"%)\"","v":"Season 2 Pricing (84%)"},null,null,null,null,null,null,null,"Non-Seasonalized Pricing"]
[null,null,"Heavy and Light Load Hour Differential",{"$f":"'AVOID NEW'!E66","v":5},null,null,"Flat",null,"Heavy Load Hour",null,"Light Load Hour",null,null,"Flat",null,"Heavy Load Hour",null,"Light Load Hour",null,null,null,"Flat",null,"Heavy Load Hour",null,"Light Load Hour"]
[null,null,null,{"$f":"ROUND((D18/3),2)","v":1.67},{"$f":"-ROUND((D18*2)/3,2)","v":-3.33},null,null,"Price less wind integration adjustment",null,"Price less wind integration adjustment",null,"Price less wind integration adjustment",null,null,"Price less wind integration adjustment",null,"Price less wind integration adjustment",null,"Price less wind integration adjustment",null,null,null,"Price less wind integration adjustment",null,"Price less wind integration adjustment",null,"Price less wind integration adjustment"]
[null,"Year","Flat","Heavy Load Hour","Light Load Hour",null,"Price",null,"Price",null,"Price",null,null,"Price",null,"Price",null,"Price",null,null,null,"Price",null,"Price",null,"Price"]
[null,{"$f":"'AVOID NEW'!AL9","v":2022},{"$f":"'AVOID NEW'!AM9","v":33.419966110621289},{"$f":"C21+D$19","v":35.08996611062129},{"$f":"C21+E$19","v":30.08996611062129},null,{"$f":"ROUND((+$C21*$D$7),2)","v":36.090000000000003},{"$f":"IF(OR('Input - Capacity Factors'!$C$3=\"Wind\"),IF(G21*'AVOID NEW'!$E$67<6.5,G21*(1-'AVOID NEW'!$E$67),G21-6.5),\"NA\")","v":33.202800000000003},{"$f":"ROUND((+$D21*$D$7),2)","v":37.9},{"$f":"IF(OR('Input - Capacity Factors'!$C$3=\"Wind\"),IF(I21*'AVOID NEW'!$E$67<6.5,I21*(1-'AVOID NEW'!$E$67),I21-6.5),\"NA\")","v":34.868000000000002},{"$f":"ROUND((+$E21*$D$7),2)","v":32.5},{"$f":"IF(OR('Input - Capacity Factors'!$C$3=\"Wind\"),IF(K21*'AVOID NEW'!$E$67<6.5,K21*(1-'AVOID NEW'!$E$67),K21-6.5),\"NA\")","v":29.900000000000002},null,{"$f":"ROUND((+$C21*$D$8),2)","v":28.07},{"$f":"IF(OR('Input - Capacity Factors'!$C$3=\"Wind\"),IF(N21*'AVOID NEW'!$E$67<6.5,N21*(1-'AVOID NEW'!$E$67),N21-6.5),\"NA\")","v":25.824400000000001},{"$f":"ROUND((+$D21*$D$8),2)","v":29.48},{"$f":"IF(OR('Input - Capacity Factors'!$C$3=\"Wind\"),IF(P21*'AVOID NEW'!$E$67<6.5,P21*(1-'AVOID NEW'!$E$67),P21-6.5),\"NA\")","v":27.121600000000001},{"$f":"ROUND((+$E21*$D$8),2)","v":25.28},{"$f":"IF(OR('Input - Capacity Factors'!$C$3=\"Wind\"),IF(R21*'AVOID NEW'!$E$67<6.5,R21*(1-'AVOID NEW'!$E$67),R21-6.5),\"NA\")","v":23.257600000000004},null,null,{"$f":"ROUND((+$C21),2)","v":33.42},{"$f":"IF(OR('Input - Capacity Factors'!$C$3=\"Wind\"),IF(V21*'AVOID NEW'!$E$67<6.5,V21*(1-'AVOID NEW'!$E$67),V21-6.5),\"NA\")","v":30.746400000000001},{"$f":"ROUND((+$D21),2)","v":35.090000000000003},{"$f":"IF(OR('Input - Capacity Factors'!$C$3=\"Wind\"),IF(X21*'AVOID NEW'!$E$67<6.5,X21*(1-'AVOID NEW'!$E$67),X21-6.5),\"NA\")","v":32.282800000000002},{"$f":"ROUND((+$E21),2)","v":30.09},{"$f":"IF(OR('Input - Capacity Factors'!$C$3=\"Wind\"),IF(Z21*'AVOID NEW'!$E$67<6.5,Z21*(1-'AVOID NEW'!$E$67),Z21-6.5),\"NA\")","v":27.6828}]
[null,{"$f":"'AVOID NEW'!AL10","v":2023},{"$f":"'AVOID NEW'!AM10","v":35.542378761947646},{"$f":"C22+D$19","v":37.212378761947647},{"$f":"C22+E$19","v":32.212378761947647},null,38.39,{"$f":"IF(OR('Input - Capacity Factors'!$C$3=\"Wind\"),IF(G22*'AVOID NEW'!$E$67<6.5,G22*(1-'AVOID NEW'!$E$67),G22-6.5),\"NA\")","v":35.318800000000003},40.19,{"$f":"IF(OR('Input - Capacity Factors'!$C$3=\"Wind\"),IF(I22*'AVOID NEW'!$E$67<6.5,I22*(1-'AVOID NEW'!$E$67),I22-6.5),\"NA\")","v":36.974800000000002},34.79,{"$f":"IF(OR('Input - Capacity Factors'!$C$3=\"Wind\"),IF(K22*'AVOID NEW'!$E$67<6.5,K22*(1-'AVOID NEW'!$E$67),K22-6.5),\"NA\")","v":32.006799999999998},null,29.86,{"$f":"IF(OR('Input - Capacity Factors'!$C$3=\"Wind\"),IF(N22*'AVOID NEW'!$E$67<6.5,N22*(1-'AVOID NEW'!$E$67),N22-6.5),\"NA\")","v":27.4712},31.26,{"$f":"IF(OR('Input - Capacity Factors'!$C$3=\"Wind\"),IF(P22*'AVOID NEW'!$E$67<6.5,P22*(1-'AVOID NEW'!$E$67),P22-6.5),\"NA\")","v":28.759200000000003},27.06,{"$f":"IF(OR('Input - Capacity Factors'!$C$3=\"Wind\"),IF(R22*'AVOID NEW'!$E$67<6.5,R22*(1-'AVOID NEW'!$E$67),R22-6.5),\"NA\")","v":24.895199999999999},null,null,{"$f":"ROUND((+$C22),2)","v":35.54},{"$f":"IF(OR('Input - Capacity Factors'!$C$3=\"Wind\"),IF(V22*'AVOID NEW'!$E$67<6.5,V22*(1-'AVOID NEW'!$E$67),V22-6.5),\"NA\")","v":32.696800000000003},{"$f":"ROUND((+$D22),2)","v":37.21},{"$f":"IF(OR('Input - Capacity Factors'!$C$3=\"Wind\"),IF(X22*'AVOID NEW'!$E$67<6.5,X22*(1-'AVOID NEW'!$E$67),X22-6.5),\"NA\")","v":34.233200000000004},{"$f":"ROUND((+$E22),2)","v":32.21},{"$f":"IF(OR('Input - Capacity Factors'!$C$3=\"Wind\"),IF(Z22*'AVOID NEW'!$E$67<6.5,Z22*(1-'AVOID NEW'!$E$67),Z22-6.5),\"NA\")","v":29.633200000000002}]
[null,{"$f":"'AVOID NEW'!AL11","v":2024},{"$f":"'AVOID NEW'!AM11","v":33.693158683494339},35.363158683494341,30.363158683494341,null,36.39,{"$f":"IF(OR('Input - Capacity Factors'!$C$3=\"Wind\"),IF(G23*'AVOID NEW'!$E$67<6.5,G23*(1-'AVOID NEW'!$E$67),G23-6.5),\"NA\")","v":33.4788},38.19,{"$f":"IF(OR('Input - Capacity Factors'!$C$3=\"Wind\"),IF(I23*'AVOID NEW'!$E$67<6.5,I23*(1-'AVOID NEW'!$E$67),I23-6.5),\"NA\")","v":35.134799999999998},32.79,{"$f":"IF(OR('Input - Capacity Factors'!$C$3=\"Wind\"),IF(K23*'AVOID NEW'!$E$67<6.5,K23*(1-'AVOID NEW'!$E$67),K23-6.5),\"NA\")","v":30.166800000000002},null,28.3,{"$f":"IF(OR('Input - Capacity Factors'!$C$3=\"Wind\"),IF(N23*'AVOID NEW'!$E$67<6.5,N23*(1-'AVOID NEW'!$E$67),N23-6.5),\"NA\")","v":26.036000000000001},29.71,{"$f":"IF(OR('Input - Capacity Factors'!$C$3=\"Wind\"),IF(P23*'AVOID NEW'!$E$67<6.5,P23*(1-'AVOID NEW'!$E$67),P23-6.5),\"NA\")","v":27.333200000000001},25.51,{"$f":"IF(OR('Input - Capacity Factors'!$C$3=\"Wind\"),IF(R23*'AVOID NEW'!$E$67<6.5,R23*(1-'AVOID NEW'!$E$67),R23-6.5),\"NA\")","v":23.469200000000001},null,null,33.69,{"$f":"IF(OR('Input - Capacity Factors'!$C$3=\"Wind\"),IF(V23*'AVOID NEW'!$E$67<6.5,V23*(1-'AVOID NEW'!$E$67),V23-6.5),\"NA\")","v":30.994799999999998},35.36,{"$f":"IF(OR('Input - Capacity Factors'!$C$3=\"Wind\"),IF(X23*'AVOID NEW'!$E$67<6.5,X23*(1-'AVOID NEW'!$E$67),X23-6.5),\"NA\")","v":32.531199999999998},30.36,{"$f":"IF(OR('Input - Capacity Factors'!$C$3=\"Wind\"),IF(Z23*'AVOID NEW'!$E$67<6.5,Z23*(1-'AVOID NEW'!$E$67),Z23-6.5),\"NA\")","v":27.9312}]
[null,{"$f":"'AVOID NEW'!AL12","v":2025},{"$f":"'AVOID NEW'!AM12","v":33.212000779264265},34.882000779264267,29.882000779264267,null,35.869999999999997,{"$f":"IF(OR('Input - Capacity Factors'!$C$3=\"Wind\"),IF(G24*'AVOID NEW'!$E$67<6.5,G24*(1-'AVOID NEW'!$E$67),G24-6.5),\"NA\")","v":33.000399999999999},37.67,{"$f":"IF(OR('Input - Capacity Factors'!$C$3=\"Wind\"),IF(I24*'AVOID NEW'!$E$67<6.5,I24*(1-'AVOID NEW'!$E$67),I24-6.5),\"NA\")","v":34.656400000000005},32.270000000000003,{"$f":"IF(OR('Input - Capacity Factors'!$C$3=\"Wind\"),IF(K24*'AVOID NEW'!$E$67<6.5,K24*(1-'AVOID NEW'!$E$67),K24-6.5),\"NA\")","v":29.688400000000005},null,27.9,{"$f":"IF(OR('Input - Capacity Factors'!$C$3=\"Wind\"),IF(N24*'AVOID NEW'!$E$67<6.5,N24*(1-'AVOID NEW'!$E$67),N24-6.5),\"NA\")","v":25.667999999999999},29.3,{"$f":"IF(OR('Input - Capacity Factors'!$C$3=\"Wind\"),IF(P24*'AVOID NEW'!$E$67<6.5,P24*(1-'AVOID NEW'!$E$67),P24-6.5),\"NA\")","v":26.956000000000003},25.1,{"$f":"IF(OR('Input - Capacity Factors'!$C$3=\"Wind\"),IF(R24*'AVOID NEW'!$E$67<6.5,R24*(1-'AVOID NEW'!$E$67),R24-6.5),\"NA\")","v":23.092000000000002},null,null,33.21,{"$f":"IF(OR('Input - Capacity Factors'!$C$3=\"Wind\"),IF(V24*'AVOID NEW'!$E$67<6.5,V24*(1-'AVOID NEW'!$E$67),V24-6.5),\"NA\")","v":30.5532},34.880000000000003,{"$f":"IF(OR('Input - Capacity Factors'!$C$3=\"Wind\"),IF(X24*'AVOID NEW'!$E$67<6.5,X24*(1-'AVOID NEW'!$E$67),X24-6.5),\"NA\")","v":32.089600000000004},29.88,{"$f":"IF(OR('Input - Capacity Factors'!$C$3=\"Wind\"),IF(Z24*'AVOID NEW'!$E$67<6.5,Z24*(1-'AVOID NEW'!$E$67),Z24-6.5),\"NA\")","v":27.489599999999999}]
[null,{"$f":"'AVOID NEW'!AL13","v":2026},{"$f":"'AVOID NEW'!AM13","v":34.469802824546996},36.139802824546997,31.139802824546997,null,37.229999999999997,{"$f":"IF(OR('Input - Capacity Factors'!$C$3=\"Wind\"),IF(G25*'AVOID NEW'!$E$67<6.5,G25*(1-'AVOID NEW'!$E$67),G25-6.5),\"NA\")","v":34.251599999999996},39.03,{"$f":"IF(OR('Input - Capacity Factors'!$C$3=\"Wind\"),IF(I25*'AVOID NEW'!$E$67<6.5,I25*(1-'AVOID NEW'!$E$67),I25-6.5),\"NA\")","v":35.907600000000002},33.630000000000003,{"$f":"IF(OR('Input - Capacity Factors'!$C$3=\"Wind\"),IF(K25*'AVOID NEW'!$E$67<6.5,K25*(1-'AVOID NEW'!$E$67),K25-6.5),\"NA\")","v":30.939600000000002},null,28.95,{"$f":"IF(OR('Input - Capacity Factors'!$C$3=\"Wind\"),IF(N25*'AVOID NEW'!$E$67<6.5,N25*(1-'AVOID NEW'!$E$67),N25-6.5),\"NA\")","v":26.634},30.36,{"$f":"IF(OR('Input - Capacity Factors'!$C$3=\"Wind\"),IF(P25*'AVOID NEW'!$E$67<6.5,P25*(1-'AVOID NEW'!$E$67),P25-6.5),\"NA\")","v":27.9312},26.16,{"$f":"IF(OR('Input - Capacity Factors'!$C$3=\"Wind\"),IF(R25*'AVOID NEW'!$E$67<6.5,R25*(1-'AVOID NEW'!$E$67),R25-6.5),\"NA\")","v":24.0672},null,null,34.47,{"$f":"IF(OR('Input - Capacity Factors'!$C$3=\"Wind\"),IF(V25*'AVOID NEW'!$E$67<6.5,V25*(1-'AVOID NEW'!$E$67),V25-6.5),\"NA\")","v":31.712399999999999},36.14,{"$f":"IF(OR('Input - Capacity Factors'!$C$3=\"Wind\"),IF(X25*'AVOID NEW'!$E$67<6.5,X25*(1-'AVOID NEW'!$E$67),X25-6.5),\"NA\")","v":33.248800000000003},31.14,{"$f":"IF(OR('Input - Capacity Factors'!$C$3=\"Wind\"),IF(Z25*'AVOID NEW'!$E$67<6.5,Z25*(1-'AVOID NEW'!$E$67),Z25-6.5),\"NA\")","v":28.648800000000001}]
[null,{"$f":"'AVOID NEW'!AL14","v":2027},{"$f":"'AVOID NEW'!AM14","v":36.483216235111144},38.153216235111145,33.153216235111145,null,39.4,{"$f":"IF(OR('Input - Capacity Factors'!$C$3=\"Wind\"),IF(G26*'AVOID NEW'!$E$67<6.5,G26*(1-'AVOID NEW'!$E$67),G26-6.5),\"NA\")","v":36.247999999999998},41.21,{"$f":"IF(OR('Input - Capacity Factors'!$C$3=\"Wind\"),IF(I26*'AVOID NEW'!$E$67<6.5,I26*(1-'AVOID NEW'!$E$67),I26-6.5),\"NA\")","v":37.913200000000003},35.81,{"$f":"IF(OR('Input - Capacity Factors'!$C$3=\"Wind\"),IF(K26*'AVOID NEW'!$E$67<6.5,K26*(1-'AVOID NEW'!$E$67),K26-6.5),\"NA\")","v":32.945200000000007},null,30.65,{"$f":"IF(OR('Input - Capacity Factors'!$C$3=\"Wind\"),IF(N26*'AVOID NEW'!$E$67<6.5,N26*(1-'AVOID NEW'!$E$67),N26-6.5),\"NA\")","v":28.198},32.049999999999997,{"$f":"IF(OR('Input - Capacity Factors'!$C$3=\"Wind\"),IF(P26*'AVOID NEW'!$E$67<6.5,P26*(1-'AVOID NEW'!$E$67),P26-6.5),\"NA\")","v":29.485999999999997},27.85,{"$f":"IF(OR('Input - Capacity Factors'!$C$3=\"Wind\"),IF(R26*'AVOID NEW'!$E$67<6.5,R26*(1-'AVOID NEW'!$E$67),R26-6.5),\"NA\")","v":25.622000000000003},null,null,36.479999999999997,{"$f":"IF(OR('Input - Capacity Factors'!$C$3=\"Wind\"),IF(V26*'AVOID NEW'!$E$67<6.5,V26*(1-'AVOID NEW'!$E$67),V26-6.5),\"NA\")","v":33.561599999999999},38.15,{"$f":"IF(OR('Input - Capacity Factors'!$C$3=\"Wind\"),IF(X26*'AVOID NEW'!$E$67<6.5,X26*(1-'AVOID NEW'!$E$67),X26-6.5),\"NA\")","v":35.097999999999999},33.15,{"$f":"IF(OR('Input - Capacity Factors'!$C$3=\"Wind\"),IF(Z26*'AVOID NEW'!$E$67<6.5,Z26*(1-'AVOID NEW'!$E$67),Z26-6.5),\"NA\")","v":30.498000000000001}]
[null,{"$f":"'AVOID NEW'!AL15","v":2028},{"$f":"'AVOID NEW'!AM15","v":38.97015287738359},40.640152877383592,35.640152877383592,null,42.09,{"$f":"IF(OR('Input - Capacity Factors'!$C$3=\"Wind\"),IF(G27*'AVOID NEW'!$E$67<6.5,G27*(1-'AVOID NEW'!$E$67),G27-6.5),\"NA\")","v":38.722800000000007},43.89,{"$f":"IF(OR('Input - Capacity Factors'!$C$3=\"Wind\"),IF(I27*'AVOID NEW'!$E$67<6.5,I27*(1-'AVOID NEW'!$E$67),I27-6.5),\"NA\")","v":40.378800000000005},38.49,{"$f":"IF(OR('Input - Capacity Factors'!$C$3=\"Wind\"),IF(K27*'AVOID NEW'!$E$67<6.5,K27*(1-'AVOID NEW'!$E$67),K27-6.5),\"NA\")","v":35.410800000000002},null,32.729999999999997,{"$f":"IF(OR('Input - Capacity Factors'!$C$3=\"Wind\"),IF(N27*'AVOID NEW'!$E$67<6.5,N27*(1-'AVOID NEW'!$E$67),N27-6.5),\"NA\")","v":30.111599999999999},34.14,{"$f":"IF(OR('Input - Capacity Factors'!$C$3=\"Wind\"),IF(P27*'AVOID NEW'!$E$67<6.5,P27*(1-'AVOID NEW'!$E$67),P27-6.5),\"NA\")","v":31.408800000000003},29.94,{"$f":"IF(OR('Input - Capacity Factors'!$C$3=\"Wind\"),IF(R27*'AVOID NEW'!$E$67<6.5,R27*(1-'AVOID NEW'!$E$67),R27-6.5),\"NA\")","v":27.544800000000002},null,null,38.97,{"$f":"IF(OR('Input - Capacity Factors'!$C$3=\"Wind\"),IF(V27*'AVOID NEW'!$E$67<6.5,V27*(1-'AVOID NEW'!$E$67),V27-6.5),\"NA\")","v":35.852400000000003},40.64,{"$f":"IF(OR('Input - Capacity Factors'!$C$3=\"Wind\"),IF(X27*'AVOID NEW'!$E$67<6.5,X27*(1-'AVOID NEW'!$E$67),X27-6.5),\"NA\")","v":37.388800000000003},35.64,{"$f":"IF(OR('Input - Capacity Factors'!$C$3=\"Wind\"),IF(Z27*'AVOID NEW'!$E$67<6.5,Z27*(1-'AVOID NEW'!$E$67),Z27-6.5),\"NA\")","v":32.788800000000002}]
[null,{"$f":"'AVOID NEW'!AL16","v":2029},{"$f":"'AVOID NEW'!AM16","v":41.156679778823481},42.826679778823483,37.826679778823483,null,44.45,{"$f":"IF(OR('Input - Capacity Factors'!$C$3=\"Wind\"),IF(G28*'AVOID NEW'!$E$67<6.5,G28*(1-'AVOID NEW'!$E$67),G28-6.5),\"NA\")","v":40.894000000000005},46.25,{"$f":"IF(OR('Input - Capacity Factors'!$C$3=\"Wind\"),IF(I28*'AVOID NEW'!$E$67<6.5,I28*(1-'AVOID NEW'!$E$67),I28-6.5),\"NA\")","v":42.550000000000004},40.85,{"$f":"IF(OR('Input - Capacity Factors'!$C$3=\"Wind\"),IF(K28*'AVOID NEW'!$E$67<6.5,K28*(1-'AVOID NEW'!$E$67),K28-6.5),\"NA\")","v":37.582000000000001},null,34.57,{"$f":"IF(OR('Input - Capacity Factors'!$C$3=\"Wind\"),IF(N28*'AVOID NEW'!$E$67<6.5,N28*(1-'AVOID NEW'!$E$67),N28-6.5),\"NA\")","v":31.804400000000001},35.97,{"$f":"IF(OR('Input - Capacity Factors'!$C$3=\"Wind\"),IF(P28*'AVOID NEW'!$E$67<6.5,P28*(1-'AVOID NEW'!$E$67),P28-6.5),\"NA\")","v":33.092399999999998},31.77,{"$f":"IF(OR('Input - Capacity Factors'!$C$3=\"Wind\"),IF(R28*'AVOID NEW'!$E$67<6.5,R28*(1-'AVOID NEW'!$E$67),R28-6.5),\"NA\")","v":29.228400000000001},null,null,41.16,{"$f":"IF(OR('Input - Capacity Factors'!$C$3=\"Wind\"),IF(V28*'AVOID NEW'!$E$67<6.5,V28*(1-'AVOID NEW'!$E$67),V28-6.5),\"NA\")","v":37.867199999999997},42.83,{"$f":"IF(OR('Input - Capacity Factors'!$C$3=\"Wind\"),IF(X28*'AVOID NEW'!$E$67<6.5,X28*(1-'AVOID NEW'!$E$67),X28-6.5),\"NA\")","v":39.403599999999997},37.83,{"$f":"IF(OR('Input - Capacity Factors'!$C$3=\"Wind\"),IF(Z28*'AVOID NEW'!$E$67<6.5,Z28*(1-'AVOID NEW'!$E$67),Z28-6.5),\"NA\")","v":34.803600000000003}]
[null,{"$f":"'AVOID NEW'!AL17","v":2030},{"$f":"'AVOID NEW'!AM17","v":42.88024553849467},44.550245538494671,39.550245538494671,null,46.31,{"$f":"IF(OR('Input - Capacity Factors'!$C$3=\"Wind\"),IF(G29*'AVOID NEW'!$E$67<6.5,G29*(1-'AVOID NEW'!$E$67),G29-6.5),\"NA\")","v":42.605200000000004},48.11,{"$f":"IF(OR('Input - Capacity Factors'!$C$3=\"Wind\"),IF(I29*'AVOID NEW'!$E$67<6.5,I29*(1-'AVOID NEW'!$E$67),I29-6.5),\"NA\")","v":44.261200000000002},42.71,{"$f":"IF(OR('Input - Capacity Factors'!$C$3=\"Wind\"),IF(K29*'AVOID NEW'!$E$67<6.5,K29*(1-'AVOID NEW'!$E$67),K29-6.5),\"NA\")","v":39.293200000000006},null,36.020000000000003,{"$f":"IF(OR('Input - Capacity Factors'!$C$3=\"Wind\"),IF(N29*'AVOID NEW'!$E$67<6.5,N29*(1-'AVOID NEW'!$E$67),N29-6.5),\"NA\")","v":33.138400000000004},37.42,{"$f":"IF(OR('Input - Capacity Factors'!$C$3=\"Wind\"),IF(P29*'AVOID NEW'!$E$67<6.5,P29*(1-'AVOID NEW'!$E$67),P29-6.5),\"NA\")","v":34.426400000000001},33.22,{"$f":"IF(OR('Input - Capacity Factors'!$C$3=\"Wind\"),IF(R29*'AVOID NEW'!$E$67<6.5,R29*(1-'AVOID NEW'!$E$67),R29-6.5),\"NA\")","v":30.5624},null,null,42.88,{"$f":"IF(OR('Input - Capacity Factors'!$C$3=\"Wind\"),IF(V29*'AVOID NEW'!$E$67<6.5,V29*(1-'AVOID NEW'!$E$67),V29-6.5),\"NA\")","v":39.449600000000004},44.55,{"$f":"IF(OR('Input - Capacity Factors'!$C$3=\"Wind\"),IF(X29*'AVOID NEW'!$E$67<6.5,X29*(1-'AVOID NEW'!$E$67),X29-6.5),\"NA\")","v":40.985999999999997},39.549999999999997,{"$f":"IF(OR('Input - Capacity Factors'!$C$3=\"Wind\"),IF(Z29*'AVOID NEW'!$E$67<6.5,Z29*(1-'AVOID NEW'!$E$67),Z29-6.5),\"NA\")","v":36.385999999999996}]
[null,{"$f":"'AVOID NEW'!AL18","v":2031},{"$f":"'AVOID NEW'!AM18","v":44.364333437840592},46.034333437840594,41.034333437840594,null,47.91,{"$f":"IF(OR('Input - Capacity Factors'!$C$3=\"Wind\"),IF(G30*'AVOID NEW'!$E$67<6.5,G30*(1-'AVOID NEW'!$E$67),G30-6.5),\"NA\")","v":44.077199999999998},49.72,{"$f":"IF(OR('Input - Capacity Factors'!$C$3=\"Wind\"),IF(I30*'AVOID NEW'!$E$67<6.5,I30*(1-'AVOID NEW'!$E$67),I30-6.5),\"NA\")","v":45.742400000000004},44.32,{"$f":"IF(OR('Input - Capacity Factors'!$C$3=\"Wind\"),IF(K30*'AVOID NEW'!$E$67<6.5,K30*(1-'AVOID NEW'!$E$67),K30-6.5),\"NA\")","v":40.7744},null,37.270000000000003,{"$f":"IF(OR('Input - Capacity Factors'!$C$3=\"Wind\"),IF(N30*'AVOID NEW'!$E$67<6.5,N30*(1-'AVOID NEW'!$E$67),N30-6.5),\"NA\")","v":34.288400000000003},38.67,{"$f":"IF(OR('Input - Capacity Factors'!$C$3=\"Wind\"),IF(P30*'AVOID NEW'!$E$67<6.5,P30*(1-'AVOID NEW'!$E$67),P30-6.5),\"NA\")","v":35.5764},34.47,{"$f":"IF(OR('Input - Capacity Factors'!$C$3=\"Wind\"),IF(R30*'AVOID NEW'!$E$67<6.5,R30*(1-'AVOID NEW'!$E$67),R30-6.5),\"NA\")","v":31.712399999999999},null,null,44.36,{"$f":"IF(OR('Input - Capacity Factors'!$C$3=\"Wind\"),IF(V30*'AVOID NEW'!$E$67<6.5,V30*(1-'AVOID NEW'!$E$67),V30-6.5),\"NA\")","v":40.811199999999999},46.03,{"$f":"IF(OR('Input - Capacity Factors'!$C$3=\"Wind\"),IF(X30*'AVOID NEW'!$E$67<6.5,X30*(1-'AVOID NEW'!$E$67),X30-6.5),\"NA\")","v":42.3476},41.03,{"$f":"IF(OR('Input - Capacity Factors'!$C$3=\"Wind\"),IF(Z30*'AVOID NEW'!$E$67<6.5,Z30*(1-'AVOID NEW'!$E$67),Z30-6.5),\"NA\")","v":37.747600000000006}]
[null,{"$f":"'AVOID NEW'!AL19","v":2032},{"$f":"'AVOID NEW'!AM19","v":46.068012451665496},47.738012451665497,42.738012451665497,null,49.75,{"$f":"IF(OR('Input - Capacity Factors'!$C$3=\"Wind\"),IF(G31*'AVOID NEW'!$E$67<6.5,G31*(1-'AVOID NEW'!$E$67),G31-6.5),\"NA\")","v":45.77},51.56,{"$f":"IF(OR('Input - Capacity Factors'!$C$3=\"Wind\"),IF(I31*'AVOID NEW'!$E$67<6.5,I31*(1-'AVOID NEW'!$E$67),I31-6.5),\"NA\")","v":47.435200000000002},46.16,{"$f":"IF(OR('Input - Capacity Factors'!$C$3=\"Wind\"),IF(K31*'AVOID NEW'!$E$67<6.5,K31*(1-'AVOID NEW'!$E$67),K31-6.5),\"NA\")","v":42.467199999999998},null,38.700000000000003,{"$f":"IF(OR('Input - Capacity Factors'!$C$3=\"Wind\"),IF(N31*'AVOID NEW'!$E$67<6.5,N31*(1-'AVOID NEW'!$E$67),N31-6.5),\"NA\")","v":35.604000000000006},40.1,{"$f":"IF(OR('Input - Capacity Factors'!$C$3=\"Wind\"),IF(P31*'AVOID NEW'!$E$67<6.5,P31*(1-'AVOID NEW'!$E$67),P31-6.5),\"NA\")","v":36.892000000000003},35.9,{"$f":"IF(OR('Input - Capacity Factors'!$C$3=\"Wind\"),IF(R31*'AVOID NEW'!$E$67<6.5,R31*(1-'AVOID NEW'!$E$67),R31-6.5),\"NA\")","v":33.027999999999999},null,null,46.07,{"$f":"IF(OR('Input - Capacity Factors'!$C$3=\"Wind\"),IF(V31*'AVOID NEW'!$E$67<6.5,V31*(1-'AVOID NEW'!$E$67),V31-6.5),\"NA\")","v":42.384399999999999},47.74,{"$f":"IF(OR('Input - Capacity Factors'!$C$3=\"Wind\"),IF(X31*'AVOID NEW'!$E$67<6.5,X31*(1-'AVOID NEW'!$E$67),X31-6.5),\"NA\")","v":43.920800000000007},42.74,{"$f":"IF(OR('Input - Capacity Factors'!$C$3=\"Wind\"),IF(Z31*'AVOID NEW'!$E$67<6.5,Z31*(1-'AVOID NEW'!$E$67),Z31-6.5),\"NA\")","v":39.320800000000006}]
[null,{"$f":"'AVOID NEW'!AL20","v":2033},{"$f":"'AVOID NEW'!AM20","v":47.707109959406715},49.377109959406717,44.377109959406717,null,51.52,{"$f":"IF(OR('Input - Capacity Factors'!$C$3=\"Wind\"),IF(G32*'AVOID NEW'!$E$67<6.5,G32*(1-'AVOID NEW'!$E$67),G32-6.5),\"NA\")","v":47.398400000000002},53.33,{"$f":"IF(OR('Input - Capacity Factors'!$C$3=\"Wind\"),IF(I32*'AVOID NEW'!$E$67<6.5,I32*(1-'AVOID NEW'!$E$67),I32-6.5),\"NA\")","v":49.063600000000001},47.93,{"$f":"IF(OR('Input - Capacity Factors'!$C$3=\"Wind\"),IF(K32*'AVOID NEW'!$E$67<6.5,K32*(1-'AVOID NEW'!$E$67),K32-6.5),\"NA\")","v":44.095600000000005},null,40.07,{"$f":"IF(OR('Input - Capacity Factors'!$C$3=\"Wind\"),IF(N32*'AVOID NEW'!$E$67<6.5,N32*(1-'AVOID NEW'!$E$67),N32-6.5),\"NA\")","v":36.864400000000003},41.48,{"$f":"IF(OR('Input - Capacity Factors'!$C$3=\"Wind\"),IF(P32*'AVOID NEW'!$E$67<6.5,P32*(1-'AVOID NEW'!$E$67),P32-6.5),\"NA\")","v":38.1616},37.28,{"$f":"IF(OR('Input - Capacity Factors'!$C$3=\"Wind\"),IF(R32*'AVOID NEW'!$E$67<6.5,R32*(1-'AVOID NEW'!$E$67),R32-6.5),\"NA\")","v":34.297600000000003},null,null,47.71,{"$f":"IF(OR('Input - Capacity Factors'!$C$3=\"Wind\"),IF(V32*'AVOID NEW'!$E$67<6.5,V32*(1-'AVOID NEW'!$E$67),V32-6.5),\"NA\")","v":43.8932},49.38,{"$f":"IF(OR('Input - Capacity Factors'!$C$3=\"Wind\"),IF(X32*'AVOID NEW'!$E$67<6.5,X32*(1-'AVOID NEW'!$E$67),X32-6.5),\"NA\")","v":45.429600000000008},44.38,{"$f":"IF(OR('Input - Capacity Factors'!$C$3=\"Wind\"),IF(Z32*'AVOID NEW'!$E$67<6.5,Z32*(1-'AVOID NEW'!$E$67),Z32-6.5),\"NA\")","v":40.829600000000006}]
[null,{"$f":"'AVOID NEW'!AL21","v":2034},{"$f":"'AVOID NEW'!AM21","v":48.881340556218255},50.551340556218257,45.551340556218257,null,52.79,{"$f":"IF(OR('Input - Capacity Factors'!$C$3=\"Wind\"),IF(G33*'AVOID NEW'!$E$67<6.5,G33*(1-'AVOID NEW'!$E$67),G33-6.5),\"NA\")","v":48.566800000000001},54.6,{"$f":"IF(OR('Input - Capacity Factors'!$C$3=\"Wind\"),IF(I33*'AVOID NEW'!$E$67<6.5,I33*(1-'AVOID NEW'!$E$67),I33-6.5),\"NA\")","v":50.232000000000006},49.2,{"$f":"IF(OR('Input - Capacity Factors'!$C$3=\"Wind\"),IF(K33*'AVOID NEW'!$E$67<6.5,K33*(1-'AVOID NEW'!$E$67),K33-6.5),\"NA\")","v":45.264000000000003},null,41.06,{"$f":"IF(OR('Input - Capacity Factors'!$C$3=\"Wind\"),IF(N33*'AVOID NEW'!$E$67<6.5,N33*(1-'AVOID NEW'!$E$67),N33-6.5),\"NA\")","v":37.775200000000005},42.46,{"$f":"IF(OR('Input - Capacity Factors'!$C$3=\"Wind\"),IF(P33*'AVOID NEW'!$E$67<6.5,P33*(1-'AVOID NEW'!$E$67),P33-6.5),\"NA\")","v":39.063200000000002},38.26,{"$f":"IF(OR('Input - Capacity Factors'!$C$3=\"Wind\"),IF(R33*'AVOID NEW'!$E$67<6.5,R33*(1-'AVOID NEW'!$E$67),R33-6.5),\"NA\")","v":35.199199999999998},null,null,48.88,{"$f":"IF(OR('Input - Capacity Factors'!$C$3=\"Wind\"),IF(V33*'AVOID NEW'!$E$67<6.5,V33*(1-'AVOID NEW'!$E$67),V33-6.5),\"NA\")","v":44.969600000000007},50.55,{"$f":"IF(OR('Input - Capacity Factors'!$C$3=\"Wind\"),IF(X33*'AVOID NEW'!$E$67<6.5,X33*(1-'AVOID NEW'!$E$67),X33-6.5),\"NA\")","v":46.506},45.55,{"$f":"IF(OR('Input - Capacity Factors'!$C$3=\"Wind\"),IF(Z33*'AVOID NEW'!$E$67<6.5,Z33*(1-'AVOID NEW'!$E$67),Z33-6.5),\"NA\")","v":41.905999999999999}]
[null,{"$f":"'AVOID NEW'!AL22","v":2035},{"$f":"'AVOID NEW'!AM22","v":49.691061765076739},51.361061765076741,46.361061765076741,null,53.67,{"$f":"IF(OR('Input - Capacity Factors'!$C$3=\"Wind\"),IF(G34*'AVOID NEW'!$E$67<6.5,G34*(1-'AVOID NEW'!$E$67),G34-6.5),\"NA\")","v":49.376400000000004},55.47,{"$f":"IF(OR('Input - Capacity Factors'!$C$3=\"Wind\"),IF(I34*'AVOID NEW'!$E$67<6.5,I34*(1-'AVOID NEW'!$E$67),I34-6.5),\"NA\")","v":51.032400000000003},50.07,{"$f":"IF(OR('Input - Capacity Factors'!$C$3=\"Wind\"),IF(K34*'AVOID NEW'!$E$67<6.5,K34*(1-'AVOID NEW'!$E$67),K34-6.5),\"NA\")","v":46.064399999999999},null,41.74,{"$f":"IF(OR('Input - Capacity Factors'!$C$3=\"Wind\"),IF(N34*'AVOID NEW'!$E$67<6.5,N34*(1-'AVOID NEW'!$E$67),N34-6.5),\"NA\")","v":38.400800000000004},43.14,{"$f":"IF(OR('Input - Capacity Factors'!$C$3=\"Wind\"),IF(P34*'AVOID NEW'!$E$67<6.5,P34*(1-'AVOID NEW'!$E$67),P34-6.5),\"NA\")","v":39.688800000000001},38.94,{"$f":"IF(OR('Input - Capacity Factors'!$C$3=\"Wind\"),IF(R34*'AVOID NEW'!$E$67<6.5,R34*(1-'AVOID NEW'!$E$67),R34-6.5),\"NA\")","v":35.824799999999996},null,null,49.69,{"$f":"IF(OR('Input - Capacity Factors'!$C$3=\"Wind\"),IF(V34*'AVOID NEW'!$E$67<6.5,V34*(1-'AVOID NEW'!$E$67),V34-6.5),\"NA\")","v":45.714799999999997},51.36,{"$f":"IF(OR('Input - Capacity Factors'!$C$3=\"Wind\"),IF(X34*'AVOID NEW'!$E$67<6.5,X34*(1-'AVOID NEW'!$E$67),X34-6.5),\"NA\")","v":47.251200000000004},46.36,{"$f":"IF(OR('Input - Capacity Factors'!$C$3=\"Wind\"),IF(Z34*'AVOID NEW'!$E$67<6.5,Z34*(1-'AVOID NEW'!$E$67),Z34-6.5),\"NA\")","v":42.651200000000003}]
[null,{"$f":"'AVOID NEW'!AL23","v":2036},{"$f":"'AVOID NEW'!AM23","v":50.842112648308685},52.512112648308687,47.512112648308687,null,54.91,{"$f":"IF(OR('Input - Capacity Factors'!$C$3=\"Wind\"),IF(G35*'AVOID NEW'!$E$67<6.5,G35*(1-'AVOID NEW'!$E$67),G35-6.5),\"NA\")","v":50.517200000000003},56.71,{"$f":"IF(OR('Input - Capacity Factors'!$C$3=\"Wind\"),IF(I35*'AVOID NEW'!$E$67<6.5,I35*(1-'AVOID NEW'!$E$67),I35-6.5),\"NA\")","v":52.173200000000001},51.31,{"$f":"IF(OR('Input - Capacity Factors'!$C$3=\"Wind\"),IF(K35*'AVOID NEW'!$E$67<6.5,K35*(1-'AVOID NEW'!$E$67),K35-6.5),\"NA\")","v":47.205200000000005},null,42.71,{"$f":"IF(OR('Input - Capacity Factors'!$C$3=\"Wind\"),IF(N35*'AVOID NEW'!$E$67<6.5,N35*(1-'AVOID NEW'!$E$67),N35-6.5),\"NA\")","v":39.293200000000006},44.11,{"$f":"IF(OR('Input - Capacity Factors'!$C$3=\"Wind\"),IF(P35*'AVOID NEW'!$E$67<6.5,P35*(1-'AVOID NEW'!$E$67),P35-6.5),\"NA\")","v":40.581200000000003},39.909999999999997,{"$f":"IF(OR('Input - Capacity Factors'!$C$3=\"Wind\"),IF(R35*'AVOID NEW'!$E$67<6.5,R35*(1-'AVOID NEW'!$E$67),R35-6.5),\"NA\")","v":36.717199999999998},null,null,50.84,{"$f":"IF(OR('Input - Capacity Factors'!$C$3=\"Wind\"),IF(V35*'AVOID NEW'!$E$67<6.5,V35*(1-'AVOID NEW'!$E$67),V35-6.5),\"NA\")","v":46.772800000000004},52.51,{"$f":"IF(OR('Input - Capacity Factors'!$C$3=\"Wind\"),IF(X35*'AVOID NEW'!$E$67<6.5,X35*(1-'AVOID NEW'!$E$67),X35-6.5),\"NA\")","v":48.309199999999997},47.51,{"$f":"IF(OR('Input - Capacity Factors'!$C$3=\"Wind\"),IF(Z35*'AVOID NEW'!$E$67<6.5,Z35*(1-'AVOID NEW'!$E$67),Z35-6.5),\"NA\")","v":43.709200000000003}]
[null,{"$f":"'AVOID NEW'!AL24","v":2037},{"$f":"'AVOID NEW'!AM24","v":51.897360719744292},53.567360719744293,48.567360719744293,null,56.05,{"$f":"IF(OR('Input - Capacity Factors'!$C$3=\"Wind\"),IF(G36*'AVOID NEW'!$E$67<6.5,G36*(1-'AVOID NEW'!$E$67),G36-6.5),\"NA\")","v":51.566000000000003},57.85,{"$f":"IF(OR('Input - Capacity Factors'!$C$3=\"Wind\"),IF(I36*'AVOID NEW'!$E$67<6.5,I36*(1-'AVOID NEW'!$E$67),I36-6.5),\"NA\")","v":53.222000000000001},52.45,{"$f":"IF(OR('Input - Capacity Factors'!$C$3=\"Wind\"),IF(K36*'AVOID NEW'!$E$67<6.5,K36*(1-'AVOID NEW'!$E$67),K36-6.5),\"NA\")","v":48.254000000000005},null,43.59,{"$f":"IF(OR('Input - Capacity Factors'!$C$3=\"Wind\"),IF(N36*'AVOID NEW'!$E$67<6.5,N36*(1-'AVOID NEW'!$E$67),N36-6.5),\"NA\")","v":40.102800000000002},45,{"$f":"IF(OR('Input - Capacity Factors'!$C$3=\"Wind\"),IF(P36*'AVOID NEW'!$E$67<6.5,P36*(1-'AVOID NEW'!$E$67),P36-6.5),\"NA\")","v":41.4},40.799999999999997,{"$f":"IF(OR('Input - Capacity Factors'!$C$3=\"Wind\"),IF(R36*'AVOID NEW'!$E$67<6.5,R36*(1-'AVOID NEW'!$E$67),R36-6.5),\"NA\")","v":37.536000000000001},null,null,51.9,{"$f":"IF(OR('Input - Capacity Factors'!$C$3=\"Wind\"),IF(V36*'AVOID NEW'!$E$67<6.5,V36*(1-'AVOID NEW'!$E$67),V36-6.5),\"NA\")","v":47.747999999999998},53.57,{"$f":"IF(OR('Input - Capacity Factors'!$C$3=\"Wind\"),IF(X36*'AVOID NEW'!$E$67<6.5,X36*(1-'AVOID NEW'!$E$67),X36-6.5),\"NA\")","v":49.284400000000005},48.57,{"$f":"IF(OR('Input - Capacity Factors'!$C$3=\"Wind\"),IF(Z36*'AVOID NEW'!$E$67<6.5,Z36*(1-'AVOID NEW'!$E$67),Z36-6.5),\"NA\")","v":44.684400000000004}]
[null,{"$f":"'AVOID NEW'!AL25","v":2038},{"$f":"'AVOID NEW'!AM25","v":53.216336757023186},54.886336757023187,49.886336757023187,null,57.47,{"$f":"IF(OR('Input - Capacity Factors'!$C$3=\"Wind\"),IF(G37*'AVOID NEW'!$E$67<6.5,G37*(1-'AVOID NEW'!$E$67),G37-6.5),\"NA\")","v":52.872399999999999},59.28,{"$f":"IF(OR('Input - Capacity Factors'!$C$3=\"Wind\"),IF(I37*'AVOID NEW'!$E$67<6.5,I37*(1-'AVOID NEW'!$E$67),I37-6.5),\"NA\")","v":54.537600000000005},53.88,{"$f":"IF(OR('Input - Capacity Factors'!$C$3=\"Wind\"),IF(K37*'AVOID NEW'!$E$67<6.5,K37*(1-'AVOID NEW'!$E$67),K37-6.5),\"NA\")","v":49.569600000000001},null,44.7,{"$f":"IF(OR('Input - Capacity Factors'!$C$3=\"Wind\"),IF(N37*'AVOID NEW'!$E$67<6.5,N37*(1-'AVOID NEW'!$E$67),N37-6.5),\"NA\")","v":41.124000000000002},46.1,{"$f":"IF(OR('Input - Capacity Factors'!$C$3=\"Wind\"),IF(P37*'AVOID NEW'!$E$67<6.5,P37*(1-'AVOID NEW'!$E$67),P37-6.5),\"NA\")","v":42.412000000000006},41.9,{"$f":"IF(OR('Input - Capacity Factors'!$C$3=\"Wind\"),IF(R37*'AVOID NEW'!$E$67<6.5,R37*(1-'AVOID NEW'!$E$67),R37-6.5),\"NA\")","v":38.548000000000002},null,null,53.22,{"$f":"IF(OR('Input - Capacity Factors'!$C$3=\"Wind\"),IF(V37*'AVOID NEW'!$E$67<6.5,V37*(1-'AVOID NEW'!$E$67),V37-6.5),\"NA\")","v":48.962400000000002},54.89,{"$f":"IF(OR('Input - Capacity Factors'!$C$3=\"Wind\"),IF(X37*'AVOID NEW'!$E$67<6.5,X37*(1-'AVOID NEW'!$E$67),X37-6.5),\"NA\")","v":50.498800000000003},49.89,{"$f":"IF(OR('Input - Capacity Factors'!$C$3=\"Wind\"),IF(Z37*'AVOID NEW'!$E$67<6.5,Z37*(1-'AVOID NEW'!$E$67),Z37-6.5),\"NA\")","v":45.898800000000001}]
[null,{"$f":"'AVOID NEW'!AL26","v":2039},{"$f":"'AVOID NEW'!AM26","v":54.51725051413603},56.187250514136032,51.187250514136032,null,58.88,{"$f":"IF(OR('Input - Capacity Factors'!$C$3=\"Wind\"),IF(G38*'AVOID NEW'!$E$67<6.5,G38*(1-'AVOID NEW'!$E$67),G38-6.5),\"NA\")","v":54.169600000000003},60.68,{"$f":"IF(OR('Input - Capacity Factors'!$C$3=\"Wind\"),IF(I38*'AVOID NEW'!$E$67<6.5,I38*(1-'AVOID NEW'!$E$67),I38-6.5),\"NA\")","v":55.825600000000001},55.28,{"$f":"IF(OR('Input - Capacity Factors'!$C$3=\"Wind\"),IF(K38*'AVOID NEW'!$E$67<6.5,K38*(1-'AVOID NEW'!$E$67),K38-6.5),\"NA\")","v":50.857600000000005},null,45.79,{"$f":"IF(OR('Input - Capacity Factors'!$C$3=\"Wind\"),IF(N38*'AVOID NEW'!$E$67<6.5,N38*(1-'AVOID NEW'!$E$67),N38-6.5),\"NA\")","v":42.126800000000003},47.2,{"$f":"IF(OR('Input - Capacity Factors'!$C$3=\"Wind\"),IF(P38*'AVOID NEW'!$E$67<6.5,P38*(1-'AVOID NEW'!$E$67),P38-6.5),\"NA\")","v":43.424000000000007},43,{"$f":"IF(OR('Input - Capacity Factors'!$C$3=\"Wind\"),IF(R38*'AVOID NEW'!$E$67<6.5,R38*(1-'AVOID NEW'!$E$67),R38-6.5),\"NA\")","v":39.56},null,null,54.52,{"$f":"IF(OR('Input - Capacity Factors'!$C$3=\"Wind\"),IF(V38*'AVOID NEW'!$E$67<6.5,V38*(1-'AVOID NEW'!$E$67),V38-6.5),\"NA\")","v":50.158400000000007},56.19,{"$f":"IF(OR('Input - Capacity Factors'!$C$3=\"Wind\"),IF(X38*'AVOID NEW'!$E$67<6.5,X38*(1-'AVOID NEW'!$E$67),X38-6.5),\"NA\")","v":51.694800000000001},51.19,{"$f":"IF(OR('Input - Capacity Factors'!$C$3=\"Wind\"),IF(Z38*'AVOID NEW'!$E$67<6.5,Z38*(1-'AVOID NEW'!$E$67),Z38-6.5),\"NA\")","v":47.094799999999999}]
[null,{"$f":"'AVOID NEW'!AL27","v":2040},{"$f":"'AVOID NEW'!AM27","v":56.140457034206747},57.810457034206749,52.810457034206749,null,60.63,{"$f":"IF(OR('Input - Capacity Factors'!$C$3=\"Wind\"),IF(G39*'AVOID NEW'!$E$67<6.5,G39*(1-'AVOID NEW'!$E$67),G39-6.5),\"NA\")","v":55.779600000000002},62.44,{"$f":"IF(OR('Input - Capacity Factors'!$C$3=\"Wind\"),IF(I39*'AVOID NEW'!$E$67<6.5,I39*(1-'AVOID NEW'!$E$67),I39-6.5),\"NA\")","v":57.444800000000001},57.04,{"$f":"IF(OR('Input - Capacity Factors'!$C$3=\"Wind\"),IF(K39*'AVOID NEW'!$E$67<6.5,K39*(1-'AVOID NEW'!$E$67),K39-6.5),\"NA\")","v":52.476800000000004},null,47.16,{"$f":"IF(OR('Input - Capacity Factors'!$C$3=\"Wind\"),IF(N39*'AVOID NEW'!$E$67<6.5,N39*(1-'AVOID NEW'!$E$67),N39-6.5),\"NA\")","v":43.3872},48.56,{"$f":"IF(OR('Input - Capacity Factors'!$C$3=\"Wind\"),IF(P39*'AVOID NEW'!$E$67<6.5,P39*(1-'AVOID NEW'!$E$67),P39-6.5),\"NA\")","v":44.675200000000004},44.36,{"$f":"IF(OR('Input - Capacity Factors'!$C$3=\"Wind\"),IF(R39*'AVOID NEW'!$E$67<6.5,R39*(1-'AVOID NEW'!$E$67),R39-6.5),\"NA\")","v":40.811199999999999},null,null,56.14,{"$f":"IF(OR('Input - Capacity Factors'!$C$3=\"Wind\"),IF(V39*'AVOID NEW'!$E$67<6.5,V39*(1-'AVOID NEW'!$E$67),V39-6.5),\"NA\")","v":51.648800000000001},57.81,{"$f":"IF(OR('Input - Capacity Factors'!$C$3=\"Wind\"),IF(X39*'AVOID NEW'!$E$67<6.5,X39*(1-'AVOID NEW'!$E$67),X39-6.5),\"NA\")","v":53.185200000000002},52.81,{"$f":"IF(OR('Input - Capacity Factors'!$C$3=\"Wind\"),IF(Z39*'AVOID NEW'!$E$67<6.5,Z39*(1-'AVOID NEW'!$E$67),Z39-6.5),\"NA\")","v":48.585200000000007}]
[null,{"$f":"'AVOID NEW'!AL28","v":2041},{"$f":"'AVOID NEW'!AM28","v":57.609165962519896},59.279165962519897,54.279165962519897,null,62.22,{"$f":"IF(OR('Input - Capacity Factors'!$C$3=\"Wind\"),IF(G40*'AVOID NEW'!$E$67<6.5,G40*(1-'AVOID NEW'!$E$67),G40-6.5),\"NA\")","v":57.242400000000004},64.02,{"$f":"IF(OR('Input - Capacity Factors'!$C$3=\"Wind\"),IF(I40*'AVOID NEW'!$E$67<6.5,I40*(1-'AVOID NEW'!$E$67),I40-6.5),\"NA\")","v":58.898400000000002},58.62,{"$f":"IF(OR('Input - Capacity Factors'!$C$3=\"Wind\"),IF(K40*'AVOID NEW'!$E$67<6.5,K40*(1-'AVOID NEW'!$E$67),K40-6.5),\"NA\")","v":53.930399999999999},null,48.39,{"$f":"IF(OR('Input - Capacity Factors'!$C$3=\"Wind\"),IF(N40*'AVOID NEW'!$E$67<6.5,N40*(1-'AVOID NEW'!$E$67),N40-6.5),\"NA\")","v":44.518800000000006},49.79,{"$f":"IF(OR('Input - Capacity Factors'!$C$3=\"Wind\"),IF(P40*'AVOID NEW'!$E$67<6.5,P40*(1-'AVOID NEW'!$E$67),P40-6.5),\"NA\")","v":45.806800000000003},45.59,{"$f":"IF(OR('Input - Capacity Factors'!$C$3=\"Wind\"),IF(R40*'AVOID NEW'!$E$67<6.5,R40*(1-'AVOID NEW'!$E$67),R40-6.5),\"NA\")","v":41.942800000000005},null,null,57.61,{"$f":"IF(OR('Input - Capacity Factors'!$C$3=\"Wind\"),IF(V40*'AVOID NEW'!$E$67<6.5,V40*(1-'AVOID NEW'!$E$67),V40-6.5),\"NA\")","v":53.001200000000004},59.28,{"$f":"IF(OR('Input - Capacity Factors'!$C$3=\"Wind\"),IF(X40*'AVOID NEW'!$E$67<6.5,X40*(1-'AVOID NEW'!$E$67),X40-6.5),\"NA\")","v":54.537600000000005},54.28,{"$f":"IF(OR('Input - Capacity Factors'!$C$3=\"Wind\"),IF(Z40*'AVOID NEW'!$E$67<6.5,Z40*(1-'AVOID NEW'!$E$67),Z40-6.5),\"NA\")","v":49.937600000000003}]
[null,{"$f":"'AVOID NEW'!AL29","v":2042},{"$f":"'AVOID NEW'!AM29","v":58.77427395979813},60.444273959798132,55.444273959798132,null,63.48,{"$f":"IF(OR('Input - Capacity Factors'!$C$3=\"Wind\"),IF(G41*'AVOID NEW'!$E$67<6.5,G41*(1-'AVOID NEW'!$E$67),G41-6.5),\"NA\")","v":58.401600000000002},65.28,{"$f":"IF(OR('Input - Capacity Factors'!$C$3=\"Wind\"),IF(I41*'AVOID NEW'!$E$67<6.5,I41*(1-'AVOID NEW'!$E$67),I41-6.5),\"NA\")","v":60.057600000000001},59.88,{"$f":"IF(OR('Input - Capacity Factors'!$C$3=\"Wind\"),IF(K41*'AVOID NEW'!$E$67<6.5,K41*(1-'AVOID NEW'!$E$67),K41-6.5),\"NA\")","v":55.089600000000004},null,49.37,{"$f":"IF(OR('Input - Capacity Factors'!$C$3=\"Wind\"),IF(N41*'AVOID NEW'!$E$67<6.5,N41*(1-'AVOID NEW'!$E$67),N41-6.5),\"NA\")","v":45.420400000000001},50.77,{"$f":"IF(OR('Input - Capacity Factors'!$C$3=\"Wind\"),IF(P41*'AVOID NEW'!$E$67<6.5,P41*(1-'AVOID NEW'!$E$67),P41-6.5),\"NA\")","v":46.708400000000005},46.57,{"$f":"IF(OR('Input - Capacity Factors'!$C$3=\"Wind\"),IF(R41*'AVOID NEW'!$E$67<6.5,R41*(1-'AVOID NEW'!$E$67),R41-6.5),\"NA\")","v":42.8444},null,null,58.77,{"$f":"IF(OR('Input - Capacity Factors'!$C$3=\"Wind\"),IF(V41*'AVOID NEW'!$E$67<6.5,V41*(1-'AVOID NEW'!$E$67),V41-6.5),\"NA\")","v":54.068400000000004},60.44,{"$f":"IF(OR('Input - Capacity Factors'!$C$3=\"Wind\"),IF(X41*'AVOID NEW'!$E$67<6.5,X41*(1-'AVOID NEW'!$E$67),X41-6.5),\"NA\")","v":55.604799999999997},55.44,{"$f":"IF(OR('Input - Capacity Factors'!$C$3=\"Wind\"),IF(Z41*'AVOID NEW'!$E$67<6.5,Z41*(1-'AVOID NEW'!$E$67),Z41-6.5),\"NA\")","v":51.004800000000003}]
[null,{"$f":"'AVOID NEW'!AL30","v":2043},{"$f":"'AVOID NEW'!AM30","v":60.266741215734314},61.936741215734315,56.936741215734315,null,65.09,{"$f":"IF(OR('Input - Capacity Factors'!$C$3=\"Wind\"),IF(G42*'AVOID NEW'!$E$67<6.5,G42*(1-'AVOID NEW'!$E$67),G42-6.5),\"NA\")","v":59.882800000000003},66.89,{"$f":"IF(OR('Input - Capacity Factors'!$C$3=\"Wind\"),IF(I42*'AVOID NEW'!$E$67<6.5,I42*(1-'AVOID NEW'!$E$67),I42-6.5),\"NA\")","v":61.538800000000002},61.49,{"$f":"IF(OR('Input - Capacity Factors'!$C$3=\"Wind\"),IF(K42*'AVOID NEW'!$E$67<6.5,K42*(1-'AVOID NEW'!$E$67),K42-6.5),\"NA\")","v":56.570800000000006},null,50.62,{"$f":"IF(OR('Input - Capacity Factors'!$C$3=\"Wind\"),IF(N42*'AVOID NEW'!$E$67<6.5,N42*(1-'AVOID NEW'!$E$67),N42-6.5),\"NA\")","v":46.570399999999999},52.03,{"$f":"IF(OR('Input - Capacity Factors'!$C$3=\"Wind\"),IF(P42*'AVOID NEW'!$E$67<6.5,P42*(1-'AVOID NEW'!$E$67),P42-6.5),\"NA\")","v":47.867600000000003},47.83,{"$f":"IF(OR('Input - Capacity Factors'!$C$3=\"Wind\"),IF(R42*'AVOID NEW'!$E$67<6.5,R42*(1-'AVOID NEW'!$E$67),R42-6.5),\"NA\")","v":44.003599999999999},null,null,60.27,{"$f":"IF(OR('Input - Capacity Factors'!$C$3=\"Wind\"),IF(V42*'AVOID NEW'!$E$67<6.5,V42*(1-'AVOID NEW'!$E$67),V42-6.5),\"NA\")","v":55.448400000000007},61.94,{"$f":"IF(OR('Input - Capacity Factors'!$C$3=\"Wind\"),IF(X42*'AVOID NEW'!$E$67<6.5,X42*(1-'AVOID NEW'!$E$67),X42-6.5),\"NA\")","v":56.9848},56.94,{"$f":"IF(OR('Input - Capacity Factors'!$C$3=\"Wind\"),IF(Z42*'AVOID NEW'!$E$67<6.5,Z42*(1-'AVOID NEW'!$E$67),Z42-6.5),\"NA\")","v":52.384799999999998}]
[null,{"$f":"'AVOID NEW'!AL31","v":2044},{"$f":"'AVOID NEW'!AM31","v":61.924742662783586},63.594742662783588,58.594742662783588,null,66.88,{"$f":"IF(OR('Input - Capacity Factors'!$C$3=\"Wind\"),IF(G43*'AVOID NEW'!$E$67<6.5,G43*(1-'AVOID NEW'!$E$67),G43-6.5),\"NA\")","v":61.529599999999995},68.680000000000007,{"$f":"IF(OR('Input - Capacity Factors'!$C$3=\"Wind\"),IF(I43*'AVOID NEW'!$E$67<6.5,I43*(1-'AVOID NEW'!$E$67),I43-6.5),\"NA\")","v":63.185600000000008},63.28,{"$f":"IF(OR('Input - Capacity Factors'!$C$3=\"Wind\"),IF(K43*'AVOID NEW'!$E$67<6.5,K43*(1-'AVOID NEW'!$E$67),K43-6.5),\"NA\")","v":58.217600000000004},null,52.02,{"$f":"IF(OR('Input - Capacity Factors'!$C$3=\"Wind\"),IF(N43*'AVOID NEW'!$E$67<6.5,N43*(1-'AVOID NEW'!$E$67),N43-6.5),\"NA\")","v":47.858400000000003},53.42,{"$f":"IF(OR('Input - Capacity Factors'!$C$3=\"Wind\"),IF(P43*'AVOID NEW'!$E$67<6.5,P43*(1-'AVOID NEW'!$E$67),P43-6.5),\"NA\")","v":49.146400000000007},49.22,{"$f":"IF(OR('Input - Capacity Factors'!$C$3=\"Wind\"),IF(R43*'AVOID NEW'!$E$67<6.5,R43*(1-'AVOID NEW'!$E$67),R43-6.5),\"NA\")","v":45.282400000000003},null,null,61.92,{"$f":"IF(OR('Input - Capacity Factors'!$C$3=\"Wind\"),IF(V43*'AVOID NEW'!$E$67<6.5,V43*(1-'AVOID NEW'!$E$67),V43-6.5),\"NA\")","v":56.966400000000007},63.59,{"$f":"IF(OR('Input - Capacity Factors'!$C$3=\"Wind\"),IF(X43*'AVOID NEW'!$E$67<6.5,X43*(1-'AVOID NEW'!$E$67),X43-6.5),\"NA\")","v":58.502800000000008},58.59,{"$f":"IF(OR('Input - Capacity Factors'!$C$3=\"Wind\"),IF(Z43*'AVOID NEW'!$E$67<6.5,Z43*(1-'AVOID NEW'!$E$67),Z43-6.5),\"NA\")","v":53.902800000000006}]
[null,{"$f":"'AVOID NEW'!AL32","v":2045},{"$f":"'AVOID NEW'!AM32","v":63.507764690220128},65.17776469022013,60.17776469022013,null,68.59,{"$f":"IF(OR('Input - Capacity Factors'!$C$3=\"Wind\"),IF(G44*'AVOID NEW'!$E$67<6.5,G44*(1-'AVOID NEW'!$E$67),G44-6.5),\"NA\")","v":63.102800000000009},70.39,{"$f":"IF(OR('Input - Capacity Factors'!$C$3=\"Wind\"),IF(I44*'AVOID NEW'!$E$67<6.5,I44*(1-'AVOID NEW'!$E$67),I44-6.5),\"NA\")","v":64.758800000000008},64.989999999999995,{"$f":"IF(OR('Input - Capacity Factors'!$C$3=\"Wind\"),IF(K44*'AVOID NEW'!$E$67<6.5,K44*(1-'AVOID NEW'!$E$67),K44-6.5),\"NA\")","v":59.790799999999997},null,53.35,{"$f":"IF(OR('Input - Capacity Factors'!$C$3=\"Wind\"),IF(N44*'AVOID NEW'!$E$67<6.5,N44*(1-'AVOID NEW'!$E$67),N44-6.5),\"NA\")","v":49.082000000000001},54.75,{"$f":"IF(OR('Input - Capacity Factors'!$C$3=\"Wind\"),IF(P44*'AVOID NEW'!$E$67<6.5,P44*(1-'AVOID NEW'!$E$67),P44-6.5),\"NA\")","v":50.370000000000005},50.55,{"$f":"IF(OR('Input - Capacity Factors'!$C$3=\"Wind\"),IF(R44*'AVOID NEW'!$E$67<6.5,R44*(1-'AVOID NEW'!$E$67),R44-6.5),\"NA\")","v":46.506},null,null,63.51,{"$f":"IF(OR('Input - Capacity Factors'!$C$3=\"Wind\"),IF(V44*'AVOID NEW'!$E$67<6.5,V44*(1-'AVOID NEW'!$E$67),V44-6.5),\"NA\")","v":58.429200000000002},65.180000000000007,{"$f":"IF(OR('Input - Capacity Factors'!$C$3=\"Wind\"),IF(X44*'AVOID NEW'!$E$67<6.5,X44*(1-'AVOID NEW'!$E$67),X44-6.5),\"NA\")","v":59.965600000000009},60.18,{"$f":"IF(OR('Input - Capacity Factors'!$C$3=\"Wind\"),IF(Z44*'AVOID NEW'!$E$67<6.5,Z44*(1-'AVOID NEW'!$E$67),Z44-6.5),\"NA\")","v":55.365600000000001}]
[null,{"$f":"'AVOID NEW'!AL33","v":2046},{"$f":"'AVOID NEW'!AM33","v":65.167186058463926},66.837186058463928,61.837186058463928,null,70.38,{"$f":"IF(OR('Input - Capacity Factors'!$C$3=\"Wind\"),IF(G45*'AVOID NEW'!$E$67<6.5,G45*(1-'AVOID NEW'!$E$67),G45-6.5),\"NA\")","v":64.749600000000001},72.180000000000007,{"$f":"IF(OR('Input - Capacity Factors'!$C$3=\"Wind\"),IF(I45*'AVOID NEW'!$E$67<6.5,I45*(1-'AVOID NEW'!$E$67),I45-6.5),\"NA\")","v":66.405600000000007},66.78,{"$f":"IF(OR('Input - Capacity Factors'!$C$3=\"Wind\"),IF(K45*'AVOID NEW'!$E$67<6.5,K45*(1-'AVOID NEW'!$E$67),K45-6.5),\"NA\")","v":61.437600000000003},null,54.74,{"$f":"IF(OR('Input - Capacity Factors'!$C$3=\"Wind\"),IF(N45*'AVOID NEW'!$E$67<6.5,N45*(1-'AVOID NEW'!$E$67),N45-6.5),\"NA\")","v":50.360800000000005},56.14,{"$f":"IF(OR('Input - Capacity Factors'!$C$3=\"Wind\"),IF(P45*'AVOID NEW'!$E$67<6.5,P45*(1-'AVOID NEW'!$E$67),P45-6.5),\"NA\")","v":51.648800000000001},51.94,{"$f":"IF(OR('Input - Capacity Factors'!$C$3=\"Wind\"),IF(R45*'AVOID NEW'!$E$67<6.5,R45*(1-'AVOID NEW'!$E$67),R45-6.5),\"NA\")","v":47.784799999999997},null,null,65.17,{"$f":"IF(OR('Input - Capacity Factors'!$C$3=\"Wind\"),IF(V45*'AVOID NEW'!$E$67<6.5,V45*(1-'AVOID NEW'!$E$67),V45-6.5),\"NA\")","v":59.956400000000002},66.84,{"$f":"IF(OR('Input - Capacity Factors'!$C$3=\"Wind\"),IF(X45*'AVOID NEW'!$E$67<6.5,X45*(1-'AVOID NEW'!$E$67),X45-6.5),\"NA\")","v":61.492800000000003},61.84,{"$f":"IF(OR('Input - Capacity Factors'!$C$3=\"Wind\"),IF(Z45*'AVOID NEW'!$E$67<6.5,Z45*(1-'AVOID NEW'!$E$67),Z45-6.5),\"NA\")","v":56.892800000000008}]
[null,{"$f":"'AVOID NEW'!AL34","v":2047},{"$f":"'AVOID NEW'!AM34","v":66.854883413682742},68.524883413682744,63.524883413682744,null,72.2,{"$f":"IF(OR('Input - Capacity Factors'!$C$3=\"Wind\"),IF(G46*'AVOID NEW'!$E$67<6.5,G46*(1-'AVOID NEW'!$E$67),G46-6.5),\"NA\")","v":66.424000000000007},74.010000000000005,{"$f":"IF(OR('Input - Capacity Factors'!$C$3=\"Wind\"),IF(I46*'AVOID NEW'!$E$67<6.5,I46*(1-'AVOID NEW'!$E$67),I46-6.5),\"NA\")","v":68.089200000000005},68.61,{"$f":"IF(OR('Input - Capacity Factors'!$C$3=\"Wind\"),IF(K46*'AVOID NEW'!$E$67<6.5,K46*(1-'AVOID NEW'!$E$67),K46-6.5),\"NA\")","v":63.121200000000002},null,56.16,{"$f":"IF(OR('Input - Capacity Factors'!$C$3=\"Wind\"),IF(N46*'AVOID NEW'!$E$67<6.5,N46*(1-'AVOID NEW'!$E$67),N46-6.5),\"NA\")","v":51.667200000000001},57.56,{"$f":"IF(OR('Input - Capacity Factors'!$C$3=\"Wind\"),IF(P46*'AVOID NEW'!$E$67<6.5,P46*(1-'AVOID NEW'!$E$67),P46-6.5),\"NA\")","v":52.955200000000005},53.36,{"$f":"IF(OR('Input - Capacity Factors'!$C$3=\"Wind\"),IF(R46*'AVOID NEW'!$E$67<6.5,R46*(1-'AVOID NEW'!$E$67),R46-6.5),\"NA\")","v":49.091200000000001},null,null,66.849999999999994,{"$f":"IF(OR('Input - Capacity Factors'!$C$3=\"Wind\"),IF(V46*'AVOID NEW'!$E$67<6.5,V46*(1-'AVOID NEW'!$E$67),V46-6.5),\"NA\")","v":61.501999999999995},68.52,{"$f":"IF(OR('Input - Capacity Factors'!$C$3=\"Wind\"),IF(X46*'AVOID NEW'!$E$67<6.5,X46*(1-'AVOID NEW'!$E$67),X46-6.5),\"NA\")","v":63.038399999999996},63.52,{"$f":"IF(OR('Input - Capacity Factors'!$C$3=\"Wind\"),IF(Z46*'AVOID NEW'!$E$67<6.5,Z46*(1-'AVOID NEW'!$E$67),Z46-6.5),\"NA\")","v":58.438400000000009}]

{"sheet":"IPCo NF HLH LLH Levelized","index":9,"n_rows":201,"n_cols":26,"rows_kept":201,"cut":false,"hidden":false,"merged":[[179,21,180,21],[179,23,180,23],[179,11,180,11],[179,14,180,14],[179,16,180,16],[178,15,178,16],[176,1,176,25],[179,25,180,25],[179,7,180,7],[179,9,180,9],[145,1,146,1],[145,2,145,4],[145,6,145,11],[145,13,145,18],[147,25,148,25],[179,18,180,18],[178,13,178,14],[178,17,178,18],[178,20,178,21],[178,22,178,23],[178,24,178,25],[177,1,178,1],[177,2,177,4],[177,6,177,11],[177,13,177,18],[177,20,177,25],[178,2,179,2],[178,3,178,4],[178,6,178,7],[178,8,178,9],[178,10,178,11],[147,23,148,23],[146,13,146,14],[146,15,146,16],[146,17,146,18],[146,20,146,21],[115,7,116,7],[115,9,116,9],[115,11,116,11],[115,14,116,14],[115,16,116,16],[112,1,112,25],[115,18,116,18],[114,13,114,14],[114,15,114,16],[114,17,114,18],[114,20,114,21],[114,22,114,23],[114,24,114,25],[113,1,114,1],[113,2,113,4],[113,6,113,11],[113,13,113,18],[113,20,113,25],[114,2,115,2],[114,3,114,4],[114,6,114,7],[114,8,114,9],[114,10,114,11],[115,25,116,25],[115,21,116,21],[115,23,116,23],[51,7,52,7],[51,9,52,9],[51,11,52,11],[51,14,52,14],[51,16,52,16],[51,18,52,18],[81,20,81,25],[76,1,76,25],[77,1,77,25],[78,1,78,25],[79,1,79,25],[80,1,80,25],[108,1,108,25],[109,1,109,25],[110,1,110,25],[111,1,111,25],[81,1,82,1],[81,2,81,4],[81,6,81,11],[81,13,81,18],[82,2,83,2],[82,3,82,4],[82,6,82,7],[82,8,82,9],[82,10,82,11],[82,22,82,23],[82,24,82,25],[83,7,84,7],[83,9,84,9],[83,11,84,11],[83,14,84,14],[83,16,84,16],[83,18,84,18],[83,21,84,21],[83,23,84,23],[82,13,82,14],[82,15,82,16],[82,17,82,18],[82,20,82,21],[83,25,84,25],[44,1,44,25],[45,1,45,25],[46,1,46,25],[47,1,47,25],[48,1,48,25],[50,13,50,14],[50,15,50,16],[50,17,50,18],[50,20,50,21],[50,22,50,23],[50,24,50,25],[49,1,50,1],[49,2,49,4],[49,6,49,11],[49,13,49,18],[49,20,49,25],[50,2,51,2],[50,3,50,4],[50,6,50,7],[50,8,50,9],[50,10,50,11],[51,21,52,21],[51,23,52,23],[51,25,52,25],[18,24,18,25],[19,7,20,7],[19,9,20,9],[19,11,20,11],[19,14,20,14],[19,16,20,16],[19,18,20,18],[19,21,20,21],[19,23,20,23],[17,1,18,1],[17,2,17,4],[17,6,17,11],[17,13,17,18],[0,1,0,25],[1,1,1,25],[2,1,2,25],[12,1,12,25],[13,1,13,25],[14,1,14,25],[15,1,15,25],[16,1,16,25],[17,20,17,25],[18,2,19,2],[18,3,18,4],[18,6,18,7],[18,8,18,9],[18,10,18,11],[18,13,18,14],[18,15,18,16],[18,17,18,18],[18,20,18,21],[19,25,20,25],[18,22,18,23],[140,1,140,25],[141,1,141,25],[142,1,142,25],[143,1,143,25],[144,1,144,25],[172,1,172,25],[173,1,173,25],[174,1,174,25],[175,1,175,25],[145,20,145,25],[146,2,147,2],[146,3,146,4],[146,6,146,7],[146,8,146,9],[146,10,146,11],[146,22,146,23],[146,24,146,25],[147,7,148,7],[147,9,148,9],[147,11,148,11],[147,14,148,14],[147,16,148,16],[147,18,148,18],[147,21,148,21]]}
[null,{"$f":"IF('AVOID NEW'!E105=\"IPCo\",\"IDAHO POWER\",\"THESE RATES ARE NOT VALID\")","v":"IDAHO POWER"}]
[null,"AVOIDED COST RATES FOR NON-FUELED PROJECTS"]
[null,"Eligibility for these rates is limited to wind and solar projects 100 kW or smaller, and to non-wind and non-solar projects smaller than 10 aMW"]
[]
[null,"Seasonalization Factors"]
[]
[null,"Season 1",null,{"$f":"'AVOID NEW'!E72","v":0.73499999999999999},"(Applied to March - May)"]
[null,"Season 2",null,{"$f":"'AVOID NEW'!E73","v":1.2},"(Applied to July, August, November, and December)"]
[null,"Season 3",null,{"$f":"'AVOID NEW'!E74","v":1},"(Applied to January, February, June, September, and October)"]
[]
[]
[]
[null,{"$f":"$B$1","v":"IDAHO POWER"}]
[null,"LEVELIZED RATES"]
[null,{"$f":"\"PROJECT ON-LINE IN \"& 'AVOID NEW'!$D$54","v":"PROJECT ON-LINE IN 2022"}]
[null,{"$f":"\"Rate Effective Date: \"&'AVOID NEW'!$E$69","v":"Rate Effective Date: XXXX, 2022"}]
[null,{"$f":"\"Resource:  \"&'Input - Capacity Factors'!$C$3","v":"Resource:  Wind"}]
[null,null,"Levelized Price",null,null,null,{"$f":"\"Season 1 Pricing (\"&100*$D$7&\"%)\"","v":"Season 1 Pricing (73.5%)"},null,null,null,null,null,null,{"$f":"\"Season 2 Pricing (\"&100*$D$8&\"%)\"","v":"Season 2 Pricing (120%)"},null,null,null,null,null,null,{"$f":"\"Season 3 Pricing (\"&100*$D$9&\"%)\"","v":"Season 3 Pricing (100%)"}]
[null,null,"Heavy and Light Load Hour Differential",{"$f":"'AVOID NEW'!$D$66","v":7.28},null,null,"Flat",null,"Heavy Load Hour",null,"Light Load Hour",null,null,"Flat",null,"Heavy Load Hour",null,"Light Load Hour",null,null,"Flat",null,"Heavy Load Hour",null,"Light Load Hour"]
[null,null,null,{"$f":"D19*0.445","v":3.2396000000000003},{"$f":"-(D19-D20)","v":-4.0404},null,null,"Final avoided cost rates for wind and solar QFs include integration charges from Schedule 87",null,{"$f":"H20","v":"Final avoided cost rates for wind and solar QFs include integration charges from Schedule 87"},null,{"$f":"H20","v":"Final avoided cost rates for wind and solar QFs include integration charges from Schedule 87"},null,null,{"$f":"H20","v":"Final avoided cost rates for wind and solar QFs include integration charges from Schedule 87"},null,{"$f":"H20","v":"Final avoided cost rates for wind and solar QFs include integration charges from Schedule 87"},null,{"$f":"H20","v":"Final avoided cost rates for wind and solar QFs include integration charges from Schedule 87"},null,null,{"$f":"H20","v":"Final avoided cost rates for wind and solar QFs include integration charges from Schedule 87"},null,{"$f":"H20","v":"Final avoided cost rates for wind and solar QFs include integration charges from Schedule 87"},null,{"$f":"H20","v":"Final avoided cost rates for wind and solar QFs include integration charges from Schedule 87"}]
[null,"Contract Length","Flat","Heavy Load Hour","Light Load Hour",null,"Price",null,"Price",null,"Price",null,null,"Price",null,"Price",null,"Price",null,null,"Price",null,"Price",null,"Price"]
[null,1,{"$f":"'AVOID NEW'!AN9","v":33.419966110621289},{"$f":"C22+D$20","v":36.659566110621292},{"$f":"C22+E$20","v":29.37956611062129},null,{"$f":"ROUND((+$C22*$D$7),2)","v":24.56},"NA",{"$f":"ROUND((+$D22*$D$7),2)","v":26.94},"NA",{"$f":"ROUND((+$E22*$D$7),2)","v":21.59},"NA",null,{"$f":"ROUND((+$C22*$D$8),2)","v":40.1},"NA",{"$f":"ROUND((+$D22*$D$8),2)","v":43.99},"NA",{"$f":"ROUND((+$E22*$D$8),2)","v":35.26},"NA",null,{"$f":"ROUND((+$C22*$D$9),2)","v":33.42},"NA",{"$f":"ROUND((+$D22*$D$9),2)","v":36.659999999999997},"NA",{"$f":"ROUND((+$E22*$D$9),2)","v":29.38},"NA"]
[null,2,{"$f":"'AVOID NEW'!AN10","v":34.439473967995994},37.679073967995997,30.399073967995996,null,25.31,"NA",27.69,"NA",22.34,"NA",null,41.33,"NA",45.21,"NA",36.479999999999997,"NA",null,{"$f":"ROUND((+$C23*$D$9),2)","v":34.44},"NA",{"$f":"ROUND((+$D23*$D$9),2)","v":37.68},"NA",{"$f":"ROUND((+$E23*$D$9),2)","v":30.4},"NA"]
[null,3,{"$f":"'AVOID NEW'!AN11","v":34.20998642313014},37.449586423130143,30.169586423130141,null,25.14,"NA",27.53,"NA",22.17,"NA",null,41.05,"NA",44.94,"NA",36.200000000000003,"NA",null,34.21,"NA",37.450000000000003,"NA",30.17,"NA"]
[null,4,{"$f":"'AVOID NEW'!AN12","v":33.989101272331553},37.228701272331556,29.948701272331554,null,24.98,"NA",27.36,"NA",22.01,"NA",null,40.79,"NA",44.67,"NA",35.94,"NA",null,33.99,"NA",37.229999999999997,"NA",29.95,"NA"]
[null,5,{"$f":"'AVOID NEW'!AN13","v":34.070746214974278},37.310346214974281,30.03034621497428,null,25.04,"NA",27.42,"NA",22.07,"NA",null,40.880000000000003,"NA",44.77,"NA",36.04,"NA",null,34.07,"NA",37.31,"NA",30.03,"NA"]
[null,6,{"$f":"'AVOID NEW'!AN14","v":34.398112521361604},37.637712521361607,30.357712521361606,null,25.28,"NA",27.66,"NA",22.31,"NA",null,41.28,"NA",45.17,"NA",36.43,"NA",null,34.4,"NA",37.64,"NA",30.36,"NA"]
[null,7,{"$f":"'AVOID NEW'!AN15","v":34.907693947113799},38.147293947113802,30.867293947113801,null,25.66,"NA",28.04,"NA",22.69,"NA",null,41.89,"NA",45.78,"NA",37.04,"NA",null,34.909999999999997,"NA",38.15,"NA",30.87,"NA"]
[null,8,{"$f":"'AVOID NEW'!AN16","v":35.491379593873297},38.7309795938733,31.450979593873299,null,26.09,"NA",28.47,"NA",23.12,"NA",null,42.59,"NA",46.48,"NA",37.74,"NA",null,35.49,"NA",38.729999999999997,"NA",31.45,"NA"]
[null,9,{"$f":"'AVOID NEW'!AN17","v":36.07864341903943},39.318243419039433,32.038243419039432,null,26.52,"NA",28.9,"NA",23.55,"NA",null,43.29,"NA",47.18,"NA",38.450000000000003,"NA",null,36.08,"NA",39.32,"NA",32.04,"NA"]
[null,10,{"$f":"'AVOID NEW'!AN18","v":36.645726804555231},39.885326804555234,32.605326804555233,null,26.93,"NA",29.32,"NA",23.96,"NA",null,43.97,"NA",47.86,"NA",39.130000000000003,"NA",null,36.65,"NA",39.89,"NA",32.61,"NA"]
[null,11,{"$f":"'AVOID NEW'!AN19","v":37.206368133146107},40.44596813314611,33.165968133146109,null,27.35,"NA",29.73,"NA",24.38,"NA",null,44.65,"NA",48.54,"NA",39.799999999999997,"NA",null,37.21,"NA",40.450000000000003,"NA",33.17,"NA"]
[null,12,{"$f":"'AVOID NEW'!AN20","v":37.753822522231943},40.993422522231945,33.713422522231944,null,27.75,"NA",30.13,"NA",24.78,"NA",null,45.3,"NA",49.19,"NA",40.46,"NA",null,37.75,"NA",40.99,"NA",33.71,"NA"]
[null,13,{"$f":"'AVOID NEW'!AN21","v":38.265430990083907},41.50503099008391,34.225030990083908,null,28.13,"NA",30.51,"NA",25.16,"NA",null,45.92,"NA",49.81,"NA",41.07,"NA",null,38.270000000000003,"NA",41.51,"NA",34.229999999999997,"NA"]
[null,14,{"$f":"'AVOID NEW'!AN22","v":38.731227218796441},41.970827218796444,34.690827218796443,null,28.47,"NA",30.85,"NA",25.5,"NA",null,46.48,"NA",50.36,"NA",41.63,"NA",null,38.729999999999997,"NA",41.97,"NA",34.69,"NA"]
[null,15,{"$f":"'AVOID NEW'!AN23","v":39.171050990670153},42.410650990670156,35.130650990670155,null,28.79,"NA",31.17,"NA",25.82,"NA",null,47.01,"NA",50.89,"NA",42.16,"NA",null,39.17,"NA",42.41,"NA",35.130000000000003,"NA"]
[null,16,{"$f":"'AVOID NEW'!AN24","v":39.584400873632426},42.824000873632428,35.544000873632427,null,29.09,"NA",31.48,"NA",26.12,"NA",null,47.5,"NA",51.39,"NA",42.65,"NA",null,39.58,"NA",42.82,"NA",35.54,"NA"]
[null,17,{"$f":"'AVOID NEW'!AN25","v":39.981755334729435},43.221355334729438,35.941355334729437,null,29.39,"NA",31.77,"NA",26.42,"NA",null,47.98,"NA",51.87,"NA",43.13,"NA",null,39.979999999999997,"NA",43.22,"NA",35.94,"NA"]
[null,18,{"$f":"'AVOID NEW'!AN26","v":40.363133557953255},43.602733557953258,36.322733557953256,null,29.67,"NA",32.049999999999997,"NA",26.7,"NA",null,48.44,"NA",52.32,"NA",43.59,"NA",null,40.36,"NA",43.6,"NA",36.32,"NA"]
[null,19,{"$f":"'AVOID NEW'!AN27","v":40.736731423491676},43.976331423491679,36.696331423491678,null,29.94,"NA",32.32,"NA",26.97,"NA",null,48.88,"NA",52.77,"NA",44.04,"NA",null,40.74,"NA",43.98,"NA",36.700000000000003,"NA"]
[null,20,{"$f":"'AVOID NEW'!AN28","v":41.09813936084393},44.337739360843933,37.057739360843932,null,30.21,"NA",32.590000000000003,"NA",27.24,"NA",null,49.32,"NA",53.21,"NA",44.47,"NA",null,41.1,"NA",44.34,"NA",37.06,"NA"]
[]
[]
[]
[null,{"$f":"$B$1","v":"IDAHO POWER"}]
[null,"LEVELIZED RATES"]
[null,{"$f":"\"PROJECT ON-LINE IN \"& 'AVOID NEW'!$D$54+1","v":"PROJECT ON-LINE IN 2023"}]
[null,{"$f":"\"Rate Effective Date: \"&'AVOID NEW'!$E$69","v":"Rate Effective Date: XXXX, 2022"}]
[null,{"$f":"\"Resource:  \"&'Input - Capacity Factors'!$C$3","v":"Resource:  Wind"}]
[null,null,"Levelized Price",null,null,null,{"$f":"\"Season 1 Pricing (\"&100*$D$7&\"%)\"","v":"Season 1 Pricing (73.5%)"},null,null,null,null,null,null,{"$f":"\"Season 2 Pricing (\"&100*$D$8&\"%)\"","v":"Season 2 Pricing (120%)"},null,null,null,null,null,null,{"$f":"\"Season 3 Pricing (\"&100*$D$9&\"%)\"","v":"Season 3 Pricing (100%)"}]
[null,null,"Heavy and Light Load Hour Differential",{"$f":"'AVOID NEW'!$D$66","v":7.28},null,null,"Flat",null,"Heavy Load Hour",null,"Light Load Hour",null,null,"Flat",null,"Heavy Load Hour",null,"Light Load Hour",null,null,"Flat",null,"Heavy Load Hour",null,"Light Load Hour"]
[null,null,null,{"$f":"D51*0.445","v":3.2396000000000003},{"$f":"-(D51-D52)","v":-4.0404},null,null,{"$f":"H20","v":"Final avoided cost rates for wind and solar QFs include integration charges from Schedule 87"},null,{"$f":"H20","v":"Final avoided cost rates for wind and solar QFs include integration charges from Schedule 87"},null,{"$f":"H20","v":"Final avoided cost rates for wind and solar QFs include integration charges from Schedule 87"},null,null,{"$f":"H20","v":"Final avoided cost rates for wind and solar QFs include integration charges from Schedule 87"},null,{"$f":"H20","v":"Final avoided cost rates for wind and solar QFs include integration charges from Schedule 87"},null,{"$f":"H20","v":"Final avoided cost rates for wind and solar QFs include integration charges from Schedule 87"},null,null,{"$f":"H20","v":"Final avoided cost rates for wind and solar QFs include integration charges from Schedule 87"},null,{"$f":"H20","v":"Final avoided cost rates for wind and solar QFs include integration charges from Schedule 87"},null,{"$f":"H20","v":"Final avoided cost rates for wind and solar QFs include integration charges from Schedule 87"}]
[null,"Contract Length","Flat","Heavy Load Hour","Light Load Hour",null,"Price",null,"Price",null,"Price",null,null,"Price",null,"Price",null,"Price",null,null,"Price",null,"Price",null,"Price"]
[null,1,{"$f":"'AVOID NEW'!AO9","v":35.542378761947646},{"$f":"C54+D$52","v":38.781978761947649},{"$f":"C54+E$52","v":31.501978761947647},null,{"$f":"ROUND((+$C54*$D$7),2)","v":26.12},"NA",{"$f":"ROUND((+$D54*$D$7),2)","v":28.5},"NA",{"$f":"ROUND((+$E54*$D$7),2)","v":23.15},"NA",null,{"$f":"ROUND((+$C54*$D$8),2)","v":42.65},"NA",{"$f":"ROUND((+$D54*$D$8),2)","v":46.54},"NA",{"$f":"ROUND((+$E54*$D$8),2)","v":37.799999999999997},"NA",null,{"$f":"ROUND((+$C54*$D$9),2)","v":35.54},"NA",{"$f":"ROUND((+$D54*$D$9),2)","v":38.78},"NA",{"$f":"ROUND((+$E54*$D$9),2)","v":31.5},"NA"]
[null,2,{"$f":"'AVOID NEW'!AO10","v":34.654099850294891},37.893699850294894,30.613699850294893,null,25.47,"NA",27.85,"NA",22.5,"NA",null,41.58,"NA",45.47,"NA",36.74,"NA",null,{"$f":"ROUND((+$C55*$D$9),2)","v":34.65},"NA",{"$f":"ROUND((+$D55*$D$9),2)","v":37.89},"NA",{"$f":"ROUND((+$E55*$D$9),2)","v":30.61},"NA"]
[null,3,{"$f":"'AVOID NEW'!AO11","v":34.210662897928117},37.45026289792812,30.170262897928119,null,25.14,"NA",27.53,"NA",22.18,"NA",null,41.05,"NA",44.94,"NA",36.200000000000003,"NA",null,34.21,"NA",37.450000000000003,"NA",30.17,"NA"]
[null,4,{"$f":"'AVOID NEW'!AO12","v":34.268018594496468},37.507618594496471,30.227618594496469,null,25.19,"NA",27.57,"NA",22.22,"NA",null,41.12,"NA",45.01,"NA",36.270000000000003,"NA",null,34.270000000000003,"NA",37.51,"NA",30.23,"NA"]
[null,5,{"$f":"'AVOID NEW'!AO13","v":34.644259701846224},37.883859701846227,30.603859701846226,null,25.46,"NA",27.84,"NA",22.49,"NA",null,41.57,"NA",45.46,"NA",36.72,"NA",null,34.64,"NA",37.880000000000003,"NA",30.6,"NA"]
[null,6,{"$f":"'AVOID NEW'!AO14","v":35.231272870458135},38.470872870458138,31.190872870458136,null,25.89,"NA",28.28,"NA",22.93,"NA",null,42.28,"NA",46.17,"NA",37.43,"NA",null,35.229999999999997,"NA",38.47,"NA",31.19,"NA"]
[null,7,{"$f":"'AVOID NEW'!AO15","v":35.891695147035314},39.131295147035317,31.851295147035316,null,26.38,"NA",28.76,"NA",23.41,"NA",null,43.07,"NA",46.96,"NA",38.22,"NA",null,35.89,"NA",39.130000000000003,"NA",31.85,"NA"]
[null,8,{"$f":"'AVOID NEW'!AO16","v":36.544459717959974},39.784059717959977,32.504059717959976,null,26.86,"NA",29.24,"NA",23.89,"NA",null,43.85,"NA",47.74,"NA",39,"NA",null,36.54,"NA",39.78,"NA",32.5,"NA"]
[null,9,{"$f":"'AVOID NEW'!AO17","v":37.16597985210128},40.405579852101283,33.125579852101282,null,27.32,"NA",29.7,"NA",24.35,"NA",null,44.6,"NA",48.49,"NA",39.75,"NA",null,37.17,"NA",40.409999999999997,"NA",33.130000000000003,"NA"]
[null,10,{"$f":"'AVOID NEW'!AO18","v":37.775246524288875},41.014846524288878,33.734846524288876,null,27.76,"NA",30.15,"NA",24.8,"NA",null,45.33,"NA",49.22,"NA",40.479999999999997,"NA",null,37.78,"NA",41.01,"NA",33.729999999999997,"NA"]
[null,11,{"$f":"'AVOID NEW'!AO19","v":38.366208560486044},41.605808560486047,34.325808560486045,null,28.2,"NA",30.58,"NA",25.23,"NA",null,46.04,"NA",49.93,"NA",41.19,"NA",null,38.369999999999997,"NA",41.61,"NA",34.33,"NA"]
[null,12,{"$f":"'AVOID NEW'!AO20","v":38.91441317860972},42.154013178609723,34.874013178609722,null,28.6,"NA",30.98,"NA",25.63,"NA",null,46.7,"NA",50.58,"NA",41.85,"NA",null,38.909999999999997,"NA",42.15,"NA",34.869999999999997,"NA"]
[null,13,{"$f":"'AVOID NEW'!AO21","v":39.409889766925467},42.64948976692547,35.369489766925469,null,28.97,"NA",31.35,"NA",26,"NA",null,47.29,"NA",51.18,"NA",42.44,"NA",null,39.409999999999997,"NA",42.65,"NA",35.369999999999997,"NA"]
[null,14,{"$f":"'AVOID NEW'!AO22","v":39.875954740388856},43.115554740388859,35.835554740388858,null,29.31,"NA",31.69,"NA",26.34,"NA",null,47.85,"NA",51.74,"NA",43,"NA",null,39.880000000000003,"NA",43.12,"NA",35.840000000000003,"NA"]
[null,15,{"$f":"'AVOID NEW'!AO23","v":40.312528940668287},43.55212894066829,36.272128940668289,null,29.63,"NA",32.01,"NA",26.66,"NA",null,48.38,"NA",52.26,"NA",43.53,"NA",null,40.31,"NA",43.55,"NA",36.270000000000003,"NA"]
[null,16,{"$f":"'AVOID NEW'!AO24","v":40.7316439523415},43.971243952341503,36.691243952341502,null,29.94,"NA",32.32,"NA",26.97,"NA",null,48.88,"NA",52.77,"NA",44.03,"NA",null,40.729999999999997,"NA",43.97,"NA",36.69,"NA"]
[null,17,{"$f":"'AVOID NEW'!AO25","v":41.133477728051339},44.373077728051342,37.093077728051341,null,30.23,"NA",32.61,"NA",27.26,"NA",null,49.36,"NA",53.25,"NA",44.51,"NA",null,41.13,"NA",44.37,"NA",37.090000000000003,"NA"]
[null,18,{"$f":"'AVOID NEW'!AO26","v":41.527226618825061},44.766826618825064,37.486826618825063,null,30.52,"NA",32.9,"NA",27.55,"NA",null,49.83,"NA",53.72,"NA",44.98,"NA",null,41.53,"NA",44.77,"NA",37.49,"NA"]
[null,19,{"$f":"'AVOID NEW'!AO27","v":41.908037611359106},45.147637611359109,37.867637611359108,null,30.8,"NA",33.18,"NA",27.83,"NA",null,50.29,"NA",54.18,"NA",45.44,"NA",null,41.91,"NA",45.15,"NA",37.869999999999997,"NA"]
[null,20,{"$f":"'AVOID NEW'!AO28","v":42.269312783325852},45.508912783325854,38.228912783325853,null,31.07,"NA",33.450000000000003,"NA",28.1,"NA",null,50.72,"NA",54.61,"NA",45.87,"NA",null,42.27,"NA",45.51,"NA",38.229999999999997,"NA"]
[]
[]
[]
[null,{"$f":"$B$1","v":"IDAHO POWER"}]
[null,"LEVELIZED RATES"]
[null,{"$f":"\"PROJECT ON-LINE IN \"& 'AVOID NEW'!$D$54+2","v":"PROJECT ON-LINE IN 2024"}]
[null,{"$f":"\"Rate Effective Date: \"&'AVOID NEW'!$E$69","v":"Rate Effective Date: XXXX, 2022"}]
[null,{"$f":"\"Resource:  \"&'Input - Capacity Factors'!$C$3","v":"Resource:  Wind"}]
[null,null,"Levelized Price",null,null,null,{"$f":"\"Season 1 Pricing (\"&100*$D$7&\"%)\"","v":"Season 1 Pricing (73.5%)"},null,null,null,null,null,null,{"$f":"\"Season 2 Pricing (\"&100*$D$8&\"%)\"","v":"Season 2 Pricing (120%)"},null,null,null,null,null,null,{"$f":"\"Season 3 Pricing (\"&100*$D$9&\"%)\"","v":"Season 3 Pricing (100%)"}]
[null,null,"Heavy and Light Load Hour Differential",{"$f":"'AVOID NEW'!$D$66","v":7.28},null,null,"Flat",null,"Heavy Load Hour",null,"Light Load Hour",null,null,"Flat",null,"Heavy Load Hour",null,"Light Load Hour",null,null,"Flat",null,"Heavy Load Hour",null,"Light Load Hour"]
[null,null,null,{"$f":"D83*0.445","v":3.2396000000000003},{"$f":"-(D83-D84)","v":-4.0404},null,null,{"$f":"H20","v":"Final avoided cost rates for wind and solar QFs include integration charges from Schedule 87"},null,{"$f":"H20","v":"Final avoided cost rates for wind and solar QFs include integration charges from Schedule 87"},null,{"$f":"H20","v":"Final avoided cost rates for wind and solar QFs include integration charges from Schedule 87"},null,null,{"$f":"H20","v":"Final avoided cost rates for wind and solar QFs include integration charges from Schedule 87"},null,{"$f":"H20","v":"Final avoided cost rates for wind and solar QFs include integration charges from Schedule 87"},null,{"$f":"H20","v":"Final avoided cost rates for wind and solar QFs include integration charges from Schedule 87"},null,null,{"$f":"H20","v":"Final avoided cost rates for wind and solar QFs include integration charges from Schedule 87"},null,{"$f":"H20","v":"Final avoided cost rates for wind and solar QFs include integration charges from Schedule 87"},null,{"$f":"H20","v":"Final avoided cost rates for wind and solar QFs include integration charges from Schedule 87"}]
[null,"Contract Length","Flat","Heavy Load Hour","Light Load Hour",null,"Price",null,"Price",null,"Price",null,null,"Price",null,"Price",null,"Price",null,null,"Price",null,"Price",null,"Price"]
[null,1,{"$f":"'AVOID NEW'!AP9","v":33.693158683494346},{"$f":"C86+D$84","v":36.932758683494349},{"$f":"C86+E$84","v":29.652758683494348},null,{"$f":"ROUND((+$C86*$D$7),2)","v":24.76},"NA",{"$f":"ROUND((+$D86*$D$7),2)","v":27.15},"NA",{"$f":"ROUND((+$E86*$D$7),2)","v":21.79},"NA",null,{"$f":"ROUND((+$C86*$D$8),2)","v":40.43},"NA",{"$f":"ROUND((+$D86*$D$8),2)","v":44.32},"NA",{"$f":"ROUND((+$E86*$D$8),2)","v":35.58},"NA",null,{"$f":"ROUND((+$C86*$D$9),2)","v":33.69},"NA",{"$f":"ROUND((+$D86*$D$9),2)","v":36.93},"NA",{"$f":"ROUND((+$E86*$D$9),2)","v":29.65},"NA"]
[null,2,{"$f":"'AVOID NEW'!AP10","v":33.462032910806386},36.701632910806389,29.421632910806387,null,24.59,"NA",26.98,"NA",21.62,"NA",null,40.15,"NA",44.04,"NA",35.31,"NA",null,{"$f":"ROUND((+$C87*$D$9),2)","v":33.46},"NA",{"$f":"ROUND((+$D87*$D$9),2)","v":36.700000000000003},"NA",{"$f":"ROUND((+$E87*$D$9),2)","v":29.42},"NA"]
[null,3,{"$f":"'AVOID NEW'!AP11","v":33.77191621092993},37.011516210929933,29.731516210929932,null,24.82,"NA",27.2,"NA",21.85,"NA",null,40.53,"NA",44.41,"NA",35.68,"NA",null,33.770000000000003,"NA",37.01,"NA",29.73,"NA"]
[null,4,{"$f":"'AVOID NEW'!AP12","v":34.372010930110029},37.611610930110032,30.331610930110031,null,25.26,"NA",27.64,"NA",22.29,"NA",null,41.25,"NA",45.13,"NA",36.4,"NA",null,34.369999999999997,"NA",37.61,"NA",30.33,"NA"]
[null,5,{"$f":"'AVOID NEW'!AP13","v":35.152984142736543},38.392584142736546,31.112584142736544,null,25.84,"NA",28.22,"NA",22.87,"NA",null,42.18,"NA",46.07,"NA",37.340000000000003,"NA",null,35.15,"NA",38.39,"NA",31.11,"NA"]
[null,6,{"$f":"'AVOID NEW'!AP14","v":35.967671019113965},39.207271019113968,31.927271019113967,null,26.44,"NA",28.82,"NA",23.47,"NA",null,43.16,"NA",47.05,"NA",38.31,"NA",null,35.97,"NA",39.21,"NA",31.93,"NA"]
[null,7,{"$f":"'AVOID NEW'!AP15","v":36.738119069635822},39.977719069635825,32.697719069635824,null,27,"NA",29.38,"NA",24.03,"NA",null,44.09,"NA",47.97,"NA",39.24,"NA",null,36.74,"NA",39.979999999999997,"NA",32.700000000000003,"NA"]
[null,8,{"$f":"'AVOID NEW'!AP16","v":37.450444555036114},40.690044555036117,33.410044555036116,null,27.53,"NA",29.91,"NA",24.56,"NA",null,44.94,"NA",48.83,"NA",40.090000000000003,"NA",null,37.450000000000003,"NA",40.69,"NA",33.409999999999997,"NA"]
[null,9,{"$f":"'AVOID NEW'!AP17","v":38.135365072546293},41.374965072546296,34.094965072546294,null,28.03,"NA",30.41,"NA",25.06,"NA",null,45.76,"NA",49.65,"NA",40.909999999999997,"NA",null,38.14,"NA",41.37,"NA",34.090000000000003,"NA"]
[null,10,{"$f":"'AVOID NEW'!AP18","v":38.790467723432059},42.030067723432062,34.750067723432061,null,28.51,"NA",30.89,"NA",25.54,"NA",null,46.55,"NA",50.44,"NA",41.7,"NA",null,38.79,"NA",42.03,"NA",34.75,"NA"]
[null,11,{"$f":"'AVOID NEW'!AP19","v":39.390891077541461},42.630491077541464,35.350491077541463,null,28.95,"NA",31.33,"NA",25.98,"NA",null,47.27,"NA",51.16,"NA",42.42,"NA",null,39.39,"NA",42.63,"NA",35.35,"NA"]
[null,12,{"$f":"'AVOID NEW'!AP20","v":39.927888724424136},43.167488724424139,35.887488724424138,null,29.35,"NA",31.73,"NA",26.38,"NA",null,47.91,"NA",51.8,"NA",43.06,"NA",null,39.93,"NA",43.17,"NA",35.89,"NA"]
[null,13,{"$f":"'AVOID NEW'!AP21","v":40.429690596363365},43.669290596363368,36.389290596363367,null,29.72,"NA",32.1,"NA",26.75,"NA",null,48.52,"NA",52.4,"NA",43.67,"NA",null,40.43,"NA",43.67,"NA",36.39,"NA"]
[null,14,{"$f":"'AVOID NEW'!AP22","v":40.897200670930218},44.136800670930221,36.85680067093022,null,30.06,"NA",32.44,"NA",27.09,"NA",null,49.08,"NA",52.96,"NA",44.23,"NA",null,40.9,"NA",44.14,"NA",36.86,"NA"]
[null,15,{"$f":"'AVOID NEW'!AP23","v":41.344587357159419},44.584187357159422,37.304187357159421,null,30.39,"NA",32.770000000000003,"NA",27.42,"NA",null,49.61,"NA",53.5,"NA",44.77,"NA",null,41.34,"NA",44.58,"NA",37.299999999999997,"NA"]
[null,16,{"$f":"'AVOID NEW'!AP24","v":41.772434776415473},45.012034776415476,37.732034776415475,null,30.7,"NA",33.08,"NA",27.73,"NA",null,50.13,"NA",54.01,"NA",45.28,"NA",null,41.77,"NA",45.01,"NA",37.729999999999997,"NA"]
[null,17,{"$f":"'AVOID NEW'!AP25","v":42.191245265997566},45.430845265997569,38.150845265997567,null,31.01,"NA",33.39,"NA",28.04,"NA",null,50.63,"NA",54.52,"NA",45.78,"NA",null,42.19,"NA",45.43,"NA",38.15,"NA"]
[null,18,{"$f":"'AVOID NEW'!AP26","v":42.595776321078255},45.835376321078257,38.555376321078256,null,31.31,"NA",33.69,"NA",28.34,"NA",null,51.11,"NA",55,"NA",46.27,"NA",null,42.6,"NA",45.84,"NA",38.56,"NA"]
[null,19,{"$f":"'AVOID NEW'!AP27","v":42.978873758013059},46.218473758013062,38.93847375801306,null,31.59,"NA",33.97,"NA",28.62,"NA",null,51.57,"NA",55.46,"NA",46.73,"NA",null,42.98,"NA",46.22,"NA",38.94,"NA"]
[null,20,{"$f":"'AVOID NEW'!AP28","v":43.349180278074648},46.588780278074651,39.30878027807465,null,31.86,"NA",34.24,"NA",28.89,"NA",null,52.02,"NA",55.91,"NA",47.17,"NA",null,43.35,"NA",46.59,"NA",39.31,"NA"]
[]
[]
[]
[null,{"$f":"$B$1","v":"IDAHO POWER"}]
[null,"LEVELIZED RATES"]
[null,{"$f":"\"PROJECT ON-LINE IN \"& 'AVOID NEW'!$D$54+3","v":"PROJECT ON-LINE IN 2025"}]
[null,{"$f":"\"Rate Effective Date: \"&'AVOID NEW'!$E$69","v":"Rate Effective Date: XXXX, 2022"}]
[null,{"$f":"\"Resource:  \"&'Input - Capacity Factors'!$C$3","v":"Resource:  Wind"}]
[null,null,"Levelized Price",null,null,null,{"$f":"\"Season 1 Pricing (\"&100*$D$7&\"%)\"","v":"Season 1 Pricing (73.5%)"},null,null,null,null,null,null,{"$f":"\"Season 2 Pricing (\"&100*$D$8&\"%)\"","v":"Season 2 Pricing (120%)"},null,null,null,null,null,null,{"$f":"\"Season 3 Pricing (\"&100*$D$9&\"%)\"","v":"Season 3 Pricing (100%)"}]
[null,null,"Heavy and Light Load Hour Differential",{"$f":"'AVOID NEW'!$D$66","v":7.28},null,null,"Flat",null,"Heavy Load Hour",null,"Light Load Hour",null,null,"Flat",null,"Heavy Load Hour",null,"Light Load Hour",null,null,"Flat",null,"Heavy Load Hour",null,"Light Load Hour"]
[null,null,null,{"$f":"D115*0.445","v":3.2396000000000003},{"$f":"-(D115-D116)","v":-4.0404},null,null,{"$f":"H20","v":"Final avoided cost rates for wind and solar QFs include integration charges from Schedule 87"},null,{"$f":"H20","v":"Final avoided cost rates for wind and solar QFs include integration charges from Schedule 87"},null,{"$f":"H20","v":"Final avoided cost rates for wind and solar QFs include integration charges from Schedule 87"},null,null,{"$f":"H20","v":"Final avoided cost rates for wind and solar QFs include integration charges from Schedule 87"},null,{"$f":"H20","v":"Final avoided cost rates for wind and solar QFs include integration charges from Schedule 87"},null,{"$f":"H20","v":"Final avoided cost rates for wind and solar QFs include integration charges from Schedule 87"},null,null,{"$f":"H20","v":"Final avoided cost rates for wind and solar QFs include integration charges from Schedule 87"},null,{"$f":"H20","v":"Final avoided cost rates for wind and solar QFs include integration charges from Schedule 87"},null,{"$f":"H20","v":"Final avoided cost rates for wind and solar QFs include integration charges from Schedule 87"}]
[null,"Contract Length","Flat","Heavy Load Hour","Light Load Hour",null,"Price",null,"Price",null,"Price",null,null,"Price",null,"Price",null,"Price",null,null,"Price",null,"Price",null,"Price"]
[null,1,{"$f":"'AVOID NEW'!AQ9","v":33.212000779264272},{"$f":"C118+D$84","v":36.451600779264275},{"$f":"C118+E$84","v":29.171600779264274},null,{"$f":"ROUND((+$C118*$D$7),2)","v":24.41},"NA",{"$f":"ROUND((+$D118*$D$7),2)","v":26.79},"NA",{"$f":"ROUND((+$E118*$D$7),2)","v":21.44},"NA",null,{"$f":"ROUND((+$C118*$D$8),2)","v":39.85},"NA",{"$f":"ROUND((+$D118*$D$8),2)","v":43.74},"NA",{"$f":"ROUND((+$E118*$D$8),2)","v":35.01},"NA",null,{"$f":"ROUND((+$C118*$D$9),2)","v":33.21},"NA",{"$f":"ROUND((+$D118*$D$9),2)","v":36.450000000000003},"NA",{"$f":"ROUND((+$E118*$D$9),2)","v":29.17},"NA"]
[null,2,{"$f":"'AVOID NEW'!AQ10","v":33.816190104740791},37.055790104740794,29.775790104740793,null,24.85,"NA",27.24,"NA",21.89,"NA",null,40.58,"NA",44.47,"NA",35.729999999999997,"NA",null,{"$f":"ROUND((+$C119*$D$9),2)","v":33.82},"NA",{"$f":"ROUND((+$D119*$D$9),2)","v":37.06},"NA",{"$f":"ROUND((+$E119*$D$9),2)","v":29.78},"NA"]
[null,3,{"$f":"'AVOID NEW'!AQ11","v":34.636284897735003},37.875884897735006,30.595884897735004,null,25.46,"NA",27.84,"NA",22.49,"NA",null,41.56,"NA",45.45,"NA",36.72,"NA",null,34.64,"NA",37.880000000000003,"NA",30.6,"NA"]
[null,4,{"$f":"'AVOID NEW'!AQ12","v":35.595504189224606},38.835104189224609,31.555104189224608,null,26.16,"NA",28.54,"NA",23.19,"NA",null,42.71,"NA",46.6,"NA",37.869999999999997,"NA",null,35.6,"NA",38.840000000000003,"NA",31.56,"NA"]
[null,5,{"$f":"'AVOID NEW'!AQ13","v":36.540044226481257},39.77964422648126,32.499644226481259,null,26.86,"NA",29.24,"NA",23.89,"NA",null,43.85,"NA",47.74,"NA",39,"NA",null,36.54,"NA",39.78,"NA",32.5,"NA"]
[null,6,{"$f":"'AVOID NEW'!AQ14","v":37.400394103553779},40.639994103553782,33.359994103553781,null,27.49,"NA",29.87,"NA",24.52,"NA",null,44.88,"NA",48.77,"NA",40.03,"NA",null,37.4,"NA",40.64,"NA",33.36,"NA"]
[null,7,{"$f":"'AVOID NEW'!AQ15","v":38.176567071962431},41.416167071962434,34.136167071962433,null,28.06,"NA",30.44,"NA",25.09,"NA",null,45.81,"NA",49.7,"NA",40.96,"NA",null,38.18,"NA",41.42,"NA",34.14,"NA"]
[null,8,{"$f":"'AVOID NEW'!AQ16","v":38.913666422859656},42.153266422859659,34.873266422859658,null,28.6,"NA",30.98,"NA",25.63,"NA",null,46.7,"NA",50.58,"NA",41.85,"NA",null,38.909999999999997,"NA",42.15,"NA",34.869999999999997,"NA"]
[null,9,{"$f":"'AVOID NEW'!AQ17","v":39.612565459106783},42.852165459106786,35.572165459106785,null,29.12,"NA",31.5,"NA",26.15,"NA",null,47.54,"NA",51.42,"NA",42.69,"NA",null,39.61,"NA",42.85,"NA",35.57,"NA"]
[null,10,{"$f":"'AVOID NEW'!AQ18","v":40.246932464115147},43.48653246411515,36.206532464115149,null,29.58,"NA",31.96,"NA",26.61,"NA",null,48.3,"NA",52.18,"NA",43.45,"NA",null,40.25,"NA",43.49,"NA",36.21,"NA"]
[null,11,{"$f":"'AVOID NEW'!AQ19","v":40.808873525655663},44.048473525655666,36.768473525655665,null,29.99,"NA",32.380000000000003,"NA",27.02,"NA",null,48.97,"NA",52.86,"NA",44.12,"NA",null,40.81,"NA",44.05,"NA",36.770000000000003,"NA"]
[null,12,{"$f":"'AVOID NEW'!AQ20","v":41.331954740804449},44.571554740804451,37.29155474080445,null,30.38,"NA",32.76,"NA",27.41,"NA",null,49.6,"NA",53.49,"NA",44.75,"NA",null,41.33,"NA",44.57,"NA",37.29,"NA"]
[null,13,{"$f":"'AVOID NEW'!AQ21","v":41.817719054877912},45.057319054877915,37.777319054877914,null,30.74,"NA",33.119999999999997,"NA",27.77,"NA",null,50.18,"NA",54.07,"NA",45.33,"NA",null,41.82,"NA",45.06,"NA",37.78,"NA"]
[null,14,{"$f":"'AVOID NEW'!AQ22","v":42.282414023825801},45.522014023825804,38.242014023825803,null,31.08,"NA",33.46,"NA",28.11,"NA",null,50.74,"NA",54.63,"NA",45.89,"NA",null,42.28,"NA",45.52,"NA",38.24,"NA"]
[null,15,{"$f":"'AVOID NEW'!AQ23","v":42.726739252129356},45.966339252129359,38.686339252129358,null,31.4,"NA",33.79,"NA",28.43,"NA",null,51.27,"NA",55.16,"NA",46.42,"NA",null,42.73,"NA",45.97,"NA",38.69,"NA"]
[null,16,{"$f":"'AVOID NEW'!AQ24","v":43.162416113163438},46.402016113163441,39.12201611316344,null,31.72,"NA",34.11,"NA",28.75,"NA",null,51.79,"NA",55.68,"NA",46.95,"NA",null,43.16,"NA",46.4,"NA",39.119999999999997,"NA"]
[null,17,{"$f":"'AVOID NEW'!AQ25","v":43.583521416922132},46.823121416922135,39.543121416922133,null,32.03,"NA",34.409999999999997,"NA",29.06,"NA",null,52.3,"NA",56.19,"NA",47.45,"NA",null,43.58,"NA",46.82,"NA",39.54,"NA"]
[null,18,{"$f":"'AVOID NEW'!AQ26","v":43.982092098053307},47.22169209805331,39.941692098053309,null,32.33,"NA",34.71,"NA",29.36,"NA",null,52.78,"NA",56.67,"NA",47.93,"NA",null,43.98,"NA",47.22,"NA",39.94,"NA"]
[null,19,{"$f":"'AVOID NEW'!AQ27","v":44.367703140418286},47.607303140418288,40.327303140418287,null,32.61,"NA",34.99,"NA",29.64,"NA",null,53.24,"NA",57.13,"NA",48.39,"NA",null,44.37,"NA",47.61,"NA",40.33,"NA"]
[null,20,{"$f":"'AVOID NEW'!AQ28","v":44.743775332318798},47.983375332318801,40.703375332318799,null,32.89,"NA",35.270000000000003,"NA",29.92,"NA",null,53.69,"NA",57.58,"NA",48.84,"NA",null,44.74,"NA",47.98,"NA",40.700000000000003,"NA"]
[]
[]
[]
[null,{"$f":"$B$1","v":"IDAHO POWER"}]
[null,"LEVELIZED RATES"]
[null,{"$f":"\"PROJECT ON-LINE IN \"& 'AVOID NEW'!$D$54+4","v":"PROJECT ON-LINE IN 2026"}]
[null,{"$f":"\"Rate Effective Date: \"&'AVOID NEW'!$E$69","v":"Rate Effective Date: XXXX, 2022"}]
[null,{"$f":"\"Resource:  \"&'Input - Capacity Factors'!$C$3","v":"Resource:  Wind"}]
[null,null,"Levelized Price",null,null,null,{"$f":"\"Season 1 Pricing (\"&100*$D$7&\"%)\"","v":"Season 1 Pricing (73.5%)"},null,null,null,null,null,null,{"$f":"\"Season 2 Pricing (\"&100*$D$8&\"%)\"","v":"Season 2 Pricing (120%)"},null,null,null,null,null,null,{"$f":"\"Season 3 Pricing (\"&100*$D$9&\"%)\"","v":"Season 3 Pricing (100%)"}]
[null,null,"Heavy and Light Load Hour Differential",{"$f":"'AVOID NEW'!$D$66","v":7.28},null,null,"Flat",null,"Heavy Load Hour",null,"Light Load Hour",null,null,"Flat",null,"Heavy Load Hour",null,"Light Load Hour",null,null,"Flat",null,"Heavy Load Hour",null,"Light Load Hour"]
[null,null,null,{"$f":"D147*0.445","v":3.2396000000000003},{"$f":"-(D147-D148)","v":-4.0404},null,null,{"$f":"H20","v":"Final avoided cost rates for wind and solar QFs include integration charges from Schedule 87"},null,{"$f":"H20","v":"Final avoided cost rates for wind and solar QFs include integration charges from Schedule 87"},null,{"$f":"H20","v":"Final avoided cost rates for wind and solar QFs include integration charges from Schedule 87"},null,null,{"$f":"H20","v":"Final avoided cost rates for wind and solar QFs include integration charges from Schedule 87"},null,{"$f":"H20","v":"Final avoided cost rates for wind and solar QFs include integration charges from Schedule 87"},null,{"$f":"H20","v":"Final avoided cost rates for wind and solar QFs include integration charges from Schedule 87"},null,null,{"$f":"H20","v":"Final avoided cost rates for wind and solar QFs include integration charges from Schedule 87"},null,{"$f":"H20","v":"Final avoided cost rates for wind and solar QFs include integration charges from Schedule 87"},null,{"$f":"H20","v":"Final avoided cost rates for wind and solar QFs include integration charges from Schedule 87"}]
[null,"Contract Length","Flat","Heavy Load Hour","Light Load Hour",null,"Price",null,"Price",null,"Price",null,null,"Price",null,"Price",null,"Price",null,null,"Price",null,"Price",null,"Price"]
[null,1,{"$f":"'AVOID NEW'!AR9","v":34.469802824546996},{"$f":"C150+D$84","v":37.709402824546999},{"$f":"C150+E$84","v":30.429402824546997},null,{"$f":"ROUND((+$C150*$D$7),2)","v":25.34},"NA",{"$f":"ROUND((+$D150*$D$7),2)","v":27.72},"NA",{"$f":"ROUND((+$E150*$D$7),2)","v":22.37},"NA",null,{"$f":"ROUND((+$C150*$D$8),2)","v":41.36},"NA",{"$f":"ROUND((+$D150*$D$8),2)","v":45.25},"NA",{"$f":"ROUND((+$E150*$D$8),2)","v":36.520000000000003},"NA",null,{"$f":"ROUND((+$C150*$D$9),2)","v":34.47},"NA",{"$f":"ROUND((+$D150*$D$9),2)","v":37.71},"NA",{"$f":"ROUND((+$E150*$D$9),2)","v":30.43},"NA"]
[null,2,{"$f":"'AVOID NEW'!AR10","v":35.436952540192983},38.676552540192986,31.396552540192985,null,26.05,"NA",28.43,"NA",23.08,"NA",null,42.52,"NA",46.41,"NA",37.68,"NA",null,{"$f":"ROUND((+$C151*$D$9),2)","v":35.44},"NA",{"$f":"ROUND((+$D151*$D$9),2)","v":38.68},"NA",{"$f":"ROUND((+$E151*$D$9),2)","v":31.4},"NA"]
[null,3,{"$f":"'AVOID NEW'!AR11","v":36.523390789199958},39.762990789199961,32.48299078919996,null,26.84,"NA",29.23,"NA",23.87,"NA",null,43.83,"NA",47.72,"NA",38.979999999999997,"NA",null,36.520000000000003,"NA",39.76,"NA",32.479999999999997,"NA"]
[null,4,{"$f":"'AVOID NEW'!AR12","v":37.548881229324905},40.788481229324908,33.508481229324907,null,27.6,"NA",29.98,"NA",24.63,"NA",null,45.06,"NA",48.95,"NA",40.21,"NA",null,37.549999999999997,"NA",40.79,"NA",33.51,"NA"]
[null,5,{"$f":"'AVOID NEW'!AR13","v":38.454388880014868},41.693988880014871,34.41398888001487,null,28.26,"NA",30.65,"NA",25.29,"NA",null,46.15,"NA",50.03,"NA",41.3,"NA",null,38.450000000000003,"NA",41.69,"NA",34.409999999999997,"NA"]
[null,6,{"$f":"'AVOID NEW'!AR14","v":39.256353963394233},42.495953963394236,35.215953963394234,null,28.85,"NA",31.23,"NA",25.88,"NA",null,47.11,"NA",51,"NA",42.26,"NA",null,39.26,"NA",42.5,"NA",35.22,"NA"]
[null,7,{"$f":"'AVOID NEW'!AR15","v":40.015554314637519},43.255154314637522,35.975154314637521,null,29.41,"NA",31.79,"NA",26.44,"NA",null,48.02,"NA",51.91,"NA",43.17,"NA",null,40.020000000000003,"NA",43.26,"NA",35.979999999999997,"NA"]
[null,8,{"$f":"'AVOID NEW'!AR16","v":40.733982992827599},43.973582992827602,36.693582992827601,null,29.94,"NA",32.32,"NA",26.97,"NA",null,48.88,"NA",52.77,"NA",44.03,"NA",null,40.729999999999997,"NA",43.97,"NA",36.69,"NA"]
[null,9,{"$f":"'AVOID NEW'!AR17","v":41.381531399245226},44.621131399245229,37.341131399245228,null,30.42,"NA",32.799999999999997,"NA",27.45,"NA",null,49.66,"NA",53.55,"NA",44.81,"NA",null,41.38,"NA",44.62,"NA",37.340000000000003,"NA"]
[null,10,{"$f":"'AVOID NEW'!AR18","v":41.950246449073255},45.189846449073258,37.909846449073257,null,30.83,"NA",33.21,"NA",27.86,"NA",null,50.34,"NA",54.23,"NA",45.49,"NA",null,41.95,"NA",45.19,"NA",37.909999999999997,"NA"]
[null,11,{"$f":"'AVOID NEW'!AR19","v":42.479326957380771},45.718926957380774,38.438926957380772,null,31.22,"NA",33.6,"NA",28.25,"NA",null,50.98,"NA",54.86,"NA",46.13,"NA",null,42.48,"NA",45.72,"NA",38.44,"NA"]
[null,12,{"$f":"'AVOID NEW'!AR20","v":42.970334545708496},46.209934545708499,38.929934545708498,null,31.58,"NA",33.96,"NA",28.61,"NA",null,51.56,"NA",55.45,"NA",46.72,"NA",null,42.97,"NA",46.21,"NA",38.93,"NA"]
[null,13,{"$f":"'AVOID NEW'!AR21","v":43.441413673769972},46.681013673769975,39.401013673769974,null,31.93,"NA",34.31,"NA",28.96,"NA",null,52.13,"NA",56.02,"NA",47.28,"NA",null,43.44,"NA",46.68,"NA",39.4,"NA"]
[null,14,{"$f":"'AVOID NEW'!AR22","v":43.892949622347061},47.132549622347064,39.852549622347063,null,32.26,"NA",34.64,"NA",29.29,"NA",null,52.67,"NA",56.56,"NA",47.82,"NA",null,43.89,"NA",47.13,"NA",39.85,"NA"]
[null,15,{"$f":"'AVOID NEW'!AR23","v":44.337735012918813},47.577335012918816,40.297335012918815,null,32.590000000000003,"NA",34.97,"NA",29.62,"NA",null,53.21,"NA",57.09,"NA",48.36,"NA",null,44.34,"NA",47.58,"NA",40.299999999999997,"NA"]
[null,16,{"$f":"'AVOID NEW'!AR24","v":44.768790404980095},48.008390404980098,40.728390404980097,null,32.909999999999997,"NA",35.29,"NA",29.94,"NA",null,53.72,"NA",57.61,"NA",48.87,"NA",null,44.77,"NA",48.01,"NA",40.729999999999997,"NA"]
[null,17,{"$f":"'AVOID NEW'!AR25","v":45.177033329384429},48.416633329384432,41.136633329384431,null,33.21,"NA",35.590000000000003,"NA",30.24,"NA",null,54.21,"NA",58.1,"NA",49.36,"NA",null,45.18,"NA",48.42,"NA",41.14,"NA"]
[null,18,{"$f":"'AVOID NEW'!AR26","v":45.572952829314225},48.812552829314228,41.532552829314227,null,33.5,"NA",35.880000000000003,"NA",30.53,"NA",null,54.69,"NA",58.58,"NA",49.84,"NA",null,45.57,"NA",48.81,"NA",41.53,"NA"]
[null,19,{"$f":"'AVOID NEW'!AR27","v":45.960153724872434},49.199753724872437,41.919753724872436,null,33.78,"NA",36.159999999999997,"NA",30.81,"NA",null,55.15,"NA",59.04,"NA",50.3,"NA",null,45.96,"NA",49.2,"NA",41.92,"NA"]
[null,20,{"$f":"'AVOID NEW'!AR28","v":46.336023956863954},49.575623956863957,42.295623956863956,null,34.06,"NA",36.44,"NA",31.09,"NA",null,55.6,"NA",59.49,"NA",50.75,"NA",null,46.34,"NA",49.58,"NA",42.3,"NA"]
[]
[]
[]
[null,{"$f":"$B$1","v":"IDAHO POWER"}]
[null,"LEVELIZED RATES"]
[null,{"$f":"\"PROJECT ON-LINE IN \"& 'AVOID NEW'!$D$54+5","v":"PROJECT ON-LINE IN 2027"}]
[null,{"$f":"\"Rate Effective Date: \"&'AVOID NEW'!$E$69","v":"Rate Effective Date: XXXX, 2022"}]
[null,{"$f":"\"Resource:  \"&'Input - Capacity Factors'!$C$3","v":"Resource:  Wind"}]
[null,null,"Levelized Price",null,null,null,{"$f":"\"Season 1 Pricing (\"&100*$D$7&\"%)\"","v":"Season 1 Pricing (73.5%)"},null,null,null,null,null,null,{"$f":"\"Season 2 Pricing (\"&100*$D$8&\"%)\"","v":"Season 2 Pricing (120%)"},null,null,null,null,null,null,{"$f":"\"Season 3 Pricing (\"&100*$D$9&\"%)\"","v":"Season 3 Pricing (100%)"}]
[null,null,"Heavy and Light Load Hour Differential",{"$f":"'AVOID NEW'!$D$66","v":7.28},null,null,"Flat",null,"Heavy Load Hour",null,"Light Load Hour",null,null,"Flat",null,"Heavy Load Hour",null,"Light Load Hour",null,null,"Flat",null,"Heavy Load Hour",null,"Light Load Hour"]
[null,null,null,{"$f":"D179*0.445","v":3.2396000000000003},{"$f":"-(D179-D180)","v":-4.0404},null,null,{"$f":"H20","v":"Final avoided cost rates for wind and solar QFs include integration charges from Schedule 87"},null,{"$f":"H20","v":"Final avoided cost rates for wind and solar QFs include integration charges from Schedule 87"},null,{"$f":"H20","v":"Final avoided cost rates for wind and solar QFs include integration charges from Schedule 87"},null,null,{"$f":"H20","v":"Final avoided cost rates for wind and solar QFs include integration charges from Schedule 87"},null,{"$f":"H20","v":"Final avoided cost rates for wind and solar QFs include integration charges from Schedule 87"},null,{"$f":"H20","v":"Final avoided cost rates for wind and solar QFs include integration charges from Schedule 87"},null,null,{"$f":"H20","v":"Final avoided cost rates for wind and solar QFs include integration charges from Schedule 87"},null,{"$f":"H20","v":"Final avoided cost rates for wind and solar QFs include integration charges from Schedule 87"},null,{"$f":"H20","v":"Final avoided cost rates for wind and solar QFs include integration charges from Schedule 87"}]
[null,"Contract Length","Flat","Heavy Load Hour","Light Load Hour",null,"Price",null,"Price",null,"Price",null,null,"Price",null,"Price",null,"Price",null,null,"Price",null,"Price",null,"Price"]
[null,1,{"$f":"'AVOID NEW'!AS9","v":36.483216235111144},{"$f":"C182+D$84","v":39.722816235111146},{"$f":"C182+E$84","v":32.442816235111145},null,{"$f":"ROUND((+$C182*$D$7),2)","v":26.82},"NA",{"$f":"ROUND((+$D182*$D$7),2)","v":29.2},"NA",{"$f":"ROUND((+$E182*$D$7),2)","v":23.85},"NA",null,{"$f":"ROUND((+$C182*$D$8),2)","v":43.78},"NA",{"$f":"ROUND((+$D182*$D$8),2)","v":47.67},"NA",{"$f":"ROUND((+$E182*$D$8),2)","v":38.93},"NA",null,{"$f":"ROUND((+$C182*$D$9),2)","v":36.479999999999997},"NA",{"$f":"ROUND((+$D182*$D$9),2)","v":39.72},"NA",{"$f":"ROUND((+$E182*$D$9),2)","v":32.44},"NA"]
[null,2,{"$f":"'AVOID NEW'!AS10","v":37.677824383533817},40.91742438353382,33.637424383533819,null,27.69,"NA",30.07,"NA",24.72,"NA",null,45.21,"NA",49.1,"NA",40.36,"NA",null,{"$f":"ROUND((+$C183*$D$9),2)","v":37.68},"NA",{"$f":"ROUND((+$D183*$D$9),2)","v":40.92},"NA",{"$f":"ROUND((+$E183*$D$9),2)","v":33.64},"NA"]
[null,3,{"$f":"'AVOID NEW'!AS11","v":38.747551883676714},41.987151883676717,34.707151883676715,null,28.48,"NA",30.86,"NA",25.51,"NA",null,46.5,"NA",50.38,"NA",41.65,"NA",null,38.75,"NA",41.99,"NA",34.71,"NA"]
[null,4,{"$f":"'AVOID NEW'!AS12","v":39.662245062641404},42.901845062641407,35.621845062641405,null,29.15,"NA",31.53,"NA",26.18,"NA",null,47.59,"NA",51.48,"NA",42.75,"NA",null,39.659999999999997,"NA",42.9,"NA",35.619999999999997,"NA"]
[null,5,{"$f":"'AVOID NEW'!AS13","v":40.460873096865207},43.70047309686521,36.420473096865209,null,29.74,"NA",32.119999999999997,"NA",26.77,"NA",null,48.55,"NA",52.44,"NA",43.7,"NA",null,40.46,"NA",43.7,"NA",36.42,"NA"]
[null,6,{"$f":"'AVOID NEW'!AS14","v":41.221748251647782},44.461348251647784,37.181348251647783,null,30.3,"NA",32.68,"NA",27.33,"NA",null,49.47,"NA",53.35,"NA",44.62,"NA",null,41.22,"NA",44.46,"NA",37.18,"NA"]
[null,7,{"$f":"'AVOID NEW'!AS15","v":41.944580862083015},45.184180862083018,37.904180862083017,null,30.83,"NA",33.21,"NA",27.86,"NA",null,50.33,"NA",54.22,"NA",45.49,"NA",null,41.94,"NA",45.18,"NA",37.9,"NA"]
[null,8,{"$f":"'AVOID NEW'!AS16","v":42.592507930174762},45.832107930174764,38.552107930174763,null,31.31,"NA",33.69,"NA",28.34,"NA",null,51.11,"NA",55,"NA",46.26,"NA",null,42.59,"NA",45.83,"NA",38.549999999999997,"NA"]
[null,9,{"$f":"'AVOID NEW'!AS17","v":43.156697876165971},46.396297876165974,39.116297876165973,null,31.72,"NA",34.1,"NA",28.75,"NA",null,51.79,"NA",55.68,"NA",46.94,"NA",null,43.16,"NA",46.4,"NA",39.119999999999997,"NA"]
[null,10,{"$f":"'AVOID NEW'!AS18","v":43.682697644222763},46.922297644222766,39.642297644222765,null,32.11,"NA",34.49,"NA",29.14,"NA",null,52.42,"NA",56.31,"NA",47.57,"NA",null,43.68,"NA",46.92,"NA",39.64,"NA"]
[null,11,{"$f":"'AVOID NEW'!AS19","v":44.171483464678047},47.41108346467805,40.131083464678049,null,32.47,"NA",34.85,"NA",29.5,"NA",null,53.01,"NA",56.89,"NA",48.16,"NA",null,44.17,"NA",47.41,"NA",40.130000000000003,"NA"]
[null,12,{"$f":"'AVOID NEW'!AS20","v":44.643035352674055},47.882635352674058,40.602635352674056,null,32.81,"NA",35.19,"NA",29.84,"NA",null,53.57,"NA",57.46,"NA",48.72,"NA",null,44.64,"NA",47.88,"NA",40.6,"NA"]
[null,13,{"$f":"'AVOID NEW'!AS21","v":45.097020875282681},48.336620875282684,41.056620875282682,null,33.15,"NA",35.53,"NA",30.18,"NA",null,54.12,"NA",58,"NA",49.27,"NA",null,45.1,"NA",48.34,"NA",41.06,"NA"]
[null,14,{"$f":"'AVOID NEW'!AS22","v":45.547235923900672},48.786835923900675,41.506835923900674,null,33.479999999999997,"NA",35.86,"NA",30.51,"NA",null,54.66,"NA",58.54,"NA",49.81,"NA",null,45.55,"NA",48.79,"NA",41.51,"NA"]
[null,15,{"$f":"'AVOID NEW'!AS23","v":45.985281812166988},49.224881812166991,41.94488181216699,null,33.799999999999997,"NA",36.18,"NA",30.83,"NA",null,55.18,"NA",59.07,"NA",50.33,"NA",null,45.99,"NA",49.22,"NA",41.94,"NA"]
[null,16,{"$f":"'AVOID NEW'!AS24","v":46.400667616847791},49.640267616847794,42.360267616847793,null,34.1,"NA",36.49,"NA",31.13,"NA",null,55.68,"NA",59.57,"NA",50.83,"NA",null,46.4,"NA",49.64,"NA",42.36,"NA"]
[null,17,{"$f":"'AVOID NEW'!AS25","v":46.804846909469774},50.044446909469777,42.764446909469775,null,34.4,"NA",36.78,"NA",31.43,"NA",null,56.17,"NA",60.05,"NA",51.32,"NA",null,46.8,"NA",50.04,"NA",42.76,"NA"]
[null,18,{"$f":"'AVOID NEW'!AS26","v":47.20155847013941},50.441158470139413,43.161158470139412,null,34.69,"NA",37.07,"NA",31.72,"NA",null,56.64,"NA",60.53,"NA",51.79,"NA",null,47.2,"NA",50.44,"NA",43.16,"NA"]
[null,19,{"$f":"'AVOID NEW'!AS27","v":47.58767997218127},50.827279972181273,43.547279972181272,null,34.979999999999997,"NA",37.36,"NA",32.01,"NA",null,57.11,"NA",60.99,"NA",52.26,"NA",null,47.59,"NA",50.83,"NA",43.55,"NA"]
[null,20,{"$f":"'AVOID NEW'!AS28","v":47.964233398399564},51.203833398399567,43.923833398399566,null,35.25,"NA",37.630000000000003,"NA",32.28,"NA",null,57.56,"NA",61.44,"NA",52.71,"NA",null,47.96,"NA",51.2,"NA",43.92,"NA"]

{"sheet":"IPCo NF HLH LLH Non-Levelized","index":10,"n_rows":47,"n_cols":26,"rows_kept":47,"cut":false,"hidden":false,"merged":[[18,20,18,21],[19,25,20,25],[18,22,18,23],[18,24,18,25],[19,7,20,7],[19,9,20,9],[19,11,20,11],[19,14,20,14],[19,16,20,16],[19,18,20,18],[19,21,20,21],[19,23,20,23],[14,1,14,25],[17,1,18,1],[17,2,17,4],[17,6,17,11],[17,13,17,18],[15,1,15,25],[16,1,16,25],[17,20,17,25],[18,2,19,2],[18,3,18,4],[18,6,18,7],[18,8,18,9],[18,10,18,11],[18,13,18,14],[18,15,18,16],[18,17,18,18],[0,1,0,25],[1,1,1,25],[2,1,2,25],[12,1,12,25],[13,1,13,25]]}
[null,{"$f":"IF('AVOID NEW'!E105=\"IPCo\",\"IDAHO POWER\",\"THESE RATES ARE NOT VALID\")","v":"IDAHO POWER"}]
[null,"AVOIDED COST RATES FOR NON-FUELED PROJECTS"]
[null,"Eligibility for these rates is limited to wind and solar projects 100 kW or smaller, and to non-wind and non-solar projects smaller than 10 aMW"]
[]
[null,"Seasonalization Factors"]
[]
[null,"Season 1",null,{"$f":"'AVOID NEW'!E72","v":0.73499999999999999},"(Applied to March - May)"]
[null,"Season 2",null,{"$f":"'AVOID NEW'!E73","v":1.2},"(Applied to July, August, November, and December)"]
[null,"Season 3",null,{"$f":"'AVOID NEW'!E74","v":1},"(Applied to January, February, June, September, and October)"]
[]
[]
[]
[null,{"$f":"$B$1","v":"IDAHO POWER"}]
[null,"NON-LEVELIZED RATES"]
[null,{"$f":"\"PROJECT ON-LINE IN \"& 'AVOID NEW'!$D$54","v":"PROJECT ON-LINE IN 2022"}]
[null,{"$f":"\"Rate Effective Date: \"&'AVOID NEW'!$E$69","v":"Rate Effective Date: XXXX, 2022"}]
[null,{"$f":"\"Resource:  \"&'Input - Capacity Factors'!$C$3","v":"Resource:  Wind"}]
[null,null,"Non-Levelized Price",null,null,null,{"$f":"\"Season 1 Pricing (\"&100*$D$7&\"%)\"","v":"Season 1 Pricing (73.5%)"},null,null,null,null,null,null,{"$f":"\"Season 2 Pricing (\"&100*$D$8&\"%)\"","v":"Season 2 Pricing (120%)"},null,null,null,null,null,null,{"$f":"\"Season 3 Pricing (\"&100*$D$9&\"%)\"","v":"Season 3 Pricing (100%)"}]
[null,null,"Heavy and Light Load Hour Differential",{"$f":"'AVOID NEW'!$D$66","v":7.28},null,null,"Flat",null,"Heavy Load Hour",null,"Light Load Hour",null,null,"Flat",null,"Heavy Load Hour",null,"Light Load Hour",null,null,"Flat",null,"Heavy Load Hour",null,"Light Load Hour"]
[null,null,null,{"$f":"D19*0.445","v":3.2396000000000003},{"$f":"-(D19-D20)","v":-4.0404},null,null,"Final avoided cost rates for wind and solar QFs include integration charges from Schedule 87",null,{"$f":"H20","v":"Final avoided cost rates for wind and solar QFs include integration charges from Schedule 87"},null,{"$f":"H20","v":"Final avoided cost rates for wind and solar QFs include integration charges from Schedule 87"},null,null,{"$f":"H20","v":"Final avoided cost rates for wind and solar QFs include integration charges from Schedule 87"},null,{"$f":"H20","v":"Final avoided cost rates for wind and solar QFs include integration charges from Schedule 87"},null,{"$f":"H20","v":"Final avoided cost rates for wind and solar QFs include integration charges from Schedule 87"},null,null,{"$f":"H20","v":"Final avoided cost rates for wind and solar QFs include integration charges from Schedule 87"},null,{"$f":"H20","v":"Final avoided cost rates for wind and solar QFs include integration charges from Schedule 87"},null,{"$f":"H20","v":"Final avoided cost rates for wind and solar QFs include integration charges from Schedule 87"}]
[null,"Year","Flat","Heavy Load Hour","Light Load Hour",null,"Price",null,"Price",null,"Price",null,null,"Price",null,"Price",null,"Price",null,null,"Price",null,"Price",null,"Price"]
[null,{"$f":"'AVOID NEW'!AL9","v":2022},{"$f":"'AVOID NEW'!AM9","v":33.419966110621289},{"$f":"C22+D$20","v":36.659566110621292},{"$f":"C22+E$20","v":29.37956611062129},null,{"$f":"ROUND((+$C22*$D$7),2)","v":24.56},"NA",{"$f":"ROUND((+$D22*$D$7),2)","v":26.94},"NA",{"$f":"ROUND((+$E22*$D$7),2)","v":21.59},"NA",null,{"$f":"ROUND((+$C22*$D$8),2)","v":40.1},"NA",{"$f":"ROUND((+$D22*$D$8),2)","v":43.99},"NA",{"$f":"ROUND((+$E22*$D$8),2)","v":35.26},"NA",null,{"$f":"ROUND((+$C22*$D$9),2)","v":33.42},"NA",{"$f":"ROUND((+$D22*$D$9),2)","v":36.659999999999997},"NA",{"$f":"ROUND((+$E22*$D$9),2)","v":29.38},"NA"]
[null,{"$f":"'AVOID NEW'!AL10","v":2023},{"$f":"'AVOID NEW'!AM10","v":35.542378761947646},38.781978761947649,31.501978761947647,null,26.12,"NA",28.5,"NA",23.15,"NA",null,42.65,"NA",46.54,"NA",37.799999999999997,"NA",null,{"$f":"ROUND((+$C23*$D$9),2)","v":35.54},"NA",{"$f":"ROUND((+$D23*$D$9),2)","v":38.78},"NA",{"$f":"ROUND((+$E23*$D$9),2)","v":31.5},"NA"]
[null,{"$f":"'AVOID NEW'!AL11","v":2024},{"$f":"'AVOID NEW'!AM11","v":33.693158683494339},36.932758683494342,29.652758683494341,null,24.76,"NA",27.15,"NA",21.79,"NA",null,40.43,"NA",44.32,"NA",35.58,"NA",null,33.69,"NA",36.93,"NA",29.65,"NA"]
[null,{"$f":"'AVOID NEW'!AL12","v":2025},{"$f":"'AVOID NEW'!AM12","v":33.212000779264265},36.451600779264268,29.171600779264267,null,24.41,"NA",26.79,"NA",21.44,"NA",null,39.85,"NA",43.74,"NA",35.01,"NA",null,33.21,"NA",36.450000000000003,"NA",29.17,"NA"]
[null,{"$f":"'AVOID NEW'!AL13","v":2026},{"$f":"'AVOID NEW'!AM13","v":34.469802824546996},37.709402824546999,30.429402824546997,null,25.34,"NA",27.72,"NA",22.37,"NA",null,41.36,"NA",45.25,"NA",36.520000000000003,"NA",null,34.47,"NA",37.71,"NA",30.43,"NA"]
[null,{"$f":"'AVOID NEW'!AL14","v":2027},{"$f":"'AVOID NEW'!AM14","v":36.483216235111144},39.722816235111146,32.442816235111145,null,26.82,"NA",29.2,"NA",23.85,"NA",null,43.78,"NA",47.67,"NA",38.93,"NA",null,36.479999999999997,"NA",39.72,"NA",32.44,"NA"]
[null,{"$f":"'AVOID NEW'!AL15","v":2028},{"$f":"'AVOID NEW'!AM15","v":38.97015287738359},42.209752877383593,34.929752877383592,null,28.64,"NA",31.02,"NA",25.67,"NA",null,46.76,"NA",50.65,"NA",41.92,"NA",null,38.97,"NA",42.21,"NA",34.93,"NA"]
[null,{"$f":"'AVOID NEW'!AL16","v":2029},{"$f":"'AVOID NEW'!AM16","v":41.156679778823481},44.396279778823484,37.116279778823483,null,30.25,"NA",32.630000000000003,"NA",27.28,"NA",null,49.39,"NA",53.28,"NA",44.54,"NA",null,41.16,"NA",44.4,"NA",37.119999999999997,"NA"]
[null,{"$f":"'AVOID NEW'!AL17","v":2030},{"$f":"'AVOID NEW'!AM17","v":42.88024553849467},46.119845538494673,38.839845538494671,null,31.52,"NA",33.9,"NA",28.55,"NA",null,51.46,"NA",55.34,"NA",46.61,"NA",null,42.88,"NA",46.12,"NA",38.840000000000003,"NA"]
[null,{"$f":"'AVOID NEW'!AL18","v":2031},{"$f":"'AVOID NEW'!AM18","v":44.364333437840592},47.603933437840595,40.323933437840594,null,32.61,"NA",34.99,"NA",29.64,"NA",null,53.24,"NA",57.12,"NA",48.39,"NA",null,44.36,"NA",47.6,"NA",40.32,"NA"]
[null,{"$f":"'AVOID NEW'!AL19","v":2032},{"$f":"'AVOID NEW'!AM19","v":46.068012451665496},49.307612451665499,42.027612451665497,null,33.86,"NA",36.24,"NA",30.89,"NA",null,55.28,"NA",59.17,"NA",50.43,"NA",null,46.07,"NA",49.31,"NA",42.03,"NA"]
[null,{"$f":"'AVOID NEW'!AL20","v":2033},{"$f":"'AVOID NEW'!AM20","v":47.707109959406715},50.946709959406718,43.666709959406717,null,35.06,"NA",37.450000000000003,"NA",32.1,"NA",null,57.25,"NA",61.14,"NA",52.4,"NA",null,47.71,"NA",50.95,"NA",43.67,"NA"]
[null,{"$f":"'AVOID NEW'!AL21","v":2034},{"$f":"'AVOID NEW'!AM21","v":48.881340556218255},52.120940556218258,44.840940556218257,null,35.93,"NA",38.31,"NA",32.96,"NA",null,58.66,"NA",62.55,"NA",53.81,"NA",null,48.88,"NA",52.12,"NA",44.84,"NA"]
[null,{"$f":"'AVOID NEW'!AL22","v":2035},{"$f":"'AVOID NEW'!AM22","v":49.691061765076739},52.930661765076742,45.650661765076741,null,36.520000000000003,"NA",38.9,"NA",33.549999999999997,"NA",null,59.63,"NA",63.52,"NA",54.78,"NA",null,49.69,"NA",52.93,"NA",45.65,"NA"]
[null,{"$f":"'AVOID NEW'!AL23","v":2036},{"$f":"'AVOID NEW'!AM23","v":50.842112648308685},54.081712648308688,46.801712648308687,null,37.369999999999997,"NA",39.75,"NA",34.4,"NA",null,61.01,"NA",64.900000000000006,"NA",56.16,"NA",null,50.84,"NA",54.08,"NA",46.8,"NA"]
[null,{"$f":"'AVOID NEW'!AL24","v":2037},{"$f":"'AVOID NEW'!AM24","v":51.897360719744292},55.136960719744295,47.856960719744293,null,38.14,"NA",40.53,"NA",35.17,"NA",null,62.28,"NA",66.16,"NA",57.43,"NA",null,51.9,"NA",55.14,"NA",47.86,"NA"]
[null,{"$f":"'AVOID NEW'!AL25","v":2038},{"$f":"'AVOID NEW'!AM25","v":53.216336757023186},56.455936757023188,49.175936757023187,null,39.11,"NA",41.5,"NA",36.14,"NA",null,63.86,"NA",67.75,"NA",59.01,"NA",null,53.22,"NA",56.46,"NA",49.18,"NA"]
[null,{"$f":"'AVOID NEW'!AL26","v":2039},{"$f":"'AVOID NEW'!AM26","v":54.51725051413603},57.756850514136033,50.476850514136032,null,40.07,"NA",42.45,"NA",37.1,"NA",null,65.42,"NA",69.31,"NA",60.57,"NA",null,54.52,"NA",57.76,"NA",50.48,"NA"]
[null,{"$f":"'AVOID NEW'!AL27","v":2040},{"$f":"'AVOID NEW'!AM27","v":56.140457034206747},59.38005703420675,52.100057034206749,null,41.26,"NA",43.64,"NA",38.29,"NA",null,67.37,"NA",71.260000000000005,"NA",62.52,"NA",null,56.14,"NA",59.38,"NA",52.1,"NA"]
[null,{"$f":"'AVOID NEW'!AL28","v":2041},{"$f":"'AVOID NEW'!AM28","v":57.609165962519896},60.848765962519899,53.568765962519898,null,42.34,"NA",44.72,"NA",39.369999999999997,"NA",null,69.13,"NA",73.02,"NA",64.28,"NA",null,57.61,"NA",60.85,"NA",53.57,"NA"]
[null,{"$f":"'AVOID NEW'!AL29","v":2042},{"$f":"'AVOID NEW'!AM29","v":58.77427395979813},62.013873959798133,54.733873959798132,null,43.2,"NA",45.58,"NA",40.229999999999997,"NA",null,70.53,"NA",74.42,"NA",65.680000000000007,"NA",null,58.77,"NA",62.01,"NA",54.73,"NA"]
[null,{"$f":"'AVOID NEW'!AL30","v":2043},{"$f":"'AVOID NEW'!AM30","v":60.266741215734314},63.506341215734317,56.226341215734315,null,44.3,"NA",46.68,"NA",41.33,"NA",null,72.319999999999993,"NA",76.209999999999994,"NA",67.47,"NA",null,60.27,"NA",63.51,"NA",56.23,"NA"]
[null,{"$f":"'AVOID NEW'!AL31","v":2044},{"$f":"'AVOID NEW'!AM31","v":61.924742662783586},65.164342662783582,57.884342662783588,null,45.51,"NA",47.9,"NA",42.54,"NA",null,74.31,"NA",78.2,"NA",69.459999999999994,"NA",null,61.92,"NA",65.16,"NA",57.88,"NA"]
[null,{"$f":"'AVOID NEW'!AL32","v":2045},{"$f":"'AVOID NEW'!AM32","v":63.507764690220128},66.747364690220124,59.46736469022013,null,46.68,"NA",49.06,"NA",43.71,"NA",null,76.209999999999994,"NA",80.099999999999994,"NA",71.36,"NA",null,63.51,"NA",66.75,"NA",59.47,"NA"]
[null,{"$f":"'AVOID NEW'!AL33","v":2046},{"$f":"'AVOID NEW'!AM33","v":65.167186058463926},68.406786058463922,61.126786058463928,null,47.9,"NA",50.28,"NA",44.93,"NA",null,78.2,"NA",82.09,"NA",73.349999999999994,"NA",null,65.17,"NA",68.41,"NA",61.13,"NA"]
[null,{"$f":"'AVOID NEW'!AL34","v":2047},{"$f":"'AVOID NEW'!AM34","v":66.854883413682742},70.094483413682738,62.814483413682744,null,49.14,"NA",51.52,"NA",46.17,"NA",null,80.23,"NA",84.11,"NA",75.38,"NA",null,66.849999999999994,"NA",70.09,"NA",62.81,"NA"]

{"sheet":"IPCOStorage(Energy)Non-LevelADJ","index":11,"n_rows":47,"n_cols":26,"rows_kept":47,"cut":false,"hidden":false,"merged":[[18,20,18,21],[19,11,20,11],[19,14,20,14],[19,16,20,16],[19,18,20,18],[19,21,20,21],[18,8,18,9],[18,10,18,11],[18,13,18,14],[18,15,18,16],[18,17,18,18],[15,1,15,25],[16,1,16,25],[17,1,18,1],[17,2,17,4],[17,6,17,11],[17,13,17,18],[17,20,17,25],[18,2,19,2],[18,3,18,4],[18,6,18,7],[19,25,20,25],[18,22,18,23],[18,24,18,25],[19,7,20,7],[19,9,20,9],[19,23,20,23],[14,1,14,25],[0,1,0,25],[1,1,1,25],[2,1,2,25],[12,1,12,25],[13,1,13,25]]}
[null,{"$f":"IF('AVOID NEW'!E105=\"IPCo\",\"IDAHO POWER\",\"THESE RATES ARE NOT VALID\")","v":"IDAHO POWER"}]
[null,"AVOIDED COST RATES OF ENERGY FOR ENERGY STORAGE PROJECTS"]
[null,"Eligibility for these rates is limited to energy storage projects 100 kW or smaller"]
[]
[null,"Seasonalization Factors"]
[]
[null,"Season 1",null,{"$f":"'AVOID NEW'!E72","v":0.73499999999999999},"(Applied to March - May)"]
[null,"Season 2",null,{"$f":"'AVOID NEW'!E73","v":1.2},"(Applied to July, August, November, and December)"]
[null,"Season 3",null,{"$f":"'AVOID NEW'!E74","v":1},"(Applied to January, February, June, September, and October)"]
[]
[]
[]
[null,{"$f":"$B$1","v":"IDAHO POWER"}]
[null,"NON-LEVELIZED RATES"]
[]
[]
[]
[null,null,"Non-Levelized Price",null,null,null,{"$f":"\"Season 1 Pricing (\"&100*$D$7&\"%)\"","v":"Season 1 Pricing (73.5%)"},null,null,null,null,null,null,{"$f":"\"Season 2 Pricing (\"&100*$D$8&\"%)\"","v":"Season 2 Pricing (120%)"},null,null,null,null,null,null,{"$f":"\"Season 3 Pricing (\"&100*$D$9&\"%)\"","v":"Season 3 Pricing (100%)"}]
[null,null,"Heavy and Light Load Hour Differential",{"$f":"'AVOID NEW'!$D$66","v":7.28},null,null,"Flat",null,"Heavy Load Hour",null,"Light Load Hour",null,null,"Flat",null,"Heavy Load Hour",null,"Light Load Hour",null,null,"Flat",null,"Heavy Load Hour",null,"Light Load Hour"]
[null,null,null,{"$f":"D19*0.445","v":3.2396000000000003},{"$f":"-(D19-D20)","v":-4.0404},null,null,"Final avoided cost rates for wind and solar QFs include integration charges from Schedule 87",null,{"$f":"H20","v":"Final avoided cost rates for wind and solar QFs include integration charges from Schedule 87"},null,{"$f":"H20","v":"Final avoided cost rates for wind and solar QFs include integration charges from Schedule 87"},null,null,{"$f":"H20","v":"Final avoided cost rates for wind and solar QFs include integration charges from Schedule 87"},null,{"$f":"H20","v":"Final avoided cost rates for wind and solar QFs include integration charges from Schedule 87"},null,{"$f":"H20","v":"Final avoided cost rates for wind and solar QFs include integration charges from Schedule 87"},null,null,{"$f":"H20","v":"Final avoided cost rates for wind and solar QFs include integration charges from Schedule 87"},null,{"$f":"H20","v":"Final avoided cost rates for wind and solar QFs include integration charges from Schedule 87"},null,{"$f":"H20","v":"Final avoided cost rates for wind and solar QFs include integration charges from Schedule 87"}]
[null,"Year","Flat","Heavy Load Hour","Light Load Hour",null,"Price",null,"Price",null,"Price",null,null,"Price",null,"Price",null,"Price",null,null,"Price",null,"Price",null,"Price"]
[null,{"$f":"'AVOID NEW'!M9","v":2022},{"$f":"'AVOID NEW'!AD9","v":33.419966110621289},{"$f":"C22+D$20","v":36.659566110621292},{"$f":"C22+E$20","v":29.37956611062129},null,{"$f":"ROUND((+$C22*$D$7),2)","v":24.56},"NA",{"$f":"ROUND((+$D22*$D$7),2)","v":26.94},"NA",{"$f":"ROUND((+$E22*$D$7),2)","v":21.59},"NA",null,{"$f":"ROUND((+$C22*$D$8),2)","v":40.1},"NA",{"$f":"ROUND((+$D22*$D$8),2)","v":43.99},"NA",{"$f":"ROUND((+$E22*$D$8),2)","v":35.26},"NA",null,{"$f":"ROUND((+$C22*$D$9),2)","v":33.42},"NA",{"$f":"ROUND((+$D22*$D$9),2)","v":36.659999999999997},"NA",{"$f":"ROUND((+$E22*$D$9),2)","v":29.38},"NA"]
[null,{"$f":"'AVOID NEW'!M10","v":2023},{"$f":"'AVOID NEW'!AD10","v":32.468351758833705},35.707951758833708,28.427951758833707,null,23.86,"NA",26.25,"NA",20.89,"NA",null,38.96,"NA",42.85,"NA",34.11,"NA",null,{"$f":"ROUND((+$C23*$D$9),2)","v":32.47},"NA",{"$f":"ROUND((+$D23*$D$9),2)","v":35.71},"NA",{"$f":"ROUND((+$E23*$D$9),2)","v":28.43},"NA"]
[null,{"$f":"'AVOID NEW'!M11","v":2024},{"$f":"'AVOID NEW'!AD11","v":30.574060298010387},33.81366029801039,26.533660298010389,null,22.47,"NA",24.85,"NA",19.5,"NA",null,36.69,"NA",40.58,"NA",31.84,"NA",null,30.57,"NA",33.81,"NA",26.53,"NA"]
[null,{"$f":"'AVOID NEW'!M12","v":2025},{"$f":"'AVOID NEW'!AD12","v":30.047159311970592},33.286759311970592,26.00675931197059,null,22.08,"NA",24.47,"NA",19.11,"NA",null,36.06,"NA",39.94,"NA",31.21,"NA",null,30.05,"NA",33.29,"NA",26.01,"NA"]
[null,{"$f":"'AVOID NEW'!M13","v":2026},{"$f":"'AVOID NEW'!AD13","v":31.258536358210002},34.498136358210004,27.218136358210003,null,22.98,"NA",25.36,"NA",20.010000000000002,"NA",null,37.51,"NA",41.4,"NA",32.659999999999997,"NA",null,31.26,"NA",34.5,"NA",27.22,"NA"]
[null,{"$f":"'AVOID NEW'!M14","v":2027},{"$f":"'AVOID NEW'!AD14","v":33.224832475374207},36.46443247537421,29.184432475374209,null,24.42,"NA",26.8,"NA",21.45,"NA",null,39.869999999999997,"NA",43.76,"NA",35.020000000000003,"NA",null,33.22,"NA",36.46,"NA",29.18,"NA"]
[null,{"$f":"'AVOID NEW'!M15","v":2028},{"$f":"'AVOID NEW'!AD15","v":35.663948990881678},38.903548990881681,31.62354899088168,null,26.21,"NA",28.59,"NA",23.24,"NA",null,42.8,"NA",46.68,"NA",37.950000000000003,"NA",null,35.659999999999997,"NA",38.9,"NA",31.62,"NA"]
[null,{"$f":"'AVOID NEW'!M16","v":2029},{"$f":"'AVOID NEW'!AD16","v":37.801942228699318},41.041542228699321,33.761542228699319,null,27.78,"NA",30.17,"NA",24.81,"NA",null,45.36,"NA",49.25,"NA",40.51,"NA",null,37.799999999999997,"NA",41.04,"NA",33.76,"NA"]
[null,{"$f":"'AVOID NEW'!M17","v":2030},{"$f":"'AVOID NEW'!AD17","v":39.476249917273314},42.715849917273317,35.435849917273316,null,29.02,"NA",31.4,"NA",26.05,"NA",null,47.37,"NA",51.26,"NA",42.52,"NA",null,39.479999999999997,"NA",42.72,"NA",35.44,"NA"]
[null,{"$f":"'AVOID NEW'!M18","v":2031},{"$f":"'AVOID NEW'!AD18","v":40.910344297618778},44.149944297618781,36.86994429761878,null,30.07,"NA",32.450000000000003,"NA",27.1,"NA",null,49.09,"NA",52.98,"NA",44.24,"NA",null,40.909999999999997,"NA",44.15,"NA",36.869999999999997,"NA"]
[null,{"$f":"'AVOID NEW'!M19","v":2032},{"$f":"'AVOID NEW'!AD19","v":42.563283131571147},45.80288313157115,38.522883131571149,null,31.28,"NA",33.67,"NA",28.31,"NA",null,51.08,"NA",54.96,"NA",46.23,"NA",null,42.56,"NA",45.8,"NA",38.520000000000003,"NA"]
[null,{"$f":"'AVOID NEW'!M20","v":2033},{"$f":"'AVOID NEW'!AD20","v":44.15088241020257},47.390482410202573,40.110482410202572,null,32.450000000000003,"NA",34.83,"NA",29.48,"NA",null,52.98,"NA",56.87,"NA",48.13,"NA",null,44.15,"NA",47.39,"NA",40.11,"NA"]
[null,{"$f":"'AVOID NEW'!M21","v":2034},{"$f":"'AVOID NEW'!AD21","v":45.272845162406625},48.512445162406628,41.232445162406627,null,33.28,"NA",35.659999999999997,"NA",30.31,"NA",null,54.33,"NA",58.21,"NA",49.48,"NA",null,45.27,"NA",48.51,"NA",41.23,"NA"]
[null,{"$f":"'AVOID NEW'!M22","v":2035},{"$f":"'AVOID NEW'!AD22","v":46.029517163654752},49.269117163654755,41.989117163654754,null,33.83,"NA",36.21,"NA",30.86,"NA",null,55.24,"NA",59.12,"NA",50.39,"NA",null,46.03,"NA",49.27,"NA",41.99,"NA"]
[null,{"$f":"'AVOID NEW'!M23","v":2036},{"$f":"'AVOID NEW'!AD23","v":47.126725544927851},50.366325544927854,43.086325544927853,null,34.64,"NA",37.020000000000003,"NA",31.67,"NA",null,56.55,"NA",60.44,"NA",51.7,"NA",null,47.13,"NA",50.37,"NA",43.09,"NA"]
[null,{"$f":"'AVOID NEW'!M24","v":2037},{"$f":"'AVOID NEW'!AD24","v":48.127325701826408},51.36692570182641,44.086925701826409,null,35.369999999999997,"NA",37.75,"NA",32.4,"NA",null,57.75,"NA",61.64,"NA",52.9,"NA",null,48.13,"NA",51.37,"NA",44.09,"NA"]
[null,{"$f":"'AVOID NEW'!M25","v":2038},{"$f":"'AVOID NEW'!AD25","v":49.390836103862938},52.630436103862941,45.35043610386294,null,36.299999999999997,"NA",38.68,"NA",33.33,"NA",null,59.27,"NA",63.16,"NA",54.42,"NA",null,49.39,"NA",52.63,"NA",45.35,"NA"]
[null,{"$f":"'AVOID NEW'!M26","v":2039},{"$f":"'AVOID NEW'!AD26","v":50.635454003940197},53.8750540039402,46.595054003940199,null,37.22,"NA",39.6,"NA",34.25,"NA",null,60.76,"NA",64.650000000000006,"NA",55.91,"NA",null,50.64,"NA",53.88,"NA",46.6,"NA"]
[null,{"$f":"'AVOID NEW'!M27","v":2040},{"$f":"'AVOID NEW'!AD27","v":52.201521748019005},55.441121748019007,48.161121748019006,null,38.369999999999997,"NA",40.75,"NA",35.4,"NA",null,62.64,"NA",66.53,"NA",57.79,"NA",null,52.2,"NA",55.44,"NA",48.16,"NA"]
[null,{"$f":"'AVOID NEW'!M28","v":2041},{"$f":"'AVOID NEW'!AD28","v":53.612236084979379},56.851836084979382,49.571836084979381,null,39.4,"NA",41.79,"NA",36.44,"NA",null,64.33,"NA",68.22,"NA",59.49,"NA",null,53.61,"NA",56.85,"NA",49.57,"NA"]
[null,{"$f":"'AVOID NEW'!M29","v":2042},{"$f":"'AVOID NEW'!AD29","v":54.718480576678971},57.958080576678974,50.678080576678973,null,40.22,"NA",42.6,"NA",37.25,"NA",null,65.66,"NA",69.55,"NA",60.81,"NA",null,54.72,"NA",57.96,"NA",50.68,"NA"]
[null,{"$f":"'AVOID NEW'!M30","v":2043},{"$f":"'AVOID NEW'!AD30","v":56.151202108212544},59.390802108212547,52.110802108212546,null,41.27,"NA",43.65,"NA",38.299999999999997,"NA",null,67.38,"NA",71.27,"NA",62.53,"NA",null,56.15,"NA",59.39,"NA",52.11,"NA"]
[null,{"$f":"'AVOID NEW'!M31","v":2044},{"$f":"'AVOID NEW'!AD31","v":57.748562098376802},60.988162098376804,53.708162098376803,null,42.45,"NA",44.83,"NA",39.479999999999997,"NA",null,69.3,"NA",73.19,"NA",64.45,"NA",null,57.75,"NA",60.99,"NA",53.71,"NA"]
[null,{"$f":"'AVOID NEW'!M32","v":2045},{"$f":"'AVOID NEW'!AD32","v":59.270033210344337},62.50963321034434,55.229633210344339,null,43.56,"NA",45.94,"NA",40.590000000000003,"NA",null,71.12,"NA",75.010000000000005,"NA",66.28,"NA",null,59.27,"NA",62.51,"NA",55.23,"NA"]
[null,{"$f":"'AVOID NEW'!M33","v":2046},{"$f":"'AVOID NEW'!AD33","v":60.866980262551216},64.106580262551219,56.826580262551218,null,44.74,"NA",47.12,"NA",41.77,"NA",null,73.040000000000006,"NA",76.930000000000007,"NA",68.19,"NA",null,60.87,"NA",64.11,"NA",56.83,"NA"]
[null,{"$f":"'AVOID NEW'!M34","v":2047},{"$f":"'AVOID NEW'!AD34","v":62.491265739802238},65.73086573980224,58.450865739802239,null,45.93,"NA",48.31,"NA",42.96,"NA",null,74.989999999999995,"NA",78.88,"NA",70.14,"NA",null,62.49,"NA",65.73,"NA",58.45,"NA"]

{"sheet":"IPCOStorage(Capacity)","index":12,"n_rows":60,"n_cols":18,"rows_kept":60,"cut":false,"hidden":false,"merged":[[33,3,33,8],[32,0,32,8],[33,0,34,0],[33,1,34,1],[33,2,34,2]]}
["Years since the first deficit (Years)","Calendar Year","Column T in AVOID NEW (This represents annual value of CCCT in $/MW divided by (365*24*annual availability factor of chosen technology category, e.g. wind)","Non-Levelized Annual Value of CCCT in $/MW (using wind's annual capacity factor of 33%)","Spreading Non-Levelized Annual Value of CCCT over Peak Hours ($/MWh)","Levelized Annual Value of CCCT in $/MW with Online Year of 2023 ","Spreading Levelized Annual Value of CCCT over Peak Hours ($/MWh) with Online Year of 2023","Levelized Annual Value of CCCT in $/MW with Online Year of 2024","Spreading Levelized Annual Value of CCCT over Peak Hours ($/MWh) with Online Year of 2024","Levelized Annual Value of CCCT in $/MW with Online Year of 2025","Spreading Levelized Annual Value of CCCT over Peak Hours ($/MWh) with Online Year of 2025","Levelized Annual Value of CCCT in $/MW with Online Year of 2026","Spreading Levelized Annual Value of CCCT over Peak Hours ($/MWh) with Online Year of 2026","Levelized Annual Value of CCCT in $/MW with Online Year of 2027","Spreading Levelized Annual Value of CCCT over Peak Hours ($/MWh) with Online Year of 2027"]
[{"$f":"IF(MIN('Input - Load and Resource'!F49:H49)<0,(INDIRECT(\"A\"&ROW()-1))+1,0)","v":0},2022,60.59234518414064,{"$f":"C2*365*24*0.33","v":175160.35145831379},{"$f":"D2/$Q$8","v":403.59527985786588}]
[{"$f":"IF(MIN('Input - Load and Resource'!F50:H50)<0,(INDIRECT(\"A\"&ROW()-1))+1,0)","v":1},2023,61.480540062334704,{"$f":"C3*365*24*0.33","v":177727.94521219714},409.51139449815008,{"$f":"-PMT('AVOID NEW'!$D$37,$A3,NPV('AVOID NEW'!$D$37,$D$3:$D3))","v":177727.94521219714},{"$f":"F3/$Q$8","v":409.51139449815008},null,null,null,null,null,null,null,null,null,"Number of Hours in a Day",24]
[{"$f":"IF(MIN('Input - Load and Resource'!F51:H51)<0,(INDIRECT(\"A\"&ROW()-1))+1,0)","v":2},2024,62.381967709735797,{"$f":"C4*365*24*0.33","v":180333.79225530426},415.51565035784392,{"$f":"-PMT('AVOID NEW'!$D$37,$A4,NPV('AVOID NEW'!$D$37,$D$3:$D4))","v":178979.67236049889},{"$f":"F4/$Q$8","v":412.39555843432925},{"$f":"-PMT('AVOID NEW'!$D$37,($A4-1),NPV('AVOID NEW'!$D$37,$D4:$D$4))","v":180333.79225530429},{"$f":"H4/$Q$8","v":415.51565035784398},null,null,null,null,null,null,null,"Number of Days in a Year",365]
[{"$f":"IF(MIN('Input - Load and Resource'!F52:H52)<0,(INDIRECT(\"A\"&ROW()-1))+1,0)","v":3},2025,63.296829345931059,182978.47427321749,421.6093877263076,{"$f":"-PMT('AVOID NEW'!$D$37,$A5,NPV('AVOID NEW'!$D$37,$D$3:$D5))","v":180209.28034577219},415.22875655707878,{"$f":"-PMT('AVOID NEW'!$D$37,($A5-1),NPV('AVOID NEW'!$D$37,$D$4:$D5))","v":181604.1739107449},{"$f":"H5/$Q$8","v":418.44279702936615},{"$f":"-PMT('AVOID NEW'!$D$37,($A5-2),NPV('AVOID NEW'!$D$37,$D$5:$D5))","v":182978.47427321749},{"$f":"J5/$Q$8","v":421.6093877263076},null,null,null,null,null,"Peak Hours in July ",279]
[{"$f":"IF(MIN('Input - Load and Resource'!F53:H53)<0,(INDIRECT(\"A\"&ROW()-1))+1,0)","v":4},2026,64.225329326798246,185662.5820179084,427.79396778319909,{"$f":"-PMT('AVOID NEW'!$D$37,$A6,NPV('AVOID NEW'!$D$37,$D$3:$D6))","v":181416.26500492406},418.00982720028588,{"$f":"-PMT('AVOID NEW'!$D$37,($A6-1),NPV('AVOID NEW'!$D$37,$D$4:$D6))","v":182852.11044898501},421.31822684097926,{"$f":"-PMT('AVOID NEW'!$D$37,($A6-2),NPV('AVOID NEW'!$D$37,$D$5:$D6))","v":184267.79420543826},{"$f":"J6/$Q$8","v":424.5801709802725},{"$f":"-PMT('AVOID NEW'!$D$37,($A6-3),NPV('AVOID NEW'!$D$37,$D$6:$D6))","v":185662.5820179084},{"$f":"L6/$Q$8","v":427.79396778319909},null,null,null,"Peak Hours in August",155]
[{"$f":"IF(MIN('Input - Load and Resource'!F54:H54)<0,(INDIRECT(\"A\"&ROW()-1))+1,0)","v":5},2027,65.167675194798051,188386.71545312222,434.07077293346134,{"$f":"-PMT('AVOID NEW'!$D$37,$A7,NPV('AVOID NEW'!$D$37,$D$3:$D7))","v":182600.16388025373},420.73770479321138,{"$f":"-PMT('AVOID NEW'!$D$37,($A7-1),NPV('AVOID NEW'!$D$37,$D$4:$D7))","v":184077.09005511826},424.14076049566421,{"$f":"-PMT('AVOID NEW'!$D$37,($A7-2),NPV('AVOID NEW'!$D$37,$D$5:$D7))","v":185534.33817721021},427.49847506269634,{"$f":"-PMT('AVOID NEW'!$D$37,($A7-3),NPV('AVOID NEW'!$D$37,$D$6:$D7))","v":186971.12842145629},{"$f":"L7/$Q$8","v":430.80905166234169},{"$f":"-PMT('AVOID NEW'!$D$37,($A7-4),NPV('AVOID NEW'!$D$37,$D$7:$D7))","v":188386.71545312225},{"$f":"N7/$Q$8","v":434.0707729334614},null,"Total Peak Hours in a year"]
[{"$f":"IF(MIN('Input - Load and Resource'!F55:H55)<0,(INDIRECT(\"A\"&ROW()-1))+1,0)","v":6},2028,66.12407773009835,191151.48390216834,440.44120714785333,{"$f":"-PMT('AVOID NEW'!$D$37,$A8,NPV('AVOID NEW'!$D$37,$D$3:$D8))","v":183760.55718128692},423.41142207669799,{"$f":"-PMT('AVOID NEW'!$D$37,($A8-1),NPV('AVOID NEW'!$D$37,$D$4:$D8))","v":185278.643237571},426.90931621560139,{"$f":"-PMT('AVOID NEW'!$D$37,($A8-2),NPV('AVOID NEW'!$D$37,$D$5:$D8))","v":186777.58660281755},430.36310277146902,{"$f":"-PMT('AVOID NEW'!$D$37,($A8-3),NPV('AVOID NEW'!$D$37,$D$6:$D8))","v":188256.56305726946},433.77088262043657,{"$f":"-PMT('AVOID NEW'!$D$37,($A8-4),NPV('AVOID NEW'!$D$37,$D$7:$D8))","v":189714.78101844137},{"$f":"N8/$Q$8","v":437.13083183972668},null,{"$f":"R6+R5","v":434}]
[{"$f":"IF(MIN('Input - Load and Resource'!F56:H56)<0,(INDIRECT(\"A\"&ROW()-1))+1,0)","v":7},2029,67.094751002544314,193957.50619815511,446.90669630911316,{"$f":"-PMT('AVOID NEW'!$D$37,$A9,NPV('AVOID NEW'!$D$37,$D$3:$D9))","v":184897.06854464224},426.03011185401436,{"$f":"-PMT('AVOID NEW'!$D$37,($A9-1),NPV('AVOID NEW'!$D$37,$D$4:$D9))","v":186456.3438047627},429.62291199254076,{"$f":"-PMT('AVOID NEW'!$D$37,($A9-2),NPV('AVOID NEW'!$D$37,$D$5:$D9))","v":187997.06284715046},433.17295586901025,{"$f":"-PMT('AVOID NEW'!$D$37,($A9-3),NPV('AVOID NEW'!$D$37,$D$6:$D9))","v":189518.3584479233},436.67824527171268,{"$f":"-PMT('AVOID NEW'!$D$37,($A9-4),NPV('AVOID NEW'!$D$37,$D$7:$D9))","v":191019.39396856102},440.13685246212219]
[{"$f":"IF(MIN('Input - Load and Resource'!F57:H57)<0,(INDIRECT(\"A\"&ROW()-1))+1,0)","v":8},2030,68.079912424489024,196805.41083671289,453.46868856385458,{"$f":"-PMT('AVOID NEW'!$D$37,$A10,NPV('AVOID NEW'!$D$37,$D$3:$D10))","v":186009.36558927791},428.5930082702256,{"$f":"-PMT('AVOID NEW'!$D$37,($A10-1),NPV('AVOID NEW'!$D$37,$D$4:$D10))","v":187609.80963679549},432.28066736588823,{"$f":"-PMT('AVOID NEW'!$D$37,($A10-2),NPV('AVOID NEW'!$D$37,$D$5:$D10))","v":189192.33421742584},435.92703736734063,{"$f":"-PMT('AVOID NEW'!$D$37,($A10-3),NPV('AVOID NEW'!$D$37,$D$6:$D10))","v":190756.03070334924},439.530024662095,{"$f":"-PMT('AVOID NEW'!$D$37,($A10-4),NPV('AVOID NEW'!$D$37,$D$7:$D10))","v":192300.01881151382},443.08760094818854]
[{"$f":"IF(MIN('Input - Load and Resource'!F58:H58)<0,(INDIRECT(\"A\"&ROW()-1))+1,0)","v":9},2031,69.079782804499118,199695.83613124609,460.12865468029054,{"$f":"-PMT('AVOID NEW'!$D$37,$A11,NPV('AVOID NEW'!$D$37,$D$3:$D11))","v":187097.16026626088},431.09944761811261,{"$f":"-PMT('AVOID NEW'!$D$37,($A11-1),NPV('AVOID NEW'!$D$37,$D$4:$D11))","v":188738.70324947886},434.88180472230152,{"$f":"-PMT('AVOID NEW'!$D$37,($A11-2),NPV('AVOID NEW'!$D$37,$D$5:$D11))","v":190363.01274688938},438.62445333384647,{"$f":"-PMT('AVOID NEW'!$D$37,($A11-3),NPV('AVOID NEW'!$D$37,$D$6:$D11))","v":191969.14052785432},442.32520858952608,{"$f":"-PMT('AVOID NEW'!$D$37,($A11-4),NPV('AVOID NEW'!$D$37,$D$7:$D11))","v":193556.16428906153},445.98194536650124]
[{"$f":"IF(MIN('Input - Load and Resource'!F59:H59)<0,(INDIRECT(\"A\"&ROW()-1))+1,0)","v":10},2032,70.094586401950721,202629.43037075916,466.88808841188745,{"$f":"-PMT('AVOID NEW'!$D$37,$A12,NPV('AVOID NEW'!$D$37,$D$3:$D12))","v":188160.20900397838},433.54886867276122,{"$f":"-PMT('AVOID NEW'!$D$37,($A12-1),NPV('AVOID NEW'!$D$37,$D$4:$D12))","v":189842.73214981641},437.42565011478433,{"$f":"-PMT('AVOID NEW'!$D$37,($A12-2),NPV('AVOID NEW'!$D$37,$D$5:$D12))","v":191508.75576776158},441.26441421143221,{"$f":"-PMT('AVOID NEW'!$D$37,($A12-3),NPV('AVOID NEW'!$D$37,$D$6:$D12))","v":193157.2940160282},445.06288943785302,{"$f":"-PMT('AVOID NEW'!$D$37,($A12-4),NPV('AVOID NEW'!$D$37,$D$7:$D12))","v":194787.38439925641},448.8188580628028]
[{"$f":"IF(MIN('Input - Load and Resource'!F60:H60)<0,(INDIRECT(\"A\"&ROW()-1))+1,0)","v":11},2033,71.124550982530423,205606.85198029896,473.74850686704832,{"$f":"-PMT('AVOID NEW'!$D$37,$A13,NPV('AVOID NEW'!$D$37,$D$3:$D13))","v":189198.3126514405},435.94081256092284,{"$f":"-PMT('AVOID NEW'!$D$37,($A13-1),NPV('AVOID NEW'!$D$37,$D$4:$D13))","v":190921.64898388361},439.91163360341847,{"$f":"-PMT('AVOID NEW'!$D$37,($A13-2),NPV('AVOID NEW'!$D$37,$D$5:$D13))","v":192629.26627253823},443.84623565100975,{"$f":"-PMT('AVOID NEW'!$D$37,($A13-3),NPV('AVOID NEW'!$D$37,$D$6:$D13))","v":194320.14323475611},447.7422655178712,{"$f":"-PMT('AVOID NEW'!$D$37,($A13-4),NPV('AVOID NEW'!$D$37,$D$7:$D13))","v":195993.27920474857},451.59741752246214]
[{"$f":"IF(MIN('Input - Load and Resource'!F61:H61)<0,(INDIRECT(\"A\"&ROW()-1))+1,0)","v":12},2034,72.16990787465727,208628.76968405925,480.71145088492915,{"$f":"-PMT('AVOID NEW'!$D$37,$A14,NPV('AVOID NEW'!$D$37,$D$3:$D14))","v":190211.31622399273},438.27492217509848,{"$f":"-PMT('AVOID NEW'!$D$37,($A14-1),NPV('AVOID NEW'!$D$37,$D$4:$D14))","v":191975.25147978231},442.33928912392236,{"$f":"-PMT('AVOID NEW'!$D$37,($A14-2),NPV('AVOID NEW'!$D$37,$D$5:$D14))","v":193724.2930645844},446.36933885848941,{"$f":"-PMT('AVOID NEW'!$D$37,($A14-3),NPV('AVOID NEW'!$D$37,$D$6:$D14))","v":195457.38659043066},450.36264191343469,{"$f":"-PMT('AVOID NEW'!$D$37,($A14-4),NPV('AVOID NEW'!$D$37,$D$7:$D14))","v":197173.49542401341},454.31680973274979]
[{"$f":"IF(MIN('Input - Load and Resource'!F62:H62)<0,(INDIRECT(\"A\"&ROW()-1))+1,0)","v":13},2035,73.230892026841317,211695.86267119291,487.77848541749518,{"$f":"-PMT('AVOID NEW'!$D$37,$A15,NPV('AVOID NEW'!$D$37,$D$3:$D15))","v":191199.10845733489},440.55094114593294,{"$f":"-PMT('AVOID NEW'!$D$37,($A15-1),NPV('AVOID NEW'!$D$37,$D$4:$D15))","v":193003.38219005207},444.7082538941292,{"$f":"-PMT('AVOID NEW'!$D$37,($A15-2),NPV('AVOID NEW'!$D$37,$D$5:$D15))","v":194793.63070074524},448.83325046254663,{"$f":"-PMT('AVOID NEW'!$D$37,($A15-3),NPV('AVOID NEW'!$D$37,$D$6:$D15))","v":196568.76898231369},452.92343083482416,{"$f":"-PMT('AVOID NEW'!$D$37,($A15-4),NPV('AVOID NEW'!$D$37,$D$7:$D15))","v":198327.72680457513},456.97632904279982]
[{"$f":"IF(MIN('Input - Load and Resource'!F63:H63)<0,(INDIRECT(\"A\"&ROW()-1))+1,0)","v":14},2036,74.307742065994731,214808.8207643776,494.95119991792075,{"$f":"-PMT('AVOID NEW'!$D$37,$A16,NPV('AVOID NEW'!$D$37,$D$3:$D16))","v":192161.62117721714},442.76871238990122,{"$f":"-PMT('AVOID NEW'!$D$37,($A16-1),NPV('AVOID NEW'!$D$37,$D$4:$D16))","v":194005.92803951981},447.0182673721655,{"$f":"-PMT('AVOID NEW'!$D$37,($A16-2),NPV('AVOID NEW'!$D$37,$D$5:$D16))","v":195837.1192304146},451.23760191339767,{"$f":"-PMT('AVOID NEW'!$D$37,($A16-3),NPV('AVOID NEW'!$D$37,$D$6:$D16))","v":197654.08174480664},455.42415148572957,{"$f":"-PMT('AVOID NEW'!$D$37,($A16-4),NPV('AVOID NEW'!$D$37,$D$7:$D16))","v":199455.71427918755},459.5753785234736]
[{"$f":"IF(MIN('Input - Load and Resource'!F64:H64)<0,(INDIRECT(\"A\"&ROW()-1))+1,0)","v":15},2037,75.400700356711837,217968.34459118257,502.23120873544372,{"$f":"-PMT('AVOID NEW'!$D$37,$A17,NPV('AVOID NEW'!$D$37,$D$3:$D17))","v":193098.82849353546},444.92817625238587,{"$f":"-PMT('AVOID NEW'!$D$37,($A17-1),NPV('AVOID NEW'!$D$37,$D$4:$D17))","v":194982.81968606534},449.2691697835607,{"$f":"-PMT('AVOID NEW'!$D$37,($A17-2),NPV('AVOID NEW'!$D$37,$D$5:$D17))","v":196854.64373713097},453.58212842656906,{"$f":"-PMT('AVOID NEW'!$D$37,($A17-3),NPV('AVOID NEW'!$D$37,$D$6:$D17))","v":198713.16238313631},457.86442945423113,{"$f":"-PMT('AVOID NEW'!$D$37,($A17-4),NPV('AVOID NEW'!$D$37,$D$7:$D17))","v":200557.24590776986},462.11346983357112]
[{"$f":"IF(MIN('Input - Load and Resource'!F65:H65)<0,(INDIRECT(\"A\"&ROW()-1))+1,0)","v":16},2038,76.510013061534849,221175.14575828495,509.6201515167856,{"$f":"-PMT('AVOID NEW'!$D$37,$A18,NPV('AVOID NEW'!$D$37,$D$3:$D18))","v":194010.74582876125},447.02936826903516,{"$f":"-PMT('AVOID NEW'!$D$37,($A18-1),NPV('AVOID NEW'!$D$37,$D$4:$D18))","v":195934.03070315227},451.46090023767806,{"$f":"-PMT('AVOID NEW'!$D$37,($A18-2),NPV('AVOID NEW'!$D$37,$D$5:$D18))","v":197846.13369028471},455.8666674891353,{"$f":"-PMT('AVOID NEW'!$D$37,($A18-3),NPV('AVOID NEW'!$D$37,$D$6:$D18))","v":199745.89410860982},460.24399564195812,{"$f":"-PMT('AVOID NEW'!$D$37,($A18-4),NPV('AVOID NEW'!$D$37,$D$7:$D18))","v":201632.15660966601},464.59022260291709]
[{"$f":"IF(MIN('Input - Load and Resource'!F66:H66)<0,(INDIRECT(\"A\"&ROW()-1))+1,0)","v":17},2039,77.635930202221971,224429.94702858326,517.11969361424713,{"$f":"-PMT('AVOID NEW'!$D$37,$A19,NPV('AVOID NEW'!$D$37,$D$3:$D19))","v":194897.42879170593},449.07241657075099,{"$f":"-PMT('AVOID NEW'!$D$37,($A19-1),NPV('AVOID NEW'!$D$37,$D$4:$D19))","v":196859.57659420581},453.5934944566954,{"$f":"-PMT('AVOID NEW'!$D$37,($A19-2),NPV('AVOID NEW'!$D$37,$D$5:$D19))","v":198811.56211591783},458.09115694911941,{"$f":"-PMT('AVOID NEW'!$D$37,($A19-3),NPV('AVOID NEW'!$D$37,$D$6:$D19))","v":200752.20518113542},462.56268474915993,{"$f":"-PMT('AVOID NEW'!$D$37,($A19-4),NPV('AVOID NEW'!$D$37,$D$7:$D19))","v":202680.32769247255},467.00536334671096]
[{"$f":"IF(MIN('Input - Load and Resource'!F67:H67)<0,(INDIRECT(\"A\"&ROW()-1))+1,0)","v":18},2040,78.778705722035241,227733.48250125948,524.73152650059785,{"$f":"-PMT('AVOID NEW'!$D$37,$A20,NPV('AVOID NEW'!$D$37,$D$3:$D20))","v":195758.971908529},451.05753895974425,{"$f":"-PMT('AVOID NEW'!$D$37,($A20-1),NPV('AVOID NEW'!$D$37,$D$4:$D20))","v":197759.51364999879},455.66708214285433,{"$f":"-PMT('AVOID NEW'!$D$37,($A20-2),NPV('AVOID NEW'!$D$37,$D$5:$D20))","v":199750.94459684336},460.25563271162065,{"$f":"-PMT('AVOID NEW'!$D$37,($A20-3),NPV('AVOID NEW'!$D$37,$D$6:$D20))","v":201732.06806812051},464.82043333668321,{"$f":"-PMT('AVOID NEW'!$D$37,($A20-4),NPV('AVOID NEW'!$D$37,$D$7:$D20))","v":203701.68618524176},469.35872392912847]
[{"$f":"IF(MIN('Input - Load and Resource'!F68:H68)<0,(INDIRECT(\"A\"&ROW()-1))+1,0)","v":19},2041,79.938597549065506,231086.49779483859,532.45736819087233,{"$f":"-PMT('AVOID NEW'!$D$37,$A21,NPV('AVOID NEW'!$D$37,$D$3:$D21))","v":196595.50722364392},452.98503968581548,{"$f":"-PMT('AVOID NEW'!$D$37,($A21-1),NPV('AVOID NEW'!$D$37,$D$4:$D21))","v":198633.93766113085},457.68188401182226,{"$f":"-PMT('AVOID NEW'!$D$37,($A21-2),NPV('AVOID NEW'!$D$37,$D$5:$D21))","v":200664.33811341182},462.36022606776919,{"$f":"-PMT('AVOID NEW'!$D$37,($A21-3),NPV('AVOID NEW'!$D$37,$D$6:$D21))","v":202685.49843012422},467.0172774887655,{"$f":"-PMT('AVOID NEW'!$D$37,($A21-4),NPV('AVOID NEW'!$D$37,$D$7:$D21))","v":204696.20398530559},471.65023959747833]
[{"$f":"IF(MIN('Input - Load and Resource'!F69:H69)<0,(INDIRECT(\"A\"&ROW()-1))+1,0)","v":20},2042,81.115867660612636,234489.75023329904,540.29896367119591,{"$f":"-PMT('AVOID NEW'!$D$37,$A22,NPV('AVOID NEW'!$D$37,$D$3:$D22))","v":197407.20278375802},454.8553059533595,{"$f":"-PMT('AVOID NEW'!$D$37,($A22-1),NPV('AVOID NEW'!$D$37,$D$4:$D22))","v":199482.9824984424},459.63820852175667,{"$f":"-PMT('AVOID NEW'!$D$37,($A22-2),NPV('AVOID NEW'!$D$37,$D$5:$D22))","v":201551.83973718679},464.40516068476217,{"$f":"-PMT('AVOID NEW'!$D$37,($A22-3),NPV('AVOID NEW'!$D$37,$D$6:$D22))","v":203612.55394475893},469.15335010313117,{"$f":"-PMT('AVOID NEW'!$D$37,($A22-4),NPV('AVOID NEW'!$D$37,$D$7:$D22))","v":205663.89682924954},473.87994661117403]
[{"$f":"IF(MIN('Input - Load and Resource'!F70:H70)<0,(INDIRECT(\"A\"&ROW()-1))+1,0)","v":21},2043,82.310782148638651,237944.00903528463,548.2580853347572,null,null,{"$f":"-PMT('AVOID NEW'!$D$37,($A23-1),NPV('AVOID NEW'!$D$37,$D$4:$D23))","v":200306.81857479399},461.53644832901841,{"$f":"-PMT('AVOID NEW'!$D$37,($A23-2),NPV('AVOID NEW'!$D$37,$D$5:$D23))","v":202413.58519056143},466.39074928700791,{"$f":"-PMT('AVOID NEW'!$D$37,($A23-3),NPV('AVOID NEW'!$D$37,$D$6:$D23))","v":204513.33298128349},471.22887783705875,{"$f":"-PMT('AVOID NEW'!$D$37,($A23-4),NPV('AVOID NEW'!$D$37,$D$7:$D23))","v":206604.82309970012},476.04797949239662]
[{"$f":"IF(MIN('Input - Load and Resource'!F71:H71)<0,(INDIRECT(\"A\"&ROW()-1))+1,0)","v":22},2044,83.523611286312558,241450.05550647236,556.33653342505147,null,null,null,null,{"$f":"-PMT('AVOID NEW'!$D$37,($A24-2),NPV('AVOID NEW'!$D$37,$D$5:$D24))","v":203249.74728594563},468.31739005978255,{"$f":"-PMT('AVOID NEW'!$D$37,($A24-3),NPV('AVOID NEW'!$D$37,$D$6:$D24))","v":205387.97313911284},473.24417773989137,{"$f":"-PMT('AVOID NEW'!$D$37,($A24-4),NPV('AVOID NEW'!$D$37,$D$7:$D24))","v":207519.0824805531},478.15456792754173]
[{"$f":"IF(MIN('Input - Load and Resource'!F72:H72)<0,(INDIRECT(\"A\"&ROW()-1))+1,0)","v":23},2045,84.754629595665762,245008.68323515062,564.5361364865222,null,null,null,null,null,null,{"$f":"-PMT('AVOID NEW'!$D$37,($A25-3),NPV('AVOID NEW'!$D$37,$D$6:$D25))","v":206236.6496640754},475.19965360386038,{"$f":"-PMT('AVOID NEW'!$D$37,($A25-4),NPV('AVOID NEW'!$D$37,$D$7:$D25))","v":208406.81447406174},480.20003335037268]
[{"$f":"IF(MIN('Input - Load and Resource'!F73:H73)<0,(INDIRECT(\"A\"&ROW()-1))+1,0)","v":24},2046,86.004115916376819,248620.69829106212,572.85875182272378,null,null,null,null,null,null,null,null,{"$f":"-PMT('AVOID NEW'!$D$37,($A26-4),NPV('AVOID NEW'!$D$37,$D$7:$D26))","v":209268.19679382167},482.18478523922045]
[]
[]
[]
[]
[]
[]
["AVOIDED COST OF CAPACITY FOR ENERGY STORAGE (IPCO)\n(Avoided cost of capacity for energy storage is only available for generation during peak hours in accordance with Order No. 34913.)"]
[{"$f":"B1","v":"Calendar Year"},"Non-levelized Avoided Cost of Capacity during Peak Hours ($/MWh)","Contract Length","Levelized Avoided Cost of Capacity during Peak Hours ($/MWh)"]
[null,null,null,"Online Year 2022","Online Year 2023","Online Year 2024","Online Year 2025","Online Year 2026","Online Year 2027"]
[{"$f":"B2","v":2022},0,1,0,{"$f":"G3","v":409.51139449815008},{"$f":"I4","v":415.51565035784398},{"$f":"K5","v":421.6093877263076},{"$f":"M6","v":427.79396778319909},{"$f":"O7","v":434.0707729334614}]
[2023,{"$f":"E3","v":409.51139449815008},2,{"$f":"G3","v":409.51139449815008},{"$f":"G4","v":412.39555843432925},{"$f":"I5","v":418.44279702936615},{"$f":"K6","v":424.5801709802725},{"$f":"M7","v":430.80905166234169},{"$f":"O8","v":437.13083183972668}]
[2024,{"$f":"E4","v":415.51565035784392},3,{"$f":"G4","v":412.39555843432925},415.22875655707878,421.31822684097926,427.49847506269634,433.77088262043657,440.13685246212219]
[2025,421.6093877263076,4,415.22875655707878,418.00982720028588,424.14076049566421,430.36310277146902,436.67824527171268,443.08760094818854]
[2026,427.79396778319909,5,418.00982720028588,420.73770479321138,426.90931621560139,433.17295586901025,439.530024662095,445.98194536650124]
[2027,434.07077293346134,6,420.73770479321138,423.41142207669799,429.62291199254076,435.92703736734063,442.32520858952608,448.8188580628028]
[2028,440.44120714785333,7,423.41142207669799,426.03011185401436,432.28066736588823,438.62445333384647,445.06288943785302,451.59741752246214]
[2029,446.90669630911316,8,426.03011185401436,428.5930082702256,434.88180472230152,441.26441421143221,447.7422655178712,454.31680973274979]
[2030,453.46868856385458,9,428.5930082702256,431.09944761811261,437.42565011478433,443.84623565100975,450.36264191343469,456.97632904279982]
[2031,{"$f":"$E11","v":460.12865468029054},10,431.09944761811261,433.54886867276122,439.91163360341847,446.36933885848941,452.92343083482416,459.5753785234736]
[2032,466.88808841188745,11,433.54886867276122,435.94081256092284,442.33928912392236,448.83325046254663,455.42415148572957,462.11346983357112]
[2033,473.74850686704832,12,435.94081256092284,438.27492217509848,444.7082538941292,451.23760191339767,457.86442945423113,464.59022260291709]
[2034,480.71145088492915,13,438.27492217509848,440.55094114593294,447.0182673721655,453.58212842656906,460.24399564195812,467.00536334671096]
[2035,487.77848541749518,14,440.55094114593294,442.76871238990122,449.2691697835607,455.8666674891353,462.56268474915993,469.35872392912847]
[2036,494.95119991792075,15,442.76871238990122,444.92817625238587,451.46090023767806,458.09115694911941,464.82043333668321,471.65023959747833]
[2037,502.23120873544372,16,444.92817625238587,447.02936826903516,453.5934944566954,460.25563271162065,467.0172774887655,473.87994661117403]
[2038,509.6201515167856,17,447.02936826903516,449.07241657075099,455.66708214285433,462.36022606776919,469.15335010313117,476.04797949239662]
[2039,517.11969361424713,18,449.07241657075099,451.05753895974425,457.68188401182226,464.40516068476217,471.22887783705875,478.15456792754173]
[2040,524.73152650059785,19,451.05753895974425,452.98503968581548,459.63820852175667,466.39074928700791,473.24417773989137,480.20003335037268]
[2041,532.45736819087233,20,452.98503968581548,454.8553059533595,461.53644832901841,468.31739005978255,475.19965360386038,482.18478523922045]
[2042,540.29896367119591]
[2043,548.2580853347572]
[2044,556.33653342505147]
[2045,564.5361364865222]
[2046,572.85875182272378]

{"sheet":"IPCOStorage(Energy)LevelizedADJ","index":13,"n_rows":201,"n_cols":26,"rows_kept":201,"cut":false,"hidden":false,"merged":[[0,1,0,25],[1,1,1,25],[2,1,2,25],[12,1,12,25],[13,1,13,25],[14,1,14,25],[15,1,15,25],[16,1,16,25],[17,1,18,1],[17,2,17,4],[17,6,17,11],[17,13,17,18],[17,20,17,25],[18,2,19,2],[18,3,18,4],[18,6,18,7],[19,25,20,25],[44,1,44,25],[45,1,45,25],[46,1,46,25],[47,1,47,25],[48,1,48,25],[18,22,18,23],[18,24,18,25],[19,7,20,7],[19,9,20,9],[19,11,20,11],[19,14,20,14],[19,16,20,16],[19,18,20,18],[19,21,20,21],[19,23,20,23],[18,8,18,9],[18,10,18,11],[18,13,18,14],[18,15,18,16],[18,17,18,18],[18,20,18,21],[50,13,50,14],[50,15,50,16],[50,17,50,18],[50,20,50,21],[50,22,50,23],[50,24,50,25],[49,1,50,1],[49,2,49,4],[49,6,49,11],[49,13,49,18],[49,20,49,25],[50,2,51,2],[50,3,50,4],[50,6,50,7],[50,8,50,9],[50,10,50,11],[51,21,52,21],[51,23,52,23],[51,25,52,25],[76,1,76,25],[77,1,77,25],[78,1,78,25],[51,7,52,7],[51,9,52,9],[51,11,52,11],[51,14,52,14],[51,16,52,16],[51,18,52,18],[79,1,79,25],[80,1,80,25],[81,1,82,1],[81,2,81,4],[81,6,81,11],[81,13,81,18],[81,20,81,25],[82,2,83,2],[82,3,82,4],[82,6,82,7],[83,25,84,25],[108,1,108,25],[109,1,109,25],[110,1,110,25],[111,1,111,25],[112,1,112,25],[82,22,82,23],[82,24,82,25],[83,7,84,7],[83,9,84,9],[83,11,84,11],[83,14,84,14],[83,16,84,16],[83,18,84,18],[83,21,84,21],[83,23,84,23],[82,8,82,9],[82,10,82,11],[82,13,82,14],[82,15,82,16],[82,17,82,18],[82,20,82,21],[114,13,114,14],[114,15,114,16],[114,17,114,18],[114,20,114,21],[114,22,114,23],[114,24,114,25],[113,1,114,1],[113,2,113,4],[113,6,113,11],[113,13,113,18],[113,20,113,25],[114,2,115,2],[114,3,114,4],[114,6,114,7],[114,8,114,9],[114,10,114,11],[115,21,116,21],[115,23,116,23],[115,25,116,25],[140,1,140,25],[141,1,141,25],[142,1,142,25],[115,7,116,7],[115,9,116,9],[115,11,116,11],[115,14,116,14],[115,16,116,16],[115,18,116,18],[178,13,178,14],[143,1,143,25],[144,1,144,25],[145,1,146,1],[145,2,145,4],[145,6,145,11],[145,13,145,18],[145,20,145,25],[146,2,147,2],[146,3,146,4],[146,6,146,7],[147,25,148,25],[172,1,172,25],[173,1,173,25],[174,1,174,25],[175,1,175,25],[176,1,176,25],[146,22,146,23],[146,24,146,25],[147,7,148,7],[147,9,148,9],[147,11,148,11],[147,14,148,14],[147,16,148,16],[147,18,148,18],[147,21,148,21],[147,23,148,23],[146,8,146,9],[146,10,146,11],[146,13,146,14],[146,15,146,16],[146,17,146,18],[146,20,146,21],[178,15,178,16],[178,17,178,18],[178,20,178,21],[178,22,178,23],[178,24,178,25],[177,1,178,1],[177,2,177,4],[177,6,177,11],[177,13,177,18],[177,20,177,25],[178,2,179,2],[178,3,178,4],[178,6,178,7],[178,8,178,9],[178,10,178,11],[179,21,180,21],[179,23,180,23],[179,25,180,25],[179,7,180,7],[179,9,180,9],[179,11,180,11],[179,14,180,14],[179,16,180,16],[179,18,180,18]]}
[null,{"$f":"IF('AVOID NEW'!E105=\"IPCo\",\"IDAHO POWER\",\"THESE RATES ARE NOT VALID\")","v":"IDAHO POWER"}]
[null,"AVOIDED COST RATES OF ENERGY FOR ENERGY STORAGE PROJECTS"]
[null,"Eligibility for these rates is limited to energy storage projects 100 kW or smaller."]
[]
[null,"Seasonalization Factors"]
[]
[null,"Season 1",null,{"$f":"'AVOID NEW'!E72","v":0.73499999999999999},"(Applied to March - May)"]
[null,"Season 2",null,{"$f":"'AVOID NEW'!E73","v":1.2},"(Applied to July, August, November, and December)"]
[null,"Season 3",null,{"$f":"'AVOID NEW'!E74","v":1},"(Applied to January, February, June, September, and October)"]
[]
[]
[]
[null,{"$f":"$B$1","v":"IDAHO POWER"}]
[null,"LEVELIZED RATES"]
[null,{"$f":"\"PROJECT ON-LINE IN \"& 'AVOID NEW'!$D$54","v":"PROJECT ON-LINE IN 2022"}]
[]
[]
[null,null,"Levelized Price",null,null,null,{"$f":"\"Season 1 Pricing (\"&100*$D$7&\"%)\"","v":"Season 1 Pricing (73.5%)"},null,null,null,null,null,null,{"$f":"\"Season 2 Pricing (\"&100*$D$8&\"%)\"","v":"Season 2 Pricing (120%)"},null,null,null,null,null,null,{"$f":"\"Season 3 Pricing (\"&100*$D$9&\"%)\"","v":"Season 3 Pricing (100%)"}]
[null,null,"Heavy and Light Load Hour Differential",{"$f":"'AVOID NEW'!$D$66","v":7.28},null,null,"Flat",null,"Heavy Load Hour",null,"Light Load Hour",null,null,"Flat",null,"Heavy Load Hour",null,"Light Load Hour",null,null,"Flat",null,"Heavy Load Hour",null,"Light Load Hour"]
[null,null,null,{"$f":"D19*0.445","v":3.2396000000000003},{"$f":"-(D19-D20)","v":-4.0404},null,null,"Final avoided cost rates for wind and solar QFs include integration charges from Schedule 87",null,{"$f":"H20","v":"Final avoided cost rates for wind and solar QFs include integration charges from Schedule 87"},null,{"$f":"H20","v":"Final avoided cost rates for wind and solar QFs include integration charges from Schedule 87"},null,null,{"$f":"H20","v":"Final avoided cost rates for wind and solar QFs include integration charges from Schedule 87"},null,{"$f":"H20","v":"Final avoided cost rates for wind and solar QFs include integration charges from Schedule 87"},null,{"$f":"H20","v":"Final avoided cost rates for wind and solar QFs include integration charges from Schedule 87"},null,null,{"$f":"H20","v":"Final avoided cost rates for wind and solar QFs include integration charges from Schedule 87"},null,{"$f":"H20","v":"Final avoided cost rates for wind and solar QFs include integration charges from Schedule 87"},null,{"$f":"H20","v":"Final avoided cost rates for wind and solar QFs include integration charges from Schedule 87"}]
[null,"Contract Length","Flat","Heavy Load Hour","Light Load Hour",null,"Price",null,"Price",null,"Price",null,null,"Price",null,"Price",null,"Price",null,null,"Price",null,"Price",null,"Price"]
[null,1,{"$f":"'IPCOStorage(Energy)Levelized'!D2","v":33.419966110621289},{"$f":"C22+D$20","v":36.659566110621292},{"$f":"C22+E$20","v":29.37956611062129},null,{"$f":"ROUND((+$C22*$D$7),2)","v":24.56},"NA",{"$f":"ROUND((+$D22*$D$7),2)","v":26.94},"NA",{"$f":"ROUND((+$E22*$D$7),2)","v":21.59},"NA",null,{"$f":"ROUND((+$C22*$D$8),2)","v":40.1},"NA",{"$f":"ROUND((+$D22*$D$8),2)","v":43.99},"NA",{"$f":"ROUND((+$E22*$D$8),2)","v":35.26},"NA",null,{"$f":"ROUND((+$C22*$D$9),2)","v":33.42},"NA",{"$f":"ROUND((+$D22*$D$9),2)","v":36.659999999999997},"NA",{"$f":"ROUND((+$E22*$D$9),2)","v":29.38},"NA"]
[null,2,{"$f":"'IPCOStorage(Energy)Levelized'!D3","v":32.962855044951908},36.202455044951911,28.92245504495191,null,24.23,"NA",26.61,"NA",21.26,"NA",null,39.56,"NA",43.44,"NA",34.71,"NA",null,{"$f":"ROUND((+$C23*$D$9),2)","v":32.96},"NA",{"$f":"ROUND((+$D23*$D$9),2)","v":36.200000000000003},"NA",{"$f":"ROUND((+$E23*$D$9),2)","v":28.92},"NA"]
[null,3,{"$f":"'IPCOStorage(Energy)Levelized'!D4","v":32.228314760104148},35.467914760104151,28.18791476010415,null,23.69,"NA",26.07,"NA",20.72,"NA",null,38.67,"NA",42.56,"NA",33.83,"NA",null,32.229999999999997,"NA",35.47,"NA",28.19,"NA"]
[null,4,{"$f":"'IPCOStorage(Energy)Levelized'!D5","v":31.745557464909155},34.985157464909157,27.705157464909156,null,23.33,"NA",25.71,"NA",20.36,"NA",null,38.090000000000003,"NA",41.98,"NA",33.25,"NA",null,31.75,"NA",34.99,"NA",27.71,"NA"]
[null,5,{"$f":"'IPCOStorage(Energy)Levelized'!D6","v":31.66283917507009},34.902439175070093,27.622439175070092,null,23.27,"NA",25.65,"NA",20.3,"NA",null,38,"NA",41.88,"NA",33.15,"NA",null,31.66,"NA",34.9,"NA",27.62,"NA"]
[null,6,{"$f":"'IPCOStorage(Energy)Levelized'!D7","v":31.874797861832672},35.114397861832671,27.83439786183267,null,23.43,"NA",25.81,"NA",20.46,"NA",null,38.25,"NA",42.14,"NA",33.4,"NA",null,31.87,"NA",35.11,"NA",27.83,"NA"]
[null,7,{"$f":"'IPCOStorage(Energy)Levelized'!D8","v":32.297121569493775},35.536721569493778,28.256721569493777,null,23.74,"NA",26.12,"NA",20.77,"NA",null,38.76,"NA",42.64,"NA",33.909999999999997,"NA",null,32.299999999999997,"NA",35.54,"NA",28.26,"NA"]
[null,8,{"$f":"'IPCOStorage(Energy)Levelized'!D9","v":32.811298572497847},36.05089857249785,28.770898572497849,null,24.12,"NA",26.5,"NA",21.15,"NA",null,39.369999999999997,"NA",43.26,"NA",34.53,"NA",null,32.81,"NA",36.049999999999997,"NA",28.77,"NA"]
[null,9,{"$f":"'IPCOStorage(Energy)Levelized'!D10","v":33.341025982714058},36.580625982714061,29.30062598271406,null,24.51,"NA",26.89,"NA",21.54,"NA",null,40.01,"NA",43.9,"NA",35.159999999999997,"NA",null,33.340000000000003,"NA",36.58,"NA",29.3,"NA"]
[null,10,{"$f":"'IPCOStorage(Energy)Levelized'!D11","v":33.859079958462956},37.098679958462959,29.818679958462958,null,24.89,"NA",27.27,"NA",21.92,"NA",null,40.630000000000003,"NA",44.52,"NA",35.78,"NA",null,33.86,"NA",37.1,"NA",29.82,"NA"]
[null,11,{"$f":"'IPCOStorage(Energy)Levelized'!D12","v":34.376994211337788},37.616594211337791,30.33659421133779,null,25.27,"NA",27.65,"NA",22.3,"NA",null,41.25,"NA",45.14,"NA",36.4,"NA",null,34.380000000000003,"NA",37.619999999999997,"NA",30.34,"NA"]
[null,12,{"$f":"'IPCOStorage(Energy)Levelized'!D13","v":34.886554210186766},38.126154210186769,30.846154210186768,null,25.64,"NA",28.02,"NA",22.67,"NA",null,41.86,"NA",45.75,"NA",37.020000000000003,"NA",null,34.89,"NA",38.130000000000003,"NA",30.85,"NA"]
[null,13,{"$f":"'IPCOStorage(Energy)Levelized'!D14","v":35.364083375675463},38.603683375675466,31.323683375675465,null,25.99,"NA",28.37,"NA",23.02,"NA",null,42.44,"NA",46.32,"NA",37.590000000000003,"NA",null,35.36,"NA",38.6,"NA",31.32,"NA"]
[null,14,{"$f":"'IPCOStorage(Energy)Levelized'!D15","v":35.798888152222013},39.038488152222016,31.758488152222014,null,26.31,"NA",28.69,"NA",23.34,"NA",null,42.96,"NA",46.85,"NA",38.11,"NA",null,35.799999999999997,"NA",39.04,"NA",31.76,"NA"]
[null,15,{"$f":"'IPCOStorage(Energy)Levelized'!D16","v":36.210274437579059},39.449874437579062,32.169874437579061,null,26.61,"NA",29,"NA",23.64,"NA",null,43.45,"NA",47.34,"NA",38.6,"NA",null,36.21,"NA",39.450000000000003,"NA",32.17,"NA"]
[null,16,{"$f":"'IPCOStorage(Energy)Levelized'!D17","v":36.597339647384416},39.836939647384419,32.556939647384418,null,26.9,"NA",29.28,"NA",23.93,"NA",null,43.92,"NA",47.8,"NA",39.07,"NA",null,36.6,"NA",39.840000000000003,"NA",32.56,"NA"]
[null,17,{"$f":"'IPCOStorage(Energy)Levelized'!D18","v":36.970254612177079},40.209854612177082,32.929854612177081,null,27.17,"NA",29.55,"NA",24.2,"NA",null,44.36,"NA",48.25,"NA",39.520000000000003,"NA",null,36.97,"NA",40.21,"NA",32.93,"NA"]
[null,18,{"$f":"'IPCOStorage(Energy)Levelized'!D19","v":37.328798259965119},40.568398259965122,33.28839825996512,null,27.44,"NA",29.82,"NA",24.47,"NA",null,44.79,"NA",48.68,"NA",39.950000000000003,"NA",null,37.33,"NA",40.57,"NA",33.29,"NA"]
[null,19,{"$f":"'IPCOStorage(Energy)Levelized'!D20","v":37.680975722653457},40.92057572265346,33.640575722653459,null,27.7,"NA",30.08,"NA",24.73,"NA",null,45.22,"NA",49.1,"NA",40.369999999999997,"NA",null,37.68,"NA",40.92,"NA",33.64,"NA"]
[null,20,{"$f":"'IPCOStorage(Energy)Levelized'!D21","v":38.022223687412293},41.261823687412296,33.981823687412295,null,27.95,"NA",30.33,"NA",24.98,"NA",null,45.63,"NA",49.51,"NA",40.78,"NA",null,38.020000000000003,"NA",41.26,"NA",33.979999999999997,"NA"]
[]
[]
[]
[null,{"$f":"$B$1","v":"IDAHO POWER"}]
[null,"LEVELIZED RATES"]
[null,{"$f":"\"PROJECT ON-LINE IN \"& 'AVOID NEW'!$D$54+1","v":"PROJECT ON-LINE IN 2023"}]
[]
[]
[null,null,"Levelized Price",null,null,null,{"$f":"\"Season 1 Pricing (\"&100*$D$7&\"%)\"","v":"Season 1 Pricing (73.5%)"},null,null,null,null,null,null,{"$f":"\"Season 2 Pricing (\"&100*$D$8&\"%)\"","v":"Season 2 Pricing (120%)"},null,null,null,null,null,null,{"$f":"\"Season 3 Pricing (\"&100*$D$9&\"%)\"","v":"Season 3 Pricing (100%)"}]
[null,null,"Heavy and Light Load Hour Differential",{"$f":"'AVOID NEW'!$D$66","v":7.28},null,null,"Flat",null,"Heavy Load Hour",null,"Light Load Hour",null,null,"Flat",null,"Heavy Load Hour",null,"Light Load Hour",null,null,"Flat",null,"Heavy Load Hour",null,"Light Load Hour"]
[null,null,null,{"$f":"D51*0.445","v":3.2396000000000003},{"$f":"-(D51-D52)","v":-4.0404},null,null,{"$f":"H20","v":"Final avoided cost rates for wind and solar QFs include integration charges from Schedule 87"},null,{"$f":"H20","v":"Final avoided cost rates for wind and solar QFs include integration charges from Schedule 87"},null,{"$f":"H20","v":"Final avoided cost rates for wind and solar QFs include integration charges from Schedule 87"},null,null,{"$f":"H20","v":"Final avoided cost rates for wind and solar QFs include integration charges from Schedule 87"},null,{"$f":"H20","v":"Final avoided cost rates for wind and solar QFs include integration charges from Schedule 87"},null,{"$f":"H20","v":"Final avoided cost rates for wind and solar QFs include integration charges from Schedule 87"},null,null,{"$f":"H20","v":"Final avoided cost rates for wind and solar QFs include integration charges from Schedule 87"},null,{"$f":"H20","v":"Final avoided cost rates for wind and solar QFs include integration charges from Schedule 87"},null,{"$f":"H20","v":"Final avoided cost rates for wind and solar QFs include integration charges from Schedule 87"}]
[null,"Contract Length","Flat","Heavy Load Hour","Light Load Hour",null,"Price",null,"Price",null,"Price",null,null,"Price",null,"Price",null,"Price",null,null,"Price",null,"Price",null,"Price"]
[null,1,{"$f":"'IPCOStorage(Energy)Levelized'!E2","v":32.468351758833712},{"$f":"C54+D$52","v":35.707951758833715},{"$f":"C54+E$52","v":28.427951758833714},null,{"$f":"ROUND((+$C54*$D$7),2)","v":23.86},"NA",{"$f":"ROUND((+$D54*$D$7),2)","v":26.25},"NA",{"$f":"ROUND((+$E54*$D$7),2)","v":20.89},"NA",null,{"$f":"ROUND((+$C54*$D$8),2)","v":38.96},"NA",{"$f":"ROUND((+$D54*$D$8),2)","v":42.85},"NA",{"$f":"ROUND((+$E54*$D$8),2)","v":34.11},"NA",null,{"$f":"ROUND((+$C54*$D$9),2)","v":32.47},"NA",{"$f":"ROUND((+$D54*$D$9),2)","v":35.71},"NA",{"$f":"ROUND((+$E54*$D$9),2)","v":28.43},"NA"]
[null,2,{"$f":"'IPCOStorage(Energy)Levelized'!E3","v":31.558422661275657},34.79802266127566,27.518022661275658,null,23.2,"NA",25.58,"NA",20.23,"NA",null,37.869999999999997,"NA",41.76,"NA",33.020000000000003,"NA",null,{"$f":"ROUND((+$C55*$D$9),2)","v":31.56},"NA",{"$f":"ROUND((+$D55*$D$9),2)","v":34.799999999999997},"NA",{"$f":"ROUND((+$E55*$D$9),2)","v":27.52},"NA"]
[null,3,{"$f":"'IPCOStorage(Energy)Levelized'!E4","v":31.093718101580944},34.333318101580943,27.053318101580942,null,22.85,"NA",25.23,"NA",19.88,"NA",null,37.31,"NA",41.2,"NA",32.46,"NA",null,31.09,"NA",34.33,"NA",27.05,"NA"]
[null,4,{"$f":"'IPCOStorage(Energy)Levelized'!E5","v":31.130197489529696},34.369797489529695,27.089797489529694,null,22.88,"NA",25.26,"NA",19.91,"NA",null,37.36,"NA",41.24,"NA",32.51,"NA",null,31.13,"NA",34.369999999999997,"NA",27.09,"NA"]
[null,5,{"$f":"'IPCOStorage(Energy)Levelized'!E6","v":31.485961585752275},34.725561585752274,27.445561585752273,null,23.14,"NA",25.52,"NA",20.170000000000002,"NA",null,37.78,"NA",41.67,"NA",32.93,"NA",null,31.49,"NA",34.729999999999997,"NA",27.45,"NA"]
[null,6,{"$f":"'IPCOStorage(Energy)Levelized'!E7","v":32.052904301530511},35.292504301530514,28.012504301530512,null,23.56,"NA",25.94,"NA",20.59,"NA",null,38.46,"NA",42.35,"NA",33.619999999999997,"NA",null,32.049999999999997,"NA",35.29,"NA",28.01,"NA"]
[null,7,{"$f":"'IPCOStorage(Energy)Levelized'!E8","v":32.693669193242698},35.933269193242701,28.6532691932427,null,24.03,"NA",26.41,"NA",21.06,"NA",null,39.229999999999997,"NA",43.12,"NA",34.380000000000003,"NA",null,32.69,"NA",35.93,"NA",28.65,"NA"]
[null,8,{"$f":"'IPCOStorage(Energy)Levelized'!E9","v":33.327195196216714},36.566795196216717,29.286795196216715,null,24.5,"NA",26.88,"NA",21.53,"NA",null,39.99,"NA",43.88,"NA",35.14,"NA",null,33.33,"NA",36.57,"NA",29.29,"NA"]
[null,9,{"$f":"'IPCOStorage(Energy)Levelized'!E10","v":33.929900561488118},37.169500561488121,29.88950056148812,null,24.94,"NA",27.32,"NA",21.97,"NA",null,40.72,"NA",44.6,"NA",35.869999999999997,"NA",null,33.93,"NA",37.17,"NA",29.89,"NA"]
[null,10,{"$f":"'IPCOStorage(Energy)Levelized'!E11","v":34.52078047676212},37.760380476762123,30.480380476762122,null,25.37,"NA",27.75,"NA",22.4,"NA",null,41.42,"NA",45.31,"NA",36.58,"NA",null,34.520000000000003,"NA",37.76,"NA",30.48,"NA"]
[null,11,{"$f":"'IPCOStorage(Energy)Levelized'!E12","v":35.093787212562518},38.333387212562521,31.053387212562519,null,25.79,"NA",28.18,"NA",22.82,"NA",null,42.11,"NA",46,"NA",37.26,"NA",null,35.090000000000003,"NA",38.33,"NA",31.05,"NA"]
[null,12,{"$f":"'IPCOStorage(Energy)Levelized'!E13","v":35.624470667465204},38.864070667465207,31.584070667465205,null,26.18,"NA",28.57,"NA",23.21,"NA",null,42.75,"NA",46.64,"NA",37.9,"NA",null,35.619999999999997,"NA",38.86,"NA",31.58,"NA"]
[null,13,{"$f":"'IPCOStorage(Energy)Levelized'!E14","v":36.102862154190753},39.342462154190756,32.062462154190754,null,26.54,"NA",28.92,"NA",23.57,"NA",null,43.32,"NA",47.21,"NA",38.47,"NA",null,36.1,"NA",39.340000000000003,"NA",32.06,"NA"]
[null,14,{"$f":"'IPCOStorage(Energy)Levelized'!E15","v":36.552279266853475},39.791879266853478,32.511879266853477,null,26.87,"NA",29.25,"NA",23.9,"NA",null,43.86,"NA",47.75,"NA",39.01,"NA",null,36.549999999999997,"NA",39.79,"NA",32.51,"NA"]
[null,15,{"$f":"'IPCOStorage(Energy)Levelized'!E16","v":36.972643294923387},40.21224329492339,32.932243294923389,null,27.17,"NA",29.56,"NA",24.21,"NA",null,44.37,"NA",48.25,"NA",39.520000000000003,"NA",null,36.97,"NA",40.21,"NA",32.93,"NA"]
[null,16,{"$f":"'IPCOStorage(Energy)Levelized'!E17","v":37.375985556227242},40.615585556227245,33.335585556227244,null,27.47,"NA",29.85,"NA",24.5,"NA",null,44.85,"NA",48.74,"NA",40,"NA",null,37.380000000000003,"NA",40.619999999999997,"NA",33.340000000000003,"NA"]
[null,17,{"$f":"'IPCOStorage(Energy)Levelized'!E18","v":37.762483041583906},41.002083041583909,33.722083041583907,null,27.76,"NA",30.14,"NA",24.79,"NA",null,45.31,"NA",49.2,"NA",40.47,"NA",null,37.76,"NA",41,"NA",33.72,"NA"]
[null,18,{"$f":"'IPCOStorage(Energy)Levelized'!E19","v":38.141330467072514},41.380930467072517,34.100930467072516,null,28.03,"NA",30.41,"NA",25.06,"NA",null,45.77,"NA",49.66,"NA",40.92,"NA",null,38.14,"NA",41.38,"NA",34.1,"NA"]
[null,19,{"$f":"'IPCOStorage(Energy)Levelized'!E20","v":38.507672535516235},41.747272535516238,34.467272535516237,null,28.3,"NA",30.68,"NA",25.33,"NA",null,46.21,"NA",50.1,"NA",41.36,"NA",null,38.51,"NA",41.75,"NA",34.47,"NA"]
[null,20,{"$f":"'IPCOStorage(Energy)Levelized'!E21","v":38.854908418009543},42.094508418009546,34.814508418009545,null,28.56,"NA",30.94,"NA",25.59,"NA",null,46.63,"NA",50.51,"NA",41.78,"NA",null,38.85,"NA",42.09,"NA",34.81,"NA"]
[]
[]
[]
[null,{"$f":"$B$1","v":"IDAHO POWER"}]
[null,"LEVELIZED RATES"]
[null,{"$f":"\"PROJECT ON-LINE IN \"& 'AVOID NEW'!$D$54+2","v":"PROJECT ON-LINE IN 2024"}]
[]
[]
[null,null,"Levelized Price",null,null,null,{"$f":"\"Season 1 Pricing (\"&100*$D$7&\"%)\"","v":"Season 1 Pricing (73.5%)"},null,null,null,null,null,null,{"$f":"\"Season 2 Pricing (\"&100*$D$8&\"%)\"","v":"Season 2 Pricing (120%)"},null,null,null,null,null,null,{"$f":"\"Season 3 Pricing (\"&100*$D$9&\"%)\"","v":"Season 3 Pricing (100%)"}]
[null,null,"Heavy and Light Load Hour Differential",{"$f":"'AVOID NEW'!$D$66","v":7.28},null,null,"Flat",null,"Heavy Load Hour",null,"Light Load Hour",null,null,"Flat",null,"Heavy Load Hour",null,"Light Load Hour",null,null,"Flat",null,"Heavy Load Hour",null,"Light Load Hour"]
[null,null,null,{"$f":"D83*0.445","v":3.2396000000000003},{"$f":"-(D83-D84)","v":-4.0404},null,null,{"$f":"H20","v":"Final avoided cost rates for wind and solar QFs include integration charges from Schedule 87"},null,{"$f":"H20","v":"Final avoided cost rates for wind and solar QFs include integration charges from Schedule 87"},null,{"$f":"H20","v":"Final avoided cost rates for wind and solar QFs include integration charges from Schedule 87"},null,null,{"$f":"H20","v":"Final avoided cost rates for wind and solar QFs include integration charges from Schedule 87"},null,{"$f":"H20","v":"Final avoided cost rates for wind and solar QFs include integration charges from Schedule 87"},null,{"$f":"H20","v":"Final avoided cost rates for wind and solar QFs include integration charges from Schedule 87"},null,null,{"$f":"H20","v":"Final avoided cost rates for wind and solar QFs include integration charges from Schedule 87"},null,{"$f":"H20","v":"Final avoided cost rates for wind and solar QFs include integration charges from Schedule 87"},null,{"$f":"H20","v":"Final avoided cost rates for wind and solar QFs include integration charges from Schedule 87"}]
[null,"Contract Length","Flat","Heavy Load Hour","Light Load Hour",null,"Price",null,"Price",null,"Price",null,null,"Price",null,"Price",null,"Price",null,null,"Price",null,"Price",null,"Price"]
[null,1,{"$f":"'IPCOStorage(Energy)Levelized'!F2","v":30.574060298010391},{"$f":"C86+D$84","v":33.81366029801039},{"$f":"C86+E$84","v":26.533660298010389},null,{"$f":"ROUND((+$C86*$D$7),2)","v":22.47},"NA",{"$f":"ROUND((+$D86*$D$7),2)","v":24.85},"NA",{"$f":"ROUND((+$E86*$D$7),2)","v":19.5},"NA",null,{"$f":"ROUND((+$C86*$D$8),2)","v":36.69},"NA",{"$f":"ROUND((+$D86*$D$8),2)","v":40.58},"NA",{"$f":"ROUND((+$E86*$D$8),2)","v":31.84},"NA",null,{"$f":"ROUND((+$C86*$D$9),2)","v":30.57},"NA",{"$f":"ROUND((+$D86*$D$9),2)","v":33.81},"NA",{"$f":"ROUND((+$E86*$D$9),2)","v":26.53},"NA"]
[null,2,{"$f":"'IPCOStorage(Energy)Levelized'!F3","v":30.320961686394806},33.560561686394806,26.280561686394805,null,22.29,"NA",24.67,"NA",19.32,"NA",null,36.39,"NA",40.270000000000003,"NA",31.54,"NA",null,{"$f":"ROUND((+$C87*$D$9),2)","v":30.32},"NA",{"$f":"ROUND((+$D87*$D$9),2)","v":33.56},"NA",{"$f":"ROUND((+$E87*$D$9),2)","v":26.28},"NA"]
[null,3,{"$f":"'IPCOStorage(Energy)Levelized'!F4","v":30.609260363952995},33.848860363952994,26.568860363952993,null,22.5,"NA",24.88,"NA",19.53,"NA",null,36.729999999999997,"NA",40.619999999999997,"NA",31.88,"NA",null,30.61,"NA",33.85,"NA",26.57,"NA"]
[null,4,{"$f":"'IPCOStorage(Energy)Levelized'!F5","v":31.188167529408656},34.427767529408655,27.147767529408654,null,22.92,"NA",25.3,"NA",19.95,"NA",null,37.43,"NA",41.31,"NA",32.58,"NA",null,31.19,"NA",34.43,"NA",27.15,"NA"]
[null,5,{"$f":"'IPCOStorage(Energy)Levelized'!F6","v":31.948358377595365},35.187958377595365,27.907958377595364,null,23.48,"NA",25.86,"NA",20.51,"NA",null,38.340000000000003,"NA",42.23,"NA",33.49,"NA",null,31.95,"NA",35.19,"NA",27.91,"NA"]
[null,6,{"$f":"'IPCOStorage(Energy)Levelized'!F7","v":32.74267545033382},35.982275450333823,28.702275450333822,null,24.07,"NA",26.45,"NA",21.1,"NA",null,39.29,"NA",43.18,"NA",34.44,"NA",null,32.74,"NA",35.979999999999997,"NA",28.7,"NA"]
[null,7,{"$f":"'IPCOStorage(Energy)Levelized'!F8","v":33.493172867258892},36.732772867258895,29.452772867258894,null,24.62,"NA",27,"NA",21.65,"NA",null,40.19,"NA",44.08,"NA",35.340000000000003,"NA",null,33.49,"NA",36.729999999999997,"NA",29.45,"NA"]
[null,8,{"$f":"'IPCOStorage(Energy)Levelized'!F9","v":34.185972726315569},37.425572726315572,30.145572726315571,null,25.13,"NA",27.51,"NA",22.16,"NA",null,41.02,"NA",44.91,"NA",36.17,"NA",null,34.19,"NA",37.43,"NA",30.15,"NA"]
[null,9,{"$f":"'IPCOStorage(Energy)Levelized'!F10","v":34.851797683767344},38.091397683767347,30.811397683767346,null,25.62,"NA",28,"NA",22.65,"NA",null,41.82,"NA",45.71,"NA",36.97,"NA",null,34.85,"NA",38.090000000000003,"NA",30.81,"NA"]
[null,10,{"$f":"'IPCOStorage(Energy)Levelized'!F11","v":35.488239119169748},38.727839119169751,31.44783911916975,null,26.08,"NA",28.46,"NA",23.11,"NA",null,42.59,"NA",46.47,"NA",37.74,"NA",null,35.49,"NA",38.729999999999997,"NA",31.45,"NA"]
[null,11,{"$f":"'IPCOStorage(Energy)Levelized'!F12","v":36.070439100922691},39.310039100922694,32.030039100922693,null,26.51,"NA",28.89,"NA",23.54,"NA",null,43.28,"NA",47.17,"NA",38.44,"NA",null,36.07,"NA",39.31,"NA",32.03,"NA"]
[null,12,{"$f":"'IPCOStorage(Energy)Levelized'!F13","v":36.589653941826242},39.829253941826245,32.549253941826244,null,26.89,"NA",29.27,"NA",23.92,"NA",null,43.91,"NA",47.8,"NA",39.06,"NA",null,36.590000000000003,"NA",39.83,"NA",32.549999999999997,"NA"]
[null,13,{"$f":"'IPCOStorage(Energy)Levelized'!F14","v":37.074115529939981},40.313715529939984,33.033715529939983,null,27.25,"NA",29.63,"NA",24.28,"NA",null,44.49,"NA",48.38,"NA",39.64,"NA",null,37.07,"NA",40.31,"NA",33.03,"NA"]
[null,14,{"$f":"'IPCOStorage(Energy)Levelized'!F15","v":37.524729042193535},40.764329042193538,33.484329042193536,null,27.58,"NA",29.96,"NA",24.61,"NA",null,45.03,"NA",48.92,"NA",40.18,"NA",null,37.520000000000003,"NA",40.76,"NA",33.479999999999997,"NA"]
[null,15,{"$f":"'IPCOStorage(Energy)Levelized'!F16","v":37.955663344701492},41.195263344701495,33.915263344701494,null,27.9,"NA",30.28,"NA",24.93,"NA",null,45.55,"NA",49.43,"NA",40.700000000000003,"NA",null,37.96,"NA",41.2,"NA",33.92,"NA"]
[null,16,{"$f":"'IPCOStorage(Energy)Levelized'!F17","v":38.367502290677201},41.607102290677204,34.327102290677203,null,28.2,"NA",30.58,"NA",25.23,"NA",null,46.04,"NA",49.93,"NA",41.19,"NA",null,38.369999999999997,"NA",41.61,"NA",34.33,"NA"]
[null,17,{"$f":"'IPCOStorage(Energy)Levelized'!F18","v":38.770747243800493},42.010347243800496,34.730347243800495,null,28.5,"NA",30.88,"NA",25.53,"NA",null,46.52,"NA",50.41,"NA",41.68,"NA",null,38.770000000000003,"NA",42.01,"NA",34.729999999999997,"NA"]
[null,18,{"$f":"'IPCOStorage(Energy)Levelized'!F19","v":39.16015404242571},42.399754042425712,35.119754042425711,null,28.78,"NA",31.16,"NA",25.81,"NA",null,46.99,"NA",50.88,"NA",42.14,"NA",null,39.159999999999997,"NA",42.4,"NA",35.119999999999997,"NA"]
[null,19,{"$f":"'IPCOStorage(Energy)Levelized'!F20","v":39.528566187444817},42.76816618744482,35.488166187444818,null,29.05,"NA",31.43,"NA",26.08,"NA",null,47.43,"NA",51.32,"NA",42.59,"NA",null,39.53,"NA",42.77,"NA",35.49,"NA"]
[null,20,{"$f":"'IPCOStorage(Energy)Levelized'!F21","v":39.884623432626945},43.124223432626948,35.844223432626947,null,29.32,"NA",31.7,"NA",26.35,"NA",null,47.86,"NA",51.75,"NA",43.01,"NA",null,39.880000000000003,"NA",43.12,"NA",35.840000000000003,"NA"]
[]
[]
[]
[null,{"$f":"$B$1","v":"IDAHO POWER"}]
[null,"LEVELIZED RATES"]
[null,{"$f":"\"PROJECT ON-LINE IN \"& 'AVOID NEW'!$D$54+3","v":"PROJECT ON-LINE IN 2025"}]
[]
[]
[null,null,"Levelized Price",null,null,null,{"$f":"\"Season 1 Pricing (\"&100*$D$7&\"%)\"","v":"Season 1 Pricing (73.5%)"},null,null,null,null,null,null,{"$f":"\"Season 2 Pricing (\"&100*$D$8&\"%)\"","v":"Season 2 Pricing (120%)"},null,null,null,null,null,null,{"$f":"\"Season 3 Pricing (\"&100*$D$9&\"%)\"","v":"Season 3 Pricing (100%)"}]
[null,null,"Heavy and Light Load Hour Differential",{"$f":"'AVOID NEW'!$D$66","v":7.28},null,null,"Flat",null,"Heavy Load Hour",null,"Light Load Hour",null,null,"Flat",null,"Heavy Load Hour",null,"Light Load Hour",null,null,"Flat",null,"Heavy Load Hour",null,"Light Load Hour"]
[null,null,null,{"$f":"D115*0.445","v":3.2396000000000003},{"$f":"-(D115-D116)","v":-4.0404},null,null,{"$f":"H20","v":"Final avoided cost rates for wind and solar QFs include integration charges from Schedule 87"},null,{"$f":"H20","v":"Final avoided cost rates for wind and solar QFs include integration charges from Schedule 87"},null,{"$f":"H20","v":"Final avoided cost rates for wind and solar QFs include integration charges from Schedule 87"},null,null,{"$f":"H20","v":"Final avoided cost rates for wind and solar QFs include integration charges from Schedule 87"},null,{"$f":"H20","v":"Final avoided cost rates for wind and solar QFs include integration charges from Schedule 87"},null,{"$f":"H20","v":"Final avoided cost rates for wind and solar QFs include integration charges from Schedule 87"},null,null,{"$f":"H20","v":"Final avoided cost rates for wind and solar QFs include integration charges from Schedule 87"},null,{"$f":"H20","v":"Final avoided cost rates for wind and solar QFs include integration charges from Schedule 87"},null,{"$f":"H20","v":"Final avoided cost rates for wind and solar QFs include integration charges from Schedule 87"}]
[null,"Contract Length","Flat","Heavy Load Hour","Light Load Hour",null,"Price",null,"Price",null,"Price",null,null,"Price",null,"Price",null,"Price",null,null,"Price",null,"Price",null,"Price"]
[null,1,{"$f":"'IPCOStorage(Energy)Levelized'!G2","v":30.047159311970596},{"$f":"C118+D$84","v":33.286759311970599},{"$f":"C118+E$84","v":26.006759311970598},null,{"$f":"ROUND((+$C118*$D$7),2)","v":22.08},"NA",{"$f":"ROUND((+$D118*$D$7),2)","v":24.47},"NA",{"$f":"ROUND((+$E118*$D$7),2)","v":19.11},"NA",null,{"$f":"ROUND((+$C118*$D$8),2)","v":36.06},"NA",{"$f":"ROUND((+$D118*$D$8),2)","v":39.94},"NA",{"$f":"ROUND((+$E118*$D$8),2)","v":31.21},"NA",null,{"$f":"ROUND((+$C118*$D$9),2)","v":30.05},"NA",{"$f":"ROUND((+$D118*$D$9),2)","v":33.29},"NA",{"$f":"ROUND((+$E118*$D$9),2)","v":26.01},"NA"]
[null,2,{"$f":"'IPCOStorage(Energy)Levelized'!G3","v":30.62904823734646},33.868648237346463,26.588648237346462,null,22.51,"NA",24.89,"NA",19.54,"NA",null,36.75,"NA",40.64,"NA",31.91,"NA",null,{"$f":"ROUND((+$C119*$D$9),2)","v":30.63},"NA",{"$f":"ROUND((+$D119*$D$9),2)","v":33.869999999999997},"NA",{"$f":"ROUND((+$E119*$D$9),2)","v":26.59},"NA"]
[null,3,{"$f":"'IPCOStorage(Energy)Levelized'!G4","v":31.427236568949869},34.666836568949869,27.386836568949867,null,23.1,"NA",25.48,"NA",20.13,"NA",null,37.71,"NA",41.6,"NA",32.86,"NA",null,31.43,"NA",34.67,"NA",27.39,"NA"]
[null,4,{"$f":"'IPCOStorage(Energy)Levelized'!G5","v":32.364952324643042},35.604552324643045,28.324552324643044,null,23.79,"NA",26.17,"NA",20.82,"NA",null,38.840000000000003,"NA",42.73,"NA",33.99,"NA",null,32.36,"NA",35.6,"NA",28.32,"NA"]
[null,5,{"$f":"'IPCOStorage(Energy)Levelized'!G6","v":33.288399995697752},36.527999995697755,29.247999995697754,null,24.47,"NA",26.85,"NA",21.5,"NA",null,39.950000000000003,"NA",43.83,"NA",35.1,"NA",null,33.29,"NA",36.53,"NA",29.25,"NA"]
[null,6,{"$f":"'IPCOStorage(Energy)Levelized'!G7","v":34.128076160125431},37.367676160125434,30.087676160125433,null,25.08,"NA",27.47,"NA",22.11,"NA",null,40.950000000000003,"NA",44.84,"NA",36.11,"NA",null,34.130000000000003,"NA",37.369999999999997,"NA",30.09,"NA"]
[null,7,{"$f":"'IPCOStorage(Energy)Levelized'!G8","v":34.884000779816382},38.123600779816385,30.843600779816384,null,25.64,"NA",28.02,"NA",22.67,"NA",null,41.86,"NA",45.75,"NA",37.01,"NA",null,34.880000000000003,"NA",38.119999999999997,"NA",30.84,"NA"]
[null,8,{"$f":"'IPCOStorage(Energy)Levelized'!G9","v":35.601283072790693},38.840883072790696,31.560883072790695,null,26.17,"NA",28.55,"NA",23.2,"NA",null,42.72,"NA",46.61,"NA",37.869999999999997,"NA",null,35.6,"NA",38.840000000000003,"NA",31.56,"NA"]
[null,9,{"$f":"'IPCOStorage(Energy)Levelized'!G10","v":36.280801479019352},39.520401479019355,32.240401479019354,null,26.67,"NA",29.05,"NA",23.7,"NA",null,43.54,"NA",47.42,"NA",38.69,"NA",null,36.28,"NA",39.520000000000003,"NA",32.24,"NA"]
[null,10,{"$f":"'IPCOStorage(Energy)Levelized'!G11","v":36.896228626681228},40.135828626681231,32.85582862668123,null,27.12,"NA",29.5,"NA",24.15,"NA",null,44.28,"NA",48.16,"NA",39.43,"NA",null,36.9,"NA",40.14,"NA",32.86,"NA"]
[null,11,{"$f":"'IPCOStorage(Energy)Levelized'!G12","v":37.439674156943106},40.679274156943109,33.399274156943108,null,27.52,"NA",29.9,"NA",24.55,"NA",null,44.93,"NA",48.82,"NA",40.08,"NA",null,37.44,"NA",40.68,"NA",33.4,"NA"]
[null,12,{"$f":"'IPCOStorage(Energy)Levelized'!G13","v":37.944706933426552},41.184306933426555,33.904306933426554,null,27.89,"NA",30.27,"NA",24.92,"NA",null,45.53,"NA",49.42,"NA",40.69,"NA",null,37.94,"NA",41.18,"NA",33.9,"NA"]
[null,13,{"$f":"'IPCOStorage(Energy)Levelized'!G14","v":38.412871889071688},41.652471889071691,34.37247188907169,null,28.23,"NA",30.61,"NA",25.26,"NA",null,46.1,"NA",49.98,"NA",41.25,"NA",null,38.409999999999997,"NA",41.65,"NA",34.369999999999997,"NA"]
[null,14,{"$f":"'IPCOStorage(Energy)Levelized'!G15","v":38.860417799743239},42.100017799743242,34.820017799743241,null,28.56,"NA",30.94,"NA",25.59,"NA",null,46.63,"NA",50.52,"NA",41.78,"NA",null,38.86,"NA",42.1,"NA",34.82,"NA"]
[null,15,{"$f":"'IPCOStorage(Energy)Levelized'!G16","v":39.288044736470681},42.527644736470684,35.247644736470683,null,28.88,"NA",31.26,"NA",25.91,"NA",null,47.15,"NA",51.03,"NA",42.3,"NA",null,39.29,"NA",42.53,"NA",35.25,"NA"]
[null,16,{"$f":"'IPCOStorage(Energy)Levelized'!G17","v":39.70747380310457},42.947073803104573,35.667073803104572,null,29.18,"NA",31.57,"NA",26.22,"NA",null,47.65,"NA",51.54,"NA",42.8,"NA",null,39.71,"NA",42.95,"NA",35.67,"NA"]
[null,17,{"$f":"'IPCOStorage(Energy)Levelized'!G18","v":40.11278082409256},43.352380824092563,36.072380824092562,null,29.48,"NA",31.86,"NA",26.51,"NA",null,48.14,"NA",52.02,"NA",43.29,"NA",null,40.11,"NA",43.35,"NA",36.07,"NA"]
[null,18,{"$f":"'IPCOStorage(Energy)Levelized'!G19","v":40.496001055108422},43.735601055108425,36.455601055108424,null,29.76,"NA",32.15,"NA",26.79,"NA",null,48.6,"NA",52.48,"NA",43.75,"NA",null,40.5,"NA",43.74,"NA",36.46,"NA"]
[null,19,{"$f":"'IPCOStorage(Energy)Levelized'!G20","v":40.866707132525001},44.106307132525004,36.826307132525002,null,30.04,"NA",32.42,"NA",27.07,"NA",null,49.04,"NA",52.93,"NA",44.19,"NA",null,40.869999999999997,"NA",44.11,"NA",36.83,"NA"]
[null,20,{"$f":"'IPCOStorage(Energy)Levelized'!G21","v":41.22831685563731},44.467916855637313,37.187916855637312,null,30.3,"NA",32.68,"NA",27.33,"NA",null,49.47,"NA",53.36,"NA",44.63,"NA",null,41.23,"NA",44.47,"NA",37.19,"NA"]
[]
[]
[]
[null,{"$f":"$B$1","v":"IDAHO POWER"}]
[null,"LEVELIZED RATES"]
[null,{"$f":"\"PROJECT ON-LINE IN \"& 'AVOID NEW'!$D$54+4","v":"PROJECT ON-LINE IN 2026"}]
[]
[]
[null,null,"Levelized Price",null,null,null,{"$f":"\"Season 1 Pricing (\"&100*$D$7&\"%)\"","v":"Season 1 Pricing (73.5%)"},null,null,null,null,null,null,{"$f":"\"Season 2 Pricing (\"&100*$D$8&\"%)\"","v":"Season 2 Pricing (120%)"},null,null,null,null,null,null,{"$f":"\"Season 3 Pricing (\"&100*$D$9&\"%)\"","v":"Season 3 Pricing (100%)"}]
[null,null,"Heavy and Light Load Hour Differential",{"$f":"'AVOID NEW'!$D$66","v":7.28},null,null,"Flat",null,"Heavy Load Hour",null,"Light Load Hour",null,null,"Flat",null,"Heavy Load Hour",null,"Light Load Hour",null,null,"Flat",null,"Heavy Load Hour",null,"Light Load Hour"]
[null,null,null,{"$f":"D147*0.445","v":3.2396000000000003},{"$f":"-(D147-D148)","v":-4.0404},null,null,{"$f":"H20","v":"Final avoided cost rates for wind and solar QFs include integration charges from Schedule 87"},null,{"$f":"H20","v":"Final avoided cost rates for wind and solar QFs include integration charges from Schedule 87"},null,{"$f":"H20","v":"Final avoided cost rates for wind and solar QFs include integration charges from Schedule 87"},null,null,{"$f":"H20","v":"Final avoided cost rates for wind and solar QFs include integration charges from Schedule 87"},null,{"$f":"H20","v":"Final avoided cost rates for wind and solar QFs include integration charges from Schedule 87"},null,{"$f":"H20","v":"Final avoided cost rates for wind and solar QFs include integration charges from Schedule 87"},null,null,{"$f":"H20","v":"Final avoided cost rates for wind and solar QFs include integration charges from Schedule 87"},null,{"$f":"H20","v":"Final avoided cost rates for wind and solar QFs include integration charges from Schedule 87"},null,{"$f":"H20","v":"Final avoided cost rates for wind and solar QFs include integration charges from Schedule 87"}]
[null,"Contract Length","Flat","Heavy Load Hour","Light Load Hour",null,"Price",null,"Price",null,"Price",null,null,"Price",null,"Price",null,"Price",null,null,"Price",null,"Price",null,"Price"]
[null,1,{"$f":"'IPCOStorage(Energy)Levelized'!H2","v":31.258536358210005},{"$f":"C150+D$84","v":34.498136358210004},{"$f":"C150+E$84","v":27.218136358210003},null,{"$f":"ROUND((+$C150*$D$7),2)","v":22.98},"NA",{"$f":"ROUND((+$D150*$D$7),2)","v":25.36},"NA",{"$f":"ROUND((+$E150*$D$7),2)","v":20.010000000000002},"NA",null,{"$f":"ROUND((+$C150*$D$8),2)","v":37.51},"NA",{"$f":"ROUND((+$D150*$D$8),2)","v":41.4},"NA",{"$f":"ROUND((+$E150*$D$8),2)","v":32.659999999999997},"NA",null,{"$f":"ROUND((+$C150*$D$9),2)","v":31.26},"NA",{"$f":"ROUND((+$D150*$D$9),2)","v":34.5},"NA",{"$f":"ROUND((+$E150*$D$9),2)","v":27.22},"NA"]
[null,2,{"$f":"'IPCOStorage(Energy)Levelized'!H3","v":32.20305312789732},35.442653127897323,28.162653127897322,null,23.67,"NA",26.05,"NA",20.7,"NA",null,38.64,"NA",42.53,"NA",33.799999999999997,"NA",null,{"$f":"ROUND((+$C151*$D$9),2)","v":32.200000000000003},"NA",{"$f":"ROUND((+$D151*$D$9),2)","v":35.44},"NA",{"$f":"ROUND((+$E151*$D$9),2)","v":28.16},"NA"]
[null,3,{"$f":"'IPCOStorage(Energy)Levelized'!H4","v":33.267258177862296},36.506858177862298,29.226858177862297,null,24.45,"NA",26.83,"NA",21.48,"NA",null,39.92,"NA",43.81,"NA",35.07,"NA",null,33.270000000000003,"NA",36.51,"NA",29.23,"NA"]
[null,4,{"$f":"'IPCOStorage(Energy)Levelized'!H5","v":34.270924289243418},37.510524289243421,30.230524289243419,null,25.19,"NA",27.57,"NA",22.22,"NA",null,41.13,"NA",45.01,"NA",36.28,"NA",null,34.270000000000003,"NA",37.51,"NA",30.23,"NA"]
[null,5,{"$f":"'IPCOStorage(Energy)Levelized'!H6","v":35.155024850971422},38.394624850971425,31.114624850971424,null,25.84,"NA",28.22,"NA",22.87,"NA",null,42.19,"NA",46.07,"NA",37.340000000000003,"NA",null,35.159999999999997,"NA",38.39,"NA",31.11,"NA"]
[null,6,{"$f":"'IPCOStorage(Energy)Levelized'!H7","v":35.936007683338886},39.175607683338889,31.895607683338888,null,26.41,"NA",28.79,"NA",23.44,"NA",null,43.12,"NA",47.01,"NA",38.270000000000003,"NA",null,35.94,"NA",39.18,"NA",31.9,"NA"]
[null,7,{"$f":"'IPCOStorage(Energy)Levelized'!H8","v":36.674657434606857},39.91425743460686,32.634257434606859,null,26.96,"NA",29.34,"NA",23.99,"NA",null,44.01,"NA",47.9,"NA",39.159999999999997,"NA",null,36.67,"NA",39.909999999999997,"NA",32.630000000000003,"NA"]
[null,8,{"$f":"'IPCOStorage(Energy)Levelized'!H9","v":37.372973181788851},40.612573181788854,33.332573181788852,null,27.47,"NA",29.85,"NA",24.5,"NA",null,44.85,"NA",48.74,"NA",40,"NA",null,37.369999999999997,"NA",40.61,"NA",33.33,"NA"]
[null,9,{"$f":"'IPCOStorage(Energy)Levelized'!H10","v":38.000851542613283},41.240451542613286,33.960451542613285,null,27.93,"NA",30.31,"NA",24.96,"NA",null,45.6,"NA",49.49,"NA",40.75,"NA",null,38,"NA",41.24,"NA",33.96,"NA"]
[null,10,{"$f":"'IPCOStorage(Energy)Levelized'!H11","v":38.550343844548721},41.789943844548723,34.509943844548722,null,28.33,"NA",30.72,"NA",25.36,"NA",null,46.26,"NA",50.15,"NA",41.41,"NA",null,38.549999999999997,"NA",41.79,"NA",34.51,"NA"]
[null,11,{"$f":"'IPCOStorage(Energy)Levelized'!H12","v":39.060652511796327},42.30025251179633,35.020252511796329,null,28.71,"NA",31.09,"NA",25.74,"NA",null,46.87,"NA",50.76,"NA",42.02,"NA",null,39.06,"NA",42.3,"NA",35.020000000000003,"NA"]
[null,12,{"$f":"'IPCOStorage(Energy)Levelized'!H13","v":39.533341976446877},42.77294197644688,35.492941976446879,null,29.06,"NA",31.44,"NA",26.09,"NA",null,47.44,"NA",51.33,"NA",42.59,"NA",null,39.53,"NA",42.77,"NA",35.49,"NA"]
[null,13,{"$f":"'IPCOStorage(Energy)Levelized'!H14","v":39.986558718220188},43.226158718220191,35.94615871822019,null,29.39,"NA",31.77,"NA",26.42,"NA",null,47.98,"NA",51.87,"NA",43.14,"NA",null,39.99,"NA",43.23,"NA",35.950000000000003,"NA"]
[null,14,{"$f":"'IPCOStorage(Energy)Levelized'!H15","v":40.420689258732629},43.660289258732632,36.380289258732631,null,29.71,"NA",32.090000000000003,"NA",26.74,"NA",null,48.5,"NA",52.39,"NA",43.66,"NA",null,40.42,"NA",43.66,"NA",36.380000000000003,"NA"]
[null,15,{"$f":"'IPCOStorage(Energy)Levelized'!H16","v":40.848526695673762},44.088126695673765,36.808126695673764,null,30.02,"NA",32.4,"NA",27.05,"NA",null,49.02,"NA",52.91,"NA",44.17,"NA",null,40.85,"NA",44.09,"NA",36.81,"NA"]
[null,16,{"$f":"'IPCOStorage(Energy)Levelized'!H17","v":41.263091317669463},44.502691317669466,37.222691317669465,null,30.33,"NA",32.71,"NA",27.36,"NA",null,49.52,"NA",53.4,"NA",44.67,"NA",null,41.26,"NA",44.5,"NA",37.22,"NA"]
[null,17,{"$f":"'IPCOStorage(Energy)Levelized'!H18","v":41.655299657966786},44.894899657966789,37.614899657966788,null,30.62,"NA",33,"NA",27.65,"NA",null,49.99,"NA",53.87,"NA",45.14,"NA",null,41.66,"NA",44.89,"NA",37.61,"NA"]
[null,18,{"$f":"'IPCOStorage(Energy)Levelized'!H19","v":42.035639058328812},45.275239058328815,37.995239058328814,null,30.9,"NA",33.28,"NA",27.93,"NA",null,50.44,"NA",54.33,"NA",45.59,"NA",null,42.04,"NA",45.28,"NA",38,"NA"]
[null,19,{"$f":"'IPCOStorage(Energy)Levelized'!H20","v":42.407711958904549},45.647311958904552,38.367311958904551,null,31.17,"NA",33.549999999999997,"NA",28.2,"NA",null,50.89,"NA",54.78,"NA",46.04,"NA",null,42.41,"NA",45.65,"NA",38.369999999999997,"NA"]
[null,20,{"$f":"'IPCOStorage(Energy)Levelized'!H21","v":42.768903269403189},46.008503269403192,38.728503269403191,null,31.44,"NA",33.82,"NA",28.47,"NA",null,51.32,"NA",55.21,"NA",46.47,"NA",null,42.77,"NA",46.01,"NA",38.729999999999997,"NA"]
[]
[]
[]
[null,{"$f":"$B$1","v":"IDAHO POWER"}]
[null,"LEVELIZED RATES"]
[null,{"$f":"\"PROJECT ON-LINE IN \"& 'AVOID NEW'!$D$54+5","v":"PROJECT ON-LINE IN 2027"}]
[]
[]
[null,null,"Levelized Price",null,null,null,{"$f":"\"Season 1 Pricing (\"&100*$D$7&\"%)\"","v":"Season 1 Pricing (73.5%)"},null,null,null,null,null,null,{"$f":"\"Season 2 Pricing (\"&100*$D$8&\"%)\"","v":"Season 2 Pricing (120%)"},null,null,null,null,null,null,{"$f":"\"Season 3 Pricing (\"&100*$D$9&\"%)\"","v":"Season 3 Pricing (100%)"}]
[null,null,"Heavy and Light Load Hour Differential",{"$f":"'AVOID NEW'!$D$66","v":7.28},null,null,"Flat",null,"Heavy Load Hour",null,"Light Load Hour",null,null,"Flat",null,"Heavy Load Hour",null,"Light Load Hour",null,null,"Flat",null,"Heavy Load Hour",null,"Light Load Hour"]
[null,null,null,{"$f":"D179*0.445","v":3.2396000000000003},{"$f":"-(D179-D180)","v":-4.0404},null,null,{"$f":"H20","v":"Final avoided cost rates for wind and solar QFs include integration charges from Schedule 87"},null,{"$f":"H20","v":"Final avoided cost rates for wind and solar QFs include integration charges from Schedule 87"},null,{"$f":"H20","v":"Final avoided cost rates for wind and solar QFs include integration charges from Schedule 87"},null,null,{"$f":"H20","v":"Final avoided cost rates for wind and solar QFs include integration charges from Schedule 87"},null,{"$f":"H20","v":"Final avoided cost rates for wind and solar QFs include integration charges from Schedule 87"},null,{"$f":"H20","v":"Final avoided cost rates for wind and solar QFs include integration charges from Schedule 87"},null,null,{"$f":"H20","v":"Final avoided cost rates for wind and solar QFs include integration charges from Schedule 87"},null,{"$f":"H20","v":"Final avoided cost rates for wind and solar QFs include integration charges from Schedule 87"},null,{"$f":"H20","v":"Final avoided cost rates for wind and solar QFs include integration charges from Schedule 87"}]
[null,"Contract Length","Flat","Heavy Load Hour","Light Load Hour",null,"Price",null,"Price",null,"Price",null,null,"Price",null,"Price",null,"Price",null,null,"Price",null,"Price",null,"Price"]
[null,1,{"$f":"'IPCOStorage(Energy)Levelized'!I2","v":33.224832475374214},{"$f":"C182+D$84","v":36.464432475374217},{"$f":"C182+E$84","v":29.184432475374216},null,{"$f":"ROUND((+$C182*$D$7),2)","v":24.42},"NA",{"$f":"ROUND((+$D182*$D$7),2)","v":26.8},"NA",{"$f":"ROUND((+$E182*$D$7),2)","v":21.45},"NA",null,{"$f":"ROUND((+$C182*$D$8),2)","v":39.869999999999997},"NA",{"$f":"ROUND((+$D182*$D$8),2)","v":43.76},"NA",{"$f":"ROUND((+$E182*$D$8),2)","v":35.020000000000003},"NA",null,{"$f":"ROUND((+$C182*$D$9),2)","v":33.22},"NA",{"$f":"ROUND((+$D182*$D$9),2)","v":36.46},"NA",{"$f":"ROUND((+$E182*$D$9),2)","v":29.18},"NA"]
[null,2,{"$f":"'IPCOStorage(Energy)Levelized'!I3","v":34.396470069533038},37.636070069533041,30.35607006953304,null,25.28,"NA",27.66,"NA",22.31,"NA",null,41.28,"NA",45.16,"NA",36.43,"NA",null,{"$f":"ROUND((+$C183*$D$9),2)","v":34.4},"NA",{"$f":"ROUND((+$D183*$D$9),2)","v":37.64},"NA",{"$f":"ROUND((+$E183*$D$9),2)","v":30.36},"NA"]
[null,3,{"$f":"'IPCOStorage(Energy)Levelized'!I4","v":35.443632657711795},38.683232657711798,31.403232657711797,null,26.05,"NA",28.43,"NA",23.08,"NA",null,42.53,"NA",46.42,"NA",37.68,"NA",null,35.44,"NA",38.68,"NA",31.4,"NA"]
[null,4,{"$f":"'IPCOStorage(Energy)Levelized'!I5","v":36.33617582901509},39.575775829015093,32.295775829015092,null,26.71,"NA",29.09,"NA",23.74,"NA",null,43.6,"NA",47.49,"NA",38.75,"NA",null,36.340000000000003,"NA",39.58,"NA",32.299999999999997,"NA"]
[null,5,{"$f":"'IPCOStorage(Energy)Levelized'!I6","v":37.113077256805617},40.35267725680562,33.072677256805619,null,27.28,"NA",29.66,"NA",24.31,"NA",null,44.54,"NA",48.42,"NA",39.69,"NA",null,37.11,"NA",40.35,"NA",33.07,"NA"]
[null,6,{"$f":"'IPCOStorage(Energy)Levelized'!I7","v":37.852656920544305},41.092256920544308,33.812256920544307,null,27.82,"NA",30.2,"NA",24.85,"NA",null,45.42,"NA",49.31,"NA",40.57,"NA",null,37.85,"NA",41.09,"NA",33.81,"NA"]
[null,7,{"$f":"'IPCOStorage(Energy)Levelized'!I8","v":38.554632072732467},41.79423207273247,34.514232072732469,null,28.34,"NA",30.72,"NA",25.37,"NA",null,46.27,"NA",50.15,"NA",41.42,"NA",null,38.549999999999997,"NA",41.79,"NA",34.51,"NA"]
[null,8,{"$f":"'IPCOStorage(Energy)Levelized'!I9","v":39.182145825830816},42.421745825830818,35.141745825830817,null,28.8,"NA",31.18,"NA",25.83,"NA",null,47.02,"NA",50.91,"NA",42.17,"NA",null,39.18,"NA",42.42,"NA",35.14,"NA"]
[null,9,{"$f":"'IPCOStorage(Energy)Levelized'!I10","v":39.726371897101011},42.965971897101014,35.685971897101012,null,29.2,"NA",31.58,"NA",26.23,"NA",null,47.67,"NA",51.56,"NA",42.82,"NA",null,39.729999999999997,"NA",42.97,"NA",35.69,"NA"]
[null,10,{"$f":"'IPCOStorage(Energy)Levelized'!I11","v":40.23286171160062},43.472461711600623,36.192461711600622,null,29.57,"NA",31.95,"NA",26.6,"NA",null,48.28,"NA",52.17,"NA",43.43,"NA",null,40.229999999999997,"NA",43.47,"NA",36.19,"NA"]
[null,11,{"$f":"'IPCOStorage(Energy)Levelized'!I12","v":40.702595165430949},43.942195165430952,36.662195165430951,null,29.92,"NA",32.299999999999997,"NA",26.95,"NA",null,48.84,"NA",52.73,"NA",43.99,"NA",null,40.700000000000003,"NA",43.94,"NA",36.659999999999997,"NA"]
[null,12,{"$f":"'IPCOStorage(Energy)Levelized'!I13","v":41.155555129010359},44.395155129010362,37.115155129010361,null,30.25,"NA",32.630000000000003,"NA",27.28,"NA",null,49.39,"NA",53.27,"NA",44.54,"NA",null,41.16,"NA",44.4,"NA",37.119999999999997,"NA"]
[null,13,{"$f":"'IPCOStorage(Energy)Levelized'!I14","v":41.591411222344135},44.831011222344138,37.551011222344137,null,30.57,"NA",32.950000000000003,"NA",27.6,"NA",null,49.91,"NA",53.8,"NA",45.06,"NA",null,41.59,"NA",44.83,"NA",37.549999999999997,"NA"]
[null,14,{"$f":"'IPCOStorage(Energy)Levelized'!I15","v":42.023960598952684},45.263560598952687,37.983560598952685,null,30.89,"NA",33.270000000000003,"NA",27.92,"NA",null,50.43,"NA",54.32,"NA",45.58,"NA",null,42.02,"NA",45.26,"NA",37.979999999999997,"NA"]
[null,15,{"$f":"'IPCOStorage(Energy)Levelized'!I16","v":42.44480505854569},45.684405058545693,38.404405058545692,null,31.2,"NA",33.58,"NA",28.23,"NA",null,50.93,"NA",54.82,"NA",46.09,"NA",null,42.44,"NA",45.68,"NA",38.4,"NA"]
[null,16,{"$f":"'IPCOStorage(Energy)Levelized'!I17","v":42.843453405705347},46.08305340570535,38.803053405705349,null,31.49,"NA",33.869999999999997,"NA",28.52,"NA",null,51.41,"NA",55.3,"NA",46.56,"NA",null,42.84,"NA",46.08,"NA",38.799999999999997,"NA"]
[null,17,{"$f":"'IPCOStorage(Energy)Levelized'!I18","v":43.231358202157764},46.470958202157767,39.190958202157766,null,31.78,"NA",34.159999999999997,"NA",28.81,"NA",null,51.88,"NA",55.77,"NA",47.03,"NA",null,43.23,"NA",46.47,"NA",39.19,"NA"]
[null,18,{"$f":"'IPCOStorage(Energy)Levelized'!I19","v":43.612256503851818},46.85185650385182,39.571856503851819,null,32.06,"NA",34.44,"NA",29.09,"NA",null,52.33,"NA",56.22,"NA",47.49,"NA",null,43.61,"NA",46.85,"NA",39.57,"NA"]
[null,19,{"$f":"'IPCOStorage(Energy)Levelized'!I20","v":43.983023571246186},47.222623571246189,39.942623571246187,null,32.33,"NA",34.71,"NA",29.36,"NA",null,52.78,"NA",56.67,"NA",47.93,"NA",null,43.98,"NA",47.22,"NA",39.94,"NA"]
[null,20,{"$f":"'IPCOStorage(Energy)Levelized'!I21","v":44.344678313366231},47.584278313366234,40.304278313366233,null,32.590000000000003,"NA",34.97,"NA",29.62,"NA",null,53.21,"NA",57.1,"NA",48.37,"NA",null,44.34,"NA",47.58,"NA",40.299999999999997,"NA"]

{"sheet":"PCp NF HLH LLH Levelized","index":14,"n_rows":211,"n_cols":63,"rows_kept":211,"cut":false,"hidden":false,"merged":[[26,1,26,18],[58,1,58,18],[90,1,90,18],[122,1,122,18],[154,1,154,18],[186,1,186,18],[189,26,189,27],[189,29,189,30],[189,31,189,32],[157,19,157,20],[157,21,157,22],[157,24,157,25],[157,26,157,27],[157,29,157,30],[157,31,157,32],[157,4,157,5],[157,6,157,7],[157,9,157,10],[157,11,157,12],[157,14,157,15],[157,16,157,17],[187,1,188,1],[182,1,182,17],[183,1,183,17],[189,56,189,57],[189,59,189,60],[189,61,189,62],[189,34,189,35],[189,36,189,37],[189,39,189,40],[189,41,189,42],[189,44,189,45],[189,46,189,47],[188,59,188,60],[187,19,187,22],[187,54,187,57],[189,4,189,5],[189,6,189,7],[189,9,189,10],[189,11,189,12],[189,14,189,15],[189,16,189,17],[188,39,188,40],[188,41,188,42],[188,44,188,45],[188,24,188,25],[188,26,188,27],[188,29,188,30],[188,31,188,32],[188,34,188,35],[188,36,188,37],[189,19,189,20],[189,21,189,22],[189,24,189,25],[189,49,189,50],[189,51,189,52],[189,54,189,55],[187,59,187,62],[188,4,188,5],[188,6,188,7],[188,9,188,10],[188,11,188,12],[188,14,188,15],[188,16,188,17],[188,19,188,20],[188,21,188,22],[187,24,187,27],[187,29,187,32],[187,34,187,37],[187,39,187,42],[187,44,187,47],[187,49,187,52],[188,61,188,62],[188,46,188,47],[188,49,188,50],[187,4,187,7],[187,9,187,12],[187,14,187,17],[188,51,188,52],[188,54,188,55],[188,56,188,57],[184,1,184,17],[185,1,185,17],[156,44,156,45],[156,24,156,25],[156,26,156,27],[156,29,156,30],[156,31,156,32],[156,34,156,35],[156,36,156,37],[157,59,157,60],[157,61,157,62],[157,34,157,35],[157,36,157,37],[157,39,157,40],[157,41,157,42],[157,44,157,45],[157,46,157,47],[157,56,157,57],[157,49,157,50],[157,51,157,52],[157,54,157,55],[155,59,155,62],[156,4,156,5],[156,6,156,7],[156,9,156,10],[156,11,156,12],[156,14,156,15],[156,16,156,17],[156,19,156,20],[156,21,156,22],[155,24,155,27],[155,29,155,32],[155,34,155,37],[155,39,155,42],[155,44,155,47],[155,49,155,52],[156,54,156,55],[156,56,156,57],[156,59,156,60],[156,61,156,62],[156,46,156,47],[156,49,156,50],[156,51,156,52],[156,39,156,40],[156,41,156,42],[155,19,155,22],[125,49,125,50],[125,51,125,52],[125,54,125,55],[125,19,125,20],[125,21,125,22],[125,24,125,25],[125,26,125,27],[125,29,125,30],[125,31,125,32],[155,54,155,57],[125,56,125,57],[125,4,125,5],[125,6,125,7],[125,9,125,10],[125,11,125,12],[125,14,125,15],[125,16,125,17],[155,1,156,1],[155,4,155,7],[155,9,155,12],[155,14,155,17],[150,1,150,17],[151,1,151,17],[152,1,152,17],[153,1,153,17],[124,44,124,45],[124,24,124,25],[124,26,124,27],[124,29,124,30],[124,31,124,32],[124,34,124,35],[124,36,124,37],[125,59,125,60],[125,61,125,62],[125,34,125,35],[125,36,125,37],[125,39,125,40],[125,41,125,42],[125,44,125,45],[125,46,125,47],[123,59,123,62],[124,4,124,5],[124,6,124,7],[124,9,124,10],[124,11,124,12],[124,14,124,15],[124,16,124,17],[124,19,124,20],[124,21,124,22],[123,24,123,27],[123,29,123,32],[123,34,123,37],[123,39,123,42],[123,44,123,47],[123,49,123,52],[124,54,124,55],[124,56,124,57],[124,59,124,60],[124,61,124,62],[124,46,124,47],[124,49,124,50],[124,51,124,52],[124,39,124,40],[124,41,124,42],[123,19,123,22],[93,49,93,50],[93,51,93,52],[93,54,93,55],[93,19,93,20],[93,21,93,22],[93,24,93,25],[93,26,93,27],[93,29,93,30],[93,31,93,32],[123,54,123,57],[93,56,93,57],[93,4,93,5],[93,6,93,7],[93,9,93,10],[93,11,93,12],[93,14,93,15],[93,16,93,17],[123,1,124,1],[123,4,123,7],[123,9,123,12],[123,14,123,17],[118,1,118,17],[119,1,119,17],[120,1,120,17],[121,1,121,17],[92,34,92,35],[92,36,92,37],[93,59,93,60],[93,61,93,62],[93,34,93,35],[93,36,93,37],[93,39,93,40],[93,41,93,42],[93,44,93,45],[93,46,93,47],[91,59,91,62],[92,4,92,5],[92,6,92,7],[92,9,92,10],[92,11,92,12],[92,14,92,15],[92,16,92,17],[92,19,92,20],[92,21,92,22],[91,24,91,27],[91,29,91,32],[91,34,91,37],[91,39,91,42],[91,44,91,47],[91,49,91,52],[92,54,92,55],[92,56,92,57],[92,59,92,60],[92,61,92,62],[92,46,92,47],[92,49,92,50],[92,51,92,52],[92,39,92,40],[92,41,92,42],[91,1,92,1],[91,4,91,7],[91,9,91,12],[91,14,91,17],[91,19,91,22],[61,49,61,50],[61,51,61,52],[61,54,61,55],[61,19,61,20],[61,21,61,22],[61,24,61,25],[61,26,61,27],[61,29,61,30],[61,31,61,32],[86,1,86,17],[87,1,87,17],[88,1,88,17],[89,1,89,17],[91,54,91,57],[92,44,92,45],[92,24,92,25],[92,26,92,27],[92,29,92,30],[92,31,92,32],[60,34,60,35],[60,36,60,37],[61,56,61,57],[61,59,61,60],[61,61,61,62],[61,34,61,35],[61,36,61,37],[61,39,61,40],[61,41,61,42],[61,44,61,45],[61,46,61,47],[59,34,59,37],[59,39,59,42],[59,44,59,47],[59,49,59,52],[60,54,60,55],[60,56,60,57],[60,59,60,60],[60,61,60,62],[61,4,61,5],[61,6,61,7],[61,9,61,10],[61,11,61,12],[61,14,61,15],[61,16,61,17],[60,39,60,40],[60,41,60,42],[60,44,60,45],[60,46,60,47],[60,49,60,50],[60,51,60,52],[60,24,60,25],[60,26,60,27],[60,29,60,30],[60,31,60,32],[60,6,60,7],[60,9,60,10],[60,11,60,12],[60,14,60,15],[60,16,60,17],[60,19,60,20],[60,21,60,22],[59,24,59,27],[59,29,59,32],[29,59,29,60],[29,61,29,62],[59,1,60,1],[59,4,59,7],[59,9,59,12],[59,14,59,17],[59,19,59,22],[29,39,29,40],[29,41,29,42],[29,44,29,45],[29,46,29,47],[29,49,29,50],[29,51,29,52],[29,24,29,25],[29,26,29,27],[29,29,29,30],[29,31,29,32],[29,34,29,35],[29,36,29,37],[56,1,56,17],[57,1,57,17],[59,54,59,57],[59,59,59,62],[60,4,60,5],[29,21,29,22],[28,44,28,45],[28,46,28,47],[28,49,28,50],[28,51,28,52],[28,54,28,55],[28,56,28,57],[28,29,28,30],[28,31,28,32],[28,34,28,35],[28,36,28,37],[28,39,28,40],[28,41,28,42],[29,54,29,55],[29,56,29,57],[27,59,27,62],[28,4,28,5],[28,6,28,7],[28,9,28,10],[28,11,28,12],[28,14,28,15],[28,16,28,17],[28,19,28,20],[28,21,28,22],[28,24,28,25],[27,29,27,32],[27,34,27,37],[27,39,27,42],[27,44,27,47],[27,49,27,52],[27,54,27,57],[28,59,28,60],[28,61,28,62],[0,1,0,18],[1,1,1,17],[22,1,22,17],[23,1,23,17],[24,1,24,17],[25,1,25,18],[54,1,54,17],[55,1,55,17],[2,1,2,25],[4,1,4,6],[27,1,28,1],[27,4,27,7],[27,9,27,12],[27,14,27,17],[27,19,27,22],[27,24,27,27],[28,26,28,27],[29,4,29,5],[29,6,29,7],[29,9,29,10],[29,11,29,12],[29,14,29,15],[29,16,29,17],[29,19,29,20]]}
[null,{"$f":"IF('AVOID NEW'!$E$105=\"PCP\",\"PACIFICORP\",\"THESE RATES ARE NOT VALID\")","v":"THESE RATES ARE NOT VALID"}]
[null,"AVOIDED COST RATES FOR NON-FUELED PROJECTS"]
[null,"Eligibility for these rates is limited to wind and solar projects 100 kW or smaller, and to non-wind and non-solar projects smaller than 10 aMW"]
[]
[null,"Monthly Weighting Factors"]
[]
[null,null,null,null,"HLH","LLH"]
[null,null,"JAN",null,1.03,0.94]
[null,null,"FEB",null,1.05,0.97]
[null,null,"MAR",null,0.95,0.8]
[null,null,"APR",null,0.95,0.76]
[null,null,"MAY",null,0.92,0.63]
[null,null,"JUN",null,0.94,0.65]
[null,null,"JUL",null,1.21,0.92]
[null,null,"AUG",null,1.21,1.06]
[null,null,"SEP",null,1.0900000000000001,0.99]
[null,null,"OCT",null,1.1499999999999999,1.05]
[null,null,"NOV",null,1.1000000000000001,0.96]
[null,null,"DEC",null,1.29,1.2]
[]
[]
[]
[null,{"$f":"$B$1","v":"THESE RATES ARE NOT VALID"}]
[null,"LEVELIZED RATES"]
[null,{"$f":"\"PROJECT ON-LINE IN \" & 'AVOID NEW'!$D$54","v":"PROJECT ON-LINE IN 2022"}]
[null,{"$f":"\"Rate Effective Date: \"&'AVOID NEW'!$E$69","v":"Rate Effective Date: XXXX, 2022"}]
[null,{"$f":"\"Resource:  \"&'Input - Capacity Factors'!$C$3","v":"Resource:  Wind"}]
[null,null,null,null,"January",null,null,null,null,"February",null,null,null,null,"March",null,null,null,null,"April",null,null,null,null,"May",null,null,null,null,"June",null,null,null,null,"July",null,null,null,null,"August",null,null,null,null,"September",null,null,null,null,"October",null,null,null,null,"November",null,null,null,null,"December"]
[null,null,null,null,"Heavy Load Hour",null,"Light Load Hour",null,null,"Heavy Load Hour",null,"Light Load Hour",null,null,"Heavy Load Hour",null,"Light Load Hour",null,null,"Heavy Load Hour",null,"Light Load Hour",null,null,"Heavy Load Hour",null,"Light Load Hour",null,null,"Heavy Load Hour",null,"Light Load Hour",null,null,"Heavy Load Hour",null,"Light Load Hour",null,null,"Heavy Load Hour",null,"Light Load Hour",null,null,"Heavy Load Hour",null,"Light Load Hour",null,null,"Heavy Load Hour",null,"Light Load Hour",null,null,"Heavy Load Hour",null,"Light Load Hour",null,null,"Heavy Load Hour",null,"Light Load Hour"]
[null,null,null,null,{"$f":"$E$8","v":1.03},null,{"$f":"$F$8","v":0.94},null,null,{"$f":"$E$9","v":1.05},null,{"$f":"$F$9","v":0.97},null,null,{"$f":"$E$10","v":0.95},null,{"$f":"$F$10","v":0.8},null,null,{"$f":"$E$11","v":0.95},null,{"$f":"$F$11","v":0.76},null,null,{"$f":"$E$12","v":0.92},null,{"$f":"$F$12","v":0.63},null,null,{"$f":"$E$13","v":0.94},null,{"$f":"$F$13","v":0.65},null,null,{"$f":"$E$14","v":1.21},null,{"$f":"$F$14","v":0.92},null,null,{"$f":"$E$15","v":1.21},null,{"$f":"$F$15","v":1.06},null,null,{"$f":"$E$16","v":1.0900000000000001},null,{"$f":"$F$16","v":0.99},null,null,{"$f":"$E$17","v":1.1499999999999999},null,{"$f":"$F$17","v":1.05},null,null,{"$f":"$E$18","v":1.1000000000000001},null,{"$f":"$F$18","v":0.96},null,null,{"$f":"$E$19","v":1.29},null,{"$f":"$F$19","v":1.2}]
[null,"Contract Length","Levelized Flat Price",null,"Price","Final avoided cost rates for wind and solar QFs include integration charges from PAC's latest integration charge case","Price",{"$f":"F31","v":"Final avoided cost rates for wind and solar QFs include integration charges from PAC's latest integration charge case"},null,"Price",{"$f":"F31","v":"Final avoided cost rates for wind and solar QFs include integration charges from PAC's latest integration charge case"},"Price",{"$f":"F31","v":"Final avoided cost rates for wind and solar QFs include integration charges from PAC's latest integration charge case"},null,"Price",{"$f":"F31","v":"Final avoided cost rates for wind and solar QFs include integration charges from PAC's latest integration charge case"},"Price",{"$f":"F31","v":"Final avoided cost rates for wind and solar QFs include integration charges from PAC's latest integration charge case"},null,"Price",{"$f":"F31","v":"Final avoided cost rates for wind and solar QFs include integration charges from PAC's latest integration charge case"},"Price",{"$f":"F31","v":"Final avoided cost rates for wind and solar QFs include integration charges from PAC's latest integration charge case"},null,"Price",{"$f":"F31","v":"Final avoided cost rates for wind and solar QFs include integration charges from PAC's latest integration charge case"},"Price",{"$f":"F31","v":"Final avoided cost rates for wind and solar QFs include integration charges from PAC's latest integration charge case"},null,"Price",{"$f":"F31","v":"Final avoided cost rates for wind and solar QFs include integration charges from PAC's latest integration charge case"},"Price",{"$f":"F31","v":"Final avoided cost rates for wind and solar QFs include integration charges from PAC's latest integration charge case"},null,"Price",{"$f":"F31","v":"Final avoided cost rates for wind and solar QFs include integration charges from PAC's latest integration charge case"},"Price",{"$f":"F31","v":"Final avoided cost rates for wind and solar QFs include integration charges from PAC's latest integration charge case"},null,"Price",{"$f":"F31","v":"Final avoided cost rates for wind and solar QFs include integration charges from PAC's latest integration charge case"},"Price",{"$f":"F31","v":"Final avoided cost rates for wind and solar QFs include integration charges from PAC's latest integration charge case"},null,"Price",{"$f":"F31","v":"Final avoided cost rates for wind and solar QFs include integration charges from PAC's latest integration charge case"},"Price",{"$f":"F31","v":"Final avoided cost rates for wind and solar QFs include integration charges from PAC's latest integration charge case"},null,"Price",{"$f":"F31","v":"Final avoided cost rates for wind and solar QFs include integration charges from PAC's latest integration charge case"},"Price",{"$f":"F31","v":"Final avoided cost rates for wind and solar QFs include integration charges from PAC's latest integration charge case"},null,"Price",{"$f":"F31","v":"Final avoided cost rates for wind and solar QFs include integration charges from PAC's latest integration charge case"},"Price",{"$f":"F31","v":"Final avoided cost rates for wind and solar QFs include integration charges from PAC's latest integration charge case"},null,"Price",{"$f":"F31","v":"Final avoided cost rates for wind and solar QFs include integration charges from PAC's latest integration charge case"},"Price",{"$f":"F31","v":"Final avoided cost rates for wind and solar QFs include integration charges from PAC's latest integration charge case"}]
[null,1,{"$f":"'AVOID NEW'!AN9","v":33.419966110621289},null,{"$f":"ROUND((+$C32*$E$8),2)","v":34.42},"NA",{"$f":"ROUND((+$C32*$F$8),2)","v":31.41},"NA",null,{"$f":"ROUND((+$C32*$E$9),2)","v":35.090000000000003},"NA",{"$f":"ROUND((+$C32*$F$9),2)","v":32.42},"NA",null,{"$f":"ROUND((+$C32*$E$10),2)","v":31.75},"NA",{"$f":"ROUND((+$C32*$F$10),2)","v":26.74},"NA",null,{"$f":"ROUND((+$C32*$E$11),2)","v":31.75},"NA",{"$f":"ROUND((+$C32*$F$11),2)","v":25.4},"NA",null,{"$f":"ROUND((+$C32*$E$12),2)","v":30.75},"NA",{"$f":"ROUND((+$C32*$F$12),2)","v":21.05},"NA",null,{"$f":"ROUND((+$C32*$E$13),2)","v":31.41},"NA",{"$f":"ROUND((+$C32*$F$13),2)","v":21.72},"NA",null,{"$f":"ROUND((+$C32*$E$14),2)","v":40.44},"NA",{"$f":"ROUND((+$C32*$F$14),2)","v":30.75},"NA",null,{"$f":"ROUND((+$C32*$E$15),2)","v":40.44},"NA",{"$f":"ROUND((+$C32*$F$15),2)","v":35.43},"NA",null,{"$f":"ROUND((+$C32*$E$16),2)","v":36.43},"NA",{"$f":"ROUND((+$C32*$F$16),2)","v":33.090000000000003},"NA",null,{"$f":"ROUND((+$C32*$E$17),2)","v":38.43},"NA",{"$f":"ROUND((+$C32*$F$17),2)","v":35.090000000000003},"NA",null,{"$f":"ROUND((+$C32*$E$18),2)","v":36.76},"NA",{"$f":"ROUND((+$C32*$F$18),2)","v":32.08},"NA",null,{"$f":"ROUND((+$C32*$E$19),2)","v":43.11},"NA",{"$f":"ROUND((+$C32*$F$19),2)","v":40.1},"NA"]
[null,2,{"$f":"'AVOID NEW'!AN10","v":34.439473967995994},null,{"$f":"ROUND((+$C33*$E$8),2)","v":35.47},"NA",{"$f":"ROUND((+$C33*$F$8),2)","v":32.369999999999997},"NA",null,{"$f":"ROUND((+$C33*$E$9),2)","v":36.159999999999997},"NA",{"$f":"ROUND((+$C33*$F$9),2)","v":33.409999999999997},"NA",null,{"$f":"ROUND((+$C33*$E$10),2)","v":32.72},"NA",{"$f":"ROUND((+$C33*$F$10),2)","v":27.55},"NA",null,{"$f":"ROUND((+$C33*$E$11),2)","v":32.72},"NA",{"$f":"ROUND((+$C33*$F$11),2)","v":26.17},"NA",null,{"$f":"ROUND((+$C33*$E$12),2)","v":31.68},"NA",{"$f":"ROUND((+$C33*$F$12),2)","v":21.7},"NA",null,{"$f":"ROUND((+$C33*$E$13),2)","v":32.369999999999997},"NA",{"$f":"ROUND((+$C33*$F$13),2)","v":22.39},"NA",null,{"$f":"ROUND((+$C33*$E$14),2)","v":41.67},"NA",{"$f":"ROUND((+$C33*$F$14),2)","v":31.68},"NA",null,{"$f":"ROUND((+$C33*$E$15),2)","v":41.67},"NA",{"$f":"ROUND((+$C33*$F$15),2)","v":36.51},"NA",null,{"$f":"ROUND((+$C33*$E$16),2)","v":37.54},"NA",{"$f":"ROUND((+$C33*$F$16),2)","v":34.1},"NA",null,{"$f":"ROUND((+$C33*$E$17),2)","v":39.61},"NA",{"$f":"ROUND((+$C33*$F$17),2)","v":36.159999999999997},"NA",null,{"$f":"ROUND((+$C33*$E$18),2)","v":37.880000000000003},"NA",{"$f":"ROUND((+$C33*$F$18),2)","v":33.06},"NA",null,{"$f":"ROUND((+$C33*$E$19),2)","v":44.43},"NA",{"$f":"ROUND((+$C33*$F$19),2)","v":41.33},"NA"]
[null,3,{"$f":"'AVOID NEW'!AN11","v":34.20998642313014},null,35.24,"NA",32.159999999999997,"NA",null,35.92,"NA",33.18,"NA",null,32.5,"NA",27.37,"NA",null,32.5,"NA",26,"NA",null,31.47,"NA",21.55,"NA",null,32.159999999999997,"NA",22.24,"NA",null,41.39,"NA",31.47,"NA",null,41.39,"NA",36.26,"NA",null,37.29,"NA",33.869999999999997,"NA",null,39.340000000000003,"NA",35.92,"NA",null,37.630000000000003,"NA",32.840000000000003,"NA",null,44.13,"NA",41.05,"NA"]
[null,4,{"$f":"'AVOID NEW'!AN12","v":33.989101272331553},null,35.01,"NA",31.95,"NA",null,35.69,"NA",32.97,"NA",null,32.29,"NA",27.19,"NA",null,32.29,"NA",25.83,"NA",null,31.27,"NA",21.41,"NA",null,31.95,"NA",22.09,"NA",null,41.13,"NA",31.27,"NA",null,41.13,"NA",36.03,"NA",null,37.049999999999997,"NA",33.65,"NA",null,39.090000000000003,"NA",35.69,"NA",null,37.39,"NA",32.630000000000003,"NA",null,43.85,"NA",40.79,"NA"]
[null,5,{"$f":"'AVOID NEW'!AN13","v":34.070746214974278},null,35.090000000000003,"NA",32.03,"NA",null,35.770000000000003,"NA",33.049999999999997,"NA",null,32.369999999999997,"NA",27.26,"NA",null,32.369999999999997,"NA",25.89,"NA",null,31.35,"NA",21.46,"NA",null,32.03,"NA",22.15,"NA",null,41.23,"NA",31.35,"NA",null,41.23,"NA",36.11,"NA",null,37.14,"NA",33.729999999999997,"NA",null,39.18,"NA",35.770000000000003,"NA",null,37.479999999999997,"NA",32.71,"NA",null,43.95,"NA",40.880000000000003,"NA"]
[null,6,{"$f":"'AVOID NEW'!AN14","v":34.398112521361604},null,35.43,"NA",32.33,"NA",null,36.119999999999997,"NA",33.369999999999997,"NA",null,32.68,"NA",27.52,"NA",null,32.68,"NA",26.14,"NA",null,31.65,"NA",21.67,"NA",null,32.33,"NA",22.36,"NA",null,41.62,"NA",31.65,"NA",null,41.62,"NA",36.46,"NA",null,37.49,"NA",34.049999999999997,"NA",null,39.56,"NA",36.119999999999997,"NA",null,37.840000000000003,"NA",33.020000000000003,"NA",null,44.37,"NA",41.28,"NA"]
[null,7,{"$f":"'AVOID NEW'!AN15","v":34.907693947113799},null,35.950000000000003,"NA",32.81,"NA",null,36.65,"NA",33.86,"NA",null,33.159999999999997,"NA",27.93,"NA",null,33.159999999999997,"NA",26.53,"NA",null,32.119999999999997,"NA",21.99,"NA",null,32.81,"NA",22.69,"NA",null,42.24,"NA",32.119999999999997,"NA",null,42.24,"NA",37,"NA",null,38.049999999999997,"NA",34.56,"NA",null,40.14,"NA",36.65,"NA",null,38.4,"NA",33.51,"NA",null,45.03,"NA",41.89,"NA"]
[null,8,{"$f":"'AVOID NEW'!AN16","v":35.491379593873297},null,36.56,"NA",33.36,"NA",null,37.270000000000003,"NA",34.43,"NA",null,33.72,"NA",28.39,"NA",null,33.72,"NA",26.97,"NA",null,32.65,"NA",22.36,"NA",null,33.36,"NA",23.07,"NA",null,42.94,"NA",32.65,"NA",null,42.94,"NA",37.619999999999997,"NA",null,38.69,"NA",35.14,"NA",null,40.82,"NA",37.270000000000003,"NA",null,39.04,"NA",34.07,"NA",null,45.78,"NA",42.59,"NA"]
[null,9,{"$f":"'AVOID NEW'!AN17","v":36.07864341903943},null,37.159999999999997,"NA",33.909999999999997,"NA",null,37.880000000000003,"NA",35,"NA",null,34.270000000000003,"NA",28.86,"NA",null,34.270000000000003,"NA",27.42,"NA",null,33.19,"NA",22.73,"NA",null,33.909999999999997,"NA",23.45,"NA",null,43.66,"NA",33.19,"NA",null,43.66,"NA",38.24,"NA",null,39.33,"NA",35.72,"NA",null,41.49,"NA",37.880000000000003,"NA",null,39.69,"NA",34.64,"NA",null,46.54,"NA",43.29,"NA"]
[null,10,{"$f":"'AVOID NEW'!AN18","v":36.645726804555231},null,37.75,"NA",34.450000000000003,"NA",null,38.479999999999997,"NA",35.549999999999997,"NA",null,34.81,"NA",29.32,"NA",null,34.81,"NA",27.85,"NA",null,33.71,"NA",23.09,"NA",null,34.450000000000003,"NA",23.82,"NA",null,44.34,"NA",33.71,"NA",null,44.34,"NA",38.840000000000003,"NA",null,39.94,"NA",36.28,"NA",null,42.14,"NA",38.479999999999997,"NA",null,40.31,"NA",35.18,"NA",null,47.27,"NA",43.97,"NA"]
[null,11,{"$f":"'AVOID NEW'!AN19","v":37.206368133146107},null,38.32,"NA",34.97,"NA",null,39.07,"NA",36.090000000000003,"NA",null,35.35,"NA",29.77,"NA",null,35.35,"NA",28.28,"NA",null,34.229999999999997,"NA",23.44,"NA",null,34.97,"NA",24.18,"NA",null,45.02,"NA",34.229999999999997,"NA",null,45.02,"NA",39.44,"NA",null,40.549999999999997,"NA",36.83,"NA",null,42.79,"NA",39.07,"NA",null,40.93,"NA",35.72,"NA",null,48,"NA",44.65,"NA"]
[null,12,{"$f":"'AVOID NEW'!AN20","v":37.753822522231943},null,38.89,"NA",35.49,"NA",null,39.64,"NA",36.619999999999997,"NA",null,35.869999999999997,"NA",30.2,"NA",null,35.869999999999997,"NA",28.69,"NA",null,34.729999999999997,"NA",23.78,"NA",null,35.49,"NA",24.54,"NA",null,45.68,"NA",34.729999999999997,"NA",null,45.68,"NA",40.020000000000003,"NA",null,41.15,"NA",37.380000000000003,"NA",null,43.42,"NA",39.64,"NA",null,41.53,"NA",36.24,"NA",null,48.7,"NA",45.3,"NA"]
[null,13,{"$f":"'AVOID NEW'!AN21","v":38.265430990083907},null,39.409999999999997,"NA",35.97,"NA",null,40.18,"NA",37.119999999999997,"NA",null,36.35,"NA",30.61,"NA",null,36.35,"NA",29.08,"NA",null,35.200000000000003,"NA",24.11,"NA",null,35.97,"NA",24.87,"NA",null,46.3,"NA",35.200000000000003,"NA",null,46.3,"NA",40.56,"NA",null,41.71,"NA",37.880000000000003,"NA",null,44.01,"NA",40.18,"NA",null,42.09,"NA",36.729999999999997,"NA",null,49.36,"NA",45.92,"NA"]
[null,14,{"$f":"'AVOID NEW'!AN22","v":38.731227218796441},null,39.89,"NA",36.409999999999997,"NA",null,40.67,"NA",37.57,"NA",null,36.79,"NA",30.98,"NA",null,36.79,"NA",29.44,"NA",null,35.630000000000003,"NA",24.4,"NA",null,36.409999999999997,"NA",25.18,"NA",null,46.86,"NA",35.630000000000003,"NA",null,46.86,"NA",41.06,"NA",null,42.22,"NA",38.340000000000003,"NA",null,44.54,"NA",40.67,"NA",null,42.6,"NA",37.18,"NA",null,49.96,"NA",46.48,"NA"]
[null,15,{"$f":"'AVOID NEW'!AN23","v":39.171050990670153},null,40.35,"NA",36.82,"NA",null,41.13,"NA",38,"NA",null,37.21,"NA",31.34,"NA",null,37.21,"NA",29.77,"NA",null,36.04,"NA",24.68,"NA",null,36.82,"NA",25.46,"NA",null,47.4,"NA",36.04,"NA",null,47.4,"NA",41.52,"NA",null,42.7,"NA",38.78,"NA",null,45.05,"NA",41.13,"NA",null,43.09,"NA",37.6,"NA",null,50.53,"NA",47.01,"NA"]
[null,16,{"$f":"'AVOID NEW'!AN24","v":39.584400873632426},null,40.770000000000003,"NA",37.21,"NA",null,41.56,"NA",38.4,"NA",null,37.61,"NA",31.67,"NA",null,37.61,"NA",30.08,"NA",null,36.42,"NA",24.94,"NA",null,37.21,"NA",25.73,"NA",null,47.9,"NA",36.42,"NA",null,47.9,"NA",41.96,"NA",null,43.15,"NA",39.19,"NA",null,45.52,"NA",41.56,"NA",null,43.54,"NA",38,"NA",null,51.06,"NA",47.5,"NA"]
[null,17,{"$f":"'AVOID NEW'!AN25","v":39.981755334729435},null,41.18,"NA",37.58,"NA",null,41.98,"NA",38.78,"NA",null,37.979999999999997,"NA",31.99,"NA",null,37.979999999999997,"NA",30.39,"NA",null,36.78,"NA",25.19,"NA",null,37.58,"NA",25.99,"NA",null,48.38,"NA",36.78,"NA",null,48.38,"NA",42.38,"NA",null,43.58,"NA",39.58,"NA",null,45.98,"NA",41.98,"NA",null,43.98,"NA",38.380000000000003,"NA",null,51.58,"NA",47.98,"NA"]
[null,18,{"$f":"'AVOID NEW'!AN26","v":40.363133557953255},null,41.57,"NA",37.94,"NA",null,42.38,"NA",39.15,"NA",null,38.340000000000003,"NA",32.29,"NA",null,38.340000000000003,"NA",30.68,"NA",null,37.130000000000003,"NA",25.43,"NA",null,37.94,"NA",26.24,"NA",null,48.84,"NA",37.130000000000003,"NA",null,48.84,"NA",42.78,"NA",null,44,"NA",39.96,"NA",null,46.42,"NA",42.38,"NA",null,44.4,"NA",38.75,"NA",null,52.07,"NA",48.44,"NA"]
[null,19,{"$f":"'AVOID NEW'!AN27","v":40.736731423491676},null,41.96,"NA",38.29,"NA",null,42.77,"NA",39.51,"NA",null,38.700000000000003,"NA",32.590000000000003,"NA",null,38.700000000000003,"NA",30.96,"NA",null,37.479999999999997,"NA",25.66,"NA",null,38.29,"NA",26.48,"NA",null,49.29,"NA",37.479999999999997,"NA",null,49.29,"NA",43.18,"NA",null,44.4,"NA",40.33,"NA",null,46.85,"NA",42.77,"NA",null,44.81,"NA",39.11,"NA",null,52.55,"NA",48.88,"NA"]
[null,20,{"$f":"'AVOID NEW'!AN28","v":41.09813936084393},null,42.33,"NA",38.630000000000003,"NA",null,43.15,"NA",39.869999999999997,"NA",null,39.04,"NA",32.880000000000003,"NA",null,39.04,"NA",31.23,"NA",null,37.81,"NA",25.89,"NA",null,38.630000000000003,"NA",26.71,"NA",null,49.73,"NA",37.81,"NA",null,49.73,"NA",43.56,"NA",null,44.8,"NA",40.69,"NA",null,47.26,"NA",43.15,"NA",null,45.21,"NA",39.450000000000003,"NA",null,53.02,"NA",49.32,"NA"]
[]
[]
[]
[null,{"$f":"B23","v":"THESE RATES ARE NOT VALID"}]
[null,{"$f":"B24","v":"LEVELIZED RATES"}]
[null,{"$f":"\"PROJECT ON-LINE IN \" & 'AVOID NEW'!$D$54+1","v":"PROJECT ON-LINE IN 2023"}]
[null,{"$f":"B26","v":"Rate Effective Date: XXXX, 2022"}]
[null,{"$f":"\"Resource:  \"&'Input - Capacity Factors'!$C$3","v":"Resource:  Wind"}]
[null,null,null,null,"January",null,null,null,null,"February",null,null,null,null,"March",null,null,null,null,"April",null,null,null,null,"May",null,null,null,null,"June",null,null,null,null,"July",null,null,null,null,"August",null,null,null,null,"September",null,null,null,null,"October",null,null,null,null,"November",null,null,null,null,"December"]
[null,null,null,null,"Heavy Load Hour",null,"Light Load Hour",null,null,"Heavy Load Hour",null,"Light Load Hour",null,null,"Heavy Load Hour",null,"Light Load Hour",null,null,"Heavy Load Hour",null,"Light Load Hour",null,null,"Heavy Load Hour",null,"Light Load Hour",null,null,"Heavy Load Hour",null,"Light Load Hour",null,null,"Heavy Load Hour",null,"Light Load Hour",null,null,"Heavy Load Hour",null,"Light Load Hour",null,null,"Heavy Load Hour",null,"Light Load Hour",null,null,"Heavy Load Hour",null,"Light Load Hour",null,null,"Heavy Load Hour",null,"Light Load Hour",null,null,"Heavy Load Hour",null,"Light Load Hour"]
[null,null,null,null,{"$f":"$E$8","v":1.03},null,{"$f":"$F$8","v":0.94},null,null,{"$f":"$E$9","v":1.05},null,{"$f":"$F$9","v":0.97},null,null,{"$f":"$E$10","v":0.95},null,{"$f":"$F$10","v":0.8},null,null,{"$f":"$E$11","v":0.95},null,{"$f":"$F$11","v":0.76},null,null,{"$f":"$E$12","v":0.92},null,{"$f":"$F$12","v":0.63},null,null,{"$f":"$E$13","v":0.94},null,{"$f":"$F$13","v":0.65},null,null,{"$f":"$E$14","v":1.21},null,{"$f":"$F$14","v":0.92},null,null,{"$f":"$E$15","v":1.21},null,{"$f":"$F$15","v":1.06},null,null,{"$f":"$E$16","v":1.0900000000000001},null,{"$f":"$F$16","v":0.99},null,null,{"$f":"$E$17","v":1.1499999999999999},null,{"$f":"$F$17","v":1.05},null,null,{"$f":"$E$18","v":1.1000000000000001},null,{"$f":"$F$18","v":0.96},null,null,{"$f":"$E$19","v":1.29},null,{"$f":"$F$19","v":1.2}]
[null,"Contract Length","Levelized Flat Price",null,"Price",{"$f":"F31","v":"Final avoided cost rates for wind and solar QFs include integration charges from PAC's latest integration charge case"},"Price",{"$f":"F31","v":"Final avoided cost rates for wind and solar QFs include integration charges from PAC's latest integration charge case"},null,"Price",{"$f":"F31","v":"Final avoided cost rates for wind and solar QFs include integration charges from PAC's latest integration charge case"},"Price",{"$f":"F31","v":"Final avoided cost rates for wind and solar QFs include integration charges from PAC's latest integration charge case"},null,"Price",{"$f":"F31","v":"Final avoided cost rates for wind and solar QFs include integration charges from PAC's latest integration charge case"},"Price",{"$f":"F31","v":"Final avoided cost rates for wind and solar QFs include integration charges from PAC's latest integration charge case"},null,"Price",{"$f":"F31","v":"Final avoided cost rates for wind and solar QFs include integration charges from PAC's latest integration charge case"},"Price",{"$f":"F31","v":"Final avoided cost rates for wind and solar QFs include integration charges from PAC's latest integration charge case"},null,"Price",{"$f":"F31","v":"Final avoided cost rates for wind and solar QFs include integration charges from PAC's latest integration charge case"},"Price",{"$f":"F31","v":"Final avoided cost rates for wind and solar QFs include integration charges from PAC's latest integration charge case"},null,"Price",{"$f":"F31","v":"Final avoided cost rates for wind and solar QFs include integration charges from PAC's latest integration charge case"},"Price",{"$f":"F31","v":"Final avoided cost rates for wind and solar QFs include integration charges from PAC's latest integration charge case"},null,"Price",{"$f":"F31","v":"Final avoided cost rates for wind and solar QFs include integration charges from PAC's latest integration charge case"},"Price",{"$f":"F31","v":"Final avoided cost rates for wind and solar QFs include integration charges from PAC's latest integration charge case"},null,"Price",{"$f":"F31","v":"Final avoided cost rates for wind and solar QFs include integration charges from PAC's latest integration charge case"},"Price",{"$f":"F31","v":"Final avoided cost rates for wind and solar QFs include integration charges from PAC's latest integration charge case"},null,"Price",{"$f":"F31","v":"Final avoided cost rates for wind and solar QFs include integration charges from PAC's latest integration charge case"},"Price",{"$f":"F31","v":"Final avoided cost rates for wind and solar QFs include integration charges from PAC's latest integration charge case"},null,"Price",{"$f":"F31","v":"Final avoided cost rates for wind and solar QFs include integration charges from PAC's latest integration charge case"},"Price",{"$f":"F31","v":"Final avoided cost rates for wind and solar QFs include integration charges from PAC's latest integration charge case"},null,"Price",{"$f":"F31","v":"Final avoided cost rates for wind and solar QFs include integration charges from PAC's latest integration charge case"},"Price",{"$f":"F31","v":"Final avoided cost rates for wind and solar QFs include integration charges from PAC's latest integration charge case"},null,"Price",{"$f":"F31","v":"Final avoided cost rates for wind and solar QFs include integration charges from PAC's latest integration charge case"},"Price",{"$f":"F31","v":"Final avoided cost rates for wind and solar QFs include integration charges from PAC's latest integration charge case"}]
[null,1,{"$f":"'AVOID NEW'!AO9","v":35.542378761947646},null,{"$f":"ROUND((+$C64*$E$8),2)","v":36.61},"NA",{"$f":"ROUND((+$C64*$F$8),2)","v":33.409999999999997},"NA",null,{"$f":"ROUND((+$C64*$E$9),2)","v":37.32},"NA",{"$f":"ROUND((+$C64*$F$9),2)","v":34.479999999999997},"NA",null,{"$f":"ROUND((+$C64*$E$10),2)","v":33.770000000000003},"NA",{"$f":"ROUND((+$C64*$F$10),2)","v":28.43},"NA",null,{"$f":"ROUND((+$C64*$E$11),2)","v":33.770000000000003},"NA",{"$f":"ROUND((+$C64*$F$11),2)","v":27.01},"NA",null,{"$f":"ROUND((+$C64*$E$12),2)","v":32.700000000000003},"NA",{"$f":"ROUND((+$C64*$F$12),2)","v":22.39},"NA",null,{"$f":"ROUND((+$C64*$E$13),2)","v":33.409999999999997},"NA",{"$f":"ROUND((+$C64*$F$13),2)","v":23.1},"NA",null,{"$f":"ROUND((+$C64*$E$14),2)","v":43.01},"NA",{"$f":"ROUND((+$C64*$F$14),2)","v":32.700000000000003},"NA",null,{"$f":"ROUND((+$C64*$E$15),2)","v":43.01},"NA",{"$f":"ROUND((+$C64*$F$15),2)","v":37.67},"NA",null,{"$f":"ROUND((+$C64*$E$16),2)","v":38.74},"NA",{"$f":"ROUND((+$C64*$F$16),2)","v":35.19},"NA",null,{"$f":"ROUND((+$C64*$E$17),2)","v":40.869999999999997},"NA",{"$f":"ROUND((+$C64*$F$17),2)","v":37.32},"NA",null,{"$f":"ROUND((+$C64*$E$18),2)","v":39.1},"NA",{"$f":"ROUND((+$C64*$F$18),2)","v":34.119999999999997},"NA",null,{"$f":"ROUND((+$C64*$E$19),2)","v":45.85},"NA",{"$f":"ROUND((+$C64*$F$19),2)","v":42.65},"NA"]
[null,2,{"$f":"'AVOID NEW'!AO10","v":34.654099850294891},null,{"$f":"ROUND((+$C65*$E$8),2)","v":35.69},"NA",{"$f":"ROUND((+$C65*$F$8),2)","v":32.57},"NA",null,{"$f":"ROUND((+$C65*$E$9),2)","v":36.39},"NA",{"$f":"ROUND((+$C65*$F$9),2)","v":33.61},"NA",null,{"$f":"ROUND((+$C65*$E$10),2)","v":32.92},"NA",{"$f":"ROUND((+$C65*$F$10),2)","v":27.72},"NA",null,{"$f":"ROUND((+$C65*$E$11),2)","v":32.92},"NA",{"$f":"ROUND((+$C65*$F$11),2)","v":26.34},"NA",null,{"$f":"ROUND((+$C65*$E$12),2)","v":31.88},"NA",{"$f":"ROUND((+$C65*$F$12),2)","v":21.83},"NA",null,{"$f":"ROUND((+$C65*$E$13),2)","v":32.57},"NA",{"$f":"ROUND((+$C65*$F$13),2)","v":22.53},"NA",null,{"$f":"ROUND((+$C65*$E$14),2)","v":41.93},"NA",{"$f":"ROUND((+$C65*$F$14),2)","v":31.88},"NA",null,{"$f":"ROUND((+$C65*$E$15),2)","v":41.93},"NA",{"$f":"ROUND((+$C65*$F$15),2)","v":36.729999999999997},"NA",null,{"$f":"ROUND((+$C65*$E$16),2)","v":37.770000000000003},"NA",{"$f":"ROUND((+$C65*$F$16),2)","v":34.31},"NA",null,{"$f":"ROUND((+$C65*$E$17),2)","v":39.85},"NA",{"$f":"ROUND((+$C65*$F$17),2)","v":36.39},"NA",null,{"$f":"ROUND((+$C65*$E$18),2)","v":38.119999999999997},"NA",{"$f":"ROUND((+$C65*$F$18),2)","v":33.270000000000003},"NA",null,{"$f":"ROUND((+$C65*$E$19),2)","v":44.7},"NA",{"$f":"ROUND((+$C65*$F$19),2)","v":41.58},"NA"]
[null,3,{"$f":"'AVOID NEW'!AO11","v":34.210662897928117},null,35.24,"NA",32.159999999999997,"NA",null,35.92,"NA",33.18,"NA",null,32.5,"NA",27.37,"NA",null,32.5,"NA",26,"NA",null,31.47,"NA",21.55,"NA",null,32.159999999999997,"NA",22.24,"NA",null,41.39,"NA",31.47,"NA",null,41.39,"NA",36.26,"NA",null,37.29,"NA",33.869999999999997,"NA",null,39.340000000000003,"NA",35.92,"NA",null,37.630000000000003,"NA",32.840000000000003,"NA",null,44.13,"NA",41.05,"NA"]
[null,4,{"$f":"'AVOID NEW'!AO12","v":34.268018594496468},null,35.299999999999997,"NA",32.21,"NA",null,35.979999999999997,"NA",33.24,"NA",null,32.549999999999997,"NA",27.41,"NA",null,32.549999999999997,"NA",26.04,"NA",null,31.53,"NA",21.59,"NA",null,32.21,"NA",22.27,"NA",null,41.46,"NA",31.53,"NA",null,41.46,"NA",36.32,"NA",null,37.35,"NA",33.93,"NA",null,39.409999999999997,"NA",35.979999999999997,"NA",null,37.69,"NA",32.9,"NA",null,44.21,"NA",41.12,"NA"]
[null,5,{"$f":"'AVOID NEW'!AO13","v":34.644259701846224},null,35.68,"NA",32.57,"NA",null,36.380000000000003,"NA",33.6,"NA",null,32.909999999999997,"NA",27.72,"NA",null,32.909999999999997,"NA",26.33,"NA",null,31.87,"NA",21.83,"NA",null,32.57,"NA",22.52,"NA",null,41.92,"NA",31.87,"NA",null,41.92,"NA",36.72,"NA",null,37.76,"NA",34.299999999999997,"NA",null,39.840000000000003,"NA",36.380000000000003,"NA",null,38.11,"NA",33.26,"NA",null,44.69,"NA",41.57,"NA"]
[null,6,{"$f":"'AVOID NEW'!AO14","v":35.231272870458135},null,36.29,"NA",33.119999999999997,"NA",null,36.99,"NA",34.17,"NA",null,33.47,"NA",28.19,"NA",null,33.47,"NA",26.78,"NA",null,32.409999999999997,"NA",22.2,"NA",null,33.119999999999997,"NA",22.9,"NA",null,42.63,"NA",32.409999999999997,"NA",null,42.63,"NA",37.35,"NA",null,38.4,"NA",34.880000000000003,"NA",null,40.520000000000003,"NA",36.99,"NA",null,38.75,"NA",33.82,"NA",null,45.45,"NA",42.28,"NA"]
[null,7,{"$f":"'AVOID NEW'!AO15","v":35.891695147035314},null,36.97,"NA",33.74,"NA",null,37.69,"NA",34.81,"NA",null,34.1,"NA",28.71,"NA",null,34.1,"NA",27.28,"NA",null,33.020000000000003,"NA",22.61,"NA",null,33.74,"NA",23.33,"NA",null,43.43,"NA",33.020000000000003,"NA",null,43.43,"NA",38.049999999999997,"NA",null,39.119999999999997,"NA",35.53,"NA",null,41.28,"NA",37.69,"NA",null,39.479999999999997,"NA",34.46,"NA",null,46.3,"NA",43.07,"NA"]
[null,8,{"$f":"'AVOID NEW'!AO16","v":36.544459717959974},null,37.64,"NA",34.35,"NA",null,38.369999999999997,"NA",35.450000000000003,"NA",null,34.72,"NA",29.24,"NA",null,34.72,"NA",27.77,"NA",null,33.619999999999997,"NA",23.02,"NA",null,34.35,"NA",23.75,"NA",null,44.22,"NA",33.619999999999997,"NA",null,44.22,"NA",38.74,"NA",null,39.83,"NA",36.18,"NA",null,42.03,"NA",38.369999999999997,"NA",null,40.200000000000003,"NA",35.08,"NA",null,47.14,"NA",43.85,"NA"]
[null,9,{"$f":"'AVOID NEW'!AO17","v":37.16597985210128},null,38.28,"NA",34.94,"NA",null,39.020000000000003,"NA",36.049999999999997,"NA",null,35.31,"NA",29.73,"NA",null,35.31,"NA",28.25,"NA",null,34.19,"NA",23.41,"NA",null,34.94,"NA",24.16,"NA",null,44.97,"NA",34.19,"NA",null,44.97,"NA",39.4,"NA",null,40.51,"NA",36.79,"NA",null,42.74,"NA",39.020000000000003,"NA",null,40.880000000000003,"NA",35.68,"NA",null,47.94,"NA",44.6,"NA"]
[null,10,{"$f":"'AVOID NEW'!AO18","v":37.775246524288875},null,38.909999999999997,"NA",35.51,"NA",null,39.659999999999997,"NA",36.64,"NA",null,35.89,"NA",30.22,"NA",null,35.89,"NA",28.71,"NA",null,34.75,"NA",23.8,"NA",null,35.51,"NA",24.55,"NA",null,45.71,"NA",34.75,"NA",null,45.71,"NA",40.04,"NA",null,41.18,"NA",37.4,"NA",null,43.44,"NA",39.659999999999997,"NA",null,41.55,"NA",36.26,"NA",null,48.73,"NA",45.33,"NA"]
[null,11,{"$f":"'AVOID NEW'!AO19","v":38.366208560486044},null,39.520000000000003,"NA",36.06,"NA",null,40.28,"NA",37.22,"NA",null,36.450000000000003,"NA",30.69,"NA",null,36.450000000000003,"NA",29.16,"NA",null,35.299999999999997,"NA",24.17,"NA",null,36.06,"NA",24.94,"NA",null,46.42,"NA",35.299999999999997,"NA",null,46.42,"NA",40.67,"NA",null,41.82,"NA",37.979999999999997,"NA",null,44.12,"NA",40.28,"NA",null,42.2,"NA",36.83,"NA",null,49.49,"NA",46.04,"NA"]
[null,12,{"$f":"'AVOID NEW'!AO20","v":38.91441317860972},null,40.08,"NA",36.58,"NA",null,40.86,"NA",37.75,"NA",null,36.97,"NA",31.13,"NA",null,36.97,"NA",29.57,"NA",null,35.799999999999997,"NA",24.52,"NA",null,36.58,"NA",25.29,"NA",null,47.09,"NA",35.799999999999997,"NA",null,47.09,"NA",41.25,"NA",null,42.42,"NA",38.53,"NA",null,44.75,"NA",40.86,"NA",null,42.81,"NA",37.36,"NA",null,50.2,"NA",46.7,"NA"]
[null,13,{"$f":"'AVOID NEW'!AO21","v":39.409889766925467},null,40.590000000000003,"NA",37.049999999999997,"NA",null,41.38,"NA",38.229999999999997,"NA",null,37.44,"NA",31.53,"NA",null,37.44,"NA",29.95,"NA",null,36.26,"NA",24.83,"NA",null,37.049999999999997,"NA",25.62,"NA",null,47.69,"NA",36.26,"NA",null,47.69,"NA",41.77,"NA",null,42.96,"NA",39.020000000000003,"NA",null,45.32,"NA",41.38,"NA",null,43.35,"NA",37.83,"NA",null,50.84,"NA",47.29,"NA"]
[null,14,{"$f":"'AVOID NEW'!AO22","v":39.875954740388856},null,41.07,"NA",37.479999999999997,"NA",null,41.87,"NA",38.68,"NA",null,37.880000000000003,"NA",31.9,"NA",null,37.880000000000003,"NA",30.31,"NA",null,36.69,"NA",25.12,"NA",null,37.479999999999997,"NA",25.92,"NA",null,48.25,"NA",36.69,"NA",null,48.25,"NA",42.27,"NA",null,43.46,"NA",39.479999999999997,"NA",null,45.86,"NA",41.87,"NA",null,43.86,"NA",38.28,"NA",null,51.44,"NA",47.85,"NA"]
[null,15,{"$f":"'AVOID NEW'!AO23","v":40.312528940668287},null,41.52,"NA",37.89,"NA",null,42.33,"NA",39.1,"NA",null,38.299999999999997,"NA",32.25,"NA",null,38.299999999999997,"NA",30.64,"NA",null,37.090000000000003,"NA",25.4,"NA",null,37.89,"NA",26.2,"NA",null,48.78,"NA",37.090000000000003,"NA",null,48.78,"NA",42.73,"NA",null,43.94,"NA",39.909999999999997,"NA",null,46.36,"NA",42.33,"NA",null,44.34,"NA",38.700000000000003,"NA",null,52,"NA",48.38,"NA"]
[null,16,{"$f":"'AVOID NEW'!AO24","v":40.7316439523415},null,41.95,"NA",38.29,"NA",null,42.77,"NA",39.51,"NA",null,38.700000000000003,"NA",32.590000000000003,"NA",null,38.700000000000003,"NA",30.96,"NA",null,37.47,"NA",25.66,"NA",null,38.29,"NA",26.48,"NA",null,49.29,"NA",37.47,"NA",null,49.29,"NA",43.18,"NA",null,44.4,"NA",40.32,"NA",null,46.84,"NA",42.77,"NA",null,44.8,"NA",39.1,"NA",null,52.54,"NA",48.88,"NA"]
[null,17,{"$f":"'AVOID NEW'!AO25","v":41.133477728051339},null,42.37,"NA",38.67,"NA",null,43.19,"NA",39.9,"NA",null,39.08,"NA",32.909999999999997,"NA",null,39.08,"NA",31.26,"NA",null,37.840000000000003,"NA",25.91,"NA",null,38.67,"NA",26.74,"NA",null,49.77,"NA",37.840000000000003,"NA",null,49.77,"NA",43.6,"NA",null,44.84,"NA",40.72,"NA",null,47.3,"NA",43.19,"NA",null,45.25,"NA",39.49,"NA",null,53.06,"NA",49.36,"NA"]
[null,18,{"$f":"'AVOID NEW'!AO26","v":41.527226618825061},null,42.77,"NA",39.04,"NA",null,43.6,"NA",40.28,"NA",null,39.450000000000003,"NA",33.22,"NA",null,39.450000000000003,"NA",31.56,"NA",null,38.21,"NA",26.16,"NA",null,39.04,"NA",26.99,"NA",null,50.25,"NA",38.21,"NA",null,50.25,"NA",44.02,"NA",null,45.26,"NA",41.11,"NA",null,47.76,"NA",43.6,"NA",null,45.68,"NA",39.869999999999997,"NA",null,53.57,"NA",49.83,"NA"]
[null,19,{"$f":"'AVOID NEW'!AO27","v":41.908037611359106},null,43.17,"NA",39.39,"NA",null,44,"NA",40.65,"NA",null,39.81,"NA",33.53,"NA",null,39.81,"NA",31.85,"NA",null,38.56,"NA",26.4,"NA",null,39.39,"NA",27.24,"NA",null,50.71,"NA",38.56,"NA",null,50.71,"NA",44.42,"NA",null,45.68,"NA",41.49,"NA",null,48.19,"NA",44,"NA",null,46.1,"NA",40.229999999999997,"NA",null,54.06,"NA",50.29,"NA"]
[null,20,{"$f":"'AVOID NEW'!AO28","v":42.269312783325852},null,43.54,"NA",39.729999999999997,"NA",null,44.38,"NA",41,"NA",null,40.159999999999997,"NA",33.82,"NA",null,40.159999999999997,"NA",32.119999999999997,"NA",null,38.89,"NA",26.63,"NA",null,39.729999999999997,"NA",27.48,"NA",null,51.15,"NA",38.89,"NA",null,51.15,"NA",44.81,"NA",null,46.07,"NA",41.85,"NA",null,48.61,"NA",44.38,"NA",null,46.5,"NA",40.58,"NA",null,54.53,"NA",50.72,"NA"]
[]
[]
[]
[null,{"$f":"B23","v":"THESE RATES ARE NOT VALID"}]
[null,{"$f":"B24","v":"LEVELIZED RATES"}]
[null,{"$f":"\"PROJECT ON-LINE IN \" & 'AVOID NEW'!$D$54+2","v":"PROJECT ON-LINE IN 2024"}]
[null,"Rate Effective Date: XXXX, 2022"]
[null,{"$f":"\"Resource:  \"&'Input - Capacity Factors'!$C$3","v":"Resource:  Wind"}]
[null,null,null,null,"January",null,null,null,null,"February",null,null,null,null,"March",null,null,null,null,"April",null,null,null,null,"May",null,null,null,null,"June",null,null,null,null,"July",null,null,null,null,"August",null,null,null,null,"September",null,null,null,null,"October",null,null,null,null,"November",null,null,null,null,"December"]
[null,null,null,null,"Heavy Load Hour",null,"Light Load Hour",null,null,"Heavy Load Hour",null,"Light Load Hour",null,null,"Heavy Load Hour",null,"Light Load Hour",null,null,"Heavy Load Hour",null,"Light Load Hour",null,null,"Heavy Load Hour",null,"Light Load Hour",null,null,"Heavy Load Hour",null,"Light Load Hour",null,null,"Heavy Load Hour",null,"Light Load Hour",null,null,"Heavy Load Hour",null,"Light Load Hour",null,null,"Heavy Load Hour",null,"Light Load Hour",null,null,"Heavy Load Hour",null,"Light Load Hour",null,null,"Heavy Load Hour",null,"Light Load Hour",null,null,"Heavy Load Hour",null,"Light Load Hour"]
[null,null,null,null,{"$f":"$E$8","v":1.03},null,{"$f":"$F$8","v":0.94},null,null,{"$f":"$E$9","v":1.05},null,{"$f":"$F$9","v":0.97},null,null,{"$f":"$E$10","v":0.95},null,{"$f":"$F$10","v":0.8},null,null,{"$f":"$E$11","v":0.95},null,{"$f":"$F$11","v":0.76},null,null,{"$f":"$E$12","v":0.92},null,{"$f":"$F$12","v":0.63},null,null,{"$f":"$E$13","v":0.94},null,{"$f":"$F$13","v":0.65},null,null,{"$f":"$E$14","v":1.21},null,{"$f":"$F$14","v":0.92},null,null,{"$f":"$E$15","v":1.21},null,{"$f":"$F$15","v":1.06},null,null,{"$f":"$E$16","v":1.0900000000000001},null,{"$f":"$F$16","v":0.99},null,null,{"$f":"$E$17","v":1.1499999999999999},null,{"$f":"$F$17","v":1.05},null,null,{"$f":"$E$18","v":1.1000000000000001},null,{"$f":"$F$18","v":0.96},null,null,{"$f":"$E$19","v":1.29},null,{"$f":"$F$19","v":1.2}]
[null,"Contract Length","Levelized Flat Price",null,"Price",{"$f":"F31","v":"Final avoided cost rates for wind and solar QFs include integration charges from PAC's latest integration charge case"},"Price",{"$f":"F31","v":"Final avoided cost rates for wind and solar QFs include integration charges from PAC's latest integration charge case"},null,"Price",{"$f":"F31","v":"Final avoided cost rates for wind and solar QFs include integration charges from PAC's latest integration charge case"},"Price",{"$f":"F31","v":"Final avoided cost rates for wind and solar QFs include integration charges from PAC's latest integration charge case"},null,"Price",{"$f":"F31","v":"Final avoided cost rates for wind and solar QFs include integration charges from PAC's latest integration charge case"},"Price",{"$f":"F31","v":"Final avoided cost rates for wind and solar QFs include integration charges from PAC's latest integration charge case"},null,"Price",{"$f":"F31","v":"Final avoided cost rates for wind and solar QFs include integration charges from PAC's latest integration charge case"},"Price",{"$f":"F31","v":"Final avoided cost rates for wind and solar QFs include integration charges from PAC's latest integration charge case"},null,"Price",{"$f":"F31","v":"Final avoided cost rates for wind and solar QFs include integration charges from PAC's latest integration charge case"},"Price",{"$f":"F31","v":"Final avoided cost rates for wind and solar QFs include integration charges from PAC's latest integration charge case"},null,"Price",{"$f":"F31","v":"Final avoided cost rates for wind and solar QFs include integration charges from PAC's latest integration charge case"},"Price",{"$f":"F31","v":"Final avoided cost rates for wind and solar QFs include integration charges from PAC's latest integration charge case"},null,"Price",{"$f":"F31","v":"Final avoided cost rates for wind and solar QFs include integration charges from PAC's latest integration charge case"},"Price",{"$f":"F31","v":"Final avoided cost rates for wind and solar QFs include integration charges from PAC's latest integration charge case"},null,"Price",{"$f":"F31","v":"Final avoided cost rates for wind and solar QFs include integration charges from PAC's latest integration charge case"},"Price",{"$f":"F31","v":"Final avoided cost rates for wind and solar QFs include integration charges from PAC's latest integration charge case"},null,"Price",{"$f":"F31","v":"Final avoided cost rates for wind and solar QFs include integration charges from PAC's latest integration charge case"},"Price",{"$f":"F31","v":"Final avoided cost rates for wind and solar QFs include integration charges from PAC's latest integration charge case"},null,"Price",{"$f":"F31","v":"Final avoided cost rates for wind and solar QFs include integration charges from PAC's latest integration charge case"},"Price",{"$f":"F31","v":"Final avoided cost rates for wind and solar QFs include integration charges from PAC's latest integration charge case"},null,"Price",{"$f":"F31","v":"Final avoided cost rates for wind and solar QFs include integration charges from PAC's latest integration charge case"},"Price",{"$f":"F31","v":"Final avoided cost rates for wind and solar QFs include integration charges from PAC's latest integration charge case"},null,"Price",{"$f":"F31","v":"Final avoided cost rates for wind and solar QFs include integration charges from PAC's latest integration charge case"},"Price",{"$f":"F31","v":"Final avoided cost rates for wind and solar QFs include integration charges from PAC's latest integration charge case"}]
[null,1,{"$f":"'AVOID NEW'!AP9","v":33.693158683494346},null,{"$f":"ROUND((+$C96*$E$8),2)","v":34.700000000000003},"NA",{"$f":"ROUND((+$C96*$F$8),2)","v":31.67},"NA",null,{"$f":"ROUND((+$C96*$E$9),2)","v":35.380000000000003},"NA",{"$f":"ROUND((+$C96*$F$9),2)","v":32.68},"NA",null,{"$f":"ROUND((+$C96*$E$10),2)","v":32.01},"NA",{"$f":"ROUND((+$C96*$F$10),2)","v":26.95},"NA",null,{"$f":"ROUND((+$C96*$E$11),2)","v":32.01},"NA",{"$f":"ROUND((+$C96*$F$11),2)","v":25.61},"NA",null,{"$f":"ROUND((+$C96*$E$12),2)","v":31},"NA",{"$f":"ROUND((+$C96*$F$12),2)","v":21.23},"NA",null,{"$f":"ROUND((+$C96*$E$13),2)","v":31.67},"NA",{"$f":"ROUND((+$C96*$F$13),2)","v":21.9},"NA",null,{"$f":"ROUND((+$C96*$E$14),2)","v":40.770000000000003},"NA",{"$f":"ROUND((+$C96*$F$14),2)","v":31},"NA",null,{"$f":"ROUND((+$C96*$E$15),2)","v":40.770000000000003},"NA",{"$f":"ROUND((+$C96*$F$15),2)","v":35.71},"NA",null,{"$f":"ROUND((+$C96*$E$16),2)","v":36.729999999999997},"NA",{"$f":"ROUND((+$C96*$F$16),2)","v":33.36},"NA",null,{"$f":"ROUND((+$C96*$E$17),2)","v":38.75},"NA",{"$f":"ROUND((+$C96*$F$17),2)","v":35.380000000000003},"NA",null,{"$f":"ROUND((+$C96*$E$18),2)","v":37.06},"NA",{"$f":"ROUND((+$C96*$F$18),2)","v":32.35},"NA",null,{"$f":"ROUND((+$C96*$E$19),2)","v":43.46},"NA",{"$f":"ROUND((+$C96*$F$19),2)","v":40.43},"NA"]
[null,2,{"$f":"'AVOID NEW'!AP10","v":33.462032910806386},null,{"$f":"ROUND((+$C97*$E$8),2)","v":34.47},"NA",{"$f":"ROUND((+$C97*$F$8),2)","v":31.45},"NA",null,{"$f":"ROUND((+$C97*$E$9),2)","v":35.14},"NA",{"$f":"ROUND((+$C97*$F$9),2)","v":32.46},"NA",null,{"$f":"ROUND((+$C97*$E$10),2)","v":31.79},"NA",{"$f":"ROUND((+$C97*$F$10),2)","v":26.77},"NA",null,{"$f":"ROUND((+$C97*$E$11),2)","v":31.79},"NA",{"$f":"ROUND((+$C97*$F$11),2)","v":25.43},"NA",null,{"$f":"ROUND((+$C97*$E$12),2)","v":30.79},"NA",{"$f":"ROUND((+$C97*$F$12),2)","v":21.08},"NA",null,{"$f":"ROUND((+$C97*$E$13),2)","v":31.45},"NA",{"$f":"ROUND((+$C97*$F$13),2)","v":21.75},"NA",null,{"$f":"ROUND((+$C97*$E$14),2)","v":40.49},"NA",{"$f":"ROUND((+$C97*$F$14),2)","v":30.79},"NA",null,{"$f":"ROUND((+$C97*$E$15),2)","v":40.49},"NA",{"$f":"ROUND((+$C97*$F$15),2)","v":35.47},"NA",null,{"$f":"ROUND((+$C97*$E$16),2)","v":36.47},"NA",{"$f":"ROUND((+$C97*$F$16),2)","v":33.130000000000003},"NA",null,{"$f":"ROUND((+$C97*$E$17),2)","v":38.479999999999997},"NA",{"$f":"ROUND((+$C97*$F$17),2)","v":35.14},"NA",null,{"$f":"ROUND((+$C97*$E$18),2)","v":36.81},"NA",{"$f":"ROUND((+$C97*$F$18),2)","v":32.119999999999997},"NA",null,{"$f":"ROUND((+$C97*$E$19),2)","v":43.17},"NA",{"$f":"ROUND((+$C97*$F$19),2)","v":40.15},"NA"]
[null,3,{"$f":"'AVOID NEW'!AP11","v":33.77191621092993},null,34.79,"NA",31.75,"NA",null,35.46,"NA",32.76,"NA",null,32.08,"NA",27.02,"NA",null,32.08,"NA",25.67,"NA",null,31.07,"NA",21.28,"NA",null,31.75,"NA",21.95,"NA",null,40.86,"NA",31.07,"NA",null,40.86,"NA",35.799999999999997,"NA",null,36.81,"NA",33.43,"NA",null,38.840000000000003,"NA",35.46,"NA",null,37.15,"NA",32.42,"NA",null,43.57,"NA",40.53,"NA"]
[null,4,{"$f":"'AVOID NEW'!AP12","v":34.372010930110029},null,35.4,"NA",32.31,"NA",null,36.090000000000003,"NA",33.340000000000003,"NA",null,32.65,"NA",27.5,"NA",null,32.65,"NA",26.12,"NA",null,31.62,"NA",21.65,"NA",null,32.31,"NA",22.34,"NA",null,41.59,"NA",31.62,"NA",null,41.59,"NA",36.43,"NA",null,37.47,"NA",34.03,"NA",null,39.53,"NA",36.090000000000003,"NA",null,37.81,"NA",33,"NA",null,44.34,"NA",41.25,"NA"]
[null,5,{"$f":"'AVOID NEW'!AP13","v":35.152984142736543},null,36.21,"NA",33.04,"NA",null,36.909999999999997,"NA",34.1,"NA",null,33.4,"NA",28.12,"NA",null,33.4,"NA",26.72,"NA",null,32.340000000000003,"NA",22.15,"NA",null,33.04,"NA",22.85,"NA",null,42.54,"NA",32.340000000000003,"NA",null,42.54,"NA",37.26,"NA",null,38.32,"NA",34.799999999999997,"NA",null,40.43,"NA",36.909999999999997,"NA",null,38.67,"NA",33.75,"NA",null,45.35,"NA",42.18,"NA"]
[null,6,{"$f":"'AVOID NEW'!AP14","v":35.967671019113965},null,37.049999999999997,"NA",33.81,"NA",null,37.770000000000003,"NA",34.89,"NA",null,34.17,"NA",28.77,"NA",null,34.17,"NA",27.34,"NA",null,33.090000000000003,"NA",22.66,"NA",null,33.81,"NA",23.38,"NA",null,43.52,"NA",33.090000000000003,"NA",null,43.52,"NA",38.130000000000003,"NA",null,39.200000000000003,"NA",35.61,"NA",null,41.36,"NA",37.770000000000003,"NA",null,39.56,"NA",34.53,"NA",null,46.4,"NA",43.16,"NA"]
[null,7,{"$f":"'AVOID NEW'!AP15","v":36.738119069635822},null,37.840000000000003,"NA",34.53,"NA",null,38.58,"NA",35.64,"NA",null,34.9,"NA",29.39,"NA",null,34.9,"NA",27.92,"NA",null,33.799999999999997,"NA",23.15,"NA",null,34.53,"NA",23.88,"NA",null,44.45,"NA",33.799999999999997,"NA",null,44.45,"NA",38.94,"NA",null,40.04,"NA",36.369999999999997,"NA",null,42.25,"NA",38.58,"NA",null,40.409999999999997,"NA",35.270000000000003,"NA",null,47.39,"NA",44.09,"NA"]
[null,8,{"$f":"'AVOID NEW'!AP16","v":37.450444555036114},null,38.57,"NA",35.200000000000003,"NA",null,39.32,"NA",36.33,"NA",null,35.58,"NA",29.96,"NA",null,35.58,"NA",28.46,"NA",null,34.450000000000003,"NA",23.59,"NA",null,35.200000000000003,"NA",24.34,"NA",null,45.32,"NA",34.450000000000003,"NA",null,45.32,"NA",39.700000000000003,"NA",null,40.82,"NA",37.08,"NA",null,43.07,"NA",39.32,"NA",null,41.2,"NA",35.950000000000003,"NA",null,48.31,"NA",44.94,"NA"]
[null,9,{"$f":"'AVOID NEW'!AP17","v":38.135365072546293},null,39.28,"NA",35.85,"NA",null,40.04,"NA",36.99,"NA",null,36.229999999999997,"NA",30.51,"NA",null,36.229999999999997,"NA",28.98,"NA",null,35.08,"NA",24.03,"NA",null,35.85,"NA",24.79,"NA",null,46.14,"NA",35.08,"NA",null,46.14,"NA",40.42,"NA",null,41.57,"NA",37.75,"NA",null,43.86,"NA",40.04,"NA",null,41.95,"NA",36.61,"NA",null,49.19,"NA",45.76,"NA"]
[null,10,{"$f":"'AVOID NEW'!AP18","v":38.790467723432059},null,39.950000000000003,"NA",36.46,"NA",null,40.729999999999997,"NA",37.630000000000003,"NA",null,36.85,"NA",31.03,"NA",null,36.85,"NA",29.48,"NA",null,35.69,"NA",24.44,"NA",null,36.46,"NA",25.21,"NA",null,46.94,"NA",35.69,"NA",null,46.94,"NA",41.12,"NA",null,42.28,"NA",38.4,"NA",null,44.61,"NA",40.729999999999997,"NA",null,42.67,"NA",37.24,"NA",null,50.04,"NA",46.55,"NA"]
[null,11,{"$f":"'AVOID NEW'!AP19","v":39.390891077541461},null,40.57,"NA",37.03,"NA",null,41.36,"NA",38.21,"NA",null,37.42,"NA",31.51,"NA",null,37.42,"NA",29.94,"NA",null,36.24,"NA",24.82,"NA",null,37.03,"NA",25.6,"NA",null,47.66,"NA",36.24,"NA",null,47.66,"NA",41.75,"NA",null,42.94,"NA",39,"NA",null,45.3,"NA",41.36,"NA",null,43.33,"NA",37.82,"NA",null,50.81,"NA",47.27,"NA"]
[null,12,{"$f":"'AVOID NEW'!AP20","v":39.927888724424136},null,41.13,"NA",37.53,"NA",null,41.92,"NA",38.729999999999997,"NA",null,37.93,"NA",31.94,"NA",null,37.93,"NA",30.35,"NA",null,36.729999999999997,"NA",25.15,"NA",null,37.53,"NA",25.95,"NA",null,48.31,"NA",36.729999999999997,"NA",null,48.31,"NA",42.32,"NA",null,43.52,"NA",39.53,"NA",null,45.92,"NA",41.92,"NA",null,43.92,"NA",38.33,"NA",null,51.51,"NA",47.91,"NA"]
[null,13,{"$f":"'AVOID NEW'!AP21","v":40.429690596363365},null,41.64,"NA",38,"NA",null,42.45,"NA",39.22,"NA",null,38.409999999999997,"NA",32.340000000000003,"NA",null,38.409999999999997,"NA",30.73,"NA",null,37.200000000000003,"NA",25.47,"NA",null,38,"NA",26.28,"NA",null,48.92,"NA",37.200000000000003,"NA",null,48.92,"NA",42.86,"NA",null,44.07,"NA",40.03,"NA",null,46.49,"NA",42.45,"NA",null,44.47,"NA",38.81,"NA",null,52.15,"NA",48.52,"NA"]
[null,14,{"$f":"'AVOID NEW'!AP22","v":40.897200670930218},null,42.12,"NA",38.44,"NA",null,42.94,"NA",39.67,"NA",null,38.85,"NA",32.72,"NA",null,38.85,"NA",31.08,"NA",null,37.630000000000003,"NA",25.77,"NA",null,38.44,"NA",26.58,"NA",null,49.49,"NA",37.630000000000003,"NA",null,49.49,"NA",43.35,"NA",null,44.58,"NA",40.49,"NA",null,47.03,"NA",42.94,"NA",null,44.99,"NA",39.26,"NA",null,52.76,"NA",49.08,"NA"]
[null,15,{"$f":"'AVOID NEW'!AP23","v":41.344587357159419},null,42.58,"NA",38.86,"NA",null,43.41,"NA",40.1,"NA",null,39.28,"NA",33.08,"NA",null,39.28,"NA",31.42,"NA",null,38.04,"NA",26.05,"NA",null,38.86,"NA",26.87,"NA",null,50.03,"NA",38.04,"NA",null,50.03,"NA",43.83,"NA",null,45.07,"NA",40.93,"NA",null,47.55,"NA",43.41,"NA",null,45.48,"NA",39.69,"NA",null,53.33,"NA",49.61,"NA"]
[null,16,{"$f":"'AVOID NEW'!AP24","v":41.772434776415473},null,43.03,"NA",39.270000000000003,"NA",null,43.86,"NA",40.520000000000003,"NA",null,39.68,"NA",33.42,"NA",null,39.68,"NA",31.75,"NA",null,38.43,"NA",26.32,"NA",null,39.270000000000003,"NA",27.15,"NA",null,50.54,"NA",38.43,"NA",null,50.54,"NA",44.28,"NA",null,45.53,"NA",41.35,"NA",null,48.04,"NA",43.86,"NA",null,45.95,"NA",40.1,"NA",null,53.89,"NA",50.13,"NA"]
[null,17,{"$f":"'AVOID NEW'!AP25","v":42.191245265997566},null,43.46,"NA",39.659999999999997,"NA",null,44.3,"NA",40.93,"NA",null,40.08,"NA",33.75,"NA",null,40.08,"NA",32.07,"NA",null,38.82,"NA",26.58,"NA",null,39.659999999999997,"NA",27.42,"NA",null,51.05,"NA",38.82,"NA",null,51.05,"NA",44.72,"NA",null,45.99,"NA",41.77,"NA",null,48.52,"NA",44.3,"NA",null,46.41,"NA",40.5,"NA",null,54.43,"NA",50.63,"NA"]
[null,18,{"$f":"'AVOID NEW'!AP26","v":42.595776321078255},null,43.87,"NA",40.04,"NA",null,44.73,"NA",41.32,"NA",null,40.47,"NA",34.08,"NA",null,40.47,"NA",32.369999999999997,"NA",null,39.19,"NA",26.84,"NA",null,40.04,"NA",27.69,"NA",null,51.54,"NA",39.19,"NA",null,51.54,"NA",45.15,"NA",null,46.43,"NA",42.17,"NA",null,48.99,"NA",44.73,"NA",null,46.86,"NA",40.89,"NA",null,54.95,"NA",51.11,"NA"]
[null,19,{"$f":"'AVOID NEW'!AP27","v":42.978873758013059},null,44.27,"NA",40.4,"NA",null,45.13,"NA",41.69,"NA",null,40.83,"NA",34.380000000000003,"NA",null,40.83,"NA",32.659999999999997,"NA",null,39.54,"NA",27.08,"NA",null,40.4,"NA",27.94,"NA",null,52,"NA",39.54,"NA",null,52,"NA",45.56,"NA",null,46.85,"NA",42.55,"NA",null,49.43,"NA",45.13,"NA",null,47.28,"NA",41.26,"NA",null,55.44,"NA",51.57,"NA"]
[null,20,{"$f":"'AVOID NEW'!AP28","v":43.349180278074648},null,44.65,"NA",40.75,"NA",null,45.52,"NA",42.05,"NA",null,41.18,"NA",34.68,"NA",null,41.18,"NA",32.950000000000003,"NA",null,39.880000000000003,"NA",27.31,"NA",null,40.75,"NA",28.18,"NA",null,52.45,"NA",39.880000000000003,"NA",null,52.45,"NA",45.95,"NA",null,47.25,"NA",42.92,"NA",null,49.85,"NA",45.52,"NA",null,47.68,"NA",41.62,"NA",null,55.92,"NA",52.02,"NA"]
[]
[]
[]
[null,{"$f":"B23","v":"THESE RATES ARE NOT VALID"}]
[null,{"$f":"B24","v":"LEVELIZED RATES"}]
[null,{"$f":"\"PROJECT ON-LINE IN \" & 'AVOID NEW'!$D$54+3","v":"PROJECT ON-LINE IN 2025"}]
[null,"Rate Effective Date: XXXX, 2022"]
[null,{"$f":"\"Resource:  \"&'Input - Capacity Factors'!$C$3","v":"Resource:  Wind"}]
[null,null,null,null,"January",null,null,null,null,"February",null,null,null,null,"March",null,null,null,null,"April",null,null,null,null,"May",null,null,null,null,"June",null,null,null,null,"July",null,null,null,null,"August",null,null,null,null,"September",null,null,null,null,"October",null,null,null,null,"November",null,null,null,null,"December"]
[null,null,null,null,"Heavy Load Hour",null,"Light Load Hour",null,null,"Heavy Load Hour",null,"Light Load Hour",null,null,"Heavy Load Hour",null,"Light Load Hour",null,null,"Heavy Load Hour",null,"Light Load Hour",null,null,"Heavy Load Hour",null,"Light Load Hour",null,null,"Heavy Load Hour",null,"Light Load Hour",null,null,"Heavy Load Hour",null,"Light Load Hour",null,null,"Heavy Load Hour",null,"Light Load Hour",null,null,"Heavy Load Hour",null,"Light Load Hour",null,null,"Heavy Load Hour",null,"Light Load Hour",null,null,"Heavy Load Hour",null,"Light Load Hour",null,null,"Heavy Load Hour",null,"Light Load Hour"]
[null,null,null,null,{"$f":"$E$8","v":1.03},null,{"$f":"$F$8","v":0.94},null,null,{"$f":"$E$9","v":1.05},null,{"$f":"$F$9","v":0.97},null,null,{"$f":"$E$10","v":0.95},null,{"$f":"$F$10","v":0.8},null,null,{"$f":"$E$11","v":0.95},null,{"$f":"$F$11","v":0.76},null,null,{"$f":"$E$12","v":0.92},null,{"$f":"$F$12","v":0.63},null,null,{"$f":"$E$13","v":0.94},null,{"$f":"$F$13","v":0.65},null,null,{"$f":"$E$14","v":1.21},null,{"$f":"$F$14","v":0.92},null,null,{"$f":"$E$15","v":1.21},null,{"$f":"$F$15","v":1.06},null,null,{"$f":"$E$16","v":1.0900000000000001},null,{"$f":"$F$16","v":0.99},null,null,{"$f":"$E$17","v":1.1499999999999999},null,{"$f":"$F$17","v":1.05},null,null,{"$f":"$E$18","v":1.1000000000000001},null,{"$f":"$F$18","v":0.96},null,null,{"$f":"$E$19","v":1.29},null,{"$f":"$F$19","v":1.2}]
[null,"Contract Length","Levelized Flat Price",null,"Price",{"$f":"F31","v":"Final avoided cost rates for wind and solar QFs include integration charges from PAC's latest integration charge case"},"Price",{"$f":"F31","v":"Final avoided cost rates for wind and solar QFs include integration charges from PAC's latest integration charge case"},null,"Price",{"$f":"F31","v":"Final avoided cost rates for wind and solar QFs include integration charges from PAC's latest integration charge case"},"Price",{"$f":"F31","v":"Final avoided cost rates for wind and solar QFs include integration charges from PAC's latest integration charge case"},null,"Price",{"$f":"F31","v":"Final avoided cost rates for wind and solar QFs include integration charges from PAC's latest integration charge case"},"Price",{"$f":"F31","v":"Final avoided cost rates for wind and solar QFs include integration charges from PAC's latest integration charge case"},null,"Price",{"$f":"F31","v":"Final avoided cost rates for wind and solar QFs include integration charges from PAC's latest integration charge case"},"Price",{"$f":"F31","v":"Final avoided cost rates for wind and solar QFs include integration charges from PAC's latest integration charge case"},null,"Price",{"$f":"F31","v":"Final avoided cost rates for wind and solar QFs include integration charges from PAC's latest integration charge case"},"Price",{"$f":"F31","v":"Final avoided cost rates for wind and solar QFs include integration charges from PAC's latest integration charge case"},null,"Price",{"$f":"F31","v":"Final avoided cost rates for wind and solar QFs include integration charges from PAC's latest integration charge case"},"Price",{"$f":"F31","v":"Final avoided cost rates for wind and solar QFs include integration charges from PAC's latest integration charge case"},null,"Price",{"$f":"F31","v":"Final avoided cost rates for wind and solar QFs include integration charges from PAC's latest integration charge case"},"Price",{"$f":"F31","v":"Final avoided cost rates for wind and solar QFs include integration charges from PAC's latest integration charge case"},null,"Price",{"$f":"F31","v":"Final avoided cost rates for wind and solar QFs include integration charges from PAC's latest integration charge case"},"Price",{"$f":"F31","v":"Final avoided cost rates for wind and solar QFs include integration charges from PAC's latest integration charge case"},null,"Price",{"$f":"F31","v":"Final avoided cost rates for wind and solar QFs include integration charges from PAC's latest integration charge case"},"Price",{"$f":"F31","v":"Final avoided cost rates for wind and solar QFs include integration charges from PAC's latest integration charge case"},null,"Price",{"$f":"F31","v":"Final avoided cost rates for wind and solar QFs include integration charges from PAC's latest integration charge case"},"Price",{"$f":"F31","v":"Final avoided cost rates for wind and solar QFs include integration charges from PAC's latest integration charge case"},null,"Price",{"$f":"F31","v":"Final avoided cost rates for wind and solar QFs include integration charges from PAC's latest integration charge case"},"Price",{"$f":"F31","v":"Final avoided cost rates for wind and solar QFs include integration charges from PAC's latest integration charge case"},null,"Price",{"$f":"F31","v":"Final avoided cost rates for wind and solar QFs include integration charges from PAC's latest integration charge case"},"Price",{"$f":"F31","v":"Final avoided cost rates for wind and solar QFs include integration charges from PAC's latest integration charge case"}]
[null,1,{"$f":"'AVOID NEW'!AQ9","v":33.212000779264272},null,{"$f":"ROUND((+$C128*$E$8),2)","v":34.21},"NA",{"$f":"ROUND((+$C128*$F$8),2)","v":31.22},"NA",null,{"$f":"ROUND((+$C128*$E$9),2)","v":34.869999999999997},"NA",{"$f":"ROUND((+$C128*$F$9),2)","v":32.22},"NA",null,{"$f":"ROUND((+$C128*$E$10),2)","v":31.55},"NA",{"$f":"ROUND((+$C128*$F$10),2)","v":26.57},"NA",null,{"$f":"ROUND((+$C128*$E$11),2)","v":31.55},"NA",{"$f":"ROUND((+$C128*$F$11),2)","v":25.24},"NA",null,{"$f":"ROUND((+$C128*$E$12),2)","v":30.56},"NA",{"$f":"ROUND((+$C128*$F$12),2)","v":20.92},"NA",null,{"$f":"ROUND((+$C128*$E$13),2)","v":31.22},"NA",{"$f":"ROUND((+$C128*$F$13),2)","v":21.59},"NA",null,{"$f":"ROUND((+$C128*$E$14),2)","v":40.19},"NA",{"$f":"ROUND((+$C128*$F$14),2)","v":30.56},"NA",null,{"$f":"ROUND((+$C128*$E$15),2)","v":40.19},"NA",{"$f":"ROUND((+$C128*$F$15),2)","v":35.200000000000003},"NA",null,{"$f":"ROUND((+$C128*$E$16),2)","v":36.200000000000003},"NA",{"$f":"ROUND((+$C128*$F$16),2)","v":32.880000000000003},"NA",null,{"$f":"ROUND((+$C128*$E$17),2)","v":38.19},"NA",{"$f":"ROUND((+$C128*$F$17),2)","v":34.869999999999997},"NA",null,{"$f":"ROUND((+$C128*$E$18),2)","v":36.53},"NA",{"$f":"ROUND((+$C128*$F$18),2)","v":31.88},"NA",null,{"$f":"ROUND((+$C128*$E$19),2)","v":42.84},"NA",{"$f":"ROUND((+$C128*$F$19),2)","v":39.85},"NA"]
[null,2,{"$f":"'AVOID NEW'!AQ10","v":33.816190104740791},null,{"$f":"ROUND((+$C129*$E$8),2)","v":34.83},"NA",{"$f":"ROUND((+$C129*$F$8),2)","v":31.79},"NA",null,{"$f":"ROUND((+$C129*$E$9),2)","v":35.51},"NA",{"$f":"ROUND((+$C129*$F$9),2)","v":32.799999999999997},"NA",null,{"$f":"ROUND((+$C129*$E$10),2)","v":32.130000000000003},"NA",{"$f":"ROUND((+$C129*$F$10),2)","v":27.05},"NA",null,{"$f":"ROUND((+$C129*$E$11),2)","v":32.130000000000003},"NA",{"$f":"ROUND((+$C129*$F$11),2)","v":25.7},"NA",null,{"$f":"ROUND((+$C129*$E$12),2)","v":31.11},"NA",{"$f":"ROUND((+$C129*$F$12),2)","v":21.3},"NA",null,{"$f":"ROUND((+$C129*$E$13),2)","v":31.79},"NA",{"$f":"ROUND((+$C129*$F$13),2)","v":21.98},"NA",null,{"$f":"ROUND((+$C129*$E$14),2)","v":40.92},"NA",{"$f":"ROUND((+$C129*$F$14),2)","v":31.11},"NA",null,{"$f":"ROUND((+$C129*$E$15),2)","v":40.92},"NA",{"$f":"ROUND((+$C129*$F$15),2)","v":35.85},"NA",null,{"$f":"ROUND((+$C129*$E$16),2)","v":36.86},"NA",{"$f":"ROUND((+$C129*$F$16),2)","v":33.479999999999997},"NA",null,{"$f":"ROUND((+$C129*$E$17),2)","v":38.89},"NA",{"$f":"ROUND((+$C129*$F$17),2)","v":35.51},"NA",null,{"$f":"ROUND((+$C129*$E$18),2)","v":37.200000000000003},"NA",{"$f":"ROUND((+$C129*$F$18),2)","v":32.46},"NA",null,{"$f":"ROUND((+$C129*$E$19),2)","v":43.62},"NA",{"$f":"ROUND((+$C129*$F$19),2)","v":40.58},"NA"]
[null,3,{"$f":"'AVOID NEW'!AQ11","v":34.636284897735003},null,35.68,"NA",32.56,"NA",null,36.369999999999997,"NA",33.6,"NA",null,32.9,"NA",27.71,"NA",null,32.9,"NA",26.32,"NA",null,31.87,"NA",21.82,"NA",null,32.56,"NA",22.51,"NA",null,41.91,"NA",31.87,"NA",null,41.91,"NA",36.71,"NA",null,37.75,"NA",34.29,"NA",null,39.83,"NA",36.369999999999997,"NA",null,38.1,"NA",33.25,"NA",null,44.68,"NA",41.56,"NA"]
[null,4,{"$f":"'AVOID NEW'!AQ12","v":35.595504189224606},null,36.659999999999997,"NA",33.46,"NA",null,37.380000000000003,"NA",34.53,"NA",null,33.82,"NA",28.48,"NA",null,33.82,"NA",27.05,"NA",null,32.75,"NA",22.43,"NA",null,33.46,"NA",23.14,"NA",null,43.07,"NA",32.75,"NA",null,43.07,"NA",37.729999999999997,"NA",null,38.799999999999997,"NA",35.24,"NA",null,40.93,"NA",37.380000000000003,"NA",null,39.159999999999997,"NA",34.17,"NA",null,45.92,"NA",42.71,"NA"]
[null,5,{"$f":"'AVOID NEW'!AQ13","v":36.540044226481257},null,37.64,"NA",34.35,"NA",null,38.369999999999997,"NA",35.44,"NA",null,34.71,"NA",29.23,"NA",null,34.71,"NA",27.77,"NA",null,33.619999999999997,"NA",23.02,"NA",null,34.35,"NA",23.75,"NA",null,44.21,"NA",33.619999999999997,"NA",null,44.21,"NA",38.729999999999997,"NA",null,39.83,"NA",36.17,"NA",null,42.02,"NA",38.369999999999997,"NA",null,40.19,"NA",35.08,"NA",null,47.14,"NA",43.85,"NA"]
[null,6,{"$f":"'AVOID NEW'!AQ14","v":37.400394103553779},null,38.520000000000003,"NA",35.159999999999997,"NA",null,39.270000000000003,"NA",36.28,"NA",null,35.53,"NA",29.92,"NA",null,35.53,"NA",28.42,"NA",null,34.409999999999997,"NA",23.56,"NA",null,35.159999999999997,"NA",24.31,"NA",null,45.25,"NA",34.409999999999997,"NA",null,45.25,"NA",39.64,"NA",null,40.770000000000003,"NA",37.03,"NA",null,43.01,"NA",39.270000000000003,"NA",null,41.14,"NA",35.9,"NA",null,48.25,"NA",44.88,"NA"]
[null,7,{"$f":"'AVOID NEW'!AQ15","v":38.176567071962431},null,39.32,"NA",35.89,"NA",null,40.090000000000003,"NA",37.03,"NA",null,36.270000000000003,"NA",30.54,"NA",null,36.270000000000003,"NA",29.01,"NA",null,35.119999999999997,"NA",24.05,"NA",null,35.89,"NA",24.81,"NA",null,46.19,"NA",35.119999999999997,"NA",null,46.19,"NA",40.47,"NA",null,41.61,"NA",37.79,"NA",null,43.9,"NA",40.090000000000003,"NA",null,41.99,"NA",36.65,"NA",null,49.25,"NA",45.81,"NA"]
[null,8,{"$f":"'AVOID NEW'!AQ16","v":38.913666422859656},null,40.08,"NA",36.58,"NA",null,40.86,"NA",37.75,"NA",null,36.97,"NA",31.13,"NA",null,36.97,"NA",29.57,"NA",null,35.799999999999997,"NA",24.52,"NA",null,36.58,"NA",25.29,"NA",null,47.09,"NA",35.799999999999997,"NA",null,47.09,"NA",41.25,"NA",null,42.42,"NA",38.520000000000003,"NA",null,44.75,"NA",40.86,"NA",null,42.81,"NA",37.36,"NA",null,50.2,"NA",46.7,"NA"]
[null,9,{"$f":"'AVOID NEW'!AQ17","v":39.612565459106783},null,40.799999999999997,"NA",37.24,"NA",null,41.59,"NA",38.42,"NA",null,37.630000000000003,"NA",31.69,"NA",null,37.630000000000003,"NA",30.11,"NA",null,36.44,"NA",24.96,"NA",null,37.24,"NA",25.75,"NA",null,47.93,"NA",36.44,"NA",null,47.93,"NA",41.99,"NA",null,43.18,"NA",39.22,"NA",null,45.55,"NA",41.59,"NA",null,43.57,"NA",38.03,"NA",null,51.1,"NA",47.54,"NA"]
[null,10,{"$f":"'AVOID NEW'!AQ18","v":40.246932464115147},null,41.45,"NA",37.83,"NA",null,42.26,"NA",39.04,"NA",null,38.229999999999997,"NA",32.200000000000003,"NA",null,38.229999999999997,"NA",30.59,"NA",null,37.03,"NA",25.36,"NA",null,37.83,"NA",26.16,"NA",null,48.7,"NA",37.03,"NA",null,48.7,"NA",42.66,"NA",null,43.87,"NA",39.840000000000003,"NA",null,46.28,"NA",42.26,"NA",null,44.27,"NA",38.64,"NA",null,51.92,"NA",48.3,"NA"]
[null,11,{"$f":"'AVOID NEW'!AQ19","v":40.808873525655663},null,42.03,"NA",38.36,"NA",null,42.85,"NA",39.58,"NA",null,38.770000000000003,"NA",32.65,"NA",null,38.770000000000003,"NA",31.01,"NA",null,37.54,"NA",25.71,"NA",null,38.36,"NA",26.53,"NA",null,49.38,"NA",37.54,"NA",null,49.38,"NA",43.26,"NA",null,44.48,"NA",40.4,"NA",null,46.93,"NA",42.85,"NA",null,44.89,"NA",39.18,"NA",null,52.64,"NA",48.97,"NA"]
[null,12,{"$f":"'AVOID NEW'!AQ20","v":41.331954740804449},null,42.57,"NA",38.85,"NA",null,43.4,"NA",40.090000000000003,"NA",null,39.270000000000003,"NA",33.07,"NA",null,39.270000000000003,"NA",31.41,"NA",null,38.03,"NA",26.04,"NA",null,38.85,"NA",26.87,"NA",null,50.01,"NA",38.03,"NA",null,50.01,"NA",43.81,"NA",null,45.05,"NA",40.92,"NA",null,47.53,"NA",43.4,"NA",null,45.47,"NA",39.68,"NA",null,53.32,"NA",49.6,"NA"]
[null,13,{"$f":"'AVOID NEW'!AQ21","v":41.817719054877912},null,43.07,"NA",39.31,"NA",null,43.91,"NA",40.56,"NA",null,39.729999999999997,"NA",33.450000000000003,"NA",null,39.729999999999997,"NA",31.78,"NA",null,38.47,"NA",26.35,"NA",null,39.31,"NA",27.18,"NA",null,50.6,"NA",38.47,"NA",null,50.6,"NA",44.33,"NA",null,45.58,"NA",41.4,"NA",null,48.09,"NA",43.91,"NA",null,46,"NA",40.15,"NA",null,53.94,"NA",50.18,"NA"]
[null,14,{"$f":"'AVOID NEW'!AQ22","v":42.282414023825801},null,43.55,"NA",39.75,"NA",null,44.4,"NA",41.01,"NA",null,40.17,"NA",33.83,"NA",null,40.17,"NA",32.130000000000003,"NA",null,38.9,"NA",26.64,"NA",null,39.75,"NA",27.48,"NA",null,51.16,"NA",38.9,"NA",null,51.16,"NA",44.82,"NA",null,46.09,"NA",41.86,"NA",null,48.62,"NA",44.4,"NA",null,46.51,"NA",40.590000000000003,"NA",null,54.54,"NA",50.74,"NA"]
[null,15,{"$f":"'AVOID NEW'!AQ23","v":42.726739252129356},null,44.01,"NA",40.159999999999997,"NA",null,44.86,"NA",41.44,"NA",null,40.590000000000003,"NA",34.18,"NA",null,40.590000000000003,"NA",32.47,"NA",null,39.31,"NA",26.92,"NA",null,40.159999999999997,"NA",27.77,"NA",null,51.7,"NA",39.31,"NA",null,51.7,"NA",45.29,"NA",null,46.57,"NA",42.3,"NA",null,49.14,"NA",44.86,"NA",null,47,"NA",41.02,"NA",null,55.12,"NA",51.27,"NA"]
[null,16,{"$f":"'AVOID NEW'!AQ24","v":43.162416113163438},null,44.46,"NA",40.57,"NA",null,45.32,"NA",41.87,"NA",null,41,"NA",34.53,"NA",null,41,"NA",32.799999999999997,"NA",null,39.71,"NA",27.19,"NA",null,40.57,"NA",28.06,"NA",null,52.23,"NA",39.71,"NA",null,52.23,"NA",45.75,"NA",null,47.05,"NA",42.73,"NA",null,49.64,"NA",45.32,"NA",null,47.48,"NA",41.44,"NA",null,55.68,"NA",51.79,"NA"]
[null,17,{"$f":"'AVOID NEW'!AQ25","v":43.583521416922132},null,44.89,"NA",40.97,"NA",null,45.76,"NA",42.28,"NA",null,41.4,"NA",34.869999999999997,"NA",null,41.4,"NA",33.119999999999997,"NA",null,40.1,"NA",27.46,"NA",null,40.97,"NA",28.33,"NA",null,52.74,"NA",40.1,"NA",null,52.74,"NA",46.2,"NA",null,47.51,"NA",43.15,"NA",null,50.12,"NA",45.76,"NA",null,47.94,"NA",41.84,"NA",null,56.22,"NA",52.3,"NA"]
[null,18,{"$f":"'AVOID NEW'!AQ26","v":43.982092098053307},null,45.3,"NA",41.34,"NA",null,46.18,"NA",42.66,"NA",null,41.78,"NA",35.19,"NA",null,41.78,"NA",33.43,"NA",null,40.46,"NA",27.71,"NA",null,41.34,"NA",28.59,"NA",null,53.22,"NA",40.46,"NA",null,53.22,"NA",46.62,"NA",null,47.94,"NA",43.54,"NA",null,50.58,"NA",46.18,"NA",null,48.38,"NA",42.22,"NA",null,56.74,"NA",52.78,"NA"]
[null,19,{"$f":"'AVOID NEW'!AQ27","v":44.367703140418286},null,45.7,"NA",41.71,"NA",null,46.59,"NA",43.04,"NA",null,42.15,"NA",35.49,"NA",null,42.15,"NA",33.72,"NA",null,40.82,"NA",27.95,"NA",null,41.71,"NA",28.84,"NA",null,53.68,"NA",40.82,"NA",null,53.68,"NA",47.03,"NA",null,48.36,"NA",43.92,"NA",null,51.02,"NA",46.59,"NA",null,48.8,"NA",42.59,"NA",null,57.23,"NA",53.24,"NA"]
[null,20,{"$f":"'AVOID NEW'!AQ28","v":44.743775332318798},null,46.09,"NA",42.06,"NA",null,46.98,"NA",43.4,"NA",null,42.51,"NA",35.799999999999997,"NA",null,42.51,"NA",34.01,"NA",null,41.16,"NA",28.19,"NA",null,42.06,"NA",29.08,"NA",null,54.14,"NA",41.16,"NA",null,54.14,"NA",47.43,"NA",null,48.77,"NA",44.3,"NA",null,51.46,"NA",46.98,"NA",null,49.22,"NA",42.95,"NA",null,57.72,"NA",53.69,"NA"]
[]
[]
[]
[null,{"$f":"B23","v":"THESE RATES ARE NOT VALID"}]
[null,{"$f":"B24","v":"LEVELIZED RATES"}]
[null,{"$f":"\"PROJECT ON-LINE IN \" & 'AVOID NEW'!$D$54+4","v":"PROJECT ON-LINE IN 2026"}]
[null,"Rate Effective Date: XXXX, 2022"]
[null,{"$f":"\"Resource:  \"&'Input - Capacity Factors'!$C$3","v":"Resource:  Wind"}]
[null,null,null,null,"January",null,null,null,null,"February",null,null,null,null,"March",null,null,null,null,"April",null,null,null,null,"May",null,null,null,null,"June",null,null,null,null,"July",null,null,null,null,"August",null,null,null,null,"September",null,null,null,null,"October",null,null,null,null,"November",null,null,null,null,"December"]
[null,null,null,null,"Heavy Load Hour",null,"Light Load Hour",null,null,"Heavy Load Hour",null,"Light Load Hour",null,null,"Heavy Load Hour",null,"Light Load Hour",null,null,"Heavy Load Hour",null,"Light Load Hour",null,null,"Heavy Load Hour",null,"Light Load Hour",null,null,"Heavy Load Hour",null,"Light Load Hour",null,null,"Heavy Load Hour",null,"Light Load Hour",null,null,"Heavy Load Hour",null,"Light Load Hour",null,null,"Heavy Load Hour",null,"Light Load Hour",null,null,"Heavy Load Hour",null,"Light Load Hour",null,null,"Heavy Load Hour",null,"Light Load Hour",null,null,"Heavy Load Hour",null,"Light Load Hour"]
[null,null,null,null,{"$f":"$E$8","v":1.03},null,{"$f":"$F$8","v":0.94},null,null,{"$f":"$E$9","v":1.05},null,{"$f":"$F$9","v":0.97},null,null,{"$f":"$E$10","v":0.95},null,{"$f":"$F$10","v":0.8},null,null,{"$f":"$E$11","v":0.95},null,{"$f":"$F$11","v":0.76},null,null,{"$f":"$E$12","v":0.92},null,{"$f":"$F$12","v":0.63},null,null,{"$f":"$E$13","v":0.94},null,{"$f":"$F$13","v":0.65},null,null,{"$f":"$E$14","v":1.21},null,{"$f":"$F$14","v":0.92},null,null,{"$f":"$E$15","v":1.21},null,{"$f":"$F$15","v":1.06},null,null,{"$f":"$E$16","v":1.0900000000000001},null,{"$f":"$F$16","v":0.99},null,null,{"$f":"$E$17","v":1.1499999999999999},null,{"$f":"$F$17","v":1.05},null,null,{"$f":"$E$18","v":1.1000000000000001},null,{"$f":"$F$18","v":0.96},null,null,{"$f":"$E$19","v":1.29},null,{"$f":"$F$19","v":1.2}]
[null,"Contract Length","Levelized Flat Price",null,"Price",{"$f":"F31","v":"Final avoided cost rates for wind and solar QFs include integration charges from PAC's latest integration charge case"},"Price",{"$f":"F31","v":"Final avoided cost rates for wind and solar QFs include integration charges from PAC's latest integration charge case"},null,"Price",{"$f":"F31","v":"Final avoided cost rates for wind and solar QFs include integration charges from PAC's latest integration charge case"},"Price",{"$f":"F31","v":"Final avoided cost rates for wind and solar QFs include integration charges from PAC's latest integration charge case"},null,"Price",{"$f":"F31","v":"Final avoided cost rates for wind and solar QFs include integration charges from PAC's latest integration charge case"},"Price",{"$f":"F31","v":"Final avoided cost rates for wind and solar QFs include integration charges from PAC's latest integration charge case"},null,"Price",{"$f":"F31","v":"Final avoided cost rates for wind and solar QFs include integration charges from PAC's latest integration charge case"},"Price",{"$f":"F31","v":"Final avoided cost rates for wind and solar QFs include integration charges from PAC's latest integration charge case"},null,"Price",{"$f":"F31","v":"Final avoided cost rates for wind and solar QFs include integration charges from PAC's latest integration charge case"},"Price",{"$f":"F31","v":"Final avoided cost rates for wind and solar QFs include integration charges from PAC's latest integration charge case"},null,"Price",{"$f":"F31","v":"Final avoided cost rates for wind and solar QFs include integration charges from PAC's latest integration charge case"},"Price",{"$f":"F31","v":"Final avoided cost rates for wind and solar QFs include integration charges from PAC's latest integration charge case"},null,"Price",{"$f":"F31","v":"Final avoided cost rates for wind and solar QFs include integration charges from PAC's latest integration charge case"},"Price",{"$f":"F31","v":"Final avoided cost rates for wind and solar QFs include integration charges from PAC's latest integration charge case"},null,"Price",{"$f":"F31","v":"Final avoided cost rates for wind and solar QFs include integration charges from PAC's latest integration charge case"},"Price",{"$f":"F31","v":"Final avoided cost rates for wind and solar QFs include integration charges from PAC's latest integration charge case"},null,"Price",{"$f":"F31","v":"Final avoided cost rates for wind and solar QFs include integration charges from PAC's latest integration charge case"},"Price",{"$f":"F31","v":"Final avoided cost rates for wind and solar QFs include integration charges from PAC's latest integration charge case"},null,"Price",{"$f":"F31","v":"Final avoided cost rates for wind and solar QFs include integration charges from PAC's latest integration charge case"},"Price",{"$f":"F31","v":"Final avoided cost rates for wind and solar QFs include integration charges from PAC's latest integration charge case"},null,"Price",{"$f":"F31","v":"Final avoided cost rates for wind and solar QFs include integration charges from PAC's latest integration charge case"},"Price",{"$f":"F31","v":"Final avoided cost rates for wind and solar QFs include integration charges from PAC's latest integration charge case"},null,"Price",{"$f":"F31","v":"Final avoided cost rates for wind and solar QFs include integration charges from PAC's latest integration charge case"},"Price",{"$f":"F31","v":"Final avoided cost rates for wind and solar QFs include integration charges from PAC's latest integration charge case"}]
[null,1,{"$f":"'AVOID NEW'!AR9","v":34.469802824546996},null,{"$f":"ROUND((+$C160*$E$8),2)","v":35.5},"NA",{"$f":"ROUND((+$C160*$F$8),2)","v":32.4},"NA",null,{"$f":"ROUND((+$C160*$E$9),2)","v":36.19},"NA",{"$f":"ROUND((+$C160*$F$9),2)","v":33.44},"NA",null,{"$f":"ROUND((+$C160*$E$10),2)","v":32.75},"NA",{"$f":"ROUND((+$C160*$F$10),2)","v":27.58},"NA",null,{"$f":"ROUND((+$C160*$E$11),2)","v":32.75},"NA",{"$f":"ROUND((+$C160*$F$11),2)","v":26.2},"NA",null,{"$f":"ROUND((+$C160*$E$12),2)","v":31.71},"NA",{"$f":"ROUND((+$C160*$F$12),2)","v":21.72},"NA",null,{"$f":"ROUND((+$C160*$E$13),2)","v":32.4},"NA",{"$f":"ROUND((+$C160*$F$13),2)","v":22.41},"NA",null,{"$f":"ROUND((+$C160*$E$14),2)","v":41.71},"NA",{"$f":"ROUND((+$C160*$F$14),2)","v":31.71},"NA",null,{"$f":"ROUND((+$C160*$E$15),2)","v":41.71},"NA",{"$f":"ROUND((+$C160*$F$15),2)","v":36.54},"NA",null,{"$f":"ROUND((+$C160*$E$16),2)","v":37.57},"NA",{"$f":"ROUND((+$C160*$F$16),2)","v":34.130000000000003},"NA",null,{"$f":"ROUND((+$C160*$E$17),2)","v":39.64},"NA",{"$f":"ROUND((+$C160*$F$17),2)","v":36.19},"NA",null,{"$f":"ROUND((+$C160*$E$18),2)","v":37.92},"NA",{"$f":"ROUND((+$C160*$F$18),2)","v":33.090000000000003},"NA",null,{"$f":"ROUND((+$C160*$E$19),2)","v":44.47},"NA",{"$f":"ROUND((+$C160*$F$19),2)","v":41.36},"NA"]
[null,2,{"$f":"'AVOID NEW'!AR10","v":35.436952540192983},null,{"$f":"ROUND((+$C161*$E$8),2)","v":36.5},"NA",{"$f":"ROUND((+$C161*$F$8),2)","v":33.31},"NA",null,{"$f":"ROUND((+$C161*$E$9),2)","v":37.21},"NA",{"$f":"ROUND((+$C161*$F$9),2)","v":34.369999999999997},"NA",null,{"$f":"ROUND((+$C161*$E$10),2)","v":33.67},"NA",{"$f":"ROUND((+$C161*$F$10),2)","v":28.35},"NA",null,{"$f":"ROUND((+$C161*$E$11),2)","v":33.67},"NA",{"$f":"ROUND((+$C161*$F$11),2)","v":26.93},"NA",null,{"$f":"ROUND((+$C161*$E$12),2)","v":32.6},"NA",{"$f":"ROUND((+$C161*$F$12),2)","v":22.33},"NA",null,{"$f":"ROUND((+$C161*$E$13),2)","v":33.31},"NA",{"$f":"ROUND((+$C161*$F$13),2)","v":23.03},"NA",null,{"$f":"ROUND((+$C161*$E$14),2)","v":42.88},"NA",{"$f":"ROUND((+$C161*$F$14),2)","v":32.6},"NA",null,{"$f":"ROUND((+$C161*$E$15),2)","v":42.88},"NA",{"$f":"ROUND((+$C161*$F$15),2)","v":37.56},"NA",null,{"$f":"ROUND((+$C161*$E$16),2)","v":38.630000000000003},"NA",{"$f":"ROUND((+$C161*$F$16),2)","v":35.08},"NA",null,{"$f":"ROUND((+$C161*$E$17),2)","v":40.75},"NA",{"$f":"ROUND((+$C161*$F$17),2)","v":37.21},"NA",null,{"$f":"ROUND((+$C161*$E$18),2)","v":38.979999999999997},"NA",{"$f":"ROUND((+$C161*$F$18),2)","v":34.020000000000003},"NA",null,{"$f":"ROUND((+$C161*$E$19),2)","v":45.71},"NA",{"$f":"ROUND((+$C161*$F$19),2)","v":42.52},"NA"]
[null,3,{"$f":"'AVOID NEW'!AR11","v":36.523390789199958},null,37.619999999999997,"NA",34.33,"NA",null,38.35,"NA",35.43,"NA",null,34.700000000000003,"NA",29.22,"NA",null,34.700000000000003,"NA",27.76,"NA",null,33.6,"NA",23.01,"NA",null,34.33,"NA",23.74,"NA",null,44.19,"NA",33.6,"NA",null,44.19,"NA",38.71,"NA",null,39.81,"NA",36.159999999999997,"NA",null,42,"NA",38.35,"NA",null,40.18,"NA",35.06,"NA",null,47.12,"NA",43.83,"NA"]
[null,4,{"$f":"'AVOID NEW'!AR12","v":37.548881229324905},null,38.68,"NA",35.299999999999997,"NA",null,39.43,"NA",36.42,"NA",null,35.67,"NA",30.04,"NA",null,35.67,"NA",28.54,"NA",null,34.54,"NA",23.66,"NA",null,35.299999999999997,"NA",24.41,"NA",null,45.43,"NA",34.54,"NA",null,45.43,"NA",39.799999999999997,"NA",null,40.93,"NA",37.17,"NA",null,43.18,"NA",39.43,"NA",null,41.3,"NA",36.049999999999997,"NA",null,48.44,"NA",45.06,"NA"]
[null,5,{"$f":"'AVOID NEW'!AR13","v":38.454388880014868},null,39.61,"NA",36.15,"NA",null,40.380000000000003,"NA",37.299999999999997,"NA",null,36.53,"NA",30.76,"NA",null,36.53,"NA",29.23,"NA",null,35.380000000000003,"NA",24.23,"NA",null,36.15,"NA",25,"NA",null,46.53,"NA",35.380000000000003,"NA",null,46.53,"NA",40.76,"NA",null,41.92,"NA",38.07,"NA",null,44.22,"NA",40.380000000000003,"NA",null,42.3,"NA",36.92,"NA",null,49.61,"NA",46.15,"NA"]
[null,6,{"$f":"'AVOID NEW'!AR14","v":39.256353963394233},null,40.43,"NA",36.9,"NA",null,41.22,"NA",38.08,"NA",null,37.29,"NA",31.41,"NA",null,37.29,"NA",29.83,"NA",null,36.119999999999997,"NA",24.73,"NA",null,36.9,"NA",25.52,"NA",null,47.5,"NA",36.119999999999997,"NA",null,47.5,"NA",41.61,"NA",null,42.79,"NA",38.86,"NA",null,45.14,"NA",41.22,"NA",null,43.18,"NA",37.69,"NA",null,50.64,"NA",47.11,"NA"]
[null,7,{"$f":"'AVOID NEW'!AR15","v":40.015554314637519},null,41.22,"NA",37.61,"NA",null,42.02,"NA",38.82,"NA",null,38.01,"NA",32.01,"NA",null,38.01,"NA",30.41,"NA",null,36.81,"NA",25.21,"NA",null,37.61,"NA",26.01,"NA",null,48.42,"NA",36.81,"NA",null,48.42,"NA",42.42,"NA",null,43.62,"NA",39.619999999999997,"NA",null,46.02,"NA",42.02,"NA",null,44.02,"NA",38.409999999999997,"NA",null,51.62,"NA",48.02,"NA"]
[null,8,{"$f":"'AVOID NEW'!AR16","v":40.733982992827599},null,41.96,"NA",38.29,"NA",null,42.77,"NA",39.51,"NA",null,38.700000000000003,"NA",32.590000000000003,"NA",null,38.700000000000003,"NA",30.96,"NA",null,37.479999999999997,"NA",25.66,"NA",null,38.29,"NA",26.48,"NA",null,49.29,"NA",37.479999999999997,"NA",null,49.29,"NA",43.18,"NA",null,44.4,"NA",40.33,"NA",null,46.84,"NA",42.77,"NA",null,44.81,"NA",39.1,"NA",null,52.55,"NA",48.88,"NA"]
[null,9,{"$f":"'AVOID NEW'!AR17","v":41.381531399245226},null,42.62,"NA",38.9,"NA",null,43.45,"NA",40.14,"NA",null,39.31,"NA",33.11,"NA",null,39.31,"NA",31.45,"NA",null,38.07,"NA",26.07,"NA",null,38.9,"NA",26.9,"NA",null,50.07,"NA",38.07,"NA",null,50.07,"NA",43.86,"NA",null,45.11,"NA",40.97,"NA",null,47.59,"NA",43.45,"NA",null,45.52,"NA",39.729999999999997,"NA",null,53.38,"NA",49.66,"NA"]
[null,10,{"$f":"'AVOID NEW'!AR18","v":41.950246449073255},null,43.21,"NA",39.43,"NA",null,44.05,"NA",40.69,"NA",null,39.85,"NA",33.56,"NA",null,39.85,"NA",31.88,"NA",null,38.590000000000003,"NA",26.43,"NA",null,39.43,"NA",27.27,"NA",null,50.76,"NA",38.590000000000003,"NA",null,50.76,"NA",44.47,"NA",null,45.73,"NA",41.53,"NA",null,48.24,"NA",44.05,"NA",null,46.15,"NA",40.270000000000003,"NA",null,54.12,"NA",50.34,"NA"]
[null,11,{"$f":"'AVOID NEW'!AR19","v":42.479326957380771},null,43.75,"NA",39.93,"NA",null,44.6,"NA",41.2,"NA",null,40.36,"NA",33.979999999999997,"NA",null,40.36,"NA",32.28,"NA",null,39.08,"NA",26.76,"NA",null,39.93,"NA",27.61,"NA",null,51.4,"NA",39.08,"NA",null,51.4,"NA",45.03,"NA",null,46.3,"NA",42.05,"NA",null,48.85,"NA",44.6,"NA",null,46.73,"NA",40.78,"NA",null,54.8,"NA",50.98,"NA"]
[null,12,{"$f":"'AVOID NEW'!AR20","v":42.970334545708496},null,44.26,"NA",40.39,"NA",null,45.12,"NA",41.68,"NA",null,40.82,"NA",34.380000000000003,"NA",null,40.82,"NA",32.659999999999997,"NA",null,39.53,"NA",27.07,"NA",null,40.39,"NA",27.93,"NA",null,51.99,"NA",39.53,"NA",null,51.99,"NA",45.55,"NA",null,46.84,"NA",42.54,"NA",null,49.42,"NA",45.12,"NA",null,47.27,"NA",41.25,"NA",null,55.43,"NA",51.56,"NA"]
[null,13,{"$f":"'AVOID NEW'!AR21","v":43.441413673769972},null,44.74,"NA",40.83,"NA",null,45.61,"NA",42.14,"NA",null,41.27,"NA",34.75,"NA",null,41.27,"NA",33.020000000000003,"NA",null,39.97,"NA",27.37,"NA",null,40.83,"NA",28.24,"NA",null,52.56,"NA",39.97,"NA",null,52.56,"NA",46.05,"NA",null,47.35,"NA",43.01,"NA",null,49.96,"NA",45.61,"NA",null,47.79,"NA",41.7,"NA",null,56.04,"NA",52.13,"NA"]
[null,14,{"$f":"'AVOID NEW'!AR22","v":43.892949622347061},null,45.21,"NA",41.26,"NA",null,46.09,"NA",42.58,"NA",null,41.7,"NA",35.11,"NA",null,41.7,"NA",33.36,"NA",null,40.380000000000003,"NA",27.65,"NA",null,41.26,"NA",28.53,"NA",null,53.11,"NA",40.380000000000003,"NA",null,53.11,"NA",46.53,"NA",null,47.84,"NA",43.45,"NA",null,50.48,"NA",46.09,"NA",null,48.28,"NA",42.14,"NA",null,56.62,"NA",52.67,"NA"]
[null,15,{"$f":"'AVOID NEW'!AR23","v":44.337735012918813},null,45.67,"NA",41.68,"NA",null,46.55,"NA",43.01,"NA",null,42.12,"NA",35.47,"NA",null,42.12,"NA",33.700000000000003,"NA",null,40.79,"NA",27.93,"NA",null,41.68,"NA",28.82,"NA",null,53.65,"NA",40.79,"NA",null,53.65,"NA",47,"NA",null,48.33,"NA",43.89,"NA",null,50.99,"NA",46.55,"NA",null,48.77,"NA",42.56,"NA",null,57.2,"NA",53.21,"NA"]
[null,16,{"$f":"'AVOID NEW'!AR24","v":44.768790404980095},null,46.11,"NA",42.08,"NA",null,47.01,"NA",43.43,"NA",null,42.53,"NA",35.82,"NA",null,42.53,"NA",34.020000000000003,"NA",null,41.19,"NA",28.2,"NA",null,42.08,"NA",29.1,"NA",null,54.17,"NA",41.19,"NA",null,54.17,"NA",47.45,"NA",null,48.8,"NA",44.32,"NA",null,51.48,"NA",47.01,"NA",null,49.25,"NA",42.98,"NA",null,57.75,"NA",53.72,"NA"]
[null,17,{"$f":"'AVOID NEW'!AR25","v":45.177033329384429},null,46.53,"NA",42.47,"NA",null,47.44,"NA",43.82,"NA",null,42.92,"NA",36.14,"NA",null,42.92,"NA",34.33,"NA",null,41.56,"NA",28.46,"NA",null,42.47,"NA",29.37,"NA",null,54.66,"NA",41.56,"NA",null,54.66,"NA",47.89,"NA",null,49.24,"NA",44.73,"NA",null,51.95,"NA",47.44,"NA",null,49.69,"NA",43.37,"NA",null,58.28,"NA",54.21,"NA"]
[null,18,{"$f":"'AVOID NEW'!AR26","v":45.572952829314225},null,46.94,"NA",42.84,"NA",null,47.85,"NA",44.21,"NA",null,43.29,"NA",36.46,"NA",null,43.29,"NA",34.64,"NA",null,41.93,"NA",28.71,"NA",null,42.84,"NA",29.62,"NA",null,55.14,"NA",41.93,"NA",null,55.14,"NA",48.31,"NA",null,49.67,"NA",45.12,"NA",null,52.41,"NA",47.85,"NA",null,50.13,"NA",43.75,"NA",null,58.79,"NA",54.69,"NA"]
[null,19,{"$f":"'AVOID NEW'!AR27","v":45.960153724872434},null,47.34,"NA",43.2,"NA",null,48.26,"NA",44.58,"NA",null,43.66,"NA",36.770000000000003,"NA",null,43.66,"NA",34.93,"NA",null,42.28,"NA",28.95,"NA",null,43.2,"NA",29.87,"NA",null,55.61,"NA",42.28,"NA",null,55.61,"NA",48.72,"NA",null,50.1,"NA",45.5,"NA",null,52.85,"NA",48.26,"NA",null,50.56,"NA",44.12,"NA",null,59.29,"NA",55.15,"NA"]
[null,20,{"$f":"'AVOID NEW'!AR28","v":46.336023956863954},null,47.73,"NA",43.56,"NA",null,48.65,"NA",44.95,"NA",null,44.02,"NA",37.07,"NA",null,44.02,"NA",35.22,"NA",null,42.63,"NA",29.19,"NA",null,43.56,"NA",30.12,"NA",null,56.07,"NA",42.63,"NA",null,56.07,"NA",49.12,"NA",null,50.51,"NA",45.87,"NA",null,53.29,"NA",48.65,"NA",null,50.97,"NA",44.48,"NA",null,59.77,"NA",55.6,"NA"]
[]
[]
[]
[null,{"$f":"B23","v":"THESE RATES ARE NOT VALID"}]
[null,{"$f":"B24","v":"LEVELIZED RATES"}]
[null,{"$f":"\"PROJECT ON-LINE IN \" & 'AVOID NEW'!$D$54+5","v":"PROJECT ON-LINE IN 2027"}]
[null,"Rate Effective Date: XXXX, 2022"]
[null,{"$f":"\"Resource:  \"&'Input - Capacity Factors'!$C$3","v":"Resource:  Wind"}]
[null,null,null,null,"January",null,null,null,null,"February",null,null,null,null,"March",null,null,null,null,"April",null,null,null,null,"May",null,null,null,null,"June",null,null,null,null,"July",null,null,null,null,"August",null,null,null,null,"September",null,null,null,null,"October",null,null,null,null,"November",null,null,null,null,"December"]
[null,null,null,null,"Heavy Load Hour",null,"Light Load Hour",null,null,"Heavy Load Hour",null,"Light Load Hour",null,null,"Heavy Load Hour",null,"Light Load Hour",null,null,"Heavy Load Hour",null,"Light Load Hour",null,null,"Heavy Load Hour",null,"Light Load Hour",null,null,"Heavy Load Hour",null,"Light Load Hour",null,null,"Heavy Load Hour",null,"Light Load Hour",null,null,"Heavy Load Hour",null,"Light Load Hour",null,null,"Heavy Load Hour",null,"Light Load Hour",null,null,"Heavy Load Hour",null,"Light Load Hour",null,null,"Heavy Load Hour",null,"Light Load Hour",null,null,"Heavy Load Hour",null,"Light Load Hour"]
[null,null,null,null,{"$f":"$E$8","v":1.03},null,{"$f":"$F$8","v":0.94},null,null,{"$f":"$E$9","v":1.05},null,{"$f":"$F$9","v":0.97},null,null,{"$f":"$E$10","v":0.95},null,{"$f":"$F$10","v":0.8},null,null,{"$f":"$E$11","v":0.95},null,{"$f":"$F$11","v":0.76},null,null,{"$f":"$E$12","v":0.92},null,{"$f":"$F$12","v":0.63},null,null,{"$f":"$E$13","v":0.94},null,{"$f":"$F$13","v":0.65},null,null,{"$f":"$E$14","v":1.21},null,{"$f":"$F$14","v":0.92},null,null,{"$f":"$E$15","v":1.21},null,{"$f":"$F$15","v":1.06},null,null,{"$f":"$E$16","v":1.0900000000000001},null,{"$f":"$F$16","v":0.99},null,null,{"$f":"$E$17","v":1.1499999999999999},null,{"$f":"$F$17","v":1.05},null,null,{"$f":"$E$18","v":1.1000000000000001},null,{"$f":"$F$18","v":0.96},null,null,{"$f":"$E$19","v":1.29},null,{"$f":"$F$19","v":1.2}]
[null,"Contract Length","Levelized Flat Price",null,"Price",{"$f":"F31","v":"Final avoided cost rates for wind and solar QFs include integration charges from PAC's latest integration charge case"},"Price",{"$f":"F31","v":"Final avoided cost rates for wind and solar QFs include integration charges from PAC's latest integration charge case"},null,"Price",{"$f":"F31","v":"Final avoided cost rates for wind and solar QFs include integration charges from PAC's latest integration charge case"},"Price",{"$f":"F31","v":"Final avoided cost rates for wind and solar QFs include integration charges from PAC's latest integration charge case"},null,"Price",{"$f":"F31","v":"Final avoided cost rates for wind and solar QFs include integration charges from PAC's latest integration charge case"},"Price",{"$f":"F31","v":"Final avoided cost rates for wind and solar QFs include integration charges from PAC's latest integration charge case"},null,"Price",{"$f":"F31","v":"Final avoided cost rates for wind and solar QFs include integration charges from PAC's latest integration charge case"},"Price",{"$f":"F31","v":"Final avoided cost rates for wind and solar QFs include integration charges from PAC's latest integration charge case"},null,"Price",{"$f":"F31","v":"Final avoided cost rates for wind and solar QFs include integration charges from PAC's latest integration charge case"},"Price",{"$f":"F31","v":"Final avoided cost rates for wind and solar QFs include integration charges from PAC's latest integration charge case"},null,"Price",{"$f":"F31","v":"Final avoided cost rates for wind and solar QFs include integration charges from PAC's latest integration charge case"},"Price",{"$f":"F31","v":"Final avoided cost rates for wind and solar QFs include integration charges from PAC's latest integration charge case"},null,"Price",{"$f":"F31","v":"Final avoided cost rates for wind and solar QFs include integration charges from PAC's latest integration charge case"},"Price",{"$f":"F31","v":"Final avoided cost rates for wind and solar QFs include integration charges from PAC's latest integration charge case"},null,"Price",{"$f":"F31","v":"Final avoided cost rates for wind and solar QFs include integration charges from PAC's latest integration charge case"},"Price",{"$f":"F31","v":"Final avoided cost rates for wind and solar QFs include integration charges from PAC's latest integration charge case"},null,"Price",{"$f":"F31","v":"Final avoided cost rates for wind and solar QFs include integration charges from PAC's latest integration charge case"},"Price",{"$f":"F31","v":"Final avoided cost rates for wind and solar QFs include integration charges from PAC's latest integration charge case"},null,"Price",{"$f":"F31","v":"Final avoided cost rates for wind and solar QFs include integration charges from PAC's latest integration charge case"},"Price",{"$f":"F31","v":"Final avoided cost rates for wind and solar QFs include integration charges from PAC's latest integration charge case"},null,"Price",{"$f":"F31","v":"Final avoided cost rates for wind and solar QFs include integration charges from PAC's latest integration charge case"},"Price",{"$f":"F31","v":"Final avoided cost rates for wind and solar QFs include integration charges from PAC's latest integration charge case"},null,"Price",{"$f":"F31","v":"Final avoided cost rates for wind and solar QFs include integration charges from PAC's latest integration charge case"},"Price",{"$f":"F31","v":"Final avoided cost rates for wind and solar QFs include integration charges from PAC's latest integration charge case"}]
[null,1,{"$f":"'AVOID NEW'!AS9","v":36.483216235111144},null,{"$f":"ROUND((+$C192*$E$8),2)","v":37.58},"NA",{"$f":"ROUND((+$C192*$F$8),2)","v":34.29},"NA",null,{"$f":"ROUND((+$C192*$E$9),2)","v":38.31},"NA",{"$f":"ROUND((+$C192*$F$9),2)","v":35.39},"NA",null,{"$f":"ROUND((+$C192*$E$10),2)","v":34.659999999999997},"NA",{"$f":"ROUND((+$C192*$F$10),2)","v":29.19},"NA",null,{"$f":"ROUND((+$C192*$E$11),2)","v":34.659999999999997},"NA",{"$f":"ROUND((+$C192*$F$11),2)","v":27.73},"NA",null,{"$f":"ROUND((+$C192*$E$12),2)","v":33.56},"NA",{"$f":"ROUND((+$C192*$F$12),2)","v":22.98},"NA",null,{"$f":"ROUND((+$C192*$E$13),2)","v":34.29},"NA",{"$f":"ROUND((+$C192*$F$13),2)","v":23.71},"NA",null,{"$f":"ROUND((+$C192*$E$14),2)","v":44.14},"NA",{"$f":"ROUND((+$C192*$F$14),2)","v":33.56},"NA",null,{"$f":"ROUND((+$C192*$E$15),2)","v":44.14},"NA",{"$f":"ROUND((+$C192*$F$15),2)","v":38.67},"NA",null,{"$f":"ROUND((+$C192*$E$16),2)","v":39.770000000000003},"NA",{"$f":"ROUND((+$C192*$F$16),2)","v":36.119999999999997},"NA",null,{"$f":"ROUND((+$C192*$E$17),2)","v":41.96},"NA",{"$f":"ROUND((+$C192*$F$17),2)","v":38.31},"NA",null,{"$f":"ROUND((+$C192*$E$18),2)","v":40.130000000000003},"NA",{"$f":"ROUND((+$C192*$F$18),2)","v":35.020000000000003},"NA",null,{"$f":"ROUND((+$C192*$E$19),2)","v":47.06},"NA",{"$f":"ROUND((+$C192*$F$19),2)","v":43.78},"NA"]
[null,2,{"$f":"'AVOID NEW'!AS10","v":37.677824383533817},null,{"$f":"ROUND((+$C193*$E$8),2)","v":38.81},"NA",{"$f":"ROUND((+$C193*$F$8),2)","v":35.42},"NA",null,{"$f":"ROUND((+$C193*$E$9),2)","v":39.56},"NA",{"$f":"ROUND((+$C193*$F$9),2)","v":36.549999999999997},"NA",null,{"$f":"ROUND((+$C193*$E$10),2)","v":35.79},"NA",{"$f":"ROUND((+$C193*$F$10),2)","v":30.14},"NA",null,{"$f":"ROUND((+$C193*$E$11),2)","v":35.79},"NA",{"$f":"ROUND((+$C193*$F$11),2)","v":28.64},"NA",null,{"$f":"ROUND((+$C193*$E$12),2)","v":34.659999999999997},"NA",{"$f":"ROUND((+$C193*$F$12),2)","v":23.74},"NA",null,{"$f":"ROUND((+$C193*$E$13),2)","v":35.42},"NA",{"$f":"ROUND((+$C193*$F$13),2)","v":24.49},"NA",null,{"$f":"ROUND((+$C193*$E$14),2)","v":45.59},"NA",{"$f":"ROUND((+$C193*$F$14),2)","v":34.659999999999997},"NA",null,{"$f":"ROUND((+$C193*$E$15),2)","v":45.59},"NA",{"$f":"ROUND((+$C193*$F$15),2)","v":39.94},"NA",null,{"$f":"ROUND((+$C193*$E$16),2)","v":41.07},"NA",{"$f":"ROUND((+$C193*$F$16),2)","v":37.299999999999997},"NA",null,{"$f":"ROUND((+$C193*$E$17),2)","v":43.33},"NA",{"$f":"ROUND((+$C193*$F$17),2)","v":39.56},"NA",null,{"$f":"ROUND((+$C193*$E$18),2)","v":41.45},"NA",{"$f":"ROUND((+$C193*$F$18),2)","v":36.17},"NA",null,{"$f":"ROUND((+$C193*$E$19),2)","v":48.6},"NA",{"$f":"ROUND((+$C193*$F$19),2)","v":45.21},"NA"]
[null,3,{"$f":"'AVOID NEW'!AS11","v":38.747551883676714},null,39.909999999999997,"NA",36.42,"NA",null,40.68,"NA",37.590000000000003,"NA",null,36.81,"NA",31,"NA",null,36.81,"NA",29.45,"NA",null,35.65,"NA",24.41,"NA",null,36.42,"NA",25.19,"NA",null,46.88,"NA",35.65,"NA",null,46.88,"NA",41.07,"NA",null,42.23,"NA",38.36,"NA",null,44.56,"NA",40.68,"NA",null,42.62,"NA",37.200000000000003,"NA",null,49.98,"NA",46.5,"NA"]
[null,4,{"$f":"'AVOID NEW'!AS12","v":39.662245062641404},null,40.85,"NA",37.28,"NA",null,41.65,"NA",38.47,"NA",null,37.68,"NA",31.73,"NA",null,37.68,"NA",30.14,"NA",null,36.49,"NA",24.99,"NA",null,37.28,"NA",25.78,"NA",null,47.99,"NA",36.49,"NA",null,47.99,"NA",42.04,"NA",null,43.23,"NA",39.270000000000003,"NA",null,45.61,"NA",41.65,"NA",null,43.63,"NA",38.08,"NA",null,51.16,"NA",47.59,"NA"]
[null,5,{"$f":"'AVOID NEW'!AS13","v":40.460873096865207},null,41.67,"NA",38.03,"NA",null,42.48,"NA",39.25,"NA",null,38.44,"NA",32.369999999999997,"NA",null,38.44,"NA",30.75,"NA",null,37.22,"NA",25.49,"NA",null,38.03,"NA",26.3,"NA",null,48.96,"NA",37.22,"NA",null,48.96,"NA",42.89,"NA",null,44.1,"NA",40.06,"NA",null,46.53,"NA",42.48,"NA",null,44.51,"NA",38.840000000000003,"NA",null,52.19,"NA",48.55,"NA"]
[null,6,{"$f":"'AVOID NEW'!AS14","v":41.221748251647782},null,42.46,"NA",38.75,"NA",null,43.28,"NA",39.99,"NA",null,39.159999999999997,"NA",32.979999999999997,"NA",null,39.159999999999997,"NA",31.33,"NA",null,37.92,"NA",25.97,"NA",null,38.75,"NA",26.79,"NA",null,49.88,"NA",37.92,"NA",null,49.88,"NA",43.7,"NA",null,44.93,"NA",40.81,"NA",null,47.41,"NA",43.28,"NA",null,45.34,"NA",39.57,"NA",null,53.18,"NA",49.47,"NA"]
[null,7,{"$f":"'AVOID NEW'!AS15","v":41.944580862083015},null,43.2,"NA",39.43,"NA",null,44.04,"NA",40.69,"NA",null,39.85,"NA",33.56,"NA",null,39.85,"NA",31.88,"NA",null,38.590000000000003,"NA",26.43,"NA",null,39.43,"NA",27.26,"NA",null,50.75,"NA",38.590000000000003,"NA",null,50.75,"NA",44.46,"NA",null,45.72,"NA",41.53,"NA",null,48.24,"NA",44.04,"NA",null,46.14,"NA",40.270000000000003,"NA",null,54.11,"NA",50.33,"NA"]
[null,8,{"$f":"'AVOID NEW'!AS16","v":42.592507930174762},null,43.87,"NA",40.04,"NA",null,44.72,"NA",41.31,"NA",null,40.46,"NA",34.07,"NA",null,40.46,"NA",32.369999999999997,"NA",null,39.19,"NA",26.83,"NA",null,40.04,"NA",27.69,"NA",null,51.54,"NA",39.19,"NA",null,51.54,"NA",45.15,"NA",null,46.43,"NA",42.17,"NA",null,48.98,"NA",44.72,"NA",null,46.85,"NA",40.89,"NA",null,54.94,"NA",51.11,"NA"]
[null,9,{"$f":"'AVOID NEW'!AS17","v":43.156697876165971},null,44.45,"NA",40.57,"NA",null,45.31,"NA",41.86,"NA",null,41,"NA",34.53,"NA",null,41,"NA",32.799999999999997,"NA",null,39.700000000000003,"NA",27.19,"NA",null,40.57,"NA",28.05,"NA",null,52.22,"NA",39.700000000000003,"NA",null,52.22,"NA",45.75,"NA",null,47.04,"NA",42.73,"NA",null,49.63,"NA",45.31,"NA",null,47.47,"NA",41.43,"NA",null,55.67,"NA",51.79,"NA"]
[null,10,{"$f":"'AVOID NEW'!AS18","v":43.682697644222763},null,44.99,"NA",41.06,"NA",null,45.87,"NA",42.37,"NA",null,41.5,"NA",34.950000000000003,"NA",null,41.5,"NA",33.200000000000003,"NA",null,40.19,"NA",27.52,"NA",null,41.06,"NA",28.39,"NA",null,52.86,"NA",40.19,"NA",null,52.86,"NA",46.3,"NA",null,47.61,"NA",43.25,"NA",null,50.24,"NA",45.87,"NA",null,48.05,"NA",41.94,"NA",null,56.35,"NA",52.42,"NA"]
[null,11,{"$f":"'AVOID NEW'!AS19","v":44.171483464678047},null,45.5,"NA",41.52,"NA",null,46.38,"NA",42.85,"NA",null,41.96,"NA",35.340000000000003,"NA",null,41.96,"NA",33.57,"NA",null,40.64,"NA",27.83,"NA",null,41.52,"NA",28.71,"NA",null,53.45,"NA",40.64,"NA",null,53.45,"NA",46.82,"NA",null,48.15,"NA",43.73,"NA",null,50.8,"NA",46.38,"NA",null,48.59,"NA",42.4,"NA",null,56.98,"NA",53.01,"NA"]
[null,12,{"$f":"'AVOID NEW'!AS20","v":44.643035352674055},null,45.98,"NA",41.96,"NA",null,46.88,"NA",43.3,"NA",null,42.41,"NA",35.71,"NA",null,42.41,"NA",33.93,"NA",null,41.07,"NA",28.13,"NA",null,41.96,"NA",29.02,"NA",null,54.02,"NA",41.07,"NA",null,54.02,"NA",47.32,"NA",null,48.66,"NA",44.2,"NA",null,51.34,"NA",46.88,"NA",null,49.11,"NA",42.86,"NA",null,57.59,"NA",53.57,"NA"]
[null,13,{"$f":"'AVOID NEW'!AS21","v":45.097020875282681},null,46.45,"NA",42.39,"NA",null,47.35,"NA",43.74,"NA",null,42.84,"NA",36.08,"NA",null,42.84,"NA",34.270000000000003,"NA",null,41.49,"NA",28.41,"NA",null,42.39,"NA",29.31,"NA",null,54.57,"NA",41.49,"NA",null,54.57,"NA",47.8,"NA",null,49.16,"NA",44.65,"NA",null,51.86,"NA",47.35,"NA",null,49.61,"NA",43.29,"NA",null,58.18,"NA",54.12,"NA"]
[null,14,{"$f":"'AVOID NEW'!AS22","v":45.547235923900672},null,46.91,"NA",42.81,"NA",null,47.82,"NA",44.18,"NA",null,43.27,"NA",36.44,"NA",null,43.27,"NA",34.619999999999997,"NA",null,41.9,"NA",28.69,"NA",null,42.81,"NA",29.61,"NA",null,55.11,"NA",41.9,"NA",null,55.11,"NA",48.28,"NA",null,49.65,"NA",45.09,"NA",null,52.38,"NA",47.82,"NA",null,50.1,"NA",43.73,"NA",null,58.76,"NA",54.66,"NA"]
[null,15,{"$f":"'AVOID NEW'!AS23","v":45.985281812166988},null,47.36,"NA",43.23,"NA",null,48.28,"NA",44.61,"NA",null,43.69,"NA",36.79,"NA",null,43.69,"NA",34.950000000000003,"NA",null,42.31,"NA",28.97,"NA",null,43.23,"NA",29.89,"NA",null,55.64,"NA",42.31,"NA",null,55.64,"NA",48.74,"NA",null,50.12,"NA",45.53,"NA",null,52.88,"NA",48.28,"NA",null,50.58,"NA",44.15,"NA",null,59.32,"NA",55.18,"NA"]
[null,16,{"$f":"'AVOID NEW'!AS24","v":46.400667616847791},null,47.79,"NA",43.62,"NA",null,48.72,"NA",45.01,"NA",null,44.08,"NA",37.119999999999997,"NA",null,44.08,"NA",35.26,"NA",null,42.69,"NA",29.23,"NA",null,43.62,"NA",30.16,"NA",null,56.14,"NA",42.69,"NA",null,56.14,"NA",49.18,"NA",null,50.58,"NA",45.94,"NA",null,53.36,"NA",48.72,"NA",null,51.04,"NA",44.54,"NA",null,59.86,"NA",55.68,"NA"]
[null,17,{"$f":"'AVOID NEW'!AS25","v":46.804846909469774},null,48.21,"NA",44,"NA",null,49.15,"NA",45.4,"NA",null,44.46,"NA",37.44,"NA",null,44.46,"NA",35.57,"NA",null,43.06,"NA",29.49,"NA",null,44,"NA",30.42,"NA",null,56.63,"NA",43.06,"NA",null,56.63,"NA",49.61,"NA",null,51.02,"NA",46.34,"NA",null,53.83,"NA",49.15,"NA",null,51.49,"NA",44.93,"NA",null,60.38,"NA",56.17,"NA"]
[null,18,{"$f":"'AVOID NEW'!AS26","v":47.20155847013941},null,48.62,"NA",44.37,"NA",null,49.56,"NA",45.79,"NA",null,44.84,"NA",37.76,"NA",null,44.84,"NA",35.869999999999997,"NA",null,43.43,"NA",29.74,"NA",null,44.37,"NA",30.68,"NA",null,57.11,"NA",43.43,"NA",null,57.11,"NA",50.03,"NA",null,51.45,"NA",46.73,"NA",null,54.28,"NA",49.56,"NA",null,51.92,"NA",45.31,"NA",null,60.89,"NA",56.64,"NA"]
[null,19,{"$f":"'AVOID NEW'!AS27","v":47.58767997218127},null,49.02,"NA",44.73,"NA",null,49.97,"NA",46.16,"NA",null,45.21,"NA",38.07,"NA",null,45.21,"NA",36.17,"NA",null,43.78,"NA",29.98,"NA",null,44.73,"NA",30.93,"NA",null,57.58,"NA",43.78,"NA",null,57.58,"NA",50.44,"NA",null,51.87,"NA",47.11,"NA",null,54.73,"NA",49.97,"NA",null,52.35,"NA",45.68,"NA",null,61.39,"NA",57.11,"NA"]
[null,20,{"$f":"'AVOID NEW'!AS28","v":47.964233398399564},null,49.4,"NA",45.09,"NA",null,50.36,"NA",46.53,"NA",null,45.57,"NA",38.369999999999997,"NA",null,45.57,"NA",36.450000000000003,"NA",null,44.13,"NA",30.22,"NA",null,45.09,"NA",31.18,"NA",null,58.04,"NA",44.13,"NA",null,58.04,"NA",50.84,"NA",null,52.28,"NA",47.48,"NA",null,55.16,"NA",50.36,"NA",null,52.76,"NA",46.05,"NA",null,61.87,"NA",57.56,"NA"]

{"sheet":"PCp NF HLH LLH Non-Levelized","index":15,"n_rows":57,"n_cols":63,"rows_kept":57,"cut":false,"hidden":false,"merged":[[25,1,25,18],[29,29,29,30],[29,61,29,62],[29,34,29,35],[29,36,29,37],[29,39,29,40],[29,41,29,42],[29,44,29,45],[29,46,29,47],[29,49,29,50],[29,51,29,52],[29,54,29,55],[29,56,29,57],[29,59,29,60],[28,54,28,55],[28,56,28,57],[28,61,28,62],[28,49,28,50],[28,51,28,52],[29,4,29,5],[29,6,29,7],[29,9,29,10],[29,11,29,12],[29,14,29,15],[29,16,29,17],[28,39,28,40],[28,41,28,42],[28,44,28,45],[28,46,28,47],[28,24,28,25],[28,26,28,27],[29,19,29,20],[29,21,29,22],[29,24,29,25],[29,26,29,27],[27,54,27,57],[28,29,28,30],[28,31,28,32],[28,34,28,35],[28,36,28,37],[29,31,29,32],[27,59,27,62],[28,4,28,5],[28,6,28,7],[28,9,28,10],[28,11,28,12],[28,14,28,15],[28,16,28,17],[28,19,28,20],[28,21,28,22],[27,24,27,27],[27,29,27,32],[27,34,27,37],[27,39,27,42],[27,44,27,47],[27,49,27,52],[28,59,28,60],[27,1,28,1],[27,4,27,7],[27,9,27,12],[27,14,27,17],[27,19,27,22],[0,1,0,18],[1,1,1,17],[2,1,2,17],[24,1,24,18],[22,1,22,17],[23,1,23,17],[4,1,4,6]]}
[null,{"$f":"IF('AVOID NEW'!$E$105=\"PCP\",\"PACIFICORP\",\"THESE RATES ARE NOT VALID\")","v":"THESE RATES ARE NOT VALID"}]
[null,"AVOIDED COST RATES FOR NON-FUELED PROJECTS"]
[null,"Eligibility for these rates is limited to wind and solar projects 100 kW or smaller, and to non-wind and non-solar projects smaller than 10 aMW"]
[]
[null,"Monthly Weighting Factors"]
[]
[null,null,null,null,"HLH","LLH"]
[null,null,"JAN",null,1.03,0.94]
[null,null,"FEB",null,1.05,0.97]
[null,null,"MAR",null,0.95,0.8]
[null,null,"APR",null,0.95,0.76]
[null,null,"MAY",null,0.92,0.63]
[null,null,"JUN",null,0.94,0.65]
[null,null,"JUL",null,1.21,0.92]
[null,null,"AUG",null,1.21,1.06]
[null,null,"SEP",null,1.0900000000000001,0.99]
[null,null,"OCT",null,1.1499999999999999,1.05]
[null,null,"NOV",null,1.1000000000000001,0.96]
[null,null,"DEC",null,1.29,1.2]
[]
[]
[]
[null,{"$f":"B1","v":"THESE RATES ARE NOT VALID"}]
[null,"NON LEVELIZED RATES"]
[null,{"$f":"\"Rate Effective Date: \"&'AVOID NEW'!$E$69","v":"Rate Effective Date: XXXX, 2022"}]
[null,{"$f":"\"Resource:  \"&'Input - Capacity Factors'!$C$3","v":"Resource:  Wind"}]
[]
[null,null,null,null,"January",null,null,null,null,"February",null,null,null,null,"March",null,null,null,null,"April",null,null,null,null,"May",null,null,null,null,"June",null,null,null,null,"July",null,null,null,null,"August",null,null,null,null,"September",null,null,null,null,"October",null,null,null,null,"November",null,null,null,null,"December"]
[null,null,null,null,"Heavy Load Hour",null,"Light Load Hour",null,null,"Heavy Load Hour",null,"Light Load Hour",null,null,"Heavy Load Hour",null,"Light Load Hour",null,null,"Heavy Load Hour",null,"Light Load Hour",null,null,"Heavy Load Hour",null,"Light Load Hour",null,null,"Heavy Load Hour",null,"Light Load Hour",null,null,"Heavy Load Hour",null,"Light Load Hour",null,null,"Heavy Load Hour",null,"Light Load Hour",null,null,"Heavy Load Hour",null,"Light Load Hour",null,null,"Heavy Load Hour",null,"Light Load Hour",null,null,"Heavy Load Hour",null,"Light Load Hour",null,null,"Heavy Load Hour",null,"Light Load Hour"]
[null,null,null,null,{"$f":"$E$8","v":1.03},null,{"$f":"$F$8","v":0.94},null,null,{"$f":"$E$9","v":1.05},null,{"$f":"$F$9","v":0.97},null,null,{"$f":"$E$10","v":0.95},null,{"$f":"$F$10","v":0.8},null,null,{"$f":"$E$11","v":0.95},null,{"$f":"$F$11","v":0.76},null,null,{"$f":"$E$12","v":0.92},null,{"$f":"$F$12","v":0.63},null,null,{"$f":"$E$13","v":0.94},null,{"$f":"$F$13","v":0.65},null,null,{"$f":"$E$14","v":1.21},null,{"$f":"$F$14","v":0.92},null,null,{"$f":"$E$15","v":1.21},null,{"$f":"$F$15","v":1.06},null,null,{"$f":"$E$16","v":1.0900000000000001},null,{"$f":"$F$16","v":0.99},null,null,{"$f":"$E$17","v":1.1499999999999999},null,{"$f":"$F$17","v":1.05},null,null,{"$f":"$E$18","v":1.1000000000000001},null,{"$f":"$F$18","v":0.96},null,null,{"$f":"$E$19","v":1.29},null,{"$f":"$F$19","v":1.2}]
[null,"Year","Non-Levelized Price",null,"Price","Final avoided cost rates for wind and solar QFs include integration charges from PAC's latest integration charge case","Price",{"$f":"F31","v":"Final avoided cost rates for wind and solar QFs include integration charges from PAC's latest integration charge case"},null,"Price",{"$f":"F31","v":"Final avoided cost rates for wind and solar QFs include integration charges from PAC's latest integration charge case"},"Price",{"$f":"F31","v":"Final avoided cost rates for wind and solar QFs include integration charges from PAC's latest integration charge case"},null,"Price",{"$f":"F31","v":"Final avoided cost rates for wind and solar QFs include integration charges from PAC's latest integration charge case"},"Price",{"$f":"F31","v":"Final avoided cost rates for wind and solar QFs include integration charges from PAC's latest integration charge case"},null,"Price",{"$f":"F31","v":"Final avoided cost rates for wind and solar QFs include integration charges from PAC's latest integration charge case"},"Price",{"$f":"F31","v":"Final avoided cost rates for wind and solar QFs include integration charges from PAC's latest integration charge case"},null,"Price",{"$f":"F31","v":"Final avoided cost rates for wind and solar QFs include integration charges from PAC's latest integration charge case"},"Price",{"$f":"F31","v":"Final avoided cost rates for wind and solar QFs include integration charges from PAC's latest integration charge case"},null,"Price",{"$f":"F31","v":"Final avoided cost rates for wind and solar QFs include integration charges from PAC's latest integration charge case"},"Price",{"$f":"F31","v":"Final avoided cost rates for wind and solar QFs include integration charges from PAC's latest integration charge case"},null,"Price",{"$f":"F31","v":"Final avoided cost rates for wind and solar QFs include integration charges from PAC's latest integration charge case"},"Price",{"$f":"F31","v":"Final avoided cost rates for wind and solar QFs include integration charges from PAC's latest integration charge case"},null,"Price",{"$f":"F31","v":"Final avoided cost rates for wind and solar QFs include integration charges from PAC's latest integration charge case"},"Price",{"$f":"F31","v":"Final avoided cost rates for wind and solar QFs include integration charges from PAC's latest integration charge case"},null,"Price",{"$f":"F31","v":"Final avoided cost rates for wind and solar QFs include integration charges from PAC's latest integration charge case"},"Price",{"$f":"F31","v":"Final avoided cost rates for wind and solar QFs include integration charges from PAC's latest integration charge case"},null,"Price",{"$f":"F31","v":"Final avoided cost rates for wind and solar QFs include integration charges from PAC's latest integration charge case"},"Price",{"$f":"F31","v":"Final avoided cost rates for wind and solar QFs include integration charges from PAC's latest integration charge case"},null,"Price",{"$f":"F31","v":"Final avoided cost rates for wind and solar QFs include integration charges from PAC's latest integration charge case"},"Price",{"$f":"F31","v":"Final avoided cost rates for wind and solar QFs include integration charges from PAC's latest integration charge case"},null,"Price",{"$f":"F31","v":"Final avoided cost rates for wind and solar QFs include integration charges from PAC's latest integration charge case"},"Price",{"$f":"F31","v":"Final avoided cost rates for wind and solar QFs include integration charges from PAC's latest integration charge case"}]
[null,{"$f":"'AVOID NEW'!AL9","v":2022},{"$f":"'AVOID NEW'!AM9","v":33.419966110621289},null,{"$f":"ROUND((+$C32*$E$8),2)","v":34.42},"NA",{"$f":"ROUND((+$C32*$F$8),2)","v":31.41},"NA",null,{"$f":"ROUND((+$C32*$E$9),2)","v":35.090000000000003},"NA",{"$f":"ROUND((+$C32*$F$9),2)","v":32.42},"NA",null,{"$f":"ROUND((+$C32*$E$10),2)","v":31.75},"NA",{"$f":"ROUND((+$C32*$F$10),2)","v":26.74},"NA",null,{"$f":"ROUND((+$C32*$E$11),2)","v":31.75},"NA",{"$f":"ROUND((+$C32*$F$11),2)","v":25.4},"NA",null,{"$f":"ROUND((+$C32*$E$12),2)","v":30.75},"NA",{"$f":"ROUND((+$C32*$F$12),2)","v":21.05},"NA",null,{"$f":"ROUND((+$C32*$E$13),2)","v":31.41},"NA",{"$f":"ROUND((+$C32*$F$13),2)","v":21.72},"NA",null,{"$f":"ROUND((+$C32*$E$14),2)","v":40.44},"NA",{"$f":"ROUND((+$C32*$F$14),2)","v":30.75},"NA",null,{"$f":"ROUND((+$C32*$E$15),2)","v":40.44},"NA",{"$f":"ROUND((+$C32*$F$15),2)","v":35.43},"NA",null,{"$f":"ROUND((+$C32*$E$16),2)","v":36.43},"NA",{"$f":"ROUND((+$C32*$F$16),2)","v":33.090000000000003},"NA",null,{"$f":"ROUND((+$C32*$E$17),2)","v":38.43},"NA",{"$f":"ROUND((+$C32*$F$17),2)","v":35.090000000000003},"NA",null,{"$f":"ROUND((+$C32*$E$18),2)","v":36.76},"NA",{"$f":"ROUND((+$C32*$F$18),2)","v":32.08},"NA",null,{"$f":"ROUND((+$C32*$E$19),2)","v":43.11},"NA",{"$f":"ROUND((+$C32*$F$19),2)","v":40.1},"NA"]
[null,{"$f":"'AVOID NEW'!AL10","v":2023},{"$f":"'AVOID NEW'!AM10","v":35.542378761947646},null,36.61,"NA",33.409999999999997,"NA",null,37.32,"NA",34.479999999999997,"NA",null,33.770000000000003,"NA",28.43,"NA",null,{"$f":"ROUND((+$C33*$E$11),2)","v":33.770000000000003},"NA",{"$f":"ROUND((+$C33*$F$11),2)","v":27.01},"NA",null,{"$f":"ROUND((+$C33*$E$12),2)","v":32.700000000000003},"NA",{"$f":"ROUND((+$C33*$F$12),2)","v":22.39},"NA",null,{"$f":"ROUND((+$C33*$E$13),2)","v":33.409999999999997},"NA",{"$f":"ROUND((+$C33*$F$13),2)","v":23.1},"NA",null,{"$f":"ROUND((+$C33*$E$14),2)","v":43.01},"NA",{"$f":"ROUND((+$C33*$F$14),2)","v":32.700000000000003},"NA",null,{"$f":"ROUND((+$C33*$E$15),2)","v":43.01},"NA",{"$f":"ROUND((+$C33*$F$15),2)","v":37.67},"NA",null,{"$f":"ROUND((+$C33*$E$16),2)","v":38.74},"NA",{"$f":"ROUND((+$C33*$F$16),2)","v":35.19},"NA",null,{"$f":"ROUND((+$C33*$E$17),2)","v":40.869999999999997},"NA",{"$f":"ROUND((+$C33*$F$17),2)","v":37.32},"NA",null,{"$f":"ROUND((+$C33*$E$18),2)","v":39.1},"NA",{"$f":"ROUND((+$C33*$F$18),2)","v":34.119999999999997},"NA",null,{"$f":"ROUND((+$C33*$E$19),2)","v":45.85},"NA",{"$f":"ROUND((+$C33*$F$19),2)","v":42.65},"NA"]
[null,{"$f":"'AVOID NEW'!AL11","v":2024},{"$f":"'AVOID NEW'!AM11","v":33.693158683494339},null,34.700000000000003,"NA",31.67,"NA",null,35.380000000000003,"NA",32.68,"NA",null,32.01,"NA",26.95,"NA",null,32.01,"NA",25.61,"NA",null,31,"NA",21.23,"NA",null,31.67,"NA",21.9,"NA",null,40.770000000000003,"NA",31,"NA",null,40.770000000000003,"NA",35.71,"NA",null,36.729999999999997,"NA",33.36,"NA",null,38.75,"NA",35.380000000000003,"NA",null,37.06,"NA",32.35,"NA",null,43.46,"NA",40.43,"NA"]
[null,{"$f":"'AVOID NEW'!AL12","v":2025},{"$f":"'AVOID NEW'!AM12","v":33.212000779264265},null,34.21,"NA",31.22,"NA",null,34.869999999999997,"NA",32.22,"NA",null,31.55,"NA",26.57,"NA",null,31.55,"NA",25.24,"NA",null,30.56,"NA",20.92,"NA",null,31.22,"NA",21.59,"NA",null,40.19,"NA",30.56,"NA",null,40.19,"NA",35.200000000000003,"NA",null,36.200000000000003,"NA",32.880000000000003,"NA",null,38.19,"NA",34.869999999999997,"NA",null,36.53,"NA",31.88,"NA",null,42.84,"NA",39.85,"NA"]
[null,{"$f":"'AVOID NEW'!AL13","v":2026},{"$f":"'AVOID NEW'!AM13","v":34.469802824546996},null,35.5,"NA",32.4,"NA",null,36.19,"NA",33.44,"NA",null,32.75,"NA",27.58,"NA",null,32.75,"NA",26.2,"NA",null,31.71,"NA",21.72,"NA",null,32.4,"NA",22.41,"NA",null,41.71,"NA",31.71,"NA",null,41.71,"NA",36.54,"NA",null,37.57,"NA",34.130000000000003,"NA",null,39.64,"NA",36.19,"NA",null,37.92,"NA",33.090000000000003,"NA",null,44.47,"NA",41.36,"NA"]
[null,{"$f":"'AVOID NEW'!AL14","v":2027},{"$f":"'AVOID NEW'!AM14","v":36.483216235111144},null,37.58,"NA",34.29,"NA",null,38.31,"NA",35.39,"NA",null,34.659999999999997,"NA",29.19,"NA",null,34.659999999999997,"NA",27.73,"NA",null,33.56,"NA",22.98,"NA",null,34.29,"NA",23.71,"NA",null,44.14,"NA",33.56,"NA",null,44.14,"NA",38.67,"NA",null,39.770000000000003,"NA",36.119999999999997,"NA",null,41.96,"NA",38.31,"NA",null,40.130000000000003,"NA",35.020000000000003,"NA",null,47.06,"NA",43.78,"NA"]
[null,{"$f":"'AVOID NEW'!AL15","v":2028},{"$f":"'AVOID NEW'!AM15","v":38.97015287738359},null,40.14,"NA",36.630000000000003,"NA",null,40.92,"NA",37.799999999999997,"NA",null,37.020000000000003,"NA",31.18,"NA",null,37.020000000000003,"NA",29.62,"NA",null,35.85,"NA",24.55,"NA",null,36.630000000000003,"NA",25.33,"NA",null,47.15,"NA",35.85,"NA",null,47.15,"NA",41.31,"NA",null,42.48,"NA",38.58,"NA",null,44.82,"NA",40.92,"NA",null,42.87,"NA",37.409999999999997,"NA",null,50.27,"NA",46.76,"NA"]
[null,{"$f":"'AVOID NEW'!AL16","v":2029},{"$f":"'AVOID NEW'!AM16","v":41.156679778823481},null,42.39,"NA",38.69,"NA",null,43.21,"NA",39.92,"NA",null,39.1,"NA",32.93,"NA",null,39.1,"NA",31.28,"NA",null,37.86,"NA",25.93,"NA",null,38.69,"NA",26.75,"NA",null,49.8,"NA",37.86,"NA",null,49.8,"NA",43.63,"NA",null,44.86,"NA",40.75,"NA",null,47.33,"NA",43.21,"NA",null,45.27,"NA",39.51,"NA",null,53.09,"NA",49.39,"NA"]
[null,{"$f":"'AVOID NEW'!AL17","v":2030},{"$f":"'AVOID NEW'!AM17","v":42.88024553849467},null,44.17,"NA",40.31,"NA",null,45.02,"NA",41.59,"NA",null,40.74,"NA",34.299999999999997,"NA",null,40.74,"NA",32.590000000000003,"NA",null,39.450000000000003,"NA",27.01,"NA",null,40.31,"NA",27.87,"NA",null,51.89,"NA",39.450000000000003,"NA",null,51.89,"NA",45.45,"NA",null,46.74,"NA",42.45,"NA",null,49.31,"NA",45.02,"NA",null,47.17,"NA",41.17,"NA",null,55.32,"NA",51.46,"NA"]
[null,{"$f":"'AVOID NEW'!AL18","v":2031},{"$f":"'AVOID NEW'!AM18","v":44.364333437840592},null,45.7,"NA",41.7,"NA",null,46.58,"NA",43.03,"NA",null,42.15,"NA",35.49,"NA",null,42.15,"NA",33.72,"NA",null,40.82,"NA",27.95,"NA",null,41.7,"NA",28.84,"NA",null,53.68,"NA",40.82,"NA",null,53.68,"NA",47.03,"NA",null,48.36,"NA",43.92,"NA",null,51.02,"NA",46.58,"NA",null,48.8,"NA",42.59,"NA",null,57.23,"NA",53.24,"NA"]
[null,{"$f":"'AVOID NEW'!AL19","v":2032},{"$f":"'AVOID NEW'!AM19","v":46.068012451665496},null,47.45,"NA",43.3,"NA",null,48.37,"NA",44.69,"NA",null,43.76,"NA",36.85,"NA",null,43.76,"NA",35.01,"NA",null,42.38,"NA",29.02,"NA",null,43.3,"NA",29.94,"NA",null,55.74,"NA",42.38,"NA",null,55.74,"NA",48.83,"NA",null,50.21,"NA",45.61,"NA",null,52.98,"NA",48.37,"NA",null,50.67,"NA",44.23,"NA",null,59.43,"NA",55.28,"NA"]
[null,{"$f":"'AVOID NEW'!AL20","v":2033},{"$f":"'AVOID NEW'!AM20","v":47.707109959406715},null,49.14,"NA",44.84,"NA",null,50.09,"NA",46.28,"NA",null,45.32,"NA",38.17,"NA",null,45.32,"NA",36.26,"NA",null,43.89,"NA",30.06,"NA",null,44.84,"NA",31.01,"NA",null,57.73,"NA",43.89,"NA",null,57.73,"NA",50.57,"NA",null,52,"NA",47.23,"NA",null,54.86,"NA",50.09,"NA",null,52.48,"NA",45.8,"NA",null,61.54,"NA",57.25,"NA"]
[null,{"$f":"'AVOID NEW'!AL21","v":2034},{"$f":"'AVOID NEW'!AM21","v":48.881340556218255},null,50.35,"NA",45.95,"NA",null,51.33,"NA",47.41,"NA",null,46.44,"NA",39.11,"NA",null,46.44,"NA",37.15,"NA",null,44.97,"NA",30.8,"NA",null,45.95,"NA",31.77,"NA",null,59.15,"NA",44.97,"NA",null,59.15,"NA",51.81,"NA",null,53.28,"NA",48.39,"NA",null,56.21,"NA",51.33,"NA",null,53.77,"NA",46.93,"NA",null,63.06,"NA",58.66,"NA"]
[null,{"$f":"'AVOID NEW'!AL22","v":2035},{"$f":"'AVOID NEW'!AM22","v":49.691061765076739},null,51.18,"NA",46.71,"NA",null,52.18,"NA",48.2,"NA",null,47.21,"NA",39.75,"NA",null,47.21,"NA",37.770000000000003,"NA",null,45.72,"NA",31.31,"NA",null,46.71,"NA",32.299999999999997,"NA",null,60.13,"NA",45.72,"NA",null,60.13,"NA",52.67,"NA",null,54.16,"NA",49.19,"NA",null,57.14,"NA",52.18,"NA",null,54.66,"NA",47.7,"NA",null,64.099999999999994,"NA",59.63,"NA"]
[null,{"$f":"'AVOID NEW'!AL23","v":2036},{"$f":"'AVOID NEW'!AM23","v":50.842112648308685},null,52.37,"NA",47.79,"NA",null,53.38,"NA",49.32,"NA",null,48.3,"NA",40.67,"NA",null,48.3,"NA",38.64,"NA",null,46.77,"NA",32.03,"NA",null,47.79,"NA",33.049999999999997,"NA",null,61.52,"NA",46.77,"NA",null,61.52,"NA",53.89,"NA",null,55.42,"NA",50.33,"NA",null,58.47,"NA",53.38,"NA",null,55.93,"NA",48.81,"NA",null,65.59,"NA",61.01,"NA"]
[null,{"$f":"'AVOID NEW'!AL24","v":2037},{"$f":"'AVOID NEW'!AM24","v":51.897360719744292},null,53.45,"NA",48.78,"NA",null,54.49,"NA",50.34,"NA",null,49.3,"NA",41.52,"NA",null,49.3,"NA",39.44,"NA",null,47.75,"NA",32.700000000000003,"NA",null,48.78,"NA",33.729999999999997,"NA",null,62.8,"NA",47.75,"NA",null,62.8,"NA",55.01,"NA",null,56.57,"NA",51.38,"NA",null,59.68,"NA",54.49,"NA",null,57.09,"NA",49.82,"NA",null,66.95,"NA",62.28,"NA"]
[null,{"$f":"'AVOID NEW'!AL25","v":2038},{"$f":"'AVOID NEW'!AM25","v":53.216336757023186},null,54.81,"NA",50.02,"NA",null,55.88,"NA",51.62,"NA",null,50.56,"NA",42.57,"NA",null,50.56,"NA",40.44,"NA",null,48.96,"NA",33.53,"NA",null,50.02,"NA",34.590000000000003,"NA",null,64.39,"NA",48.96,"NA",null,64.39,"NA",56.41,"NA",null,58.01,"NA",52.68,"NA",null,61.2,"NA",55.88,"NA",null,58.54,"NA",51.09,"NA",null,68.650000000000006,"NA",63.86,"NA"]
[null,{"$f":"'AVOID NEW'!AL26","v":2039},{"$f":"'AVOID NEW'!AM26","v":54.51725051413603},null,56.15,"NA",51.25,"NA",null,57.24,"NA",52.88,"NA",null,51.79,"NA",43.61,"NA",null,51.79,"NA",41.43,"NA",null,50.16,"NA",34.35,"NA",null,51.25,"NA",35.44,"NA",null,65.97,"NA",50.16,"NA",null,65.97,"NA",57.79,"NA",null,59.42,"NA",53.97,"NA",null,62.69,"NA",57.24,"NA",null,59.97,"NA",52.34,"NA",null,70.33,"NA",65.42,"NA"]
[null,{"$f":"'AVOID NEW'!AL27","v":2040},{"$f":"'AVOID NEW'!AM27","v":56.140457034206747},null,57.82,"NA",52.77,"NA",null,58.95,"NA",54.46,"NA",null,53.33,"NA",44.91,"NA",null,53.33,"NA",42.67,"NA",null,51.65,"NA",35.369999999999997,"NA",null,52.77,"NA",36.49,"NA",null,67.930000000000007,"NA",51.65,"NA",null,67.930000000000007,"NA",59.51,"NA",null,61.19,"NA",55.58,"NA",null,64.56,"NA",58.95,"NA",null,61.75,"NA",53.89,"NA",null,72.42,"NA",67.37,"NA"]
[null,{"$f":"'AVOID NEW'!AL28","v":2041},{"$f":"'AVOID NEW'!AM28","v":57.609165962519896},null,59.34,"NA",54.15,"NA",null,60.49,"NA",55.88,"NA",null,54.73,"NA",46.09,"NA",null,54.73,"NA",43.78,"NA",null,53,"NA",36.29,"NA",null,54.15,"NA",37.450000000000003,"NA",null,69.709999999999994,"NA",53,"NA",null,69.709999999999994,"NA",61.07,"NA",null,62.79,"NA",57.03,"NA",null,66.25,"NA",60.49,"NA",null,63.37,"NA",55.3,"NA",null,74.319999999999993,"NA",69.13,"NA"]
[null,{"$f":"'AVOID NEW'!AL29","v":2042},{"$f":"'AVOID NEW'!AM29","v":58.77427395979813},null,60.54,"NA",55.25,"NA",null,61.71,"NA",57.01,"NA",null,55.84,"NA",47.02,"NA",null,55.84,"NA",44.67,"NA",null,54.07,"NA",37.03,"NA",null,55.25,"NA",38.200000000000003,"NA",null,71.12,"NA",54.07,"NA",null,71.12,"NA",62.3,"NA",null,64.06,"NA",58.19,"NA",null,67.59,"NA",61.71,"NA",null,64.650000000000006,"NA",56.42,"NA",null,75.819999999999993,"NA",70.53,"NA"]
[null,{"$f":"'AVOID NEW'!AL30","v":2043},{"$f":"'AVOID NEW'!AM30","v":60.266741215734314},null,62.07,"NA",56.65,"NA",null,63.28,"NA",58.46,"NA",null,57.25,"NA",48.21,"NA",null,57.25,"NA",45.8,"NA",null,55.45,"NA",37.97,"NA",null,56.65,"NA",39.17,"NA",null,72.92,"NA",55.45,"NA",null,72.92,"NA",63.88,"NA",null,65.69,"NA",59.66,"NA",null,69.31,"NA",63.28,"NA",null,66.290000000000006,"NA",57.86,"NA",null,77.739999999999995,"NA",72.319999999999993,"NA"]
[null,{"$f":"'AVOID NEW'!AL31","v":2044},{"$f":"'AVOID NEW'!AM31","v":61.924742662783586},null,63.78,"NA",58.21,"NA",null,65.02,"NA",60.07,"NA",null,58.83,"NA",49.54,"NA",null,58.83,"NA",47.06,"NA",null,56.97,"NA",39.01,"NA",null,58.21,"NA",40.25,"NA",null,74.930000000000007,"NA",56.97,"NA",null,74.930000000000007,"NA",65.64,"NA",null,67.5,"NA",61.31,"NA",null,71.209999999999994,"NA",65.02,"NA",null,68.12,"NA",59.45,"NA",null,79.88,"NA",74.31,"NA"]
[null,{"$f":"'AVOID NEW'!AL32","v":2045},{"$f":"'AVOID NEW'!AM32","v":63.507764690220128},null,65.41,"NA",59.7,"NA",null,66.680000000000007,"NA",61.6,"NA",null,60.33,"NA",50.81,"NA",null,60.33,"NA",48.27,"NA",null,58.43,"NA",40.01,"NA",null,59.7,"NA",41.28,"NA",null,76.84,"NA",58.43,"NA",null,76.84,"NA",67.319999999999993,"NA",null,69.22,"NA",62.87,"NA",null,73.03,"NA",66.680000000000007,"NA",null,69.86,"NA",60.97,"NA",null,81.93,"NA",76.209999999999994,"NA"]
[null,{"$f":"'AVOID NEW'!AL33","v":2046},{"$f":"'AVOID NEW'!AM33","v":65.167186058463926},null,67.12,"NA",61.26,"NA",null,68.430000000000007,"NA",63.21,"NA",null,61.91,"NA",52.13,"NA",null,61.91,"NA",49.53,"NA",null,59.95,"NA",41.06,"NA",null,61.26,"NA",42.36,"NA",null,78.849999999999994,"NA",59.95,"NA",null,78.849999999999994,"NA",69.08,"NA",null,71.03,"NA",64.52,"NA",null,74.94,"NA",68.430000000000007,"NA",null,71.680000000000007,"NA",62.56,"NA",null,84.07,"NA",78.2,"NA"]
[null,{"$f":"'AVOID NEW'!AL34","v":2047},{"$f":"'AVOID NEW'!AM34","v":66.854883413682742},null,68.86,"NA",62.84,"NA",null,70.2,"NA",64.849999999999994,"NA",null,63.51,"NA",53.48,"NA",null,63.51,"NA",50.81,"NA",null,61.51,"NA",42.12,"NA",null,62.84,"NA",43.46,"NA",null,80.89,"NA",61.51,"NA",null,80.89,"NA",70.87,"NA",null,72.87,"NA",66.19,"NA",null,76.88,"NA",70.2,"NA",null,73.540000000000006,"NA",64.180000000000007,"NA",null,86.24,"NA",80.23,"NA"]

{"sheet":"IPCOStorage(Energy)Levelized","index":16,"n_rows":27,"n_cols":9,"rows_kept":27,"cut":false,"hidden":false,"merged":[]}
["Contract Length","Year","Non-Levelized Avoided Cost of Energy",{"$f":"'AVOID NEW'!$D$54","v":2022},{"$f":"D1+1","v":2023},{"$f":"E1+1","v":2024},{"$f":"F1+1","v":2025},{"$f":"G1+1","v":2026},{"$f":"H1+1","v":2027}]
[1,{"$f":"'AVOID NEW'!M9","v":2022},{"$f":"'AVOID NEW'!AD9","v":33.419966110621289},{"$f":"-PMT('AVOID NEW'!$D$37,$A2,NPV('AVOID NEW'!$D$37,$C$2:$C2))","v":33.419966110621289},{"$f":"-PMT('AVOID NEW'!$D$37,$A2,NPV('AVOID NEW'!$D$37,$C$3:$C3))","v":32.468351758833712},{"$f":"-PMT('AVOID NEW'!$D$37,$A2,NPV('AVOID NEW'!$D$37,$C$4:$C4))","v":30.574060298010391},{"$f":"-PMT('AVOID NEW'!$D$37,$A2,NPV('AVOID NEW'!$D$37,$C$5:$C5))","v":30.047159311970596},{"$f":"-PMT('AVOID NEW'!$D$37,$A2,NPV('AVOID NEW'!$D$37,$C$6:$C6))","v":31.258536358210005},{"$f":"-PMT('AVOID NEW'!$D$37,$A2,NPV('AVOID NEW'!$D$37,$C$7:$C7))","v":33.224832475374214}]
[2,{"$f":"'AVOID NEW'!M10","v":2023},{"$f":"'AVOID NEW'!AD10","v":32.468351758833705},{"$f":"-PMT('AVOID NEW'!$D$37,$A3,NPV('AVOID NEW'!$D$37,$C$2:$C3))","v":32.962855044951908},{"$f":"-PMT('AVOID NEW'!$D$37,$A3,NPV('AVOID NEW'!$D$37,$C$3:$C4))","v":31.558422661275657},{"$f":"-PMT('AVOID NEW'!$D$37,$A3,NPV('AVOID NEW'!$D$37,$C$4:$C5))","v":30.320961686394806},{"$f":"-PMT('AVOID NEW'!$D$37,$A3,NPV('AVOID NEW'!$D$37,$C$5:$C6))","v":30.62904823734646},{"$f":"-PMT('AVOID NEW'!$D$37,$A3,NPV('AVOID NEW'!$D$37,$C$6:$C7))","v":32.20305312789732},{"$f":"-PMT('AVOID NEW'!$D$37,$A3,NPV('AVOID NEW'!$D$37,$C$7:$C8))","v":34.396470069533038}]
[3,{"$f":"'AVOID NEW'!M11","v":2024},{"$f":"'AVOID NEW'!AD11","v":30.574060298010387},{"$f":"-PMT('AVOID NEW'!$D$37,$A4,NPV('AVOID NEW'!$D$37,$C$2:$C4))","v":32.228314760104148},{"$f":"-PMT('AVOID NEW'!$D$37,$A4,NPV('AVOID NEW'!$D$37,$C$3:$C5))","v":31.093718101580944},{"$f":"-PMT('AVOID NEW'!$D$37,$A4,NPV('AVOID NEW'!$D$37,$C$4:$C6))","v":30.609260363952995},{"$f":"-PMT('AVOID NEW'!$D$37,$A4,NPV('AVOID NEW'!$D$37,$C$5:$C7))","v":31.427236568949869},{"$f":"-PMT('AVOID NEW'!$D$37,$A4,NPV('AVOID NEW'!$D$37,$C$6:$C8))","v":33.267258177862296},{"$f":"-PMT('AVOID NEW'!$D$37,$A4,NPV('AVOID NEW'!$D$37,$C$7:$C9))","v":35.443632657711795}]
[4,{"$f":"'AVOID NEW'!M12","v":2025},{"$f":"'AVOID NEW'!AD12","v":30.047159311970592},{"$f":"-PMT('AVOID NEW'!$D$37,$A5,NPV('AVOID NEW'!$D$37,$C$2:$C5))","v":31.745557464909155},{"$f":"-PMT('AVOID NEW'!$D$37,$A5,NPV('AVOID NEW'!$D$37,$C$3:$C6))","v":31.130197489529696},{"$f":"-PMT('AVOID NEW'!$D$37,$A5,NPV('AVOID NEW'!$D$37,$C$4:$C7))","v":31.188167529408656},{"$f":"-PMT('AVOID NEW'!$D$37,$A5,NPV('AVOID NEW'!$D$37,$C$5:$C8))","v":32.364952324643042},{"$f":"-PMT('AVOID NEW'!$D$37,$A5,NPV('AVOID NEW'!$D$37,$C$6:$C9))","v":34.270924289243418},{"$f":"-PMT('AVOID NEW'!$D$37,$A5,NPV('AVOID NEW'!$D$37,$C$7:$C10))","v":36.33617582901509}]
[5,{"$f":"'AVOID NEW'!M13","v":2026},{"$f":"'AVOID NEW'!AD13","v":31.258536358210002},{"$f":"-PMT('AVOID NEW'!$D$37,$A6,NPV('AVOID NEW'!$D$37,$C$2:$C6))","v":31.66283917507009},{"$f":"-PMT('AVOID NEW'!$D$37,$A6,NPV('AVOID NEW'!$D$37,$C$3:$C7))","v":31.485961585752275},{"$f":"-PMT('AVOID NEW'!$D$37,$A6,NPV('AVOID NEW'!$D$37,$C$4:$C8))","v":31.948358377595365},{"$f":"-PMT('AVOID NEW'!$D$37,$A6,NPV('AVOID NEW'!$D$37,$C$5:$C9))","v":33.288399995697752},{"$f":"-PMT('AVOID NEW'!$D$37,$A6,NPV('AVOID NEW'!$D$37,$C$6:$C10))","v":35.155024850971422},{"$f":"-PMT('AVOID NEW'!$D$37,$A6,NPV('AVOID NEW'!$D$37,$C$7:$C11))","v":37.113077256805617}]
[6,{"$f":"'AVOID NEW'!M14","v":2027},{"$f":"'AVOID NEW'!AD14","v":33.224832475374207},{"$f":"-PMT('AVOID NEW'!$D$37,$A7,NPV('AVOID NEW'!$D$37,$C$2:$C7))","v":31.874797861832672},{"$f":"-PMT('AVOID NEW'!$D$37,$A7,NPV('AVOID NEW'!$D$37,$C$3:$C8))","v":32.052904301530511},{"$f":"-PMT('AVOID NEW'!$D$37,$A7,NPV('AVOID NEW'!$D$37,$C$4:$C9))","v":32.74267545033382},{"$f":"-PMT('AVOID NEW'!$D$37,$A7,NPV('AVOID NEW'!$D$37,$C$5:$C10))","v":34.128076160125431},{"$f":"-PMT('AVOID NEW'!$D$37,$A7,NPV('AVOID NEW'!$D$37,$C$6:$C11))","v":35.936007683338886},{"$f":"-PMT('AVOID NEW'!$D$37,$A7,NPV('AVOID NEW'!$D$37,$C$7:$C12))","v":37.852656920544305}]
[7,{"$f":"'AVOID NEW'!M15","v":2028},{"$f":"'AVOID NEW'!AD15","v":35.663948990881678},{"$f":"-PMT('AVOID NEW'!$D$37,$A8,NPV('AVOID NEW'!$D$37,$C$2:$C8))","v":32.297121569493775},{"$f":"-PMT('AVOID NEW'!$D$37,$A8,NPV('AVOID NEW'!$D$37,$C$3:$C9))","v":32.693669193242698},{"$f":"-PMT('AVOID NEW'!$D$37,$A8,NPV('AVOID NEW'!$D$37,$C$4:$C10))","v":33.493172867258892},{"$f":"-PMT('AVOID NEW'!$D$37,$A8,NPV('AVOID NEW'!$D$37,$C$5:$C11))","v":34.884000779816382},{"$f":"-PMT('AVOID NEW'!$D$37,$A8,NPV('AVOID NEW'!$D$37,$C$6:$C12))","v":36.674657434606857},{"$f":"-PMT('AVOID NEW'!$D$37,$A8,NPV('AVOID NEW'!$D$37,$C$7:$C13))","v":38.554632072732467}]
[8,{"$f":"'AVOID NEW'!M16","v":2029},{"$f":"'AVOID NEW'!AD16","v":37.801942228699318},{"$f":"-PMT('AVOID NEW'!$D$37,$A9,NPV('AVOID NEW'!$D$37,$C$2:$C9))","v":32.811298572497847},{"$f":"-PMT('AVOID NEW'!$D$37,$A9,NPV('AVOID NEW'!$D$37,$C$3:$C10))","v":33.327195196216714},{"$f":"-PMT('AVOID NEW'!$D$37,$A9,NPV('AVOID NEW'!$D$37,$C$4:$C11))","v":34.185972726315569},{"$f":"-PMT('AVOID NEW'!$D$37,$A9,NPV('AVOID NEW'!$D$37,$C$5:$C12))","v":35.601283072790693},{"$f":"-PMT('AVOID NEW'!$D$37,$A9,NPV('AVOID NEW'!$D$37,$C$6:$C13))","v":37.372973181788851},{"$f":"-PMT('AVOID NEW'!$D$37,$A9,NPV('AVOID NEW'!$D$37,$C$7:$C14))","v":39.182145825830816}]
[9,{"$f":"'AVOID NEW'!M17","v":2030},{"$f":"'AVOID NEW'!AD17","v":39.476249917273314},{"$f":"-PMT('AVOID NEW'!$D$37,$A10,NPV('AVOID NEW'!$D$37,$C$2:$C10))","v":33.341025982714058},{"$f":"-PMT('AVOID NEW'!$D$37,$A10,NPV('AVOID NEW'!$D$37,$C$3:$C11))","v":33.929900561488118},{"$f":"-PMT('AVOID NEW'!$D$37,$A10,NPV('AVOID NEW'!$D$37,$C$4:$C12))","v":34.851797683767344},{"$f":"-PMT('AVOID NEW'!$D$37,$A10,NPV('AVOID NEW'!$D$37,$C$5:$C13))","v":36.280801479019352},{"$f":"-PMT('AVOID NEW'!$D$37,$A10,NPV('AVOID NEW'!$D$37,$C$6:$C14))","v":38.000851542613283},{"$f":"-PMT('AVOID NEW'!$D$37,$A10,NPV('AVOID NEW'!$D$37,$C$7:$C15))","v":39.726371897101011}]
[10,{"$f":"'AVOID NEW'!M18","v":2031},{"$f":"'AVOID NEW'!AD18","v":40.910344297618778},{"$f":"-PMT('AVOID NEW'!$D$37,$A11,NPV('AVOID NEW'!$D$37,$C$2:$C11))","v":33.859079958462956},{"$f":"-PMT('AVOID NEW'!$D$37,$A11,NPV('AVOID NEW'!$D$37,$C$3:$C12))","v":34.52078047676212},{"$f":"-PMT('AVOID NEW'!$D$37,$A11,NPV('AVOID NEW'!$D$37,$C$4:$C13))","v":35.488239119169748},{"$f":"-PMT('AVOID NEW'!$D$37,$A11,NPV('AVOID NEW'!$D$37,$C$5:$C14))","v":36.896228626681228},{"$f":"-PMT('AVOID NEW'!$D$37,$A11,NPV('AVOID NEW'!$D$37,$C$6:$C15))","v":38.550343844548721},{"$f":"-PMT('AVOID NEW'!$D$37,$A11,NPV('AVOID NEW'!$D$37,$C$7:$C16))","v":40.23286171160062}]
[11,{"$f":"'AVOID NEW'!M19","v":2032},{"$f":"'AVOID NEW'!AD19","v":42.563283131571147},{"$f":"-PMT('AVOID NEW'!$D$37,$A12,NPV('AVOID NEW'!$D$37,$C$2:$C12))","v":34.376994211337788},{"$f":"-PMT('AVOID NEW'!$D$37,$A12,NPV('AVOID NEW'!$D$37,$C$3:$C13))","v":35.093787212562518},{"$f":"-PMT('AVOID NEW'!$D$37,$A12,NPV('AVOID NEW'!$D$37,$C$4:$C14))","v":36.070439100922691},{"$f":"-PMT('AVOID NEW'!$D$37,$A12,NPV('AVOID NEW'!$D$37,$C$5:$C15))","v":37.439674156943106},{"$f":"-PMT('AVOID NEW'!$D$37,$A12,NPV('AVOID NEW'!$D$37,$C$6:$C16))","v":39.060652511796327},{"$f":"-PMT('AVOID NEW'!$D$37,$A12,NPV('AVOID NEW'!$D$37,$C$7:$C17))","v":40.702595165430949}]
[12,{"$f":"'AVOID NEW'!M20","v":2033},{"$f":"'AVOID NEW'!AD20","v":44.15088241020257},{"$f":"-PMT('AVOID NEW'!$D$37,$A13,NPV('AVOID NEW'!$D$37,$C$2:$C13))","v":34.886554210186766},{"$f":"-PMT('AVOID NEW'!$D$37,$A13,NPV('AVOID NEW'!$D$37,$C$3:$C14))","v":35.624470667465204},{"$f":"-PMT('AVOID NEW'!$D$37,$A13,NPV('AVOID NEW'!$D$37,$C$4:$C15))","v":36.589653941826242},{"$f":"-PMT('AVOID NEW'!$D$37,$A13,NPV('AVOID NEW'!$D$37,$C$5:$C16))","v":37.944706933426552},{"$f":"-PMT('AVOID NEW'!$D$37,$A13,NPV('AVOID NEW'!$D$37,$C$6:$C17))","v":39.533341976446877},{"$f":"-PMT('AVOID NEW'!$D$37,$A13,NPV('AVOID NEW'!$D$37,$C$7:$C18))","v":41.155555129010359}]
[13,{"$f":"'AVOID NEW'!M21","v":2034},{"$f":"'AVOID NEW'!AD21","v":45.272845162406625},{"$f":"-PMT('AVOID NEW'!$D$37,$A14,NPV('AVOID NEW'!$D$37,$C$2:$C14))","v":35.364083375675463},{"$f":"-PMT('AVOID NEW'!$D$37,$A14,NPV('AVOID NEW'!$D$37,$C$3:$C15))","v":36.102862154190753},{"$f":"-PMT('AVOID NEW'!$D$37,$A14,NPV('AVOID NEW'!$D$37,$C$4:$C16))","v":37.074115529939981},{"$f":"-PMT('AVOID NEW'!$D$37,$A14,NPV('AVOID NEW'!$D$37,$C$5:$C17))","v":38.412871889071688},{"$f":"-PMT('AVOID NEW'!$D$37,$A14,NPV('AVOID NEW'!$D$37,$C$6:$C18))","v":39.986558718220188},{"$f":"-PMT('AVOID NEW'!$D$37,$A14,NPV('AVOID NEW'!$D$37,$C$7:$C19))","v":41.591411222344135}]
[14,{"$f":"'AVOID NEW'!M22","v":2035},{"$f":"'AVOID NEW'!AD22","v":46.029517163654752},{"$f":"-PMT('AVOID NEW'!$D$37,$A15,NPV('AVOID NEW'!$D$37,$C$2:$C15))","v":35.798888152222013},{"$f":"-PMT('AVOID NEW'!$D$37,$A15,NPV('AVOID NEW'!$D$37,$C$3:$C16))","v":36.552279266853475},{"$f":"-PMT('AVOID NEW'!$D$37,$A15,NPV('AVOID NEW'!$D$37,$C$4:$C17))","v":37.524729042193535},{"$f":"-PMT('AVOID NEW'!$D$37,$A15,NPV('AVOID NEW'!$D$37,$C$5:$C18))","v":38.860417799743239},{"$f":"-PMT('AVOID NEW'!$D$37,$A15,NPV('AVOID NEW'!$D$37,$C$6:$C19))","v":40.420689258732629},{"$f":"-PMT('AVOID NEW'!$D$37,$A15,NPV('AVOID NEW'!$D$37,$C$7:$C20))","v":42.023960598952684}]
[15,{"$f":"'AVOID NEW'!M23","v":2036},{"$f":"'AVOID NEW'!AD23","v":47.126725544927851},{"$f":"-PMT('AVOID NEW'!$D$37,$A16,NPV('AVOID NEW'!$D$37,$C$2:$C16))","v":36.210274437579059},{"$f":"-PMT('AVOID NEW'!$D$37,$A16,NPV('AVOID NEW'!$D$37,$C$3:$C17))","v":36.972643294923387},{"$f":"-PMT('AVOID NEW'!$D$37,$A16,NPV('AVOID NEW'!$D$37,$C$4:$C18))","v":37.955663344701492},{"$f":"-PMT('AVOID NEW'!$D$37,$A16,NPV('AVOID NEW'!$D$37,$C$5:$C19))","v":39.288044736470681},{"$f":"-PMT('AVOID NEW'!$D$37,$A16,NPV('AVOID NEW'!$D$37,$C$6:$C20))","v":40.848526695673762},{"$f":"-PMT('AVOID NEW'!$D$37,$A16,NPV('AVOID NEW'!$D$37,$C$7:$C21))","v":42.44480505854569}]
[16,{"$f":"'AVOID NEW'!M24","v":2037},{"$f":"'AVOID NEW'!AD24","v":48.127325701826408},{"$f":"-PMT('AVOID NEW'!$D$37,$A17,NPV('AVOID NEW'!$D$37,$C$2:$C17))","v":36.597339647384416},{"$f":"-PMT('AVOID NEW'!$D$37,$A17,NPV('AVOID NEW'!$D$37,$C$3:$C18))","v":37.375985556227242},{"$f":"-PMT('AVOID NEW'!$D$37,$A17,NPV('AVOID NEW'!$D$37,$C$4:$C19))","v":38.367502290677201},{"$f":"-PMT('AVOID NEW'!$D$37,$A17,NPV('AVOID NEW'!$D$37,$C$5:$C20))","v":39.70747380310457},{"$f":"-PMT('AVOID NEW'!$D$37,$A17,NPV('AVOID NEW'!$D$37,$C$6:$C21))","v":41.263091317669463},{"$f":"-PMT('AVOID NEW'!$D$37,$A17,NPV('AVOID NEW'!$D$37,$C$7:$C22))","v":42.843453405705347}]
[17,{"$f":"'AVOID NEW'!M25","v":2038},{"$f":"'AVOID NEW'!AD25","v":49.390836103862938},{"$f":"-PMT('AVOID NEW'!$D$37,$A18,NPV('AVOID NEW'!$D$37,$C$2:$C18))","v":36.970254612177079},{"$f":"-PMT('AVOID NEW'!$D$37,$A18,NPV('AVOID NEW'!$D$37,$C$3:$C19))","v":37.762483041583906},{"$f":"-PMT('AVOID NEW'!$D$37,$A18,NPV('AVOID NEW'!$D$37,$C$4:$C20))","v":38.770747243800493},{"$f":"-PMT('AVOID NEW'!$D$37,$A18,NPV('AVOID NEW'!$D$37,$C$5:$C21))","v":40.11278082409256},{"$f":"-PMT('AVOID NEW'!$D$37,$A18,NPV('AVOID NEW'!$D$37,$C$6:$C22))","v":41.655299657966786},{"$f":"-PMT('AVOID NEW'!$D$37,$A18,NPV('AVOID NEW'!$D$37,$C$7:$C23))","v":43.231358202157764}]
[18,{"$f":"'AVOID NEW'!M26","v":2039},{"$f":"'AVOID NEW'!AD26","v":50.635454003940197},{"$f":"-PMT('AVOID NEW'!$D$37,$A19,NPV('AVOID NEW'!$D$37,$C$2:$C19))","v":37.328798259965119},{"$f":"-PMT('AVOID NEW'!$D$37,$A19,NPV('AVOID NEW'!$D$37,$C$3:$C20))","v":38.141330467072514},{"$f":"-PMT('AVOID NEW'!$D$37,$A19,NPV('AVOID NEW'!$D$37,$C$4:$C21))","v":39.16015404242571},{"$f":"-PMT('AVOID NEW'!$D$37,$A19,NPV('AVOID NEW'!$D$37,$C$5:$C22))","v":40.496001055108422},{"$f":"-PMT('AVOID NEW'!$D$37,$A19,NPV('AVOID NEW'!$D$37,$C$6:$C23))","v":42.035639058328812},{"$f":"-PMT('AVOID NEW'!$D$37,$A19,NPV('AVOID NEW'!$D$37,$C$7:$C24))","v":43.612256503851818}]
[19,{"$f":"'AVOID NEW'!M27","v":2040},{"$f":"'AVOID NEW'!AD27","v":52.201521748019005},{"$f":"-PMT('AVOID NEW'!$D$37,$A20,NPV('AVOID NEW'!$D$37,$C$2:$C20))","v":37.680975722653457},{"$f":"-PMT('AVOID NEW'!$D$37,$A20,NPV('AVOID NEW'!$D$37,$C$3:$C21))","v":38.507672535516235},{"$f":"-PMT('AVOID NEW'!$D$37,$A20,NPV('AVOID NEW'!$D$37,$C$4:$C22))","v":39.528566187444817},{"$f":"-PMT('AVOID NEW'!$D$37,$A20,NPV('AVOID NEW'!$D$37,$C$5:$C23))","v":40.866707132525001},{"$f":"-PMT('AVOID NEW'!$D$37,$A20,NPV('AVOID NEW'!$D$37,$C$6:$C24))","v":42.407711958904549},{"$f":"-PMT('AVOID NEW'!$D$37,$A20,NPV('AVOID NEW'!$D$37,$C$7:$C25))","v":43.983023571246186}]
[20,{"$f":"'AVOID NEW'!M28","v":2041},{"$f":"'AVOID NEW'!AD28","v":53.612236084979379},{"$f":"-PMT('AVOID NEW'!$D$37,$A21,NPV('AVOID NEW'!$D$37,$C$2:$C21))","v":38.022223687412293},{"$f":"-PMT('AVOID NEW'!$D$37,$A21,NPV('AVOID NEW'!$D$37,$C$3:$C22))","v":38.854908418009543},{"$f":"-PMT('AVOID NEW'!$D$37,$A21,NPV('AVOID NEW'!$D$37,$C$4:$C23))","v":39.884623432626945},{"$f":"-PMT('AVOID NEW'!$D$37,$A21,NPV('AVOID NEW'!$D$37,$C$5:$C24))","v":41.22831685563731},{"$f":"-PMT('AVOID NEW'!$D$37,$A21,NPV('AVOID NEW'!$D$37,$C$6:$C25))","v":42.768903269403189},{"$f":"-PMT('AVOID NEW'!$D$37,$A21,NPV('AVOID NEW'!$D$37,$C$7:$C26))","v":44.344678313366231}]
[21,{"$f":"'AVOID NEW'!M29","v":2042},{"$f":"'AVOID NEW'!AD29","v":54.718480576678971},{"$f":"-PMT('AVOID NEW'!$D$37,$A22,NPV('AVOID NEW'!$D$37,$C$2:$C22))","v":38.346396400866332},{"$f":"-PMT('AVOID NEW'!$D$37,$A22,NPV('AVOID NEW'!$D$37,$C$3:$C23))","v":39.190731380930991},{"$f":"-PMT('AVOID NEW'!$D$37,$A22,NPV('AVOID NEW'!$D$37,$C$4:$C24))","v":40.231467728846141},{"$f":"-PMT('AVOID NEW'!$D$37,$A22,NPV('AVOID NEW'!$D$37,$C$5:$C25))","v":41.57861286418958},{"$f":"-PMT('AVOID NEW'!$D$37,$A22,NPV('AVOID NEW'!$D$37,$C$6:$C26))","v":43.120293570000477},{"$f":"-PMT('AVOID NEW'!$D$37,$A22,NPV('AVOID NEW'!$D$37,$C$7:$C27))","v":44.697010487276437}]
[22,{"$f":"'AVOID NEW'!M30","v":2043},{"$f":"'AVOID NEW'!AD30","v":56.151202108212544},{"$f":"-PMT('AVOID NEW'!$D$37,$A23,NPV('AVOID NEW'!$D$37,$C$2:$C23))","v":38.660318323127811},{"$f":"-PMT('AVOID NEW'!$D$37,$A23,NPV('AVOID NEW'!$D$37,$C$3:$C24))","v":39.51793011522664},{"$f":"-PMT('AVOID NEW'!$D$37,$A23,NPV('AVOID NEW'!$D$37,$C$4:$C25))","v":40.56714244337487},{"$f":"-PMT('AVOID NEW'!$D$37,$A23,NPV('AVOID NEW'!$D$37,$C$5:$C26))","v":41.918691911976161},{"$f":"-PMT('AVOID NEW'!$D$37,$A23,NPV('AVOID NEW'!$D$37,$C$6:$C27))","v":43.461829047532184},"-"]
[23,{"$f":"'AVOID NEW'!M31","v":2044},{"$f":"'AVOID NEW'!AD31","v":57.748562098376802},{"$f":"-PMT('AVOID NEW'!$D$37,$A24,NPV('AVOID NEW'!$D$37,$C$2:$C24))","v":38.966431354684019},{"$f":"-PMT('AVOID NEW'!$D$37,$A24,NPV('AVOID NEW'!$D$37,$C$3:$C25))","v":39.834689280147686},{"$f":"-PMT('AVOID NEW'!$D$37,$A24,NPV('AVOID NEW'!$D$37,$C$4:$C26))","v":40.892685482749975},{"$f":"-PMT('AVOID NEW'!$D$37,$A24,NPV('AVOID NEW'!$D$37,$C$5:$C27))","v":42.248608745368422},"-"]
[24,{"$f":"'AVOID NEW'!M32","v":2045},{"$f":"'AVOID NEW'!AD32","v":59.270033210344337},{"$f":"-PMT('AVOID NEW'!$D$37,$A25,NPV('AVOID NEW'!$D$37,$C$2:$C25))","v":39.263017400410043},{"$f":"-PMT('AVOID NEW'!$D$37,$A25,NPV('AVOID NEW'!$D$37,$C$3:$C26))","v":40.141919694700512},{"$f":"-PMT('AVOID NEW'!$D$37,$A25,NPV('AVOID NEW'!$D$37,$C$4:$C27))","v":41.208188000838874},"-"]
[25,{"$f":"'AVOID NEW'!M33","v":2046},{"$f":"'AVOID NEW'!AD33","v":60.866980262551216},{"$f":"-PMT('AVOID NEW'!$D$37,$A26,NPV('AVOID NEW'!$D$37,$C$2:$C26))","v":39.550849060631272},{"$f":"-PMT('AVOID NEW'!$D$37,$A26,NPV('AVOID NEW'!$D$37,$C$3:$C27))","v":40.439682166246577},"-"]
[26,{"$f":"'AVOID NEW'!M34","v":2047},{"$f":"'AVOID NEW'!AD34","v":62.491265739802238},{"$f":"-PMT('AVOID NEW'!$D$37,$A27,NPV('AVOID NEW'!$D$37,$C$2:$C27))","v":39.829938266667568},"-"]

{"sheet":"Input - IPCO IRP","index":17,"n_rows":44,"n_cols":13,"rows_kept":44,"cut":false,"hidden":false,"merged":[[0,11,0,12],[2,11,2,12],[3,11,3,12],[0,1,0,6],[0,7,0,8],[3,7,3,8],[2,7,2,8],[0,9,0,10],[2,9,2,10],[3,9,3,10]]}
["Source notes:","Energy position is from Load and Resource Balance Data - Monthly Average Energy Load and Resource Balance, page 31 of Appendix C of 2013 IRP and p. 59 of IRP.  Only deficiencies were recorded; no energy deficiencies on an annual basis throughout the planning period.",null,null,null,null,null,"Energy position is from Load and Resource Balance Data - Monthly Average Energy Load and Resource Balance sent by Idaho Power. The data does not include the 141 MW solar projects that were terminated.",null,"2017 IRP Appendix C Technical Report, Peak-Hour Load and Resource Balance, Page 40",null,"Attachment No. 1 of Amended Application in Case No. IPC-E-21-09 filed on February 4, 2022."]
[null,"Peak position is from Table 2 in IPC-E-13-21 filing.  Only summer peak is necessary -- summer need will always outweigh winter."]
[null,null,"Source: Table 2",null,"Source: Table 3",null,null,"Source: Idaho Power ",null,"Source: Idaho Power ",null,"Source: Idaho Power"]
[null,"Idaho Power","IPC-E-13-21 w/o DR",null,"IPC-E-13-21 w DR","Staff-recommended","Net Position","IPC-E-15-20 wo 141MW solar",null,"IPC-E-17-12",null,"IPC-E-21-09"]
["Summary","Energy (aMW)","Summer Capacity (MW)","Winter Capacity (MW)","Summer Capacity (MW)","Demand response (MW)","Summer Capacity (MW)","Summer Capacity (MW)","Winter Capacity (MW)","Summer Capacity (MW)","Winter Capacity (MW)","Summer Capacity (MW)","Winter Capacity (NW)"]
[2013,0,-87,0,0,170,{"$f":"IF(C6+F6>F60,0,C6+F6)","v":0},0,0,0,0]
[{"$f":"A6+1","v":2014},0,-30,0,0,170,{"$f":"IF(C7+F7>F61,0,C7+F7)","v":0},0,0,0,0]
[{"$f":"A7+1","v":2015},0,-94,0,0,170,0,0,0,0,0]
[{"$f":"A8+1","v":2016},0,-215,0,0,170,-45,0,0,0,0]
[2017,0,-275,0,0,170,-105,0,0,0,0]
[2018,0,-320,0,0,170,-150,0,0,0,0]
[2019,0,-365,0,0,170,-195,0,0,0,0]
[2020,0,-414,0,0,170,-244,0,0,0,0]
[2021,0,-476,0,-36,170,-306,0,0,0,0]
[2022,0,-582,0,-142,170,-412,0,0,0,0]
[2023,0,-635,0,-195,170,-465,0,0,0,0,-101]
[2024,0,-683,0,-243,170,-513,-47,0,0,0,-186]
[2025,0,-733,0,-293,170,-563,-88,0,0,0,-311]
[2026,0,-781,0,-341,170,-611,-398,0,-34.029389251258181,0,-560]
[2027,0,-828,0,-388,170,-658,-474,0,-93.955689251257354,0,-665]
[2028,0,-872,0,-432,170,-702,-512,0,-158.88728925125724,0,-773]
[2029,0,-918,0,-478,170,-748,-562,0,-397.46788925125747,0,-823]
[2030,0,-966,0,-526,170,-796,-653,0,-457.75548925125713,0,-873]
[2031,0,-1012,0,-572,170,-842,-689,0,-521.44748925125896,0,-935]
[2032,0,-1059,0,-619,170,-889,-763,0,-574.49548925125873,0,-983]
[2033,0,{"$f":"C25","v":-1059},0,-619,170,-889,-828,0,-815.05148925125832,0,-1051]
[2034,0,{"$f":"C26","v":-1059},0,-619,170,-889,-860,0,-872.27748925125798,0,-1102]
[2035,0,-1059,0,-619,170,-889,-860,0,-927.67248925125841,0,-1155]
[2036,0,-1059,0,-619,170,-889,-860,0,-986.2884892512584,0,-1210]
[2037,0,-1059,0,-619,170,-889,-860,0,-986.2884892512584,0,-1282]
[2038,0,-1059,0,-619,170,-889,-860,0,-986.2884892512584,0,-1349]
[2039,0,-1059,0,-619,170,-889,-860,0,-986.2884892512584,0,-1406]
[2040,0,-1059,0,-619,170,-889,-860,0,-986.2884892512584,0,-1466]
[2041,0,-1059,0,-619,170,-889,-860,0,-986.2884892512584,0,-1466]
[2042,0,-1059,0,-619,170,-889,-860,0,-986.2884892512584,0,-1466]
[2043,0,-1059,0,-619,170,-889,-860,0,-986.2884892512584,0,-1466]
[2044,0,-1059,0,-619,170,-889,-860,0,-986.2884892512584,0,-1466]
[2045,0,-1059,0,-619,170,-889,-860,0,-986.2884892512584,0,-1466]
[2046,0,-1059,0,-619,170,-889,-860,0,-986.2884892512584,0,-1466]
[2047,0,-1059,0,-619,170,-889,-860,0,-986.2884892512584,0,-1466]
[2048,null,null,null,null,null,null,null,null,null,null,-1466]
[2049,null,null,null,null,null,null,null,null,null,null,-1466]
[2050,null,null,null,null,null,null,null,null,null,null,-1466]
[2051,null,null,null,null,null,null,null,null,null,null,-1466]

{"sheet":"Input - RMP IRP","index":18,"n_rows":50,"n_cols":11,"rows_kept":50,"cut":false,"hidden":false,"merged":[]}
[]
[]
[]
[]
[]
[]
[]
[]
["Update gray areas:"]
[null,"PacifiCorp","PAC-E-13-12",null,"PAC-E-15-12",null,"PAC-E-17-09",null,"PAC-E-20-13"]
[null,"Energy (aMW)*","Summer Capacity (MW)","Winter Capacity (MW)","Summer Capacity (MW)","Winter Capacity (MW)","Summer Capacity (MW)","Winter Capacity (MW)","Energy","Summer Capacity (MW)","Winter Capacity (MW)"]
[null,null,null,null,null,0,null,0]
[2013,0,-824,0,null,0,null,0]
[2014,0,-986,0,null,0,null,0]
[2015,0,-1228,0,825.30093000000124,0,null,0]
[2016,0,-1469,0,510.91273350000301,0,null,0]
[2017,0,-1688,0,648.81502871081102,0,1138.9836412980192,0]
[2018,-1,-1888,0,532.07472666810463,0,1129.4999224089324,0]
[2019,-1,-2100,0,293.79177926314333,0,743.35494475207031,0,null,435.1744735834618]
[2020,-1,-2274,0,149.64708999770119,0,893.3683192834651,0,null,707.66447358346193]
[2021,-1,-2081,0,371.60154932848491,0,728.0407699171069,0,null,934.14764065063389]
[2022,-1,-2308,0,218.64496777148997,0,654.84788231277639,0,null,867.13984105032455]
[2023,-1,{"$f":"C22","v":-2308},0,104.24394590161137,0,729.9626504725843,0,null,848.83823730983738]
[2024,-1,{"$f":"C23","v":-2308},0,26.798474352255653,0,686.66636842644095,0,null,873.12591552994661]
[2025,-1,-2308,0,-167.03415618503277,0,515.90073023196112,0,null,790.42971216005026]
[2026,-1,-2308,0,-288.65779496093819,0,576.31052997431129,0,null,940.53441856448137]
[2027,-1,-2308,0,-455.42796116876889,0,510.39816176610606,0,null,964.8875061921741]
[2028,-1,-2308,0,-1437.1114039448257,0,-270.02778025271482,0,null,190.74730411695839]
[2029,-1,-2308,0,-1401.0698423687518,0,-696.72260191502608,0,null,-71.837947493014099]
[2030,-1,-2308,0,-2211.5841754639332,0,-1114.6063090266023,0,null,-314.39539503169794]
[2031,-1,-2308,0,-2311.6252721978326,0,-1210.8010073662799,0,null,-398.85263876826934]
[2032,-1,-2308,0,-2579.3998077095657,0,-1352.2187026860527,0,null,-478.99926843798744]
[2033,-1,-2308,0,-2981.6638509210152,0,-2145.7729007111975,0,null,-758.96201569443178]
[2034,-1,-2308,0,-3398.0170462064107,0,-2178.6037071403948,0,null,-754.39551922083479]
[2035,-1,-2308,0,-3398.0170462064107,0,-2356.2947276458367,0,null,-760.46032178531709]
[2036,-1,-2308,0,-3398.0170462064107,0,-2460.7891678733722,0,null,-739.38396930705017]
[2037,-1,-2308,0,-3398.0170462064107,0,-2460.7891678733722,0,null,-2232.9063547484884]
[2038,-1,-2308,0,-3398.0170462064107,0,-2460.7891678733722,0,null,-2929.6769374601181]
[2039,-1,-2308,0,-3398.0170462064107,0,-2460.7891678733722,0,null,-2929.6769374601181]
[2040,-1,-2308,0,-3398.0170462064107,0,-2460.7891678733722,0,null,-2929.6769374601181]
[2041,-1,-2308,0,-3398.0170462064107,0,-2460.7891678733722,0,null,-2929.6769374601181]
[2042,-1,-2308,0,-3398.0170462064107,0,-2460.7891678733722,0,null,-2929.6769374601181]
[2043,-1,-2308,0,-3398.0170462064107,0,-2460.7891678733722,0,null,-2929.6769374601181]
[2044,-1,-2308,0,-3398.0170462064107,0,-2460.7891678733722,0,null,-2929.6769374601181]
[2045,-1,-2308,0,-3398.0170462064107,0,-2460.7891678733722,0,null,-2929.6769374601181]
[2046,-1,-2308,0,-3398.0170462064107,0,-2460.7891678733722,0,null,-2929.6769374601181]
[2047,-1,-2308,0,-3398.0170462064107,0,-2460.7891678733722,0,null,-2929.6769374601181]
[2048,-1,-2308,0,-3398.0170462064107,0,-2460.7891678733722,0,null,-2929.6769374601181]
[2049,-1,-2308,0,-3398.0170462064107,0,-2460.7891678733722,0,null,-2929.6769374601181]
[2050,-1,-2308,0,-3398.0170462064107,0,-2460.7891678733722,0,null,-2929.6769374601181]

{"sheet":"Input - Avista IRP","index":19,"n_rows":43,"n_cols":8,"rows_kept":43,"cut":false,"hidden":false,"merged":[]}
["SOURCE NOTES:",null,"2014 numbers from Avista 2013 IRP, pages 8-38, 8-39, 8-40, Energy is contingency net position, capacity is peak position with contingency",null,"Numbers from Production Request Response to Capacity Deficit Case "]
[null,null,"2015-2034 numbers from AVU-E-13-10 filing, pages 2 & 3, Energy is contingency net position, capacity is peak position with contingency"]
[null,"Avista","AVU-E-13-10",null,"AVU-E-17-10",null,"AVU-E-20-11"]
[null,"Energy (aMW)","Summer Capacity (MW)","Winter Capacity (MW)","Summer Capacity Deficit (MW)","Winter Capacity Deficit (MW)","Summer Capacity Deficit (MW)","Winter Capacity Deficit (MW)"]
[2012,0,0,0,0,0]
[2013,0,0,0,0,0]
[2014,0,14,17,0,0]
[2015,0,21,-123,0,0]
[2016,0,-36,-139,0,0]
[2017,0,70,72,0,0]
[2018,0,65,57,0,0]
[2019,0,4,11,0,0]
[2020,0,-10,-86,0,0]
[2021,0,20,-104,0,0,295.50258540793988,413.11305125531987]
[2022,0,11,-120,0,0,288.18990642545339,398.151364005348]
[2023,0,-3,-128,0,0,279.20988170913347,399.25839453634308]
[2024,0,-14,-151,0,0,293.90533933396614,406.38404209353837]
[2025,0,-24,-167,0,0,287.64512279003071,400.42489467898679]
[2026,0,-37,-173,0,-128.95893924179185,146.88192014357128,-16.80058849732103]
[2027,0,-279,-470,-130.08178457606584,-139.2599977774135,-90.124824403308395,-22.530863620518232]
[2028,0,-289,-485,-139.3217894416282,-160.8400817798418,-97.228106069086309,-42.851549509018724]
[2029,0,-303,-492,-180.02943349146739,-169.10124163002857,-124.9489576673255,-47.968616758120049]
[2030,0,-315,-515,-192.15200070233948,-177.39687062962827,-131.4803866924554,-53.284662838004181]
[2031,0,-325,-530,-258.83694794345047,-262.12891017684183,-202.38643616156227,-133.69754492678365]
[2032,0,-339,-538,-266.9328593732094,-270.49390954059106,-209.39721548421878,-139.51487904297784]
[2033,0,-351,-561,-275.06569400000564,-278.89381132177914,-216.70680924801673,-145.64665927199579]
[2034,0,-362,-576,-283.2356202340315,-287.32876114996731,-224.36377091427073,-152.14527512861855]
[2035,0,{"$f":"C27","v":-362},{"$f":"D27","v":-576},-291.44280725368424,-295.79890526236113,-268.4828033097366,-194.90732302946029]
[2036,0,{"$f":"C28","v":-362},{"$f":"D28","v":-576},-299.6874250090695,-304.30439050634135,-277.01489163678605,-202.33427758327889]
[2037,0,-362,-576,-312.06964422551835,-312.84536434201414,-322.15374580954216,-246.18082479558421]
[2038,0,-362,-576,-316.28963640713215,-321.42197484476713,-341.14041060595127,-254.87523685436116]
[2039,0,-362,-576,-324.64757384032742,-330.03437070783457,-351.56304405776928,-264.36837921628211]
[2040,0,-362,-576,-325.04362959741036,-322.6827012448768,-362.85896744132418,-274.79574660645011]
[2041,0,-362,-576,-325.04362959741036,-426.70794837456015,-377.67011139274376,-286.31608769383422]
[2042,0,-362,-576,-325.04362959741036,-426.70794837456015,-391.17902499615519,-299.1153966218763]
[2043,0,-362,-576,-325.04362959741036,-426.70794837456015,-407.88243791268911,-313.41158968527338]
[2044,0,-362,-576,-325.04362959741036,-426.70794837456015,-424.41684803853889,-329.45998475826678]
[2045,0,-362,-576,-325.04362959741036,-426.70794837456015,-442.85933923312132,-347.55972126672231]
[2046,0,-362,-576,-325.04362959741036,-426.70794837456015,-442.85933923312132,-347.55972126672231]
[2047,0,-362,-576,-325.04362959741036,-426.70794837456015,-442.85933923312132,-347.55972126672231]
[2048,0,-362,-576,-325.04362959741036,-426.70794837456015,-442.85933923312132,-347.55972126672231]
[2049,0,-362,-576,-325.04362959741036,-426.70794837456015,-442.85933923312132,-347.55972126672231]
[2050,0,-362,-576,-325.04362959741036,-426.70794837456015,-442.85933923312132,-347.55972126672231]

{"sheet":"EIA forecast summary","index":20,"n_rows":46,"n_cols":43,"rows_kept":46,"cut":false,"hidden":false,"merged":[]}
[]
[null,"2012 Final Release",null,null,null,"2013 Final Release",null,null,null,"2014 Release",null,null,null,"2015 Release",null,null,null,"2016 Release",null,null,null,"2017 Release",null,null,null,"2018 Release",null,null,null,"2019 Release",null,null,"2020 Release",null,null,null,"2021 Release",null,null,null,"2022 Release"]
[null,"Real 2010 $","Nominal",null,null,"Real 2011 $","Nominal",null,null,"Real 2012$","Nominal",null,null,"Real 2013","Nominal",null,null,"Real 2015","Nominal",null,null,"Real 2016","Nominal ",null,null,"Real 2017","Nominal",null,null,"Real 2018","Nominal",null,null,"Real 2019","Nominal",null,null,"Real 2020","Nominal",null,null,"Real 2021","Nominal"]
[2009,4.49,4.4400000000000004]
[2010,5.0199999999999996,5.0199999999999996,null,2010,5.1370849999999999,5.0298069999999999,null,null,null,null,null,2010,5.1370849999999999,5.0298069999999999]
[2011,4.13,4.22,null,2011,4.8292520000000003,4.8292520000000003,null,2011,4.9188679999999998,4.8328199999999999,null,2011,4.9188679999999998,4.8328199999999999]
[2012,3.9,4.03,null,2012,2.9883690000000001,3.0414219999999998,null,2012,3.4433419999999999,3.4433419999999999,null,2012,3.5314139999999998,3.4796119999999999]
[2013,3.84,4,null,2013,3.5178069999999999,3.641165,null,2013,4.3941549999999996,4.459632,null,2013,4.4222279999999996,4.4222279999999996]
[2014,3.76,3.98,null,2014,3.6342059999999998,3.8145410000000002,null,2014,4.5121989999999998,4.6629329999999998,null,2014,4.6211929999999999,4.6945779999999999,null,2014,4.9047049999999999,4.8539880000000002]
[2015,4.09,4.41,null,2015,3.7451539999999999,3.9912450000000002,null,2015,4.1118410000000001,4.3153649999999999,null,2015,4.2624529999999998,4.4126859999999999,null,2015,3.3513790000000001,3.3513790000000001,null,2015,3.2832720000000002,3.2373799999999999]
[2016,4.1500000000000004,4.55,null,2016,4.3197020000000004,4.6755699999999996,null,2016,3.9482849999999998,4.2074689999999997,null,2016,4.2685719999999998,4.5048599999999999,null,2016,3.632511,3.6995640000000001,null,2016,2.938984,2.938984,null,2016,2.7738049999999999,2.7258580000000001]
[2017,4.21,4.7,null,2017,4.5821370000000003,5.0348940000000004,null,2017,4.2612269999999999,4.6073639999999996,null,2017,4.2374970000000003,4.5501170000000002,null,2017,4.0098659999999997,4.1697579999999999,null,2017,3.6526709999999998,3.731484,null,2017,3.5160770000000001,3.5160770000000001,null,2017,3.361964,3.2972079999999999]
[2018,4.3,4.88,null,2018,4.9311860000000003,5.505808,null,2018,4.6453569999999997,5.0995980000000003,null,2018,4.3164749999999996,4.7222340000000003,null,2018,4.217435,4.4719280000000001,null,2018,3.9645709999999998,4.129842,null,2018,3.6305130000000001,3.7113290000000001,null,2018,3.4552849999999999,3.4552849999999999]
[2019,4.42,5.1100000000000003,null,2019,5.1463000000000001,5.8368919999999997,null,2019,4.8970840000000004,5.4593850000000002,null,2019,4.6977209999999996,5.235284,null,2019,4.1226669999999999,4.4587399999999997,null,2019,4.2665639999999998,4.5380659999999997,null,2019,3.9946039999999998,4.1788759999999998,null,2019,3.3593899999999999,3.4421810000000002]
[2020,4.46,5.25,null,2020,5.2899820000000002,6.0997170000000001,null,2020,4.8368270000000004,5.4782609999999998,null,2020,5.0668980000000001,5.7466609999999996,null,2020,4.1998220000000002,4.6394799999999998,null,2020,4.3657890000000004,4.7468399999999997,null,2020,4.2274820000000002,4.5381539999999996,null,2020,3.5486909999999998,3.7367509999999999,null,2020,2.686785,2.7523270000000002]
[2021,4.78,5.71,null,2021,5.5548799999999998,6.5162769999999997,null,2021,4.9629399999999997,5.7132870000000002,null,2021,5.3359290000000001,6.1557449999999996,null,2021,4.2503149999999996,4.8065379999999998,null,2021,4.3721620000000003,4.8571799999999996,null,2021,4.1998930000000003,4.6199870000000001,null,2021,3.4895710000000002,3.772513,null,2021,2.8908849999999999,3.0343049999999998,null,2021,3.5732970000000002,3.610986,null,null,"Real Dollars","Nominal Dollars"]
[2022,5.12,6.22,null,2022,5.8610480000000003,7.0002519999999997,null,2022,4.9844359999999996,5.8340329999999998,null,2022,5.5064479999999998,6.4577369999999998,null,2022,4.3582039999999997,5.0392799999999998,null,2022,4.2185569999999997,4.7918620000000001,null,2022,4.2311620000000003,4.7666459999999997,null,2022,3.5761219999999998,3.9644590000000002,null,2022,2.823007,3.0373480000000002,null,2022,3.6313059999999999,3.712583,null,2022,4.2748939999999997,4.3780970000000003]
[2023,5.34,6.61,null,2023,6.0873179999999998,7.4022129999999997,null,2023,5.1087259999999999,6.0814529999999998,null,2023,5.6257039999999998,6.7050640000000001,null,2023,4.5520290000000001,5.3668060000000004,null,2023,4.2130739999999998,4.8896920000000001,null,2023,4.3731330000000002,5.0482269999999998,null,2023,3.7767719999999998,4.2902969999999998,null,2023,2.88151,3.175745,null,2023,3.4488300000000001,3.5739179999999999,null,2023,4.0653309999999996,4.2374879999999999]
[2024,5.45,6.87,null,2024,6.1229769999999997,7.5794829999999997,null,2024,5.2792870000000001,6.3930049999999996,null,2024,5.6807270000000001,6.8794180000000003,null,2024,4.732316,5.683846,null,2024,4.3202600000000002,5.1173380000000002,null,2024,4.5010760000000003,5.3220539999999996,null,2024,4.0369630000000001,4.6943970000000004,null,2024,3.0735779999999999,3.464718,null,2024,3.19516,3.3666719999999999,null,2024,3.7187380000000001,3.9639760000000002]
[2025,5.53,7.09,null,2025,6.1638539999999997,7.7676069999999999,null,2025,5.3505450000000003,6.5905930000000001,null,2025,5.8795609999999998,7.2389089999999996,null,2025,4.9161729999999997,6.0172920000000003,null,2025,4.6061639999999997,5.5734959999999996,null,2025,4.6518449999999998,5.6316490000000003,null,2025,4.2794379999999999,5.0906469999999997,null,2025,3.3986480000000001,3.9180929999999998,null,2025,3.3468619999999998,3.5999880000000002,null,2025,3.5581969999999998,3.8829199999999999]
[2026,5.65,7.4,null,2026,6.1949059999999996,7.9487899999999998,null,2026,5.2630179999999998,6.5949869999999997,null,2026,6.0730899999999997,7.6021539999999996,null,2026,4.9633560000000001,6.1947130000000001,null,2026,4.7886040000000003,5.9232120000000004,null,2026,4.7049979999999998,5.8265909999999996,null,2026,4.4013869999999997,5.354978,null,2026,3.6982140000000001,4.3633670000000002,null,2026,3.5220020000000001,3.878568,null,2026,3.6193749999999998,4.0465549999999997]
[2027,5.87,7.83,null,2027,6.1797079999999998,8.0730970000000006,null,2027,5.2621710000000004,6.7094149999999999,null,2027,6.0650880000000003,7.7203879999999998,null,2027,4.9364480000000004,6.2830190000000004,null,2027,4.8212890000000002,6.1005330000000004,null,2027,4.769285,6.0391589999999997,null,2027,4.4053230000000001,5.4815779999999998,null,2027,3.8843640000000001,4.6926290000000002,null,2027,3.624447,4.0927579999999999,null,2027,3.7652269999999999,4.3163770000000001]
[2028,5.98,8.15,null,2028,6.2447840000000001,8.3072379999999999,null,2028,5.311299,6.89222,null,2028,5.968458,7.7272829999999999,null,2028,4.8309530000000001,6.2717390000000002,null,2028,4.8392679999999997,6.2593379999999996,null,2028,4.7946299999999997,6.2022380000000004,null,2028,4.5160090000000004,5.7455259999999999,null,2028,3.986866,4.9320789999999999,null,2028,3.7838069999999999,4.3852520000000004,null,2028,3.9590450000000001,4.6526509999999996]
[2029,6.05,8.42,null,2029,6.3250529999999996,8.5698080000000001,null,2029,5.5561239999999996,7.3417899999999996,null,2029,5.928051,7.8074529999999998,null,2029,4.8861660000000002,6.474113,null,2029,4.8790370000000003,6.4500909999999996,null,2029,4.8533989999999996,6.4122139999999996,null,2029,4.507771,5.8627950000000002,null,2029,3.998923,5.0650620000000002,null,2029,3.9242840000000001,4.6679139999999997,null,2029,4.108975,4.9463679999999997]
[2030,6.17,8.7799999999999994,null,2030,6.4040670000000004,8.8372440000000001,null,2030,5.8007359999999997,7.8088249999999997,null,2030,5.9428739999999998,7.966367,null,2030,4.8342650000000003,6.5400270000000003,null,2030,4.8388710000000001,6.5372919999999999,null,2030,4.8556710000000001,6.5529510000000002,null,2030,4.5512779999999999,6.0472770000000002,null,2030,3.9389069999999999,5.1053800000000003,null,2030,3.948477,4.8182869999999998,null,2030,4.2007510000000003,5.1746290000000004]
[2031,6.29,9.16,null,2031,6.524553,9.1717340000000007,null,2031,5.9428619999999999,8.1586479999999995,null,2031,6.0359410000000002,8.2422229999999992,null,2031,4.7049880000000002,6.5042920000000004,null,2031,4.8001009999999997,6.6251670000000003,null,2031,4.8530230000000003,6.6923870000000001,null,2031,4.5586460000000004,6.1873420000000001,null,2031,3.9175779999999998,5.1925509999999999,null,2031,4.0019929999999997,5.0059779999999998,null,2031,4.2602019999999996,5.368906]
[2032,6.41,9.5500000000000007,null,2032,6.6784929999999996,9.5612270000000006,null,2032,6.1633209999999998,8.6311999999999998,null,2032,6.1585380000000001,8.5665010000000006,null,2032,4.7982610000000001,6.780437,null,2032,4.8053790000000003,6.7709279999999996,null,2032,4.8793059999999997,6.8764960000000004,null,2032,4.7067069999999998,6.5270999999999999,null,2032,3.9615689999999999,5.3672940000000002,null,2032,4.1211190000000002,5.2800079999999996,null,2032,4.342225,5.593852]
[2033,6.53,9.93,null,2033,6.8391120000000001,9.9702120000000001,null,2033,6.3874529999999998,9.1286330000000007,null,2033,6.2419640000000003,8.8451869999999992,null,2033,4.8238289999999999,6.9677569999999998,null,2033,4.7828549999999996,6.8748040000000001,null,2033,4.8717069999999998,7.0183749999999998,null,2033,4.7790049999999997,6.7722490000000004,null,2033,4.0341909999999999,5.5867180000000003,null,2033,4.2117849999999999,5.5221359999999997,null,2033,4.4119190000000001,5.8094380000000001]
[2034,6.8,10.54,null,2034,7.0860609999999999,10.517815000000001,null,2034,6.5635839999999996,9.5755970000000001,null,2034,6.3575609999999996,9.1746440000000007,null,2034,4.7774450000000002,7.0555009999999996,null,2034,4.7996230000000004,7.0321540000000002,null,2034,4.8928240000000001,7.2068440000000002,null,2034,4.8411910000000002,7.010624,null,2034,4.092314,5.7903409999999997,null,2034,4.2533609999999999,5.7020390000000001,null,2034,4.4268710000000002,5.9592809999999998]
[2035,7.06,11.18,null,2035,7.4179180000000002,11.208926,null,2035,6.7524410000000001,10.057117999999999,null,2035,6.5544560000000001,9.6342230000000004,null,2035,4.8060770000000002,7.2579450000000003,null,2035,4.8360390000000004,7.2189240000000003,null,2035,4.8930389999999999,7.37033,null,2035,4.8893810000000002,7.2373419999999999,null,2035,4.121181,5.9581720000000002,null,2035,4.2780959999999997,5.8617179999999998,null,2035,4.4023539999999999,6.0575109999999999]
[null,null,null,null,2036,7.7574930000000002,11.933301,null,2036,7.1944119999999998,10.94534,null,2036,6.7336429999999998,10.083920000000001,null,2036,4.8181099999999999,7.4373829999999996,null,2036,4.8716410000000003,7.4086759999999998,null,2036,5.0090500000000002,7.7178560000000003,null,2036,4.9574689999999997,7.5025320000000004,null,2036,4.150995,6.1333289999999998,null,2036,4.2937659999999997,6.0100800000000003,null,2036,4.4110240000000003,6.2035369999999999]
[null,null,null,null,2037,8.0995450000000009,12.683494,null,2037,7.286035,11.323309999999999,null,2037,6.774883,10.338315,null,2037,4.8681130000000001,7.6810619999999998,null,2037,4.9218830000000002,7.623958,null,2037,5.0182289999999998,7.9092140000000004,null,2037,4.9703619999999997,7.6904919999999999,null,2037,4.2553409999999996,6.427219,null,2037,4.2667510000000002,6.0977790000000001,null,2037,4.4074730000000004,6.3357859999999997]
[null,null,null,null,2038,8.4960550000000001,13.541779999999999,null,2038,7.2713229999999998,11.543696000000001,null,2038,7.0256850000000002,10.931010000000001,null,2038,4.8807470000000004,7.8707149999999997,null,2038,4.9241869999999999,7.7711370000000004,null,2038,5.0757989999999999,8.1825690000000009,null,2038,4.9907159999999999,7.8948239999999998,null,2038,4.3140210000000003,6.6616669999999996,null,2038,4.350543,6.3479780000000003,null,2038,4.426501,6.5048909999999998]
[null,null,null,null,2039,8.6582939999999997,14.044321,null,2039,7.4881869999999999,12.147883,null,2039,7.3339980000000002,11.6454,null,2039,4.9308940000000003,8.1237200000000005,null,2039,4.9553380000000002,7.9707780000000001,null,2039,5.1288,8.4579050000000002,null,2039,5.0184309999999996,8.1169449999999994,null,2039,4.3293100000000004,6.8349039999999999,null,2039,4.334022,6.4547040000000004,null,2039,4.4413970000000003,6.6711580000000001]
[null,null,null,null,2040,8.8130780000000009,14.545499,null,2040,7.6931419999999999,12.755127,null,2040,7.6476259999999998,12.397141,null,2040,4.9632240000000003,8.3522230000000004,null,2040,5.0113349999999999,8.2183109999999999,null,2040,5.1773119999999997,8.7355590000000003,null,2040,5.1066560000000001,8.4465319999999995,null,2040,4.3454969999999999,7.0138699999999998,null,2040,4.3420459999999999,6.6034670000000002,null,2040,4.4804729999999999,6.8825190000000003]
[null,null,null,null,null,null,null,null,null,null,null,null,null,null,null,null,null,null,null,null,2041,4.9985480000000004,8.3610830000000007,null,2041,5.2261100000000003,9.0242880000000003,null,2041,5.0951940000000002,8.6201109999999996,null,2041,4.3516880000000002,7.183046,null,2041,4.3415679999999996,6.744497,null,2041,4.5016040000000004,7.071815]
[null,null,null,null,null,null,null,null,null,null,null,null,null,null,null,null,null,null,null,null,2042,5.0545910000000003,8.6271550000000001,null,2042,5.2911089999999996,9.3522929999999995,null,2042,5.0996090000000001,8.8253970000000006,null,2042,4.3703580000000004,7.3794040000000001,null,2042,4.3331309999999998,6.8793639999999998,null,2042,4.4922589999999998,7.2180400000000002]
[null,null,null,null,null,null,null,null,null,null,null,null,null,null,null,null,null,null,null,null,2043,5.1065259999999997,8.8984030000000001,null,2043,5.3484569999999998,9.6803019999999993,null,2043,5.1838839999999999,9.1796410000000002,null,2043,4.4050630000000002,7.6090710000000001,null,2043,4.3365520000000002,7.0426890000000002,null,2043,4.5084340000000003,7.410056]
[null,null,null,null,null,null,null,null,null,null,null,null,null,null,null,null,null,null,null,null,2044,5.2327300000000001,9.3127469999999999,null,2044,5.4175149999999999,10.042778999999999,null,2044,5.2996949999999998,9.6040130000000001,null,2044,4.4635249999999997,7.8897389999999996,null,2044,4.3576680000000003,7.2458809999999998,null,2044,4.5356880000000004,7.6250650000000002]
[null,null,null,null,null,null,null,null,null,null,null,null,null,null,null,null,null,null,null,null,2045,5.33643,9.7022910000000007,null,2045,5.4686130000000004,10.385923,null,2045,5.3853549999999997,9.9896589999999996,null,2045,4.4824799999999998,8.1104489999999991,null,2045,4.3902020000000004,7.4798140000000002,null,2045,4.5536640000000004,7.829186]
[null,null,null,null,null,null,null,null,null,null,null,null,null,null,null,null,null,null,null,null,null,null,null,null,2046,5.5215719999999999,10.743764000000001,null,2046,5.4688460000000001,10.384884,null,2046,4.5562930000000001,8.4397669999999998,null,2046,4.394914,7.682315,null,2046,4.5739210000000003,8.0437340000000006]
[null,null,null,null,null,null,null,null,null,null,null,null,null,null,null,null,null,null,null,null,null,null,null,null,2047,5.5843449999999999,11.135501,null,2047,5.6151179999999998,10.917878,null,2047,4.636666,8.7963869999999993,null,2047,4.4531000000000001,7.9932160000000003,null,2047,4.593343,8.2619249999999997]
[null,null,null,null,null,null,null,null,null,null,null,null,null,null,null,null,null,null,null,null,null,null,null,null,2048,5.7136399999999998,11.680348,null,2048,5.8015590000000001,11.554417000000001,null,2048,4.6904760000000003,9.1179959999999998,null,2048,4.5275030000000003,8.3511930000000003,null,2048,4.630776,8.5195559999999997]
[null,null,null,null,null,null,null,null,null,null,null,null,null,null,null,null,null,null,null,null,null,null,null,null,2049,5.7777459999999996,12.109018000000001,null,2049,5.8717009999999998,11.981456,null,2049,4.7201740000000001,9.4037629999999996,null,2049,4.6130750000000003,8.7511580000000002,null,2049,4.6260490000000001,8.7060510000000004]
[null,null,null,null,null,null,null,null,null,null,null,null,null,null,null,null,null,null,null,null,null,null,null,null,2050,5.8876410000000003,12.65368,null,2050,6.0158969999999998,12.581006,null,2050,4.8234130000000004,9.8448320000000002,null,2050,4.690798,9.159656,null,2050,4.6044179999999999,8.8637429999999995]
[null,null,null,null,null,null,null,null,null,null,null,null,null,null,null,null,null,null,null,null,null,null,null,null,null,null,null,null,2050,1.7479000000000001E-2,4.1209999999999997E-2]

{"sheet":"AEO2022-EnergyPricesMountain","index":21,"n_rows":160,"n_cols":32,"rows_kept":160,"cut":false,"hidden":false,"merged":[[5007,1,5007,24],[4557,1,4557,24],[4632,1,4632,24],[4707,1,4707,24],[4782,1,4782,24],[4857,1,4857,24],[4932,1,4932,24],[4482,1,4482,24],[2492,1,2492,24],[2695,1,2695,24],[2895,1,2895,24],[3095,1,3095,24],[3295,1,3295,24],[3495,1,3495,24],[3695,1,3695,24],[3895,1,3895,24],[4095,1,4095,24],[4295,1,4295,24],[4407,1,4407,24],[145,0,145,31],[207,0,207,31],[2267,1,2267,24],[395,1,395,24],[507,1,507,24],[692,1,692,24],[917,1,917,24],[1142,1,1142,24],[1367,1,1367,24],[1592,1,1592,24],[1817,1,1817,24],[2042,1,2042,24]]}
["ref2022.d011222a",2021,2022,2023,2024,2025,2026,2027,2028,2029,2030,2031,2032,2033,2034,2035,2036,2037,2038,2039,2040,2041,2042,2043,2044,2045,2046,2047,2048,2049,2050]
[]
[null,"Report","Annual Energy Outlook 2022"]
[null,"Scenario","ref2022",null,null,"Reference"]
[null,"Datekey","d011222a"]
[null,"Release Date",null," March 2022"]
[]
[]
[]
["3.8. Energy Prices by Sector and Source",null,null,null,null,null,null,null,null,null,null,null,null,null,null,null,null,null,null,null,null,null,null,null,null,null,null,null,null,null,null,"Average"]
["(2021 dollars per million Btu, unless otherwise noted)",null,null,null,null,null,null,null,null,null,null,null,null,null,null,null,null,null,null,null,null,null,null,null,null,null,null,null,null,null,null,"Annual"]
["Mountain - 08",null,null,null,null,null,null,null,null,null,null,null,null,null,null,null,null,null,null,null,null,null,null,null,null,null,null,null,null,null,null,"Change"]
[" Sector and Source",2021,2022,2023,2024,2025,2026,2027,2028,2029,2030,2031,2032,2033,2034,2035,2036,2037,2038,2039,2040,2041,2042,2043,2044,2045,2046,2047,2048,2049,2050,"2021–2050"]
[]
[" Residential"]
["   Propane",20.472415999999999,22.136154000000001,21.943532999999999,21.986750000000001,21.932404999999999,22.013597000000001,22.314060000000001,22.813046,23.284808999999999,23.772722000000002,24.242025000000002,24.662984999999999,25.055025000000001,25.359873,25.590572000000002,25.81101,26.050108000000002,26.284500000000001,26.458190999999999,26.739231,26.983630999999999,27.115271,27.307507999999999,27.541388000000001,27.672696999999999,27.813835000000001,27.929082999999999,28.009702999999998,28.035252,28.033255,1.0897E-2]
["   Distillate Fuel Oil",19.745047,20.117595999999999,19.482030999999999,20.840572000000002,21.139723,21.517703999999998,22.009309999999999,22.2423,22.368217000000001,22.355875000000001,22.703835999999999,22.850615000000001,22.909641000000001,23.002609,23.103455,23.296661,23.509278999999999,23.66095,23.726209999999998,23.903509,24.018654000000002,24.119461000000001,24.377796,24.673176000000002,24.812283999999998,25.072642999999999,25.200265999999999,25.171709,25.165443,25.095526,8.3029999999999996E-3]
["   Natural Gas",9.1122680000000003,9.60961,9.2638420000000004,9.1354389999999999,9.1592490000000009,9.3222529999999999,9.5698430000000005,9.7267449999999993,9.9126560000000001,9.9943290000000005,10.063294000000001,10.100393,10.186048,10.230221,10.208444,10.234719999999999,10.266743999999999,10.282743999999999,10.309132999999999,10.328429,10.364106,10.357301,10.361314,10.344401,10.339321,10.340394,10.352539,10.350576,10.358274,10.362251000000001,4.4429999999999999E-3]
["   Electricity",35.289794999999998,34.151539,34.592274000000003,34.577224999999999,34.490313999999998,34.309139000000002,34.33305,34.281424999999999,34.431061,34.682648,34.776176,34.972754999999999,35.227893999999999,35.292473000000001,35.418796999999998,35.697879999999998,35.918816,36.006573000000003,35.993876999999998,36.218398999999998,36.369053000000001,36.426971000000002,36.333942,36.464641999999998,36.603394000000002,36.752513999999998,36.837623999999998,36.969405999999999,36.997345000000003,37.164616000000002,1.787E-3]
[]
[" Commercial"]
["   Propane",18.590827999999998,19.601289999999999,18.053467000000001,17.970358000000001,17.836539999999999,17.957671999999999,18.340005999999999,18.87771,19.246096000000001,19.624302,19.962789999999998,20.240687999999999,20.505542999999999,20.669857,20.780605000000001,20.92614,21.112545000000001,21.285893999999999,21.375751000000001,21.646298999999999,21.817125000000001,21.841297000000001,22.008543,22.215153000000001,22.255389999999998,22.356321000000001,22.426689,22.463652,22.445656,22.421965,6.4819999999999999E-3]
["   Distillate Fuel Oil",22.352884,22.870311999999998,21.594828,22.046522,21.602174999999999,21.175626999999999,20.847414000000001,21.044411,21.170411999999999,21.134302000000002,21.448463,21.564458999999999,21.610613000000001,21.660229000000001,21.786719999999999,21.989426000000002,22.218405000000001,22.373453000000001,22.462809,22.624030999999999,22.748798000000001,22.812042000000002,23.110125,23.410345,23.554867000000002,23.763489,23.851931,23.823184999999999,23.819068999999999,23.749292000000001,2.0920000000000001E-3]
["   Residual Fuel Oil",5.9193740000000004,7.4923549999999999,7.5798949999999996,9.1132240000000007,9.7433180000000004,10.475439,11.334161999999999,11.553039,11.673802999999999,11.818187,12.157349,12.287326999999999,12.387034,12.429523,12.457668,12.415902000000001,12.399844999999999,12.670883,12.649698000000001,13.009326,13.27463,13.427529,13.777009,14.030972,14.083257,14.373461000000001,14.482759,14.559535,14.589054000000001,14.554028000000001,3.1508000000000001E-2]
["   Natural Gas",7.3384520000000002,7.9271240000000001,7.774737,7.5011609999999997,7.3750710000000002,7.3914720000000003,7.5517219999999998,7.7098009999999997,7.9066739999999998,8.0020369999999996,8.0810910000000007,8.1284949999999991,8.2250189999999996,8.2806960000000007,8.2702980000000004,8.3081849999999999,8.353351,8.3836040000000001,8.4254669999999994,8.4617819999999995,8.5141209999999994,8.5236640000000001,8.5452919999999999,8.5469749999999998,8.561496,8.5831959999999992,8.6163620000000005,8.6364249999999991,8.6667170000000002,8.6935470000000006,5.8599999999999998E-3]
["   Electricity",28.514821999999999,27.418941,27.106192,26.862525999999999,26.508644,26.119555999999999,25.942240000000002,25.699992999999999,25.676783,25.730927000000001,25.579342,25.615556999999999,25.588144,25.469273000000001,25.442041,25.613721999999999,25.627579000000001,25.545839000000001,25.400967000000001,25.453620999999998,25.408757999999999,25.279696999999999,25.085892000000001,25.059155000000001,24.999224000000002,25.001518000000001,24.938976,24.867502000000002,24.784345999999999,24.856251,-4.7239999999999999E-3]
[]
[" Industrial 1/"]
["   Propane",13.641980999999999,14.473857000000001,12.690696000000001,12.673786,12.554608,12.704501,13.113275,13.681419,14.057202,14.454497,14.810349,15.102989000000001,15.386189,15.557034,15.672612000000001,15.832416,16.038618,16.228031000000001,16.321311999999999,16.630306000000001,16.814444000000002,16.831151999999999,17.024878000000001,17.258875,17.293581,17.409199000000001,17.486640999999999,17.525883,17.502065999999999,17.474976999999999,8.5749999999999993E-3]
["   Distillate Fuel Oil",22.828917000000001,23.408438,22.177299000000001,22.629791000000001,22.212897999999999,21.803837000000001,21.490621999999998,21.681746,21.807762,21.767772999999998,22.076419999999999,22.187397000000001,22.231446999999999,22.273993000000001,22.404667,22.608923000000001,22.840572000000002,22.996169999999999,23.089458,23.248058,23.374395,23.431508999999998,23.736076000000001,24.037088000000001,24.182489,24.382670999999998,24.464724,24.435943999999999,24.432182000000001,24.362427,2.2439999999999999E-3]
["   Residual Fuel Oil",6.0021630000000004,7.5337500000000004,7.6130100000000001,9.1380619999999997,9.7598760000000002,10.483718,11.334161999999999,11.553039,11.673802999999999,11.818187,12.157349,12.287326999999999,12.387034,12.429523,12.457668,12.415902000000001,12.399844999999999,12.670883,12.649698000000001,13.009326,13.27463,13.427529,13.777009,14.030972,14.083257,14.373461000000001,14.482759,14.559535,14.589054000000001,14.554028000000001,3.1014E-2]
["   Natural Gas 2/",5.1373389999999999,5.0022120000000001,4.7059340000000001,4.3682730000000003,4.2045320000000004,4.1993590000000003,4.291588,4.4418639999999998,4.5808710000000001,4.6690430000000003,4.7227620000000003,4.7415510000000003,4.8054829999999997,4.8111360000000003,4.7835710000000002,4.786562,4.7970119999999996,4.8027850000000001,4.8090999999999999,4.8279930000000002,4.843985,4.8225300000000004,4.8208200000000003,4.7924660000000001,4.781873,4.7790749999999997,4.7833810000000003,4.7868500000000003,4.782794,4.7821069999999999,-2.4680000000000001E-3]
["   Metallurgical Coal",0,0,0,0,0,0,0,0,0,0,0,0,0,0,0,0,0,0,0,0,0,0,0,0,0,0,0,0,0,0,"--"]
["   Other Industrial Coal",3.0192450000000002,3.0159370000000001,3.0138850000000001,2.974523,2.9779490000000002,2.961589,2.945773,2.9372690000000001,2.9304800000000002,2.9277229999999999,2.923997,2.9176199999999999,2.9098060000000001,2.9015219999999999,2.8917090000000001,2.8830269999999998,2.8741970000000001,2.8654540000000002,2.856582,2.8486739999999999,2.8410449999999998,2.8319879999999999,2.8277299999999999,2.8225989999999999,2.819299,2.813984,2.8066460000000002,2.7977590000000001,2.7894199999999998,2.7811319999999999,-2.8289999999999999E-3]
["   Coal to Liquids","--","--","--","--","--","--","--","--","--","--","--","--","--","--","--","--","--","--","--","--","--","--","--","--","--","--","--","--","--","--","--"]
["   Electricity",20.017334000000002,19.237642000000001,19.079027,18.747133000000002,18.370529000000001,18.086746000000002,18.014395,17.920259000000001,17.972066999999999,18.066832000000002,17.864629999999998,17.98554,17.923893,17.937328000000001,17.998308000000002,18.176983,18.205143,18.188692,18.136483999999999,18.177005999999999,18.143422999999999,18.062704,17.987393999999998,17.974682000000001,17.912807000000001,17.920984000000001,17.897670999999999,17.818071,17.769093000000002,17.827397999999999,-3.9870000000000001E-3]
[]
[" Transportation"]
["   Propane",17.192169,17.787631999999999,16.318183999999999,16.321843999999999,16.2255,16.352909,16.690564999999999,17.150352000000002,17.446966,17.759706000000001,18.036660999999999,18.262481999999999,18.480281999999999,18.610105999999998,18.698129999999999,18.820715,18.978110999999998,19.121414000000001,19.191203999999999,19.425405999999999,19.561968,19.573302999999999,19.719467000000002,19.893509000000002,19.917853999999998,20.004486,20.062075,20.091639000000001,20.074884000000001,20.056405999999999,5.3280000000000003E-3]
["   E85 3/",26.885551,26.885551,25.490500999999998,25.10961,24.782962999999999,25.047322999999999,25.357102999999999,25.643146999999999,25.846247000000002,26.550609999999999,26.901730000000001,27.274431,27.372242,27.753934999999998,27.869375000000002,28.062258,28.253150999999999,28.668023999999999,28.810801000000001,28.819645000000001,29.143253000000001,29.330964999999999,29.826992000000001,30.167027999999998,30.294257999999999,30.581478000000001,30.676269999999999,30.599793999999999,30.635458,30.674868,4.5570000000000003E-3]
["   Motor Gasoline 4/",25.271177000000002,24.050046999999999,21.237593,20.920248000000001,20.648099999999999,20.868357,21.126449999999998,21.364771000000001,21.533982999999999,22.120829000000001,22.413366,22.668921999999998,22.805375999999999,23.011799,23.107513000000001,23.323719000000001,23.539311999999999,23.848859999999998,24.003920000000001,24.011292000000001,24.280909000000001,24.437301999999999,24.850567000000002,25.133873000000001,25.239874,25.479175999999999,25.558149,25.494433999999998,25.524146999999999,25.556982000000001,3.88E-4]
["   Jet Fuel 5/",14.550072,15.191682,14.076986,15.242556,15.255512,15.385554000000001,15.601440999999999,15.893039999999999,16.053213,15.989470000000001,16.420276999999999,16.60454,16.704977,16.880628999999999,16.991849999999999,17.204854999999998,17.513895000000002,17.723061000000001,17.948806999999999,17.976973999999998,18.213342999999998,18.353394000000002,18.786971999999999,19.120408999999999,19.252963999999999,19.475356999999999,19.554991000000001,19.529140000000002,19.583065000000001,19.555091999999998,1.0246999999999999E-2]
["   Diesel Fuel (distillate fuel oil) 6/",23.656803,22.704734999999999,21.818514,22.525213000000001,22.432472000000001,22.324472,22.29665,22.471032999999998,22.606069999999999,22.552012999999999,22.84741,22.952396,22.986818,23.018398000000001,23.157757,23.359165000000001,23.592307999999999,23.745287000000001,23.852150000000002,24.011714999999999,24.145765000000001,24.185369000000001,24.500167999999999,24.808149,24.953384,25.130312,25.209347000000001,25.17869,25.168334999999999,25.111146999999999,2.0590000000000001E-3]
["   Residual Fuel Oil",11.645771,12.045945,12.315438,12.570909,12.985001,13.328957000000001,13.525503,13.601965,13.851416,14.136447,14.550879999999999,14.881284000000001,14.853401,15.110179,15.233833000000001,15.664408999999999,15.746606999999999,15.933702,16.167580000000001,16.348278000000001,16.431805000000001,16.47748,16.554281,16.643751000000002,16.745550000000001,16.859119,17.050594,17.184607,17.327711000000001,17.611425000000001,1.4364E-2]
["   Natural Gas 7/",14.820181,14.451273,13.902668999999999,13.378912,12.809806,12.31221,11.936334,11.64324,11.389301,11.157247999999999,10.957801999999999,10.764875,10.654484,10.545152,10.399518,10.32917,10.249482,10.184984,10.132133,10.106088,10.087040999999999,10.030176000000001,10.009641,9.9692270000000001,9.9472400000000007,9.9362630000000003,9.9387939999999997,9.9367009999999993,9.9346329999999998,9.9323669999999993,-1.3705E-2]
["   Electricity",35.035465000000002,34.831099999999999,34.248226000000003,34.308422,34.048324999999998,33.648674,33.417544999999997,33.003673999999997,32.863247000000001,32.815769000000003,32.652141999999998,32.394618999999999,32.358401999999998,32.063011000000003,31.860907000000001,31.800761999999999,31.755393999999999,31.581409000000001,31.209087,31.111616000000001,30.969190999999999,30.738589999999999,30.335101999999999,30.194579999999998,30.077375,29.959641000000001,29.779373,29.648819,29.434237,29.345064000000001,-6.0930000000000003E-3]
[]
[" Electric Power 8/"]
["   Distillate Fuel Oil",22.684038000000001,23.304950999999999,21.849782999999999,22.388718000000001,21.868262999999999,21.426638000000001,21.098635000000002,21.331627000000001,21.457543999999999,21.4452,21.793164999999998,21.939943,21.99897,22.091937999999999,22.192781,22.385985999999999,22.598604000000002,22.750277000000001,22.815536000000002,22.992837999999999,23.107979,23.208786,23.467123000000001,23.762502999999999,23.901613000000001,24.161968000000002,24.289593,24.261036000000001,24.254770000000001,24.184853,2.212E-3]
["   Residual Fuel Oil",7.2853839999999996,9.0032440000000005,8.7265160000000002,9.8955749999999991,10.161401,10.529251,11.023706000000001,11.242582000000001,11.363346,11.50773,11.846892,11.976870999999999,12.076579000000001,12.119066,12.147212,12.105446000000001,12.089389000000001,12.360428000000001,12.339242,12.698871,12.964173000000001,13.117074000000001,13.466552999999999,13.720514,13.7728,14.063003999999999,14.172300999999999,14.249079999999999,14.278598000000001,14.243570999999999,2.3387999999999999E-2]
["   Natural Gas",5.4860559999999996,4.2748939999999997,4.0653309999999996,3.7187380000000001,3.5581969999999998,3.6193749999999998,3.7652269999999999,3.9590450000000001,4.108975,4.2007510000000003,4.2602019999999996,4.342225,4.4119190000000001,4.4268710000000002,4.4023539999999999,4.4110240000000003,4.4074730000000004,4.426501,4.4413970000000003,4.4804729999999999,4.5016040000000004,4.4922589999999998,4.5084340000000003,4.5356880000000004,4.5536640000000004,4.5739210000000003,4.593343,4.630776,4.6260490000000001,4.6044179999999999,-6.0229999999999997E-3]
["   Steam Coal",1.994575,2.0334400000000001,2.002955,2.0240100000000001,1.7538,1.728866,1.735061,1.670833,1.6824490000000001,1.6652940000000001,1.6660790000000001,1.5480240000000001,1.4871270000000001,1.4553320000000001,1.4389080000000001,1.4308890000000001,1.432137,1.4339599999999999,1.432021,1.4330499999999999,1.4356599999999999,1.4321060000000001,1.4283600000000001,1.420984,1.4186669999999999,1.383502,1.373537,1.369578,1.367545,1.3677429999999999,-1.2925000000000001E-2]
["   Uranium",0.71666399999999997,0.71771300000000005,0.71981200000000001,0.72086099999999997,0.72295900000000002,0.72400900000000001,0.72610699999999995,0.72715700000000005,0.72925499999999999,0.73135399999999995,0.73240300000000003,0.73450199999999999,0.73660000000000003,0.737649,0.73974799999999996,0.74184700000000003,0.742896,0.74499400000000005,0.74709300000000001,0.74919199999999997,0.75129000000000001,0.75338899999999998,0.75548700000000002,0.75758599999999998,0.75968500000000005,0.76178299999999999,0.76388199999999995,0.76597999999999999,0.76807899999999996,0.770177,2.4859999999999999E-3]
[]
[]
[" Average Price to All Users 9/"]
["   Propane",19.333178,21.007836999999999,20.584885,20.537393999999999,20.479607000000001,20.596492999999999,20.912534999999998,21.413853,21.840903999999998,22.281856999999999,22.696898000000001,23.059456000000001,23.397628999999998,23.644158999999998,23.823933,24.008564,24.219038000000001,24.421612,24.555723,24.822075000000002,25.029572999999999,25.112701000000001,25.285339,25.498466000000001,25.58643,25.702179000000001,25.790298,25.844436999999999,25.843416000000001,25.822289999999999,1.0030000000000001E-2]
["   E85 3/",26.885551,26.885551,25.490500999999998,25.10961,24.782962999999999,25.047322999999999,25.357102999999999,25.643146999999999,25.846247000000002,26.550609999999999,26.901730000000001,27.274431,27.372242,27.753934999999998,27.869375000000002,28.062258,28.253150999999999,28.668023999999999,28.810801000000001,28.819645000000001,29.143253000000001,29.330964999999999,29.826992000000001,30.167027999999998,30.294257999999999,30.581478000000001,30.676269999999999,30.599793999999999,30.635458,30.674868,4.5570000000000003E-3]
["   Motor Gasoline 4/",25.266521000000001,24.046876999999999,21.273882,20.968443000000001,20.689692000000001,20.892047999999999,21.126450999999999,21.364771000000001,21.533981000000001,22.120829000000001,22.413366,22.668921999999998,22.805375999999999,23.011799,23.107512,23.323719000000001,23.539311999999999,23.848859999999998,24.003920000000001,24.011292000000001,24.280909000000001,24.437301999999999,24.850569,25.133875,25.239871999999998,25.479174,25.558150999999999,25.494436,25.524146999999999,25.556982000000001,3.9399999999999998E-4]
["   Jet Fuel 5/",14.550072,15.191682,14.076986,15.242556,15.255512,15.385554000000001,15.601440999999999,15.893039999999999,16.053213,15.989470000000001,16.420276999999999,16.60454,16.704977,16.880628999999999,16.991849999999999,17.204854999999998,17.513895000000002,17.723061000000001,17.948806999999999,17.976973999999998,18.213342999999998,18.353394000000002,18.786971999999999,19.120408999999999,19.252963999999999,19.475356999999999,19.554991000000001,19.529140000000002,19.583065000000001,19.555091999999998,1.0246999999999999E-2]
["   Distillate Fuel Oil",23.442276,22.852322000000001,21.883116000000001,22.536601999999998,22.358179,22.172989000000001,22.078796000000001,22.260542000000001,22.385103000000001,22.338177000000002,22.637160999999999,22.739971000000001,22.779693999999999,22.810984000000001,22.946504999999998,23.151593999999999,23.386275999999999,23.541847000000001,23.639779999999998,23.794146000000001,23.922187999999998,23.970575,24.284101,24.586051999999999,24.732492000000001,24.920860000000001,24.993824,24.964689,24.961131999999999,24.891190000000002,2.0699999999999998E-3]
["   Residual Fuel Oil",7.2853839999999996,9.0032440000000005,8.7265160000000002,9.8955749999999991,10.161401,10.529251,11.023706000000001,11.242582000000001,11.363346,11.50773,11.846892,11.976870999999999,12.076579000000001,12.119066,12.147212,12.105446000000001,12.089389000000001,12.360428000000001,12.339242,12.698871,12.964173000000001,13.117074000000001,13.466552999999999,13.720514,13.7728,14.063003999999999,14.172300999999999,14.249079999999999,14.278598000000001,14.243570999999999,2.3387999999999999E-2]
["   Natural Gas",6.5114939999999999,6.1846310000000004,5.938123,5.7679650000000002,5.7474920000000003,5.8027980000000001,5.9857639999999996,6.138452,6.2987690000000001,6.4004490000000001,6.3897649999999997,6.3480109999999996,6.3929020000000003,6.385078,6.3643029999999996,6.3936859999999998,6.4395379999999998,6.4324849999999998,6.4322220000000003,6.4493020000000003,6.474723,6.4709979999999998,6.5210489999999997,6.5039470000000001,6.5128349999999999,6.527088,6.55307,6.5454299999999996,6.5411200000000003,6.5743869999999998,3.3199999999999999E-4]
["   Metallurgical Coal",0,0,0,0,0,0,0,0,0,0,0,0,0,0,0,0,0,0,0,0,0,0,0,0,0,0,0,0,0,0,"--"]
["   Other Coal",2.0423049999999998,2.0810569999999999,2.0571069999999998,2.0763379999999998,1.8319749999999999,1.8119799999999999,1.816101,1.7557210000000001,1.769072,1.759153,1.7598590000000001,1.6638139999999999,1.616689,1.5984940000000001,1.586109,1.5779259999999999,1.578308,1.578924,1.576411,1.5767519999999999,1.578384,1.5750710000000001,1.572249,1.566459,1.5640879999999999,1.5375719999999999,1.5293159999999999,1.5262,1.522769,1.521612,-1.0097E-2]
["   Coal to Liquids","--","--","--","--","--","--","--","--","--","--","--","--","--","--","--","--","--","--","--","--","--","--","--","--","--","--","--","--","--","--","--"]
["   Electricity",28.650351000000001,27.515723999999999,27.513193000000001,27.329291999999999,27.068453000000002,26.790555999999999,26.732779000000001,26.613844,26.681678999999999,26.824079999999999,26.748961999999999,26.869703000000001,26.938365999999998,26.926542000000001,26.981842,27.196268,27.288537999999999,27.283263999999999,27.209036000000001,27.315518999999998,27.333124000000002,27.274941999999999,27.140522000000001,27.169083000000001,27.173031000000002,27.219746000000001,27.214538999999998,27.209864,27.166308999999998,27.246884999999999,-1.73E-3]
[]
["Non-Renewable Energy Expenditures by Sector"]
["(billion 2021 dollars)"]
[" Residential",17.73761,17.157420999999999,17.515366,17.604752999999999,17.715816,17.853048000000001,18.091847999999999,18.273326999999998,18.544888,18.800808,19.000264999999999,19.229991999999999,19.500706000000001,19.682701000000002,19.872115999999998,20.14686,20.403984000000001,20.607375999999999,20.781288,21.04702,21.281314999999999,21.460986999999999,21.592876,21.822329,22.049965,22.280781000000001,22.492488999999999,22.707599999999999,22.887233999999999,23.120356000000001,9.1809999999999999E-3]
[" Commercial",13.011105000000001,12.81467,12.666422000000001,12.546659999999999,12.426829,12.328106999999999,12.383893,12.444635999999999,12.572815,12.697272,12.765039,12.884465000000001,12.995112000000001,13.069989,13.156294000000001,13.320131999999999,13.431889999999999,13.512899000000001,13.575915999999999,13.700602999999999,13.805933,13.868866000000001,13.932589,14.045336000000001,14.139649,14.253245,14.354063,14.44459,14.537499,14.684376,4.1799999999999997E-3]
[" Industrial 1/",11.776092999999999,12.032427999999999,11.85585,11.909164000000001,11.82152,11.809971000000001,11.842167999999999,11.998355999999999,12.189272000000001,12.360073,12.479044,12.654339,12.793272,12.915402,13.084225,13.285786,13.492108999999999,13.697398,13.828776,14.061408999999999,14.299716999999999,14.484788999999999,14.693232999999999,14.914835999999999,15.090657999999999,15.328151999999999,15.490788,15.586969,15.733371999999999,15.960991,1.0541E-2]
[" Transportation",46.312744000000002,45.979973000000001,42.964030999999999,43.443207000000001,43.355685999999999,43.811813000000001,44.217883999999998,44.731838000000003,45.113093999999997,45.906818000000001,46.710479999999997,47.262230000000002,47.715000000000003,48.261799000000003,48.740105,49.461075000000001,50.348320000000001,51.291012000000002,52.054538999999998,52.665515999999997,53.695132999999998,54.537567000000003,56.015236000000002,57.309719000000001,58.252487000000002,59.505409,60.392448000000002,60.971817000000001,61.799339000000003,62.642859999999999,1.0468999999999999E-2]
["   Total Non-Renewable Expenditures",88.837554999999995,87.984497000000005,85.001662999999994,85.503783999999996,85.319855000000004,85.802940000000007,86.535797000000002,87.448158000000006,88.420074,89.764968999999994,90.954825999999997,92.031020999999996,93.004088999999993,93.929885999999996,94.852737000000005,96.213852000000003,97.676299999999998,99.108688000000001,100.24052399999999,101.474548,103.0821,104.352211,106.233932,108.092224,109.53276099999999,111.36758399999999,112.729782,113.710976,114.957443,116.408585,9.3640000000000008E-3]
[" Transportation Renewable Expenditures",4.6702E-2,4.7837999999999999E-2,4.4301E-2,4.3980999999999999E-2,4.3494999999999999E-2,4.3400000000000001E-2,4.3076000000000003E-2,4.2569000000000003E-2,4.1856999999999998E-2,4.1742000000000001E-2,4.1078999999999997E-2,4.0152E-2,3.9683000000000003E-2,3.8595999999999998E-2,3.7989000000000002E-2,3.7957999999999999E-2,3.8133E-2,3.8359999999999998E-2,3.8787000000000002E-2,3.9229E-2,4.0065000000000003E-2,4.0948999999999999E-2,4.2255000000000001E-2,4.3469000000000001E-2,4.4585E-2,4.5976999999999997E-2,4.7280999999999997E-2,4.8446000000000003E-2,4.9856999999999999E-2,5.1351000000000001E-2,3.2780000000000001E-3]
["   Total Expenditures",88.884253999999999,88.032332999999994,85.045967000000005,85.547768000000005,85.363349999999997,85.846344000000002,86.578873000000002,87.490729999999999,88.461928999999998,89.806708999999998,90.995902999999998,92.071174999999997,93.043769999999995,93.968483000000006,94.890724000000006,96.251807999999997,97.714432000000002,99.147048999999996,100.279312,101.513779,103.122162,104.393158,106.276184,108.135696,109.577347,111.41355900000001,112.777061,113.759422,115.007301,116.45993799999999,9.3609999999999995E-3]
[]
[]
["Prices in Nominal Dollars"]
[" Residential"]
["   Propane",20.472415999999999,22.670555,22.872786999999999,23.436703000000001,23.933964,24.611771000000001,25.580369999999998,26.809781999999998,28.030163000000002,29.284056,30.550932,31.771978000000001,32.991455000000002,34.138469999999998,35.211886999999997,36.299858,37.447288999999998,38.625950000000003,39.741272000000002,41.074516000000003,42.390056999999999,43.568089000000001,44.882579999999997,46.300552000000003,47.578105999999998,48.913631000000002,50.235301999999997,51.531364000000004,52.761294999999997,53.965465999999999,3.3987999999999997E-2]
["   Distillate Fuel Oil",19.745047,20.603266000000001,20.307047000000001,22.214939000000001,23.068940999999999,24.05735,25.231010000000001,26.139046,26.926773000000001,27.538734000000002,28.612434,29.437201999999999,30.166498000000001,30.965216000000002,31.789684000000001,32.763751999999997,33.794818999999997,34.770556999999997,35.637726000000001,36.718525,37.732208,38.754497999999998,40.067307,41.478724999999997,42.660151999999997,44.092945,45.327052999999999,46.310116000000001,47.360419999999998,48.310184,3.1334000000000001E-2]
["   Natural Gas",9.1122680000000003,9.8415999999999997,9.6561419999999991,9.7378909999999994,9.9951260000000008,10.42252,10.970668,11.430823999999999,11.932817,12.311358,12.682233,13.011786000000001,13.41258,13.771523999999999,14.046523000000001,14.393815,14.758546000000001,15.110837,15.484734,15.865648,16.281538000000001,16.641829999999999,17.02984,17.390245,17.776558000000001,18.184698000000001,18.620840000000001,19.042663999999998,19.493884999999999,19.947870000000002,2.7386000000000001E-2]
["   Electricity",35.289794999999998,34.976008999999998,36.057170999999997,36.857478999999998,37.637912999999998,38.358505000000001,39.358688000000001,40.287368999999998,41.447975,42.723278000000001,43.826560999999998,45.053493000000003,46.386681000000003,47.509346000000001,48.735236999999998,50.204467999999999,51.633651999999998,52.912860999999999,54.064255000000003,55.635601000000001,57.134124999999997,58.529873000000002,59.718414000000003,61.301670000000001,62.932796000000003,64.633262999999999,66.258865,68.015144000000006,69.627617000000001,71.543800000000005,2.4669E-2]
[]
[" Commercial"]
["   Propane",18.590827999999998,20.074494999999999,18.817986000000001,19.155443000000002,19.464310000000001,20.077141000000001,21.024597,22.184996000000002,23.168377,24.173888999999999,25.158038999999999,26.074975999999999,27.000876999999999,27.824954999999999,28.593512,29.429918000000001,30.349491,31.280332999999999,32.107242999999997,33.251190000000001,34.273707999999999,35.094006,36.173209999999997,37.346477999999998,38.264046,39.316001999999997,40.338295000000002,41.327914999999997,42.241881999999997,43.163440999999999,2.9472000000000002E-2]
["   Distillate Fuel Oil",22.352884,23.422438,22.509315000000001,23.500416000000001,23.573596999999999,23.674896,23.899038000000001,24.731290999999999,25.484859,26.03396,27.030353999999999,27.780317,28.45599,29.158155000000001,29.977896000000001,30.925291000000001,31.939177000000001,32.878535999999997,33.740043999999997,34.753098000000001,35.737327999999998,36.653773999999999,37.983764999999998,39.355747000000001,40.498252999999998,41.790657000000003,42.90184,43.829140000000002,44.826594999999998,45.718615999999997,2.4981E-2]
["   Residual Fuel Oil",5.9193740000000004,7.6732329999999997,7.9008859999999999,9.7142110000000006,10.632496,11.711811000000001,12.993245,13.577076999999999,14.052878,14.558047999999999,15.321259,15.829094,16.310751,16.732140000000001,17.141390000000001,17.461365000000001,17.8249,18.620287000000001,19.000359,19.983812,20.853838,21.574992999999999,22.643871000000001,23.587834999999998,24.213566,25.277280999999999,26.049755000000001,26.786173000000002,27.456053000000001,28.017256,5.5069E-2]
["   Natural Gas",7.3384520000000002,8.1184969999999996,8.1039779999999997,7.9958369999999999,8.0481219999999993,8.2638569999999998,8.6571359999999995,9.0605220000000006,9.5180229999999995,9.8571840000000002,10.184168,10.471498,10.830375,11.14715,11.37969,11.684391,12.008025,12.319986,12.655393,12.998265,13.375297,13.695593000000001,14.045030000000001,14.368544999999999,14.719913999999999,15.094476,15.498023,15.889021,16.310435999999999,16.735529,2.8836000000000001E-2]
["   Electricity",28.514821999999999,28.080877000000001,28.254072000000001,28.63402,28.927831999999999,29.202338999999998,29.739639,30.202511000000001,30.909613,31.696241000000001,32.236279000000003,32.999125999999997,33.693443000000002,34.285739999999997,35.007511000000001,36.022396000000001,36.839900999999998,37.540461999999998,38.153278,39.099670000000003,39.916004000000001,40.618735999999998,41.231133,42.127602000000003,42.981563999999999,43.967865000000003,44.857081999999998,45.750442999999997,46.643211000000001,47.849567,1.8010000000000002E-2]
[]
[" Industrial 1/"]
["   Propane",13.641980999999999,14.823278999999999,13.228116,13.50958,13.700346,14.203958999999999,15.032783,16.078341000000002,16.922007000000001,17.805546,18.664694000000001,19.456358000000002,20.259916,20.942270000000001,21.565059999999999,22.266251,23.055674,23.847632999999998,24.515267999999999,25.546053000000001,26.414724,27.043839999999999,27.982063,29.014348999999999,29.733128000000001,30.615953000000001,31.452760999999999,32.243564999999997,32.938231999999999,33.640236000000002,3.1613000000000002E-2]
["   Distillate Fuel Oil",22.828917000000001,23.973555000000001,23.116454999999998,24.122150000000001,24.240055000000002,24.377253,24.636398,25.480286,26.252098,26.814291000000001,27.821732999999998,28.582813000000002,29.273481,29.984379000000001,30.828173,31.796534999999999,32.833548999999998,33.793640000000003,34.681297000000001,35.711674000000002,36.720108000000003,37.649116999999997,39.012577,40.409382000000001,41.577334999999998,42.879555000000003,44.004050999999997,44.956477999999997,45.980452999999997,46.898933,2.5137E-2]
["   Residual Fuel Oil",6.0021630000000004,7.7156269999999996,7.935403,9.7406849999999991,10.650566,11.721067,12.993245,13.577076999999999,14.052878,14.558047999999999,15.321259,15.829094,16.310751,16.732140000000001,17.141390000000001,17.461365000000001,17.8249,18.620287000000001,19.000359,19.983812,20.853838,21.574992999999999,22.643871000000001,23.587834999999998,24.213566,25.277280999999999,26.049755000000001,26.786173000000002,27.456053000000001,28.017256,5.4564000000000001E-2]
["   Natural Gas 2/",5.1373389999999999,5.122973,4.9052189999999998,4.6563460000000001,4.5882389999999997,4.6949920000000001,4.9197860000000002,5.2200579999999999,5.5144339999999996,5.7514880000000002,5.9518449999999996,6.108282,6.3276680000000001,6.4765629999999996,6.5820550000000004,6.7316820000000002,6.8957519999999999,7.0578539999999998,7.2234619999999996,7.4163490000000003,7.6096789999999999,7.7487110000000001,7.9234929999999997,8.0567410000000006,8.2215489999999996,8.4045179999999995,8.6037429999999997,8.8066949999999995,9.0010399999999997,9.2058040000000005,2.0317000000000002E-2]
["   Metallurgical Coal",0,0,0,0,0,0,0,0,0,0,0,0,0,0,0,0,0,0,0,0,0,0,0,0,0,0,0,0,0,0,"--"]
["   Other Industrial Coal",3.0192450000000002,3.088746,3.1415150000000001,3.1706829999999999,3.2497180000000001,3.3111320000000002,3.3769719999999999,3.4518650000000002,3.5276999999999998,3.6064699999999998,3.684958,3.75861,3.8315169999999998,3.9059149999999998,3.978907,4.0546049999999996,4.1316870000000003,4.2108800000000004,4.2907019999999996,4.3758889999999999,4.463152,4.5503609999999997,4.6476540000000002,4.7451460000000001,4.8472650000000002,4.9486949999999998,5.0482399999999998,5.1472290000000003,5.2495839999999996,5.3538240000000004,1.9948E-2]
["   Coal to Liquids","--","--","--","--","--","--","--","--","--","--","--","--","--","--","--","--","--","--","--","--","--","--","--","--","--","--","--","--","--","--","--"]
["   Electricity",20.017334000000002,19.702069999999999,19.886977999999999,19.983443999999999,20.047028999999998,20.221450999999998,20.651323000000001,21.059805000000001,21.634705,22.255344000000001,22.513839999999998,23.169792000000001,23.601462999999999,24.146529999999998,24.765149999999998,25.563583000000001,26.170074,26.728888999999999,27.241731999999999,27.921961,28.502493000000001,29.022665,29.564053999999999,30.217708999999999,30.797772999999999,31.515985000000001,32.192065999999997,32.781123999999998,33.440764999999999,34.318660999999999,1.8762999999999998E-2]
[]
[]
[" Transportation"]
["   Propane",17.192169,18.217054000000001,17.009218000000001,17.398216000000001,17.706244999999999,18.282973999999999,19.133714999999999,20.155011999999999,21.002590000000001,21.877018,22.730642,23.52656,24.334095000000001,25.052198000000001,25.728085,26.468907999999999,27.281223000000001,28.099556,28.825963999999999,29.839642999999999,30.730961000000001,31.449857999999999,32.410885,33.443500999999998,34.245083000000001,35.180045999999997,36.085124999999998,36.963959000000003,37.780182000000003,38.609614999999998,2.8291E-2]
["   E85 3/",26.885551,27.534611000000002,26.569962,26.765505000000001,27.044665999999999,28.003553,29.068850999999999,30.135705999999999,31.113610999999999,32.705956,33.902813000000002,35.136166000000003,36.042675000000003,37.361263000000001,38.347453999999999,39.465949999999999,40.614184999999999,42.128619999999998,43.274985999999998,44.270266999999997,45.782725999999997,47.128203999999997,49.023598,50.714587999999999,52.085396000000003,53.780827000000002,55.176597999999998,56.296534999999999,57.654784999999997,59.050708999999998,2.7503E-2]
["   Motor Gasoline 4/",25.271177000000002,24.630652999999999,22.136952999999998,22.299869999999999,22.532454000000001,23.331361999999999,24.218920000000001,25.107776999999999,25.922525,27.249196999999999,28.246369999999999,29.203136000000001,30.029207,30.977585000000001,31.795269000000001,32.801803999999997,33.837994000000002,35.046695999999997,36.054859,36.884087000000001,38.144199,39.265197999999998,40.844357000000002,42.253216000000002,43.395313000000002,44.807876999999998,45.970771999999997,46.903854000000003,48.035488000000001,49.198512999999998,2.3238000000000002E-2]
["   Jet Fuel 5/",14.550072,15.558434,14.673112,16.247751000000001,16.647735999999998,17.201447000000002,17.885164,18.677424999999999,19.324795000000002,19.696379,20.693598000000001,21.390723999999999,21.996445000000001,22.724043000000002,23.380293000000002,24.196411000000001,25.176394999999999,26.044630000000002,26.959831000000001,27.614688999999998,28.612331000000001,29.489737999999999,30.878239000000001,32.143822,33.101925000000001,34.249516,35.173045999999999,35.929091999999997,36.854595000000003,37.644562000000001,3.3321999999999997E-2]
["   Diesel Fuel (distillate fuel oil) 6/",23.656803,23.252863000000001,22.742476,24.010674999999999,24.479668,24.959337000000001,25.560410999999998,26.407851999999998,27.213099,27.780346000000002,28.793371,29.568321000000001,30.268124,30.986469,31.864402999999999,32.851654000000003,33.914177000000002,34.894492999999997,35.826892999999998,36.884739000000003,37.931896000000002,38.860396999999999,40.268436000000001,41.705635000000001,42.902748000000003,44.194366000000002,45.343387999999997,46.322955999999998,47.365864000000002,48.340255999999997,2.4948000000000001E-2]
["   Residual Fuel Oil",11.645771,12.336753,12.836967,13.399919000000001,14.170016,14.902118,15.505352,15.984965000000001,16.67428,17.413761000000001,18.337698,19.170748,19.558364999999998,20.340733,20.961313000000001,22.029972000000001,22.635904,23.415108,24.284357,25.112822999999999,25.813616,26.475570999999999,27.208590999999998,27.980246999999999,28.790891999999999,29.648579000000002,30.668455000000002,31.615694000000001,32.610104,33.902904999999997,3.7533999999999998E-2]
["   Natural Gas 7/",14.820181,14.800148999999999,14.491413,14.261207000000001,13.978833,13.765368,13.683562,13.683081,13.710397,13.743881,13.809533,13.867803,14.029398,14.195472000000001,14.309435000000001,14.526647000000001,14.733731000000001,14.967174999999999,15.218871999999999,15.524107000000001,15.846280999999999,16.116216999999999,16.451830000000001,16.759529000000001,17.102447999999999,17.473991000000002,17.876646000000001,18.281227000000001,18.696608000000001,19.120321000000001,8.8240000000000002E-3]
["   Electricity",35.035465000000002,35.671978000000003,35.698554999999999,36.570950000000003,37.155589999999997,37.620086999999998,38.309173999999999,38.785763000000003,39.560650000000003,40.423591999999999,41.149749999999997,41.732224000000002,42.608246000000001,43.161976000000003,43.839683999999998,44.723675,45.648693000000002,46.409934999999997,46.877307999999999,47.790996999999997,48.651187999999998,49.389938000000001,49.858730000000001,50.760902000000002,51.712508999999997,52.687260000000002,53.563374000000003,54.546959000000001,55.394131000000002,56.490768000000003,1.6608999999999999E-2]
[]
[" Electric Power 8/"]
["   Distillate Fuel Oil",22.684038000000001,23.867569,22.775065999999999,23.865179000000001,23.863968,23.955534,24.187033,25.068826999999999,25.830508999999999,26.416934999999999,27.464763999999999,28.264032,28.967362999999999,29.739304000000001,30.536622999999999,31.483006,32.485717999999999,33.432293000000001,34.269855,35.319626,36.301582000000003,37.291252,38.570529999999998,39.947769000000001,41.094420999999997,42.491427999999999,43.689048999999997,44.634686000000002,45.646568000000002,46.557094999999997,2.5104000000000001E-2]
["   Residual Fuel Oil",7.2853839999999996,9.2205969999999997,9.0960619999999999,10.548155,11.088734000000001,11.771976,12.637345,13.21223,13.679152,14.175618,14.930006000000001,15.42915,15.901956,16.314215000000001,16.714212,17.024750000000001,17.378616000000001,18.164061,18.534040000000001,19.506916,20.366125,21.076160000000002,22.133606,23.065918,23.679791999999999,24.731307999999999,25.491344000000002,26.215005999999999,26.871786,27.419611,4.6764E-2]
["   Natural Gas",5.4860559999999996,4.3780970000000003,4.2374879999999999,3.9639760000000002,3.8829199999999999,4.0465549999999997,4.3163770000000001,4.6526509999999996,4.9463679999999997,5.1746290000000004,5.368906,5.593852,5.8094380000000001,5.9592809999999998,6.0575109999999999,6.2035369999999999,6.3357859999999997,6.5048909999999998,6.6711580000000001,6.8825190000000003,7.071815,7.2180400000000002,7.410056,7.6250650000000002,7.829186,8.0437340000000006,8.2619249999999997,8.5195559999999997,8.7060510000000004,8.8637429999999995,1.6681000000000001E-2]
["   Steam Coal",1.994575,2.0825300000000002,2.0877750000000002,2.1574870000000002,1.9138520000000001,1.932917,1.9890380000000001,1.9635549999999999,2.025325,2.0513659999999998,2.0996709999999998,1.994235,1.9581900000000001,1.959111,1.979895,2.0123600000000001,2.0587110000000002,2.1072519999999999,2.150954,2.2013289999999999,2.2553559999999999,2.3010700000000002,2.3476499999999998,2.3888530000000001,2.4391370000000001,2.4330379999999998,2.470545,2.5197059999999998,2.5736690000000002,2.6329760000000002,9.6209999999999993E-3]
["   Uranium",0.71666399999999997,0.73504000000000003,0.75029400000000002,0.76839900000000005,0.788937,0.80945999999999996,0.83239399999999997,0.85455099999999995,0.87787400000000004,0.90090700000000001,0.92300800000000005,0.946218,0.96992599999999995,0.99299499999999996,1.0178720000000001,1.043312,1.06792,1.094794,1.1221639999999999,1.150844,1.1802429999999999,1.2105250000000001,1.2417180000000001,1.273598,1.306138,1.3396779999999999,1.373974,1.4092260000000001,1.4454959999999999,1.482631,2.5385000000000001E-2]
[]
[" Average Price to All Users 9/"]
["   Propane",19.333178,21.514999,21.456603999999999,21.891767999999999,22.348580999999999,23.027411000000001,23.973690000000001,25.165457,26.291996000000001,27.447555999999999,28.603688999999999,29.706242,30.809061,31.828845999999999,32.781039999999997,33.764949999999999,34.815105000000003,35.888373999999999,36.883685999999997,38.129547000000002,39.320320000000002,40.350409999999997,41.558945000000001,42.866146000000001,43.991154000000002,45.200054000000002,46.388328999999999,47.547775000000001,48.636341000000002,49.709243999999998,3.3099999999999997E-2]
["   E85 3/",26.885551,27.534611000000002,26.569962,26.765505000000001,27.044665999999999,28.003553,29.068850999999999,30.135705999999999,31.113610999999999,32.705956,33.902813000000002,35.136166000000003,36.042675000000003,37.361263000000001,38.347453999999999,39.465949999999999,40.614184999999999,42.128619999999998,43.274985999999998,44.270266999999997,45.782725999999997,47.128203999999997,49.023598,50.714587999999999,52.085396000000003,53.780827000000002,55.176597999999998,56.296534999999999,57.654784999999997,59.050708999999998,2.7503E-2]
["   Motor Gasoline 4/",25.266521000000001,24.627407000000002,22.174778,22.351241999999999,22.577839000000001,23.357849000000002,24.218921999999999,25.107776999999999,25.922523000000002,27.249196999999999,28.246369999999999,29.203136000000001,30.029207,30.977585000000001,31.795265000000001,32.801803999999997,33.837994000000002,35.046695999999997,36.054859,36.884087000000001,38.144199,39.265197999999998,40.844360000000002,42.253219999999999,43.395308999999997,44.807873000000001,45.970776000000001,46.903858,48.035488000000001,49.198512999999998,2.3244999999999998E-2]
["   Jet Fuel 5/",14.550072,15.558434,14.673112,16.247751000000001,16.647735999999998,17.201447000000002,17.885164,18.677424999999999,19.324795000000002,19.696379,20.693598000000001,21.390723999999999,21.996445000000001,22.724043000000002,23.380293000000002,24.196411000000001,25.176394999999999,26.044630000000002,26.959831000000001,27.614688999999998,28.612331000000001,29.489737999999999,30.878239000000001,32.143822,33.101925000000001,34.249516,35.173045999999999,35.929091999999997,36.854595000000003,37.644562000000001,3.3321999999999997E-2]
["   Distillate Fuel Oil",23.442276,23.404012999999999,22.809812999999998,24.022815999999999,24.398596000000001,24.789974000000001,25.310669000000001,26.160484,26.947099999999999,27.516933000000002,28.528406,29.294665999999999,29.995387999999998,30.707256000000001,31.573725,32.559733999999999,33.618003999999999,34.595531000000001,35.507904000000003,36.550528999999997,37.580669,38.515273999999998,39.913314999999997,41.332259999999998,42.522964000000002,43.826019000000002,44.955730000000003,45.929240999999998,46.975914000000003,47.916823999999998,2.4958999999999999E-2]
["   Residual Fuel Oil",7.2853839999999996,9.2205969999999997,9.0960619999999999,10.548155,11.088734000000001,11.771976,12.637345,13.21223,13.679152,14.175618,14.930006000000001,15.42915,15.901956,16.314215000000001,16.714212,17.024750000000001,17.378616000000001,18.164061,18.534040000000001,19.506916,20.366125,21.076160000000002,22.133606,23.065918,23.679791999999999,24.731307999999999,25.491344000000002,26.215005999999999,26.871786,27.419611,4.6764E-2]
["   Natural Gas",6.5114939999999999,6.3339379999999998,6.1895889999999998,6.1483439999999998,6.2720099999999999,6.4876779999999998,6.8619539999999999,7.2138799999999996,7.5824340000000001,7.8842930000000004,8.0526800000000005,8.1777960000000007,8.4179169999999992,8.5953429999999997,8.7570960000000007,8.9918960000000006,9.2568999999999999,9.4527520000000003,9.6614579999999997,9.9068649999999998,10.171495,10.397425,10.717987000000001,10.933956,11.197620000000001,11.478588,11.786834000000001,12.042075000000001,12.310143,12.656034,2.3181E-2]
["   Metallurgical Coal",0,0,0,0,0,0,0,0,0,0,0,0,0,0,0,0,0,0,0,0,0,0,0,0,0,0,0,0,0,0,"--"]
["   Other Coal",2.0423049999999998,2.131297,2.1442199999999998,2.2132649999999998,1.9991620000000001,2.0258409999999998,2.0819399999999999,2.0633149999999998,2.1296020000000002,2.1669860000000001,2.217857,2.1434000000000002,2.1287910000000001,2.151831,2.1824400000000002,2.2191489999999998,2.268834,2.320281,2.3678330000000001,2.4220709999999999,2.4795690000000001,2.5307819999999999,2.5841460000000001,2.6334149999999998,2.6891609999999999,2.7039849999999999,2.75074,2.807855,2.8657949999999999,2.929182,1.2514000000000001E-2]
["   Coal to Liquids","--","--","--","--","--","--","--","--","--","--","--","--","--","--","--","--","--","--","--","--","--","--","--","--","--","--","--","--","--","--","--"]
["   Electricity",28.650351000000001,28.179995999999999,28.67831,29.131567,29.538729,29.952534,30.645897000000001,31.276463,32.119301,33.042824000000003,33.710289000000003,34.614776999999997,35.471359,36.247458999999999,37.126232000000002,38.248043000000003,39.227542999999997,40.093670000000003,40.869072000000003,41.959758999999998,42.939090999999998,43.824641999999997,44.608123999999997,45.674660000000003,46.719025000000002,47.868858000000003,48.950073000000003,50.059845000000003,51.125976999999999,52.451659999999997,2.1072E-2]
[]
["Non-Renewable Energy Expenditures by Sector"]
["(billion nominal dollars)"]
[" Residential",17.73761,17.571626999999999,18.257099,18.765727999999999,19.332568999999999,19.960169,20.740113999999998,21.474727999999999,22.324262999999998,23.159481,23.945021000000001,24.772950999999999,25.67775,26.496084,27.343456,28.333960999999999,29.330931,30.283228000000001,31.214334000000001,32.330627,33.431975999999999,34.482933000000003,35.490020999999999,36.686092000000002,37.910854,39.183154999999999,40.456645999999999,41.776721999999999,43.072918000000001,44.507877000000001,3.2231999999999997E-2]
[" Commercial",13.011105000000001,13.124036,13.202813000000001,13.374071000000001,13.560905999999999,13.783142,14.196635000000001,14.624878000000001,15.135106,15.640936999999999,16.087097,16.598354,17.111443999999999,17.594308999999999,18.102678000000001,18.733049000000001,19.308475000000001,19.857658000000001,20.391575,21.045691999999999,21.688492,22.284120999999999,22.899581999999999,23.611984,24.310521999999999,25.065867999999998,25.818273999999999,26.574697,27.359030000000001,28.268183000000001,2.7116999999999999E-2]
[" Industrial 1/",11.776092999999999,12.32291,12.357917,12.694534000000001,12.900354999999999,13.203851999999999,13.575612,14.100410999999999,14.673398000000001,15.225562999999999,15.726673,16.301894999999998,16.845669000000001,17.386210999999999,18.003513000000002,18.684746000000001,19.395040999999999,20.128784,20.771379,21.599931999999999,22.464205,23.273766999999999,24.149775999999999,25.073723000000001,25.945606000000002,26.956209000000001,27.862870999999998,28.676413,29.609615000000002,30.725733000000002,3.3623E-2]
[" Transportation",46.312744000000002,47.090004,44.783454999999996,46.308143999999999,47.312344000000003,48.982737999999998,50.690452999999998,52.568644999999997,54.306969000000002,56.549599000000001,58.866729999999997,60.885356999999999,62.829200999999998,64.968147000000002,67.064971999999997,69.560623000000007,72.376204999999999,75.373856000000004,78.188018999999997,80.900253000000006,84.352608000000004,87.629493999999994,92.066558999999998,96.344879000000006,100.154427,104.646675,108.626305,112.174019,116.304039,120.590744,3.3550000000000003E-2]
["   Total Non-Renewable Expenditures",88.837554999999995,90.108581999999998,88.601280000000003,91.142478999999994,93.106178,95.929901000000001,99.202820000000003,102.76866099999999,106.43974300000001,110.575577,114.625519,118.558548,122.464066,126.444748,130.51461800000001,135.312378,140.41064499999999,145.64352400000001,150.56530799999999,155.87651099999999,161.937286,167.67031900000001,174.605942,181.71669,188.32141100000001,195.851913,202.764084,209.20185900000001,216.34561199999999,224.092545,3.2419999999999997E-2]
[" Transportation Renewable Expenditures",4.6702E-2,4.8993000000000002E-2,4.6177000000000003E-2,4.6880999999999999E-2,4.7465E-2,4.8522999999999997E-2,4.9382000000000002E-2,5.0027000000000002E-2,5.0387000000000001E-2,5.1418999999999999E-2,5.1769999999999997E-2,5.1726000000000001E-2,5.2253000000000001E-2,5.1956000000000002E-2,5.2271999999999999E-2,5.3383E-2,5.4816999999999998E-2,5.6370999999999997E-2,5.8259999999999999E-2,6.0260000000000001E-2,6.2939999999999996E-2,6.5795999999999993E-2,6.9449999999999998E-2,7.3077000000000003E-2,7.6656000000000002E-2,8.0854999999999996E-2,8.5042000000000006E-2,8.9130000000000001E-2,9.3828999999999996E-2,9.8853999999999997E-2,2.6193999999999999E-2]
["   Total Expenditures",88.884253999999999,90.157570000000007,88.647452999999999,91.189362000000003,93.153640999999993,95.978431999999998,99.252205000000004,102.81869500000001,106.490128,110.626999,114.677284,118.610283,122.516312,126.496696,130.566879,135.36575300000001,140.46546900000001,145.69989000000001,150.623581,155.936768,162.000214,167.736099,174.67536899999999,181.78976399999999,188.39807099999999,195.93275499999999,202.84913599999999,209.29098500000001,216.439438,224.191406,3.2417000000000001E-2]
[]
[]
["1/ Includes energy for combined heat and power plants that have a non-regulatory status, and small on-site generating systems."]
["2/ Excludes use for lease and plant fuel and fuel used for liquefaction in export facilities."]
["3/ E85 refers to a blend of 85 % ethanol (renewable) and 15 % motor gasoline (nonrenewable).  To address cold starting issues,"]
["the percentage of ethanol varies seasonally.  The annual average ethanol content of 74 percent is used for these projections."]
["4/ Sales weighted-average price for all grades.  Includes Federal, State, and local taxes."]
["5/ Kerosene-type jet fuel.  Includes Federal and State taxes while excluding county and local taxes."]
["6/ Diesel fuel for on-road use.  Includes Federal and State taxes while excluding county and local taxes."]
["7/ Natural gas used as fuel in motor vehicles, trains, and ships.  Price includes estimated motor vehicle fuel taxes"]
["and estimated dispensing costs or charges."]
["8/ Includes electricity-only and combined heat and power plants that have a regulatory status."]
["9/ Weighted averages of end-use fuel prices are derived from the prices shown in each sector and the corresponding sectoral consumption."]
["Btu = British thermal unit."]
["- - = Not applicable."]
["Sources:  2021:  U.S. Energy Information Administration (EIA), Short-Term Energy Outlook, November 2021 and EIA, AEO2022"]
["National Energy Modeling System run ref2022.d011222a.  Projections:  EIA, AEO2022 National Energy Modeling System run ref2022.d011222a."]

{"sheet":"AvistaCapCarChg","index":22,"n_rows":74,"n_cols":29,"rows_kept":74,"cut":false,"hidden":false,"merged":[[55,6,55,7],[55,8,55,9],[0,0,0,15]]}
["LEVELIZED CARRYING CHARGE CALCULATION"]
[]
[]
[null,null,null,"Earnings",null,"Book","Tax","Tax",null,"Equity","Deferred","Current","Total","Prop.","Misc.","Carrying"]
["INPUT AND RESULTS",null,"Year","Base","Return","Depr","Base","Depr","Interest","Return","Taxes","Taxes","Taxes","Taxes","Items","Cost"]
[null,null,0,100,{"$f":"D6*($B$19)","v":7.0500000000000007}]
["FINANCING:",null,1,{"$f":"D6-F7-K7","v":96.579166666666666},{"$f":"(D6+D7)/2*($B$19)","v":6.9294156249999999},{"$f":"IF(C7>$B$29,0,100/$B$29)","v":3.3333333333333335},100,{"$f":"(G7*0.075)*0.5","v":3.75},{"$f":"(D7+D6)/2*($B$9*$B$15)","v":2.3098052083333331},{"$f":"(D6+D7)/2*(B$17*B$11+B$10*B$16)","v":4.6196104166666663},{"$f":"(H7-F7)*$B$26","v":8.7499999999999967E-2},{"$f":"(F7+K7+E7-H7-I7)*($B$25/(1-$B$25))","v":1.4050875788198591},{"$f":"K7+L7","v":1.492587578819859},{"$f":"$D$6*$B$33","v":1},{"$f":"((E7+F7+N7)-(I7+F7+N7)*B$25)/(1-B$25)/(1-B$34)*B$34","v":0},{"$f":"M7+F7+E7+N7+O7","v":12.755336537153191},null,null,null,null,null,null,null,null,null,null,null,null," "]
["Capital Structure",null,2,92.429895833333333,6.662569453125001,3.3333333333333335,{"$f":"(G7-H7)","v":96.25},{"$f":"IF(B$50>C7-0.5,(G8*$B$24/$B$22),IF(H7>G8,G8,(G8/($B$22-C7+0.5))))","v":7.21875},2.2208564843750001,4.4417129687500001,0.81593749999999998,0.44939609581037915,1.2653335958103791,{"$f":"$D$6*$B$33","v":1},0,12.261236382268713]
["     Debt",0.5,3,88.3943203125,6.3740536191406258,3.3333333333333335,89.03125,6.6773437500000004,2.1246845397135417,4.2493690794270833,0.7022421875,0.52647700751260418,1.2287191950126042,1,0,11.936106147486562]
["     Preferred",0,4,84.463912955729171,6.0932527227050794,3.3333333333333335,82.353906249999994,6.1765429687499998,2.0310842409016927,4.0621684818033854,0.59707402343749993,0.59473690294123893,1.1918109263787389,1,0,11.618396982417153]
["     Common",0.5,5,80.630786150716162,5.8195881435021981,3.3333333333333335,76.177363281249995,5.7133022460937495,1.9398627145007326,3.8797254290014651,0.49979347167968735,0.65483735831680012,1.1546308299964876,1,0,11.307552306832019]
["        Total",{"$f":"SUM(B9:B11)","v":1},6,76.887643856079123,5.552524657739534,3.3333333333333335,70.464061035156249,5.2848045776367183,1.8508415525798445,3.701683105159689,0.40980896130371081,0.7073903316432707,1.1171992929469816,1,0,11.00305728401985]
[null,null,7,73.227737233539855,5.2915671834090698,3.3333333333333335,65.179256457519529,4.8884442343139645,1.7638557278030229,3.5277114556060458,0.32657328920593248,0.75296188407433118,1.0795351732802636,1,0,10.704435690022667]
["Component Cost",null,8,69.644823607691038,5.0362577696533899,3.3333333333333335,60.290812223205563,4.5218109167404172,1.6787525898844631,3.3575051797689262,0.24958029251548758,0.7920756221771369,1.0416559146926245,1,0,10.411247017679347]
["     Debt",4.7E-2,9,66.074571052409098,4.7841086617685304,3.3333333333333335,55.769001306465142,4.461520104517211,1.5947028872561766,3.1894057745123532,0.23691922194861428,0.75262272690277199,0.98954194885138624,1,0,10.106983943953249]
["     Preferred",null,10,62.504318497127151,4.5324058566211534,3.3333333333333335,51.30748120194793,4.461520104517211,1.510801952207051,3.0216039044141021,0.23691922194861428,0.69766889529087983,0.93458811723949409,1,0,9.8003273071939816]
["     Common",9.4E-2,11,58.934065941845205,4.2807030514737754,3.3333333333333335,46.845961097430717,4.461520104517211,1.4269010171579251,2.8538020343158501,0.23691922194861428,0.64271506367898712,0.87963428562760138,1,0,9.4936706704347102]
["        Total",{"$f":"(B9*B15+B10*B16+B11*B17)","v":7.0500000000000007E-2},12,55.363813386563258,4.0290002463263992,3.3333333333333335,42.384440992913504,4.461520104517211,1.3430000821087995,2.686000164217599,0.23691922194861428,0.58776123206709485,0.82468045401570911,1,0,9.1870140336754424]
["   Discount Rate (Utility Weighted Cost of Capital)",{"$f":"B18","v":7.0500000000000007E-2},13,51.793560831281312,3.7772974411790212,3.3333333333333335,37.922920888396291,4.461520104517211,1.2590991470596735,2.518198294119347,0.23691922194861428,0.53280740045520214,0.7697266224038164,1,0,8.8803573969161711]
[null,null,14,48.223308275999365,3.5255946360316446,3.3333333333333335,33.461400783879078,4.4615201045172102,1.175198212010548,2.3503964240210959,0.23691922194861409,0.4778535688433096,0.71477279079192368,1,0,8.5737007601569015]
["TAXES",null,15,44.653055720717418,3.2738918308842666,3.3333333333333335,28.999880679361869,4.461520104517211,1.0912972769614222,2.1825945539228444,0.23691922194861428,0.42289973723141688,0.65981895918003119,1,0,8.2670441233976319]
["   Tax Life",20,16,41.082803165435472,3.02218902573689,3.3333333333333335,24.53836057484466,4.461520104517211,1.0073963419122964,2.0147926838245929,0.23691922194861428,0.36794590561952439,0.60486512756813871,1,0,7.9603874866383624]
["   Month (Real Prop)",6,17,37.512550610153525,2.770486220589512,3.3333333333333335,20.076840470327447,4.4615201045172102,0.92349540686317066,1.8469908137263413,0.23691922194861409,0.3129920740076319,0.54991129595624599,1,0,7.653730849879091]
["   DRDB Rate",1.5,18,33.942298054871578,2.5187834154421354,3.3333333333333335,15.615320365810238,4.461520104517211,0.83959447181404501,1.67918894362809,0.23691922194861428,0.25803824239573941,0.49495746434435373,1,0,7.3470742131198232]
["   Composite Rate",0.2467,19,30.372045499589632,2.2670806102947578,3.3333333333333335,11.153800261293027,4.461520104517211,0.75569353676491913,1.5113870735298383,0.23691922194861428,0.20308441078384667,0.44000363273246096,1,0,7.0404175763605519]
["   Deferred Rate",0.21,20,26.801792944307685,2.0153778051473807,3.3333333333333335,6.6922801567758157,4.4615201045172102,0.67179260171579347,1.3435852034315869,0.23691922194861409,0.14813057917195446,0.38504980112056852,1,0,6.7337609396012823]
[null,null,21,23.700000000000045,1.7801882012868477,3.3333333333333335,2.2307600522586055,2.2307600522586055,0.59339606709561588,1.1867921341912318,-0.23154038902569285,0.67392198854835228,0.44238159952265943,1,0,6.5559031341428406]
["FACILITY",null,22,21.066666666666713,1.5780250000000033,3.3333333333333335,0,0,0.52600833333333441,1.0520166666666688,-0.7,1.2069239944245329,0.50692399442453295,1,0,6.4182823277578702]
["   Book Life",30,23,18.43333333333338,1.3923750000000035,3.3333333333333335,0,0,0.46412500000000106,0.92825000000000213,-0.7,1.1663913558122052,0.46639135581220525,1,0,6.1920996891455422]
["   Investment",1,24,15.800000000000045,1.2067250000000034,3.3333333333333335,0,0,0.40224166666666777,0.80448333333333555,-0.7,1.1258587171998768,0.42585871719987689,1,0,5.9659170505332133]
[null,null,25,13.16666666666671,1.0210750000000033,3.3333333333333335,0,0,0.34035833333333437,0.68071666666666875,-0.7,1.0853260785875489,0.38532607858754897,1,0,5.7397344119208853]
["OTHER",null,26,10.533333333333376,0.83542500000000319,3.3333333333333335,0,0,0.27847500000000103,0.55695000000000205,-0.7,1.044793439975221,0.34479343997522105,1,0,5.5135517733085582]
["   Property Tax Rate",0.01,27,7.9000000000000421,0.6497750000000031,3.3333333333333335,0,0,0.21659166666666768,0.43318333333333536,-0.7,1.0042608013628929,0.30426080136289291,1,0,5.2873691346962293]
["   Misc.  Costs Rate",0,28,5.2666666666667092,0.46412500000000301,3.3333333333333335,0,0,0.15470833333333434,0.30941666666666867,-0.7,0.96372816275056483,0.26372816275056488,1,0,5.0611864960839013]
[null,null,29,2.6333333333333755,0.27847500000000303,3.3333333333333335,0,0,9.282500000000099E-2,0.18565000000000198,-0.7,0.92319552413823702,0.22319552413823707,1,0,4.8350038574715732]
["Note:  Misc. Costs Include Insurance,",null,30,4.1966430330830917E-14,9.2825000000002961E-2,3.3333333333333335,0,0,3.0941666666667651E-2,6.1883333333335303E-2,-0.7,0.8826628855259091,0.18266288552590915,1,0,4.6088212188592461]
["            Working Capital, and Other Taxes",null,31,4.1966430330830917E-14,2.9586333383235798E-15,0,0,0,9.8621111277452665E-16,1.9724222255490533E-15,0,6.4595322320848445E-16,6.4595322320848445E-16,{"$f":"($D$6-SUM($F$6:F36))*$B$33","v":2.8421709430404008E-16},0,3.8888036558361047E-15]
[null,null,32,4.1966430330830917E-14,2.9586333383235798E-15,0,0,0,9.8621111277452665E-16,1.9724222255490533E-15,0,6.4595322320848445E-16,6.4595322320848445E-16,{"$f":"($D$6-SUM($F$6:F37))*$B$33","v":2.8421709430404008E-16},0,3.8888036558361047E-15]
[null,null,33,4.1966430330830917E-14,2.9586333383235798E-15,0,0,0,9.8621111277452665E-16,1.9724222255490533E-15,0,6.4595322320848445E-16,6.4595322320848445E-16,{"$f":"($D$6-SUM($F$6:F38))*$B$33","v":2.8421709430404008E-16},0,3.8888036558361047E-15]
["SUMMARY OF RESULTS",null,34,4.1966430330830917E-14,2.9586333383235798E-15,0,0,0,9.8621111277452665E-16,1.9724222255490533E-15,0,6.4595322320848445E-16,6.4595322320848445E-16,{"$f":"($D$6-SUM($F$6:F39))*$B$33","v":2.8421709430404008E-16},0,3.8888036558361047E-15]
["   Return",{"$f":"PMT(B$19,B$29,-NPV(B$19,E7:E46))/((1+$B$19)^-($B$23/12))/100","v":4.5716376016022769E-2},35,4.1966430330830917E-14,2.9586333383235798E-15,0,0,0,9.8621111277452665E-16,1.9724222255490533E-15,0,6.4595322320848445E-16,6.4595322320848445E-16,{"$f":"($D$6-SUM($F$6:F40))*$B$33","v":2.8421709430404008E-16},0,3.8888036558361047E-15]
["   Depr Annuity",{"$f":"PMT(B$19,B$29,-NPV(B$19,F7:F46))/((1+$B$19)^-($B$23/12))/100","v":3.4488323305786335E-2},36,4.1966430330830917E-14,2.9586333383235798E-15,0,0,0,9.8621111277452665E-16,1.9724222255490533E-15,0,6.4595322320848445E-16,6.4595322320848445E-16,{"$f":"($D$6-SUM($F$6:F41))*$B$33","v":2.8421709430404008E-16},0,3.8888036558361047E-15]
["   Taxes",{"$f":"PMT(B$19,B$29,-NPV(B$19,M7:M46))/((1+$B$19)^-($B$23/12))/100","v":9.4483958444571518E-3},37,4.1966430330830917E-14,2.9586333383235798E-15,0,0,0,9.8621111277452665E-16,1.9724222255490533E-15,0,6.4595322320848445E-16,6.4595322320848445E-16,{"$f":"($D$6-SUM($F$6:F42))*$B$33","v":2.8421709430404008E-16},0,3.8888036558361047E-15]
["   Prop. Taxes",{"$f":"PMT(B$19,B$29,-NPV(B$19,N7:N46))/((1+$B$19)^-($B$23/12))/100","v":1.0346496991735898E-2},38,4.1966430330830917E-14,2.9586333383235798E-15,0,0,0,9.8621111277452665E-16,1.9724222255490533E-15,0,6.4595322320848445E-16,6.4595322320848445E-16,{"$f":"($D$6-SUM($F$6:F43))*$B$33","v":2.8421709430404008E-16},0,3.8888036558361047E-15]
["   Misc. Costs",{"$f":"PMT(B$19,B$29,-NPV(B$19,O7:O46))/((1+$B$19)^-($B$23/12))/100","v":0},39,4.1966430330830917E-14,2.9586333383235798E-15,0,0,0,9.8621111277452665E-16,1.9724222255490533E-15,0,6.4595322320848445E-16,6.4595322320848445E-16,{"$f":"($D$6-SUM($F$6:F44))*$B$33","v":2.8421709430404008E-16},0,3.8888036558361047E-15]
[null,null,40,4.1966430330830917E-14,2.9586333383235798E-15,0,0,0,9.8621111277452665E-16,1.9724222255490533E-15,0,6.4595322320848445E-16,6.4595322320848445E-16,{"$f":"($D$6-SUM($F$6:F45))*$B$33","v":2.8421709430404008E-16},0,3.8888036558361047E-15]
["CARRYING CHARGE RATE:",{"$f":"SUM(B$41:B$45)","v":9.9999592158002151E-2},"TOTAL",null,null,{"$f":"SUM(F7:F46)","v":99.999999999999972},0,{"$f":"SUM(H7:H46)","v":99.999999999999943},{"$f":"SUM(I7:I46)","v":32.618387059019071},null,{"$f":"SUM(K7:K46)","v":-1.9984014443252818E-15},{"$f":"SUM(L7:L46)","v":21.364545566069324},{"$f":"SUM(M7:M46)","v":21.364545566069317},null,null,{"$f":"SUM(P7:P46)","v":249.21970674312655}]
[]
[null,null,null,null,null,null,null,null,null,null,null,null,null,null,null,{"$f":"NPV($B$19,P7:P46)/((1+$B$19)^-($B$23/12))","v":123.469170980603}]
["B23*(1-1/B25) =",{"$f":"B22*(1-1/B24)","v":6.6666666666666679},null,null,null,null,null,null,null,null,null,null,null,null,"    CARRYING CHARGE RATE (mid-year):",{"$f":"PMT(B19,B29,(-NPV(B19,P7:P46))/((1+$B$19)^-($B$23/12))/100)","v":9.9999592158002137E-2}]
[]
[]
[]
[]
[null,"Idaho Power",null,null,null,null,"Avista",null,null,null,null,null,null,null,null,null,"PAC"]
["Capital Structure","Old","New","IPC-E-07-08","IPC-E-08-10","IPC-E-08-10","Old",null,"New",null,"AVU-E-08-01","AVU-E-09-01","AVU-E-12-08","AVU-E-17-01","AVU-E-19-04","AVU-E-21-01","Old","PAC-E-07-05","PAC-E-10-07","PAC-E-10-07"]
["     Debt",0.45474999999999999,0.51060000000000005,0.49736999999999998,0.50729999999999997,0.50729999999999997,0.4803,0.51988000000000001,0.50080000000000002,0.55649999999999999,0.52059999999999995,0.5,0.5,0.5,0.5,0.5,null,0.49099999999999999,0.47599999999999998,0.47599999999999998]
["     Trust Preferred Securities",null,null,null,null,null,3.9579999999999997E-2,null,5.57E-2]
["     Preferred",9.103E-2,2.9690000000000001E-2,null,null,null,0.10588,0.10588,1.7600000000000001E-2,1.7600000000000001E-2,null,null,null,null,null,null,null,5.0000000000000001E-3,3.0000000000000001E-3,3.0000000000000001E-3]
["     Common",0.45422000000000001,0.45971000000000001,0.50263000000000002,0.49270000000000003,0.49270000000000003,0.37424000000000002,0.37424000000000002,0.4259,0.4259,0.47939999999999999,0.5,0.5,0.5,0.5,0.5,null,0.504,0.52100000000000002,0.52100000000000002]
["        Total",{"$f":"SUM(B57:B60)","v":1},1,1,1,1,1,1,1,1,1,1,1,{"$f":"SUM(N57:N60)","v":1},{"$f":"SUM(O57:O60)","v":1},{"$f":"SUM(P57:P60)","v":1},null,{"$f":"SUM(R57:R60)","v":1}]
[]
["Component Cost"]
["     Debt",8.0240000000000006E-2,5.7689999999999998E-2,5.5910000000000001E-2,5.9270000000000003E-2,5.9270000000000003E-2,8.0110000000000001E-2,7.8789999999999999E-2,8.6800000000000002E-2,{"$f":"((I64*I57)+(I65*I58))/SUM(I57:I58)","v":8.426772686433065E-2},6.8400000000000002E-2,6.6000000000000003E-2,6.0100000000000001E-2,5.7200000000000001E-2,5.1999999999999998E-2,4.7E-2,null,6.2600000000000003E-2,5.8799999999999998E-2,5.8799999999999998E-2]
["     Trust Preferred Securities",null,null,null,null,null,6.2549999999999994E-2,null,6.1499999999999999E-2]
["     Preferred",6.0830000000000002E-2,6.5339999999999995E-2,null,null,null,"8.113/8.151",8.1220000000000001E-2,7.3499999999999996E-2,7.3499999999999996E-2,null,null,null,null,null,null,null,5.4100000000000002E-2,5.4199999999999998E-2,5.4199999999999998E-2]
["     Common",0.11,0.10249999999999999,0.10249999999999999,0.105,0.105,0.1075,0.1075,0.104,0.104,0.10199999999999999,0.105,9.8000000000000004E-2,9.5000000000000001E-2,9.5000000000000001E-2,9.4E-2,null,0.10249999999999999,9.9000000000000005E-2,9.9000000000000005E-2]
["        Total",{"$f":"(B57*B64+B59*B66+B60*B67)","v":9.1990694900000003E-2},{"$f":"(C57*C64+C59*C66+C60*C67)","v":7.8516733599999999E-2},{"$f":"(D57*D64+D59*D66+D60*D67)","v":7.9327531699999995E-2},{"$f":"(E57*E64+E59*E66+E60*E67)","v":8.1801171000000006E-2},{"$f":"(F57*F64+F59*F66+F60*F67)","v":8.1801171000000006E-2},8.9789999999999995E-2,{"$f":"(H57*H64+H59*H66+H60*H67)","v":8.9791718800000003E-2},{"$f":"(I57*I64+I58*I65+I59*I66+I60*I67)","v":9.2482189999999992E-2},{"$f":"(J57*J64+J59*J66+J60*J67)","v":9.2482189999999992E-2},8.4507840000000001E-2,8.5499999999999993E-2,7.9050000000000009E-2,7.6100000000000001E-2,7.3499999999999996E-2,7.0500000000000007E-2,0.1027,{"$f":"(R57*R64+R59*R66+R60*R67)","v":8.2667099999999993E-2},{"$f":"(S57*S64+S59*S66+S60*S67)","v":7.9730400000000007E-2},{"$f":"(T57*T64+T59*T66+T60*T67)","v":7.9730400000000007E-2}]
[]
["Carrying Charge Rate",0.12424,0.11516999999999999,null,0.11931387186031424,0.11157021572834948,null,0.11813,null,0.12678708211571879,0.11849632043730375,0.12073910619191219,0.11361206053291817,0.105024829816997,0.10272603923283924,9.9999592158002151E-2,0.126,0.11941868956566945,0.11661758552102153,0.10917050703697846]
[]
["Taxes"]
["  Federal/State Combined Rate",null,0.39095000000000002,null,0.39095000000000002,0.25740000000000002,null,null,null,0.39095000000000002,0.355796,0.355796,0.35790300000000003,0.2467,0.2467,0.2467,null,0.3795,0.3795,0.245866]
["  Deferred Rate",null,null,null,null,0.21,null,null,null,0.35,null,null,null,0.21,0.21,0.21,null,0.35,0.35,0.21]

{"sheet":"IPCoCapCarChg","index":23,"n_rows":74,"n_cols":29,"rows_kept":74,"cut":false,"hidden":false,"merged":[[55,6,55,7],[55,8,55,9],[0,0,0,15]]}
["LEVELIZED CARRYING CHARGE CALCULATION"]
[]
[]
[null,null,null,"Earnings",null,"Book","Tax","Tax",null,"Equity","Deferred","Current","Total","Prop.","Misc.","Carrying"]
["INPUT AND RESULTS",null,"Year","Base","Return","Depr","Base","Depr","Interest","Return","Taxes","Taxes","Taxes","Taxes","Items","Cost"]
[null,null,0,100,{"$f":"D6*($B$19)","v":8.1801171000000004}]
["FINANCING:",null,1,{"$f":"D6-F7-K7","v":96.579166666666666},{"$f":"(D6+D7)/2*($B$19)","v":8.0402030137687497},{"$f":"IF(C7>$B$29,0,100/$B$29)","v":3.3333333333333335},100,{"$f":"(G7*0.075)*0.5","v":3.75},{"$f":"(D7+D6)/2*($B$9*$B$15)","v":2.9553388543937498},{"$f":"(D6+D7)/2*(B$17*B$11+B$10*B$16)","v":5.0848641593749999},{"$f":"(H7-F7)*$B$26","v":8.7499999999999967E-2},{"$f":"(F7+K7+E7-H7-I7)*($B$25/(1-$B$25))","v":1.6484197880731557},{"$f":"K7+L7","v":1.7359197880731556},{"$f":"$D$6*$B$33","v":1},{"$f":"((E7+F7+N7)-(I7+F7+N7)*B$25)/(1-B$25)/(1-B$34)*B$34","v":0},{"$f":"M7+F7+E7+N7+O7","v":14.10945613517524},null,null,null,null,null,null,null,null,null,null,null,null," "]
["Capital Structure",null,2,92.429895833333333,7.7305813210560945,3.3333333333333335,{"$f":"(G7-H7)","v":96.25},{"$f":"IF(B$50>C7-0.5,(G8*$B$24/$B$22),IF(H7>G8,G8,(G8/($B$22-C7+0.5))))","v":7.21875},2.8415311536342189,4.8890501674218747,0.81593749999999998,0.63069967087852297,1.4466371708785228,{"$f":"$D$6*$B$33","v":1},0,13.510551825267951]
["     Debt",0.50729999999999997,3,88.3943203125,7.3958163129431371,3.3333333333333335,89.03125,6.6773437500000004,2.7184815199529022,4.6773347929902345,0.7022421875,0.70556804945890961,1.4078102369589096,1,0,13.136959883235381]
["     Preferred",0,4,84.463912955729171,7.0700029491661525,3.3333333333333335,82.353906249999994,6.1765429687499998,2.5987222437751849,4.4712807053909671,0.59707402343749993,0.77127975632130064,1.3683537797588006,1,0,12.771690062258287]
["     Common",0.49270000000000003,5,80.630786150716162,6.7524698563999408,3.3333333333333335,76.177363281249995,5.7133022460937495,2.4820065482882958,4.270463308111645,0.49979347167968735,0.82852154184454307,1.3283150135242305,1,0,12.414118203257505]
["        Total",{"$f":"SUM(B9:B11)","v":1},6,76.887643856079123,6.4425960143186964,3.3333333333333335,70.464061035156249,5.2848045776367183,2.368106164940424,4.0744898493782724,0.40980896130371081,0.87792865012907562,1.2877376114327865,1,0,12.063666959084816]
[null,null,7,73.227737233539855,6.1398069791210448,3.3333333333333335,65.179256457519529,4.8884442343139645,2.2568099453211423,3.882997033799902,0.32657328920593248,0.92008868196779936,1.2466619711737319,1,0,11.719802283628109]
["Component Cost",null,8,69.644823607691038,5.843571390290716,3.3333333333333335,60.290812223205563,4.5218109167404172,2.147922577150807,3.6956488131399094,0.24958029251548758,0.95554516809415013,1.2051254606096378,1,0,11.382030184233688]
["     Debt",5.9270000000000003E-2,9,66.074571052409098,5.5510027053036692,3.3333333333333335,55.769001306465142,4.461520104517211,2.0403830534795238,3.5106196518241455,0.23691922194861428,0.90791978347209579,1.14483900542071,1,0,11.029175044057713]
["     Preferred",null,10,62.504318497127151,5.2589518655158649,3.3333333333333335,51.30748120194793,4.461520104517211,1.9330338742603972,3.3259179912554671,0.23691922194861428,0.84389849687045626,1.0808177188190706,1,0,10.673102917668269]
["     Common",0.105,11,58.934065941845205,4.9669010257280588,3.3333333333333335,46.845961097430717,4.461520104517211,1.8256846950412702,3.1412163306867882,0.23691922194861428,0.77987721026881585,1.0167964322174301,1,0,10.317030791278821]
["        Total",{"$f":"(B9*B15+B10*B16+B11*B17)","v":8.1801171000000006E-2},12,55.363813386563258,4.6748501859402536,3.3333333333333335,42.384440992913504,4.461520104517211,1.7183355158221434,2.9565146701181098,0.23691922194861428,0.71585592366717588,0.95277514561579013,1,0,9.9609586648893771]
["   Discount Rate (Utility Weighted Cost of Capital)",{"$f":"B18","v":8.1801171000000006E-2},13,51.793560831281312,4.3827993461524475,3.3333333333333335,37.922920888396291,4.461520104517211,1.6109863366030164,2.7718130095494309,0.23691922194861428,0.65183463706553602,0.88875385901415027,1,0,9.6048865384999313]
[null,null,14,48.223308275999365,4.0907485063646423,3.3333333333333335,33.461400783879078,4.4615201045172102,1.5036371573838896,2.5871113489807529,0.23691922194861409,0.58781335046389604,0.82473257241251008,1,0,9.2488144121104856]
["TAXES",null,15,44.653055720717418,3.7986976665768366,3.3333333333333335,28.999880679361869,4.461520104517211,1.3962879781647626,2.4024096884120736,0.23691922194861428,0.52379206386225585,0.76071128581087011,1,0,8.8927422857210399]
["   Tax Life",20,16,41.082803165435472,3.5066468267890314,3.3333333333333335,24.53836057484466,4.461520104517211,1.288938798945636,2.2177080278433956,0.23691922194861428,0.45977077726061583,0.69668999920923014,1,0,8.5366701593315959]
["   Month (Real Prop)",6,17,37.512550610153525,3.2145959870012257,3.3333333333333335,20.076840470327447,4.4615201045172102,1.1815896197265088,2.0330063672747167,0.23691922194861409,0.39574949065897602,0.63266871260759006,1,0,8.1805980329421502]
["   DRDB Rate",1.5,18,33.942298054871578,2.9225451472134205,3.3333333333333335,15.615320365810238,4.461520104517211,1.0742404405073822,1.8483047067060383,0.23691922194861428,0.33172820405733566,0.56864742600594997,1,0,7.8245259065527044]
["   Composite Rate",0.25740000000000002,19,30.372045499589632,2.6304943074256144,3.3333333333333335,11.153800261293027,4.461520104517211,0.96689126128825509,1.6636030461373594,0.23691922194861428,0.2677069174556958,0.50462613940431011,1,0,7.4684537801632578]
["   Deferred Rate",0.21,20,26.801792944307685,2.3384434676378092,3.3333333333333335,6.6922801567758157,4.4615201045172102,0.8595420820691283,1.478901385568681,0.23691922194861409,0.20368563085405586,0.44060485280266992,1,0,7.1123816537738129]
[null,null,21,23.700000000000045,2.065552900221955,3.3333333333333335,2.2307600522586055,2.2307600522586055,0.75923564757978312,1.306317252642172,-0.23154038902569285,0.75471307196810777,0.52317268294241492,1,0,6.9220589164977033]
["FACILITY",null,22,21.066666666666713,1.8309828775500039,3.3333333333333335,0,0,0.6730147025500014,1.1579681750000024,-0.7,1.3141408675531927,0.61414086755319275,1,0,6.7784570784365297]
["   Book Life",30,23,18.43333333333338,1.6155731272500038,3.3333333333333335,0,0,0.5938365022500014,1.0217366250000024,-0.7,1.2669202898936183,0.56692028989361831,1,0,6.5158267504769558]
["   Investment",1,24,15.800000000000045,1.4001633769500039,3.3333333333333335,0,0,0.5146583019500014,0.88550507500000242,-0.7,1.2196997122340438,0.51969971223404388,1,0,6.2531964225173811]
[null,null,25,13.16666666666671,1.1847536266500036,3.3333333333333335,0,0,0.43548010165000134,0.74927352500000233,-0.7,1.1724791345744692,0.47247913457446922,1,0,5.9905660945578063]
["OTHER",null,26,10.533333333333376,0.96934387635000363,3.3333333333333335,0,0,0.35630190135000134,0.61304197500000235,-0.7,1.1252585569148947,0.42525855691489478,1,0,5.7279357665982316]
["   Property Tax Rate",0.01,27,7.9000000000000421,0.75393412605000354,3.3333333333333335,0,0,0.27712370105000128,0.4768104250000022,-0.7,1.0780379792553203,0.37803797925532034,1,0,5.4653054386386577]
["   Misc.  Costs Rate",0,28,5.2666666666667092,0.53852437575000345,3.3333333333333335,0,0,0.19794550075000128,0.34057887500000222,-0.7,1.0308174015957456,0.33081740159574569,1,0,5.2026751106790829]
[null,null,29,2.6333333333333755,0.32311462545000347,3.3333333333333335,0,0,0.11876730045000128,0.20434732500000219,-0.7,0.98359682393617121,0.28359682393617125,1,0,4.9400447827195082]
["Note:  Misc. Costs Include Insurance,",null,30,4.1966430330830917E-14,0.10770487515000345,3.3333333333333335,0,0,3.9589100150001263E-2,6.8115775000002168E-2,-0.7,0.93637624627659688,0.23637624627659692,1,0,4.6774144547599334]
["            Working Capital, and Other Taxes",null,31,4.1966430330830917E-14,3.4329031437518868E-15,0,0,0,1.2618328202318452E-15,2.1710703235200413E-15,0,7.525363604552368E-16,7.525363604552368E-16,{"$f":"($D$6-SUM($F$6:F36))*$B$33","v":2.8421709430404008E-16},0,4.4696565985111638E-15]
[null,null,32,4.1966430330830917E-14,3.4329031437518868E-15,0,0,0,1.2618328202318452E-15,2.1710703235200413E-15,0,7.525363604552368E-16,7.525363604552368E-16,{"$f":"($D$6-SUM($F$6:F37))*$B$33","v":2.8421709430404008E-16},0,4.4696565985111638E-15]
[null,null,33,4.1966430330830917E-14,3.4329031437518868E-15,0,0,0,1.2618328202318452E-15,2.1710703235200413E-15,0,7.525363604552368E-16,7.525363604552368E-16,{"$f":"($D$6-SUM($F$6:F38))*$B$33","v":2.8421709430404008E-16},0,4.4696565985111638E-15]
["SUMMARY OF RESULTS",null,34,4.1966430330830917E-14,3.4329031437518868E-15,0,0,0,1.2618328202318452E-15,2.1710703235200413E-15,0,7.525363604552368E-16,7.525363604552368E-16,{"$f":"($D$6-SUM($F$6:F39))*$B$33","v":2.8421709430404008E-16},0,4.4696565985111638E-15]
["   Return",{"$f":"PMT(B$19,B$29,-NPV(B$19,E7:E46))/((1+$B$19)^-($B$23/12))/100","v":5.5186865037824148E-2},35,4.1966430330830917E-14,3.4329031437518868E-15,0,0,0,1.2618328202318452E-15,2.1710703235200413E-15,0,7.525363604552368E-16,7.525363604552368E-16,{"$f":"($D$6-SUM($F$6:F40))*$B$33","v":2.8421709430404008E-16},0,4.4696565985111638E-15]
["   Depr Annuity",{"$f":"PMT(B$19,B$29,-NPV(B$19,F7:F46))/((1+$B$19)^-($B$23/12))/100","v":3.4669890411005232E-2},36,4.1966430330830917E-14,3.4329031437518868E-15,0,0,0,1.2618328202318452E-15,2.1710703235200413E-15,0,7.525363604552368E-16,7.525363604552368E-16,{"$f":"($D$6-SUM($F$6:F41))*$B$33","v":2.8421709430404008E-16},0,4.4696565985111638E-15]
["   Taxes",{"$f":"PMT(B$19,B$29,-NPV(B$19,M7:M46))/((1+$B$19)^-($B$23/12))/100","v":1.1312493156218548E-2},37,4.1966430330830917E-14,3.4329031437518868E-15,0,0,0,1.2618328202318452E-15,2.1710703235200413E-15,0,7.525363604552368E-16,7.525363604552368E-16,{"$f":"($D$6-SUM($F$6:F42))*$B$33","v":2.8421709430404008E-16},0,4.4696565985111638E-15]
["   Prop. Taxes",{"$f":"PMT(B$19,B$29,-NPV(B$19,N7:N46))/((1+$B$19)^-($B$23/12))/100","v":1.0400967123301564E-2},38,4.1966430330830917E-14,3.4329031437518868E-15,0,0,0,1.2618328202318452E-15,2.1710703235200413E-15,0,7.525363604552368E-16,7.525363604552368E-16,{"$f":"($D$6-SUM($F$6:F43))*$B$33","v":2.8421709430404008E-16},0,4.4696565985111638E-15]
["   Misc. Costs",{"$f":"PMT(B$19,B$29,-NPV(B$19,O7:O46))/((1+$B$19)^-($B$23/12))/100","v":0},39,4.1966430330830917E-14,3.4329031437518868E-15,0,0,0,1.2618328202318452E-15,2.1710703235200413E-15,0,7.525363604552368E-16,7.525363604552368E-16,{"$f":"($D$6-SUM($F$6:F44))*$B$33","v":2.8421709430404008E-16},0,4.4696565985111638E-15]
[null,null,40,4.1966430330830917E-14,3.4329031437518868E-15,0,0,0,1.2618328202318452E-15,2.1710703235200413E-15,0,7.525363604552368E-16,7.525363604552368E-16,{"$f":"($D$6-SUM($F$6:F45))*$B$33","v":2.8421709430404008E-16},0,4.4696565985111638E-15]
["CARRYING CHARGE RATE:",{"$f":"SUM(B$41:B$45)","v":0.11157021572834948},"TOTAL",null,null,{"$f":"SUM(F7:F46)","v":99.999999999999972},0,{"$f":"SUM(H7:H46)","v":99.999999999999943},{"$f":"SUM(I7:I46)","v":41.73442258047843},null,{"$f":"SUM(K7:K46)","v":-1.9984014443252818E-15},{"$f":"SUM(L7:L46)","v":24.889723876926531},{"$f":"SUM(M7:M46)","v":24.889723876926528},null,null,{"$f":"SUM(P7:P46)","v":268.43109653901189}]
[]
[null,null,null,null,null,null,null,null,null,null,null,null,null,null,null,{"$f":"NPV($B$19,P7:P46)/((1+$B$19)^-($B$23/12))","v":123.49861720538169}]
["B23*(1-1/B25) =",{"$f":"B22*(1-1/B24)","v":6.6666666666666679},null,null,null,null,null,null,null,null,null,null,null,null,"    CARRYING CHARGE RATE (mid-year):",{"$f":"PMT(B19,B29,(-NPV(B19,P7:P46))/((1+$B$19)^-($B$23/12))/100)","v":0.11157021572834952}]
[]
[]
[]
[]
[null,"Idaho Power",null,null,null,null,"Avista",null,null,null,null,null,null,null,"PAC"]
["Capital Structure","Old","New","IPC-E-07-08","IPC-E-08-10","IPC-E-08-10","Old",null,"New",null,"AVU-E-08-01","AVU-E-09-01","AVU-E-12-08","AVU-E-17-01","Old","PAC-E-07-05","PAC-E-10-07","PAC-E-10-07"]
["     Debt",0.45474999999999999,0.51060000000000005,0.49736999999999998,0.50729999999999997,0.50729999999999997,0.4803,0.51988000000000001,0.50080000000000002,0.55649999999999999,0.52059999999999995,0.5,0.5,0.5,null,0.49099999999999999,0.47599999999999998,0.47599999999999998]
["     Trust Preferred Securities",null,null,null,null,null,3.9579999999999997E-2,null,5.57E-2]
["     Preferred",9.103E-2,2.9690000000000001E-2,null,null,null,0.10588,0.10588,1.7600000000000001E-2,1.7600000000000001E-2,null,null,null,null,null,5.0000000000000001E-3,3.0000000000000001E-3,3.0000000000000001E-3]
["     Common",0.45422000000000001,0.45971000000000001,0.50263000000000002,0.49270000000000003,0.49270000000000003,0.37424000000000002,0.37424000000000002,0.4259,0.4259,0.47939999999999999,0.5,0.5,0.5,null,0.504,0.52100000000000002,0.52100000000000002]
["        Total",{"$f":"SUM(B57:B60)","v":1},1,1,1,1,1,1,1,1,1,1,1,{"$f":"SUM(N57:N60)","v":1},null,{"$f":"SUM(P57:P60)","v":1}]
[]
["Component Cost"]
["     Debt",8.0240000000000006E-2,5.7689999999999998E-2,5.5910000000000001E-2,5.9270000000000003E-2,5.9270000000000003E-2,8.0110000000000001E-2,7.8789999999999999E-2,8.6800000000000002E-2,{"$f":"((I64*I57)+(I65*I58))/SUM(I57:I58)","v":8.426772686433065E-2},6.8400000000000002E-2,6.6000000000000003E-2,6.0100000000000001E-2,5.7200000000000001E-2,null,6.2600000000000003E-2,5.8799999999999998E-2,5.8799999999999998E-2]
["     Trust Preferred Securities",null,null,null,null,null,6.2549999999999994E-2,null,6.1499999999999999E-2]
["     Preferred",6.0830000000000002E-2,6.5339999999999995E-2,null,null,null,"8.113/8.151",8.1220000000000001E-2,7.3499999999999996E-2,7.3499999999999996E-2,null,null,null,null,null,5.4100000000000002E-2,5.4199999999999998E-2,5.4199999999999998E-2]
["     Common",0.11,0.10249999999999999,0.10249999999999999,0.105,0.105,0.1075,0.1075,0.104,0.104,0.10199999999999999,0.105,9.8000000000000004E-2,9.5000000000000001E-2,null,0.10249999999999999,9.9000000000000005E-2,9.9000000000000005E-2]
["        Total",{"$f":"(B57*B64+B59*B66+B60*B67)","v":9.1990694900000003E-2},7.8516733599999999E-2,7.9327531699999995E-2,8.1801171000000006E-2,8.1801171000000006E-2,8.9789999999999995E-2,{"$f":"(H57*H64+H59*H66+H60*H67)","v":8.9791718800000003E-2},{"$f":"(I57*I64+I58*I65+I59*I66+I60*I67)","v":9.2482189999999992E-2},{"$f":"(J57*J64+J59*J66+J60*J67)","v":9.2482189999999992E-2},{"$f":"(K57*K64+K59*K66+K60*K67)","v":8.4507840000000001E-2},{"$f":"(L57*L64+L59*L66+L60*L67)","v":8.5499999999999993E-2},{"$f":"(M57*M64+M59*M66+M60*M67)","v":7.9050000000000009E-2},{"$f":"(N57*N64+N59*N66+N60*N67)","v":7.6100000000000001E-2},0.1027,{"$f":"(P57*P64+P59*P66+P60*P67)","v":8.2667099999999993E-2},{"$f":"(Q57*Q64+Q59*Q66+Q60*Q67)","v":7.9730400000000007E-2},{"$f":"(R57*R64+R59*R66+R60*R67)","v":7.9730400000000007E-2}]
[]
["Carrying Charge Rate",0.12424,0.11516999999999999,null,0.11931387186031424,0.11157021572834948,null,0.11813,null,0.12678708211571879,0.11849632043730375,0.12073910619191219,0.11361206053291817,0.10502482981699685,0.126,0.11941868956566945,0.11661758552102153,0.10917050703697846]
[]
["Taxes"]
["  Federal/State Combined Rate",null,0.39095000000000002,null,0.39095000000000002,0.25740000000000002,null,null,null,0.39095000000000002,0.355796,0.355796,0.35790300000000003,0.2467,null,0.3795,0.3795,0.245866]
["  Deferred Rate",null,null,null,null,0.21,null,null,null,0.35,null,null,null,0.21,null,0.35,0.35,0.21]

{"sheet":"RMPCapCarChg","index":24,"n_rows":74,"n_cols":29,"rows_kept":74,"cut":false,"hidden":false,"merged":[[55,6,55,7],[55,8,55,9],[0,0,0,15]]}
["LEVELIZED CARRYING CHARGE CALCULATION"]
[]
[]
[null,null,null,"Earnings",null,"Book","Tax","Tax",null,"Equity","Deferred","Current","Total","Prop.","Misc.","Carrying"]
["INPUT AND RESULTS",null,"Year","Base","Return","Depr","Base","Depr","Interest","Return","Taxes","Taxes","Taxes","Taxes","Items","Cost"]
[null,null,0,100,{"$f":"D6*($B$19)","v":7.973040000000001}]
["FINANCING:",null,1,{"$f":"D6-F7-K7","v":96.579166666666666},{"$f":"(D6+D7)/2*($B$19)","v":7.8366677950000003},{"$f":"IF(C7>$B$29,0,100/$B$29)","v":3.3333333333333335},100,{"$f":"(G7*0.075)*0.5","v":3.75},{"$f":"(D7+D6)/2*($B$9*$B$15)","v":2.7510074899999997},{"$f":"(D6+D7)/2*(B$17*B$11+B$10*B$16)","v":5.0856603050000002},{"$f":"(H7-F7)*$B$26","v":8.7499999999999967E-2},{"$f":"(F7+K7+E7-H7-I7)*($B$25/(1-$B$25))","v":1.5507324492496877},{"$f":"K7+L7","v":1.6382324492496876},{"$f":"$D$6*$B$33","v":1},{"$f":"((E7+F7+N7)-(I7+F7+N7)*B$25)/(1-B$25)/(1-B$34)*B$34","v":0},{"$f":"M7+F7+E7+N7+O7","v":13.808233577583021},null,null,null,null,null,null,null,null,null,null,null,null," "]
["Capital Structure",null,2,92.429895833333333,7.5348840783750006,3.3333333333333335,{"$f":"(G7-H7)","v":96.25},{"$f":"IF(B$50>C7-0.5,(G8*$B$24/$B$22),IF(H7>G8,G8,(G8/($B$22-C7+0.5))))","v":7.21875},2.6450684242499998,4.8898156541250009,0.81593749999999998,0.59347390626258811,1.409411406262588,{"$f":"$D$6*$B$33","v":1},0,13.277628817970921]
["     Debt",0.47599999999999998,3,88.3943203125,7.2085935414968754,3.3333333333333335,89.03125,6.6773437500000004,2.5305264104312499,4.6780671310656254,0.7022421875,0.66388289854891724,1.3661250860489171,1,0,12.908051960879126]
["     Preferred",3.0000000000000001E-3,4,84.463912955729171,6.8910280408846107,3.3333333333333335,82.353906249999994,6.1765429687499998,2.4190472596489063,4.471980781235704,0.59707402343749993,0.72567958530503596,1.322753608742536,1,0,12.54711498296048]
["     Common",0.52100000000000002,5,80.630786150716162,6.5815331988182644,3.3333333333333335,76.177363281249995,5.7133022460937495,2.3104012571752381,4.2711319416430262,0.49979347167968735,0.77950988944570843,1.2793033611253959,1,0,12.194169893276992]
["        Total",{"$f":"SUM(B9:B11)","v":1},6,76.887643856079123,6.2795037159068956,3.3333333333333335,70.464061035156249,5.2848045776367183,2.2043759168870958,4.0751277990197998,0.40980896130371081,0.82597128966709432,1.2357802509708051,1,0,11.848617300211036]
[null,null,7,73.227737233539855,5.9843796902138786,3.3333333333333335,65.179256457519529,4.8884442343139645,2.1007746891205636,3.883605001093315,0.32657328920593248,0.86561645376313912,1.1921897429690715,1,0,11.509902766516284]
["Component Cost",null,8,69.644823607691038,5.6956432124478384,3.3333333333333335,60.290812223205563,4.5218109167404172,1.9994157654365214,3.6962274470113168,0.24958029251548758,0.8989565994432438,1.1485368919587313,1,0,11.177513437739904]
["     Debt",5.8799999999999998E-2,9,66.074571052409098,5.4104808120038248,3.3333333333333335,55.769001306465142,4.461520104517211,1.8993114966313052,3.511169315372519,0.23691922194861428,0.85415160652231925,1.0910708284709336,1,0,10.834884973808091]
["     Preferred",5.4199999999999998E-2,10,62.504318497127151,5.1258231476701734,3.3333333333333335,51.30748120194793,4.461520104517211,1.7993844119120301,3.3264387357581429,0.23691922194861428,0.79392495093131277,1.0308441728799271,1,0,10.490000653883435]
["     Common",9.9000000000000005E-2,11,58.934065941845205,4.8411654833365212,3.3333333333333335,46.845961097430717,4.461520104517211,1.6994573271927544,3.1417081561437663,0.23691922194861428,0.73369829534030595,0.97061751728892021,1,0,10.145116333958775]
["        Total",{"$f":"(B9*B15+B10*B16+B11*B17)","v":7.9730400000000007E-2},12,55.363813386563258,4.5565078190028698,3.3333333333333335,42.384440992913504,4.461520104517211,1.5995302424734794,2.9569775765293902,0.23691922194861428,0.67347163974929902,0.91039086169791328,1,0,9.8002320140341155]
["   Discount Rate (Utility Weighted Cost of Capital)",{"$f":"B18","v":7.9730400000000007E-2},13,51.793560831281312,4.2718501546692176,3.3333333333333335,37.922920888396291,4.461520104517211,1.4996031577542037,2.7722469969150132,0.23691922194861428,0.61324498415829221,0.85016420610690646,1,0,9.4553476941094576]
[null,null,14,48.223308275999365,3.9871924903355662,3.3333333333333335,33.461400783879078,4.4615201045172102,1.3996760730349287,2.5875164173006375,0.23691922194861409,0.55301832856728583,0.78993755051589987,1,0,9.1104633741847998]
["TAXES",null,15,44.653055720717418,3.702534826001914,3.3333333333333335,28.999880679361869,4.461520104517211,1.2997489883156532,2.4027858376862605,0.23691922194861428,0.4927916729762789,0.72971089492489316,1,0,8.7655790542601402]
["   Tax Life",20,16,41.082803165435472,3.4178771616682626,3.3333333333333335,24.53836057484466,4.461520104517211,1.199821903596378,2.2180552580718844,0.23691922194861428,0.43256501738527198,0.66948423933388623,1,0,8.4206947343354823]
["   Month (Real Prop)",6,17,37.512550610153525,3.1332194973346104,3.3333333333333335,20.076840470327447,4.4615201045172102,1.0998948188771025,2.0333246784575079,0.23691922194861409,0.37233836179426544,0.60925758374287953,1,0,8.0758104144108245]
["   DRDB Rate",1.5,18,33.942298054871578,2.8485618330009594,3.3333333333333335,15.615320365810238,4.461520104517211,0.99996773415782736,1.8485940988431317,0.23691922194861428,0.31211170620325873,0.54903092815187304,1,0,7.7309260944861666]
["   Composite Rate",0.245866,19,30.372045499589632,2.5639041686673072,3.3333333333333335,11.153800261293027,4.461520104517211,0.90004064943855178,1.663863519228755,0.23691922194861428,0.25188505061225192,0.48880427256086623,1,0,7.386041774561507]
["   Deferred Rate",0.21,20,26.801792944307685,2.2792465043336554,3.3333333333333335,6.6922801567758157,4.4615201045172102,0.80011356471927653,1.4791329396143789,0.23691922194861409,0.19165839502124529,0.42857761696985941,1,0,7.0411574546368483]
[null,null,21,23.700000000000045,2.0132640760834168,3.3333333333333335,2.2307600522586055,2.2307600522586055,0.70674229117982001,1.3065217849035966,-0.23154038902569285,0.70993571196052152,0.47839532293482867,1,0,6.8249927323515784]
["FACILITY",null,22,21.066666666666713,1.7846321200000037,3.3333333333333335,0,0,0.6264826400000012,1.1581494800000025,-0.7,1.2361154826370568,0.53611548263705688,1,0,6.6540809359703941]
["   Book Life",30,23,18.43333333333338,1.5746754000000038,3.3333333333333335,0,0,0.55277880000000124,1.0218966000000025,-0.7,1.191693734520568,0.49169373452056808,1,0,6.3997024678539054]
["   Investment",1,24,15.800000000000045,1.3647186800000037,3.3333333333333335,0,0,0.47907496000000127,0.88564372000000247,-0.7,1.1472719864040797,0.44727198640407972,1,0,6.1453239997374167]
[null,null,25,13.16666666666671,1.1547619600000036,3.3333333333333335,0,0,0.40537112000000119,0.74939084000000233,-0.7,1.1028502382875909,0.40285023828759092,1,0,5.890945531620928]
["OTHER",null,26,10.533333333333376,0.94480524000000354,3.3333333333333335,0,0,0.33166728000000123,0.61313796000000231,-0.7,1.0584284901711023,0.35842849017110234,1,0,5.6365670635044394]
["   Property Tax Rate",0.01,27,7.9000000000000421,0.73484852000000345,3.3333333333333335,0,0,0.25796344000000115,0.47688508000000224,-0.7,1.0140067420546137,0.31400674205461376,1,0,5.3821885953879507]
["   Misc.  Costs Rate",0,28,5.2666666666667092,0.52489180000000346,3.3333333333333335,0,0,0.18425960000000116,0.34063220000000222,-0.7,0.96958499393812514,0.26958499393812518,1,0,5.127810127271462]
[null,null,29,2.6333333333333755,0.31493508000000342,3.3333333333333335,0,0,0.11055576000000118,0.20437932000000222,-0.7,0.92516324582163645,0.22516324582163649,1,0,4.8734316591549733]
["Note:  Misc. Costs Include Insurance,",null,30,4.1966430330830917E-14,0.10497836000000335,3.3333333333333335,0,0,3.6851920000001169E-2,6.8126440000002175E-2,-0.7,0.88074149770514787,0.18074149770514791,1,0,4.6190531910384847]
["            Working Capital, and Other Taxes",null,31,4.1966430330830917E-14,3.3460002768492815E-15,0,0,0,1.1745900252435602E-15,2.1714102516057211E-15,0,7.0793248006493843E-16,7.0793248006493843E-16,{"$f":"($D$6-SUM($F$6:F36))*$B$33","v":2.8421709430404008E-16},0,4.3381498512182605E-15]
[null,null,32,4.1966430330830917E-14,3.3460002768492815E-15,0,0,0,1.1745900252435602E-15,2.1714102516057211E-15,0,7.0793248006493843E-16,7.0793248006493843E-16,{"$f":"($D$6-SUM($F$6:F37))*$B$33","v":2.8421709430404008E-16},0,4.3381498512182605E-15]
[null,null,33,4.1966430330830917E-14,3.3460002768492815E-15,0,0,0,1.1745900252435602E-15,2.1714102516057211E-15,0,7.0793248006493843E-16,7.0793248006493843E-16,{"$f":"($D$6-SUM($F$6:F38))*$B$33","v":2.8421709430404008E-16},0,4.3381498512182605E-15]
["SUMMARY OF RESULTS",null,34,4.1966430330830917E-14,3.3460002768492815E-15,0,0,0,1.1745900252435602E-15,2.1714102516057211E-15,0,7.0793248006493843E-16,7.0793248006493843E-16,{"$f":"($D$6-SUM($F$6:F39))*$B$33","v":2.8421709430404008E-16},0,4.3381498512182605E-15]
["   Return",{"$f":"PMT(B$19,B$29,-NPV(B$19,E7:E46))/((1+$B$19)^-($B$23/12))/100","v":5.3415024971603581E-2},35,4.1966430330830917E-14,3.3460002768492815E-15,0,0,0,1.1745900252435602E-15,2.1714102516057211E-15,0,7.0793248006493843E-16,7.0793248006493843E-16,{"$f":"($D$6-SUM($F$6:F40))*$B$33","v":2.8421709430404008E-16},0,4.3381498512182605E-15]
["   Depr Annuity",{"$f":"PMT(B$19,B$29,-NPV(B$19,F7:F46))/((1+$B$19)^-($B$23/12))/100","v":3.463669216949624E-2},36,4.1966430330830917E-14,3.3460002768492815E-15,0,0,0,1.1745900252435602E-15,2.1714102516057211E-15,0,7.0793248006493843E-16,7.0793248006493843E-16,{"$f":"($D$6-SUM($F$6:F41))*$B$33","v":2.8421709430404008E-16},0,4.3381498512182605E-15]
["   Taxes",{"$f":"PMT(B$19,B$29,-NPV(B$19,M7:M46))/((1+$B$19)^-($B$23/12))/100","v":1.0727782245029767E-2},37,4.1966430330830917E-14,3.3460002768492815E-15,0,0,0,1.1745900252435602E-15,2.1714102516057211E-15,0,7.0793248006493843E-16,7.0793248006493843E-16,{"$f":"($D$6-SUM($F$6:F42))*$B$33","v":2.8421709430404008E-16},0,4.3381498512182605E-15]
["   Prop. Taxes",{"$f":"PMT(B$19,B$29,-NPV(B$19,N7:N46))/((1+$B$19)^-($B$23/12))/100","v":1.0391007650848874E-2},38,4.1966430330830917E-14,3.3460002768492815E-15,0,0,0,1.1745900252435602E-15,2.1714102516057211E-15,0,7.0793248006493843E-16,7.0793248006493843E-16,{"$f":"($D$6-SUM($F$6:F43))*$B$33","v":2.8421709430404008E-16},0,4.3381498512182605E-15]
["   Misc. Costs",{"$f":"PMT(B$19,B$29,-NPV(B$19,O7:O46))/((1+$B$19)^-($B$23/12))/100","v":0},39,4.1966430330830917E-14,3.3460002768492815E-15,0,0,0,1.1745900252435602E-15,2.1714102516057211E-15,0,7.0793248006493843E-16,7.0793248006493843E-16,{"$f":"($D$6-SUM($F$6:F44))*$B$33","v":2.8421709430404008E-16},0,4.3381498512182605E-15]
[null,null,40,4.1966430330830917E-14,3.3460002768492815E-15,0,0,0,1.1745900252435602E-15,2.1714102516057211E-15,0,7.0793248006493843E-16,7.0793248006493843E-16,{"$f":"($D$6-SUM($F$6:F45))*$B$33","v":2.8421709430404008E-16},0,4.3381498512182605E-15]
["CARRYING CHARGE RATE:",{"$f":"SUM(B$41:B$45)","v":0.10917050703697846},"TOTAL",null,null,{"$f":"SUM(F7:F46)","v":99.999999999999972},0,{"$f":"SUM(H7:H46)","v":99.999999999999943},{"$f":"SUM(I7:I46)","v":38.84891539223289},null,{"$f":"SUM(K7:K46)","v":-1.9984014443252818E-15},{"$f":"SUM(L7:L46)","v":23.414475204447246},{"$f":"SUM(M7:M46)","v":23.414475204447246},null,null,{"$f":"SUM(P7:P46)","v":264.08158361169893}]
[]
[null,null,null,null,null,null,null,null,null,null,null,null,null,null,null,{"$f":"NPV($B$19,P7:P46)/((1+$B$19)^-($B$23/12))","v":123.21507297085984}]
["B23*(1-1/B25) =",{"$f":"B22*(1-1/B24)","v":6.6666666666666679},null,null,null,null,null,null,null,null,null,null,null,null,"    CARRYING CHARGE RATE (mid-year):",{"$f":"PMT(B19,B29,(-NPV(B19,P7:P46))/((1+$B$19)^-($B$23/12))/100)","v":0.10917050703697845}]
[]
[]
[]
[]
[null,"Idaho Power",null,null,null,null,"Avista",null,null,null,null,null,null,null,"PAC"]
["Capital Structure","Old","New","IPC-E-07-08","IPC-E-08-10","IPC-E-08-10","Old",null,"New",null,"AVU-E-08-01","AVU-E-09-01","AVU-E-12-08","AVU-E-17-01","Old","PAC-E-07-05","PAC-E-10-07","PAC-E-10-07"]
["     Debt",0.45474999999999999,0.51060000000000005,0.49736999999999998,0.50729999999999997,0.50729999999999997,0.4803,0.51988000000000001,0.50080000000000002,0.55649999999999999,0.52059999999999995,0.5,0.5,0.5,null,0.49099999999999999,0.47599999999999998,0.47599999999999998]
["     Trust Preferred Securities",null,null,null,null,null,3.9579999999999997E-2,null,5.57E-2]
["     Preferred",9.103E-2,2.9690000000000001E-2,null,null,null,0.10588,0.10588,1.7600000000000001E-2,1.7600000000000001E-2,null,null,null,null,null,5.0000000000000001E-3,3.0000000000000001E-3,3.0000000000000001E-3]
["     Common",0.45422000000000001,0.45971000000000001,0.50263000000000002,0.49270000000000003,0.49270000000000003,0.37424000000000002,0.37424000000000002,0.4259,0.4259,0.47939999999999999,0.5,0.5,0.5,null,0.504,0.52100000000000002,0.52100000000000002]
["        Total",{"$f":"SUM(B57:B60)","v":1},1,1,1,1,1,1,1,1,1,1,1,{"$f":"SUM(N57:N60)","v":1},null,{"$f":"SUM(P57:P60)","v":1}]
[]
["Component Cost"]
["     Debt",8.0240000000000006E-2,5.7689999999999998E-2,5.5910000000000001E-2,5.9270000000000003E-2,5.9270000000000003E-2,8.0110000000000001E-2,7.8789999999999999E-2,8.6800000000000002E-2,{"$f":"((I64*I57)+(I65*I58))/SUM(I57:I58)","v":8.426772686433065E-2},6.8400000000000002E-2,6.6000000000000003E-2,6.0100000000000001E-2,5.7200000000000001E-2,null,6.2600000000000003E-2,5.8799999999999998E-2,5.8799999999999998E-2]
["     Trust Preferred Securities",null,null,null,null,null,6.2549999999999994E-2,null,6.1499999999999999E-2]
["     Preferred",6.0830000000000002E-2,6.5339999999999995E-2,null,null,null,"8.113/8.151",8.1220000000000001E-2,7.3499999999999996E-2,7.3499999999999996E-2,null,null,null,null,null,5.4100000000000002E-2,5.4199999999999998E-2,5.4199999999999998E-2]
["     Common",0.11,0.10249999999999999,0.10249999999999999,0.105,0.105,0.1075,0.1075,0.104,0.104,0.10199999999999999,0.105,9.8000000000000004E-2,9.5000000000000001E-2,null,0.10249999999999999,9.9000000000000005E-2,9.9000000000000005E-2]
["        Total",{"$f":"(B57*B64+B59*B66+B60*B67)","v":9.1990694900000003E-2},{"$f":"(C57*C64+C59*C66+C60*C67)","v":7.8516733599999999E-2},{"$f":"(D57*D64+D59*D66+D60*D67)","v":7.9327531699999995E-2},{"$f":"(E57*E64+E59*E66+E60*E67)","v":8.1801171000000006E-2},{"$f":"(F57*F64+F59*F66+F60*F67)","v":8.1801171000000006E-2},8.9789999999999995E-2,{"$f":"(H57*H64+H59*H66+H60*H67)","v":8.9791718800000003E-2},{"$f":"(I57*I64+I58*I65+I59*I66+I60*I67)","v":9.2482189999999992E-2},{"$f":"(J57*J64+J59*J66+J60*J67)","v":9.2482189999999992E-2},{"$f":"(K57*K64+K59*K66+K60*K67)","v":8.4507840000000001E-2},{"$f":"(L57*L64+L59*L66+L60*L67)","v":8.5499999999999993E-2},{"$f":"(M57*M64+M59*M66+M60*M67)","v":7.9050000000000009E-2},{"$f":"(N57*N64+N59*N66+N60*N67)","v":7.6100000000000001E-2},0.1027,{"$f":"(P57*P64+P59*P66+P60*P67)","v":8.2667099999999993E-2},{"$f":"(Q57*Q64+Q59*Q66+Q60*Q67)","v":7.9730400000000007E-2},{"$f":"(R57*R64+R59*R66+R60*R67)","v":7.9730400000000007E-2}]
[]
["Carrying Charge Rate",0.12424,0.11516999999999999,null,0.11931387186031424,0.11157021572834948,null,0.11813,null,0.12678708211571879,0.11849632043730375,0.12073910619191219,0.11361206053291817,0.10502482981699685,0.126,0.11941868956566945,0.11661758552102153,0.10917050703697846]
[]
["Taxes"]
["  Federal/State Combined Rate",null,0.39095000000000002,null,0.39095000000000002,0.25740000000000002,null,null,null,0.39095000000000002,0.355796,0.355796,0.35790300000000003,0.2467,null,0.3795,0.3795,0.245866]
["  Deferred Rate",null,null,null,null,0.21,null,null,null,0.35,null,null,null,0.21,null,0.35,0.35,0.21]